{"text_format":"1","workbook":"xlsx","n_sheets":23,"sheets":["ETM_old","Staffing Nbrs","Module1","Module2","Instructions","Master","HR Courses","Trng Satus Graph","Training Status","CN-Cert","DES","CN","TR","SUR","ENV","MAT","GTM","MFI","PMD","PLN","PGM","Revisions","DropDowns"],"not_rendered":{"charts":1,"images":4,"macros":1,"external_links":0,"defined_names":41,"comments":1,"pivot_tables":0},"unopened":[],"bounds":{"document_bytes":16777216,"sheet_cells":100000,"rows_first":2000,"rows_last":500,"rows_between":2000,"halvings":0,"cell_chars":16384,"cell_head_chars":4096},"cells_cut":0,"cells_raw":0,"read":"whole","date_system":"1900"}

{"sheet":"ETM_old","index":0,"n_rows":137,"n_cols":116,"rows_kept":137,"cut":false,"hidden":true,"merged":[]}
[null,"  ",0,0]
[]
[null,null,null,null,null,null,"Transportation",null,null,null,null,null,null,null,null,null,null,null,null,null,"Transportation",null,null,null,null,null,null,null,null,null,null,null,null,null,"Transportation",null,null,null,null,null,null,null,null,null,null,null,null,null,"Transportation",null,null,null,null,null,null,null,null,null,null,null,null,null,"Transportation",null,null,null,null,null,null,null,null,null,null,null,null,null,"Transportation",null,null,null,null,null,null,null,null,null,null,null,null,null,"Transportation",null,null,null,null,null,null,null,null,null,null,null,null,null,"Transportation"]
[null,null,null,null,null,null,"Technician 1",null,null,null,null,null,null,null,null,null,null,null,null,null,"Technician 2",null,null,null,null,null,null,null,null,null,null,null,null,null,"Technician 3",null,null,null,null,null,null,null,null,null,null,null,null,null,"Engineer 1",null,null,null,null,null,null,null,null,null,null,null,null,null,"Engineer 2",null,null,null,null,null,null,null,null,null,null,null,null,null,"Engineer 3",null,null,null,null,null,null,null,null,null,null,null,null,null,"Engineer 4 & WMS01",null,null,null,null,null,null,null,null,null,null,null,null,null," Engineer 5 & WMS02"]
[null,null,"Transportation Engineer/Technician Training Matrix",null,null,null,"538R",null,null,null,null,null,null,null,null,null,null,null,null,null,"538S",null,null,null,null,null,null,null,null,null,null,null,null,null,"538T",null,null,null,null,null,null,null,null,null,null,null,null,null,"530K",null,null,null,null,null,null,null,null,null,null,null,null,null,"530L",null,null,null,null,null,null,null,null,null,null,null,null,null,"530M",null,null,null,null,null,null,null,null,null,null,null,null,null,"530N",null,null,null,null,null,null,null,null,null,null,null,null,null,"530O"]
[null,null,null,null,null,25,8,16,null,3,null,8,null,null,null,null,null,null,null,94,45,42,6,7,1,11,null,null,null,null,null,null,null,146,37,38,6,10,2,8,2,null,null,1,2,null,null,61,24,3,8,null,1,null,null,null,null,null,1,null,null,226,117,85,39,16,8,9,5,5,2,4,14,null,null,108,71,56,38,10,3,2,5,null,3,5,24,null,null,16,32,15,9,3,4,4,3,3,null,5,13,null,null,34,23,12,21,1,0,4,5,2,3,5,8,8]
[null,"Code","COURSE NAME","Hours",null,"D/C","DES","CN","TR","SUR *","ENV","MAT","GTM","MFI","PMD","PLN *","PGM *",null,null,"D/C","DES","CN","TR","SUR *","ENV","MAT","GTM","MFI","PMD","PLN *","PGM *",null,null,"D/C","DES","CN","TR","SUR *","ENV","MAT","GTM","MFI","PMD","PLN *","PGM *",null,null,"D/C","DES","CN","TR","SUR *","ENV","MAT","GTM","MFI","PMD","PLN *","PGM *",null,null,"D/C","DES","CN","TR","SUR *","ENV","MAT","GTM","MFI","PMD","PLN *","PGM *",null,null,"D/C","DES","CN","TR","SUR *","ENV","MAT","GTM","MFI","PMD","PLN *","PGM *",null,null,"D/C","DES","CN","TR","SUR *","ENV","MAT","GTM","MFI","PMD","PLN *","PGM *",null,null,"D/C","DES","CN","TR","SUR *","ENV","MAT","GTM","MFI","PMD","PLN *","PGM *"]
[null,null,null,null,null,"01","02","03","04","05","06","07","08","09","10","11","12",null,null,"01","02","03","04","05","06","07","08","09","10","11","12",null,null,"01","02","03","04","05","06","07","08","09","10","11","12",null,null,"01","02","03","04","05","06","07","08","09","10","11","12",null,null,"01","02","03","04","05","06","07","08","09","10","11","12",null,null,"01","02","03","04","05","06","07","08","09","10","11","12",null,null,"01","02","03","04","05","06","07","08","09","10","11","12",null,null,"01","02","03","04","05","06","07","08","09","10","11","12"]
[null,null,null,null,null,null,"PRIORITY",null,null,null,null,null,null,null,null,null,null,null,null,null,"PRIORITY",null,null,null,null,null,null,null,null,null,null,null,null,null,"PRIORITY",null,null,null,null,null,null,null,null,null,null,null,null,null,"PRIORITY",null,null,null,null,null,null,null,null,null,null,null,null,null,"PRIORITY",null,null,null,null,null,null,null,null,null,null,null,null,null,"PRIORITY",null,null,null,null,null,null,null,null,null,null,null,null,null,"PRIORITY",null,null,null,null,null,null,null,null,null,null,null,null,null,"PRIORITY"]
[]
[null,"C O M M O N  C O U R S E S"]
[]
[null,"Employee Development"]
[null,"ATC","CONFLICT MANAGEMENT",7,null,null,null,null,null,null,null,null,null,null,null,null,null,null,null,null,null,null,null,null,null,null,null,null,null,null,null,null,null,2,2,2,2,2,2,2,2,2,2,2,2,null,null,1,1,1,1,1,1,1,1,1,1,1,1,null,null,1,1,1,1,1,1,1,1,1,1,1,1,null,null,1,1,1,1,1,1,1,1,1,1,1,1,null,null,1,1,1,1,1,1,1,1,1,1,1,1,null,null,1,1,1,1,1,1,1,1,1,1,1,1]
[null,"CD8","OEO-DISABILITY AWARENESS",3,null,1,1,1,1,1,1,1,1,1,1,1,1,null,null,1,1,1,1,1,1,1,1,1,1,1,1,null,null,1,1,1,1,1,1,1,1,1,1,1,1,null,null,1,1,1,1,1,1,1,1,1,1,1,1,null,null,1,1,1,1,1,1,1,1,1,1,1,1,null,null,1,1,1,1,1,1,1,1,1,1,1,1,null,null,1,1,1,1,1,1,1,1,1,1,1,1,null,null,1,1,1,1,1,1,1,1,1,1,1,1]
[null,"BKB","ETHICAL STANDARDS (SELF-STUDY) [Refresher Course Required Every 3 Years]",4,null,1,1,1,1,1,1,1,1,1,1,1,1,null,null,1,1,1,1,1,1,1,1,1,1,1,1,null,null,1,1,1,1,1,1,1,1,1,1,1,1,null,null,1,1,1,1,1,1,1,1,1,1,1,1,null,null,1,1,1,1,1,1,1,1,1,1,1,1,null,null,1,1,1,1,1,1,1,1,1,1,1,1,null,null,1,1,1,1,1,1,1,1,1,1,1,1,null,null,1,1,1,1,1,1,1,1,1,1,1,1]
[null,"ARO","INTERPERSONAL COMMUNICATIONS",14,null,2,2,2,2,2,2,2,2,2,2,2,2,null,null,2,2,2,2,2,2,2,2,2,2,2,2,null,null,1,1,1,1,1,1,1,1,1,1,1,1,null,null,1,1,1,1,1,1,1,1,1,1,1,1,null,null,1,1,1,1,1,1,1,1,1,1,1,1,null,null,1,1,1,1,1,1,1,1,1,1,1,1,null,null,1,1,1,1,1,1,1,1,1,1,1,1,null,null,1,1,1,1,1,1,1,1,1,1,1,1]
[null,"APW","LISTENING SKILLS",7,null,2,2,2,2,2,2,2,2,2,2,2,2,null,null,2,2,2,2,2,2,2,2,2,2,2,2,null,null,1,1,1,1,1,1,1,1,1,1,1,1,null,null,1,1,1,1,1,1,1,1,1,1,1,1,null,null,1,1,1,1,1,1,1,1,1,1,1,1,null,null,1,1,1,1,1,1,1,1,1,1,1,1,null,null,1,1,1,1,1,1,1,1,1,1,1,1,null,null,1,1,1,1,1,1,1,1,1,1,1,1]
[null,"ACV","ORAL PRESENTATION TECHNIQUES",21,null,null,null,null,null,null,null,null,null,null,null,null,null,null,null,null,null,null,null,null,null,null,null,null,null,null,null,null,null,null,null,null,null,null,null,null,null,null,null,null,null,null,null,null,null,null,null,null,null,null,null,null,null,null,null,null,null,2,2,2,2,2,2,2,2,2,2,2,2,null,null,1,1,1,1,1,1,1,1,1,1,1,1,null,null,1,1,1,1,1,1,1,1,1,1,1,1,null,null,1,1,1,1,1,1,1,1,1,1,1,1]
[null,"CD5","OEO-SEXUAL HARASSMENT/DISCRIMINATION",3,null,1,1,1,1,1,1,1,1,1,1,1,1,null,null,1,1,1,1,1,1,1,1,1,1,1,1,null,null,1,1,1,1,1,1,1,1,1,1,1,1,null,null,1,1,1,1,1,1,1,1,1,1,1,1,null,null,1,1,1,1,1,1,1,1,1,1,1,1,null,null,1,1,1,1,1,1,1,1,1,1,1,1,null,null,1,1,1,1,1,1,1,1,1,1,1,1,null,null,1,1,1,1,1,1,1,1,1,1,1,1]
[null,"APN","STRESS MANAGEMENT",14,null,null,null,null,null,null,null,null,null,null,null,null,null,null,null,2,2,2,2,2,2,2,2,2,2,2,2,null,null,1,1,1,1,1,1,1,1,1,1,1,1,null,null,1,1,1,1,1,1,1,1,1,1,1,1,null,null,1,1,1,1,1,1,1,1,1,1,1,1,null,null,1,1,1,1,1,1,1,1,1,1,1,1,null,null,1,1,1,1,1,1,1,1,1,1,1,1,null,null,1,1,1,1,1,1,1,1,1,1,1,1]
[null,"AAO","TIME MANAGEMENT",7,null,2,2,2,2,2,2,2,2,2,2,2,2,null,null,2,2,2,2,2,2,2,2,2,2,2,2,null,null,1,1,1,1,1,1,1,1,1,1,1,1,null,null,1,1,1,1,1,1,1,1,1,1,1,1,null,null,1,1,1,1,1,1,1,1,1,1,1,1,null,null,1,1,1,1,1,1,1,1,1,1,1,1,null,null,1,1,1,1,1,1,1,1,1,1,1,1,null,null,1,1,1,1,1,1,1,1,1,1,1,1]
[null,"CD3","OEO-VALUING DIVERSITY",3,null,1,1,1,1,1,1,1,1,1,1,1,1,null,null,1,1,1,1,1,1,1,1,1,1,1,1,null,null,1,1,1,1,1,1,1,1,1,1,1,1,null,null,1,1,1,1,1,1,1,1,1,1,1,1,null,null,1,1,1,1,1,1,1,1,1,1,1,1,null,null,1,1,1,1,1,1,1,1,1,1,1,1,null,null,1,1,1,1,1,1,1,1,1,1,1,1,null,null,1,1,1,1,1,1,1,1,1,1,1,1]
[null,"CJJ","SECURITY AWARENESS",4,null,1,1,1,1,1,1,1,1,1,1,1,1,null,1,1,1,1,1,1,1,1,1,1,1,1,1,null,null,1,1,1,1,1,1,1,1,1,1,1,1,null,1,1,1,1,1,1,1,1,1,1,1,1,1,null,null,1,1,1,1,1,1,1,1,1,1,1,1,null,1,1,1,1,1,1,1,1,1,1,1,1,1,null,1,1,1,1,1,1,1,1,1,1,1,1,1,null,1,1,1,1,1,1,1,1,1,1,1,1,1]
[null,"B9V","VIOLENCE THAT AFFECTS THE WORKPLACE",4,null,1,1,1,1,1,1,1,1,1,1,1,1,null,null,1,1,1,1,1,1,1,1,1,1,1,1,null,null,1,1,1,1,1,1,1,1,1,1,1,1,null,null,1,1,1,1,1,1,1,1,1,1,1,1,null,null,1,1,1,1,1,1,1,1,1,1,1,1,null,null,1,1,1,1,1,1,1,1,1,1,1,1,null,null,1,1,1,1,1,1,1,1,1,1,1,1,null,null,1,1,1,1,1,1,1,1,1,1,1,1]
[null,"AQQ","WRITING REPORTS",14,null,null,null,null,null,null,null,null,null,null,null,null,null,null,null,null,null,null,null,null,null,null,null,null,null,null,null,null,null,2,2,2,2,2,2,2,2,2,2,2,2,null,null,2,2,2,2,2,2,2,2,2,2,2,2,null,null,1,1,1,1,1,1,1,1,1,1,1,1,null,null,1,1,1,1,1,1,1,1,1,1,1,1]
[null,"Leadership/Management"]
[null,"CEH","EFFECTIVE MEETING MANAGEMENT",16,null,null,null,null,null,null,null,null,null,null,null,null,null,null,null,null,null,null,null,null,null,null,null,null,null,null,null,null,null,null,null,null,null,null,null,null,null,null,null,null,null,null,null,null,null,null,null,null,null,null,null,null,null,null,null,null,null,2,2,2,2,2,2,2,2,2,2,2,2,null,null,1,1,1,1,1,1,1,1,1,1,1,1,null,null,1,1,1,1,1,1,1,1,1,1,1,1,null,null,1,1,1,1,1,1,1,1,1,1,1,1]
[null,"BI1","ENHANCED LEADERSHIP FOR WSDOT",24,null,null,null,null,null,null,null,null,null,null,null,null,null,null,null,null,null,null,null,null,null,null,null,null,null,null,null,null,null,null,null,null,null,null,null,null,null,null,null,null,null,null,null,null,null,null,null,null,null,null,null,null,null,null,null,null,null,null,null,null,null,null,null,null,null,null,null,null,null,null,null,2,2,2,2,2,2,2,2,2,2,2,2,null,null,1,1,1,1,1,1,1,1,1,1,1,1,null,null,1,1,1,1,1,1,1,1,1,1,1,1]
[null,"AAA","ENTRY MANAGEMENT DEVELOPMENT",24,null,null,null,null,null,null,null,null,null,null,null,null,null,null,null,null,null,null,null,null,null,null,null,null,null,null,null,null,null,2,2,2,2,2,2,2,2,2,2,2,2,null,null,2,2,2,2,2,2,2,2,2,2,2,2,null,null,1,1,1,1,1,1,1,1,1,1,1,1]
[null,"AH9","UW: GEN-LEGAL LIABILITY FOR TRANSPORTATION PROFESSIONALS",14,null,null,null,null,null,null,null,null,null,null,null,null,null,null,null,null,null,null,null,null,null,null,null,null,null,null,null,null,null,2,null,2,2,null,null,null,null,null,null,null,null,null,null,2,null,2,2,null,null,null,null,null,null,null,null,null,null,2,2,1,1,2,2,2,2,2,2,2,2,null,null,1,1,1,1,1,1,1,1,1,1,1,1,null,null,1,1,1,1,1,1,1,1,1,1,1,1,null,null,1,1,1,1,1,1,1,1,1,1,1,1]
[null,"Microsoft Applications"]
[null,"BZM","EXCEL LEVEL 2 (ALL VERSIONS)",8,null,2,2,2,2,2,2,2,2,2,2,2,2,null,null,1,1,1,1,1,1,1,1,1,1,1,1,null,null,1,1,1,1,1,1,1,1,1,1,1,1,null,null,1,1,1,1,1,1,1,1,1,1,1,1,null,null,1,1,1,1,1,1,1,1,1,1,1,1]
[null,"BY6","EXCEL LEVEL 1 (ALL VERSIONS)",8,null,1,1,1,1,1,1,1,1,1,1,1,1,null,null,1,1,1,1,1,1,1,1,1,1,1,1,null,null,1,1,1,1,1,1,1,1,1,1,1,1,null,null,1,1,1,1,1,1,1,1,1,1,1,1]
[null,"CBK","WINDOWS XP FOR NEW USERS",8,null,1,1,1,1,1,1,1,1,1,1,1,1,null,null,1,1,1,1,1,1,1,1,1,1,1,1,null,null,1,1,1,1,1,1,1,1,1,1,1,1,null,null,1,1,1,1,1,1,1,1,1,1,1,1]
[null,"BY3","WORD LEVEL 2 (ALL VERSIONS)",8,null,2,2,2,2,2,2,2,2,2,2,2,2,null,null,1,1,1,1,1,1,1,1,1,1,1,1,null,null,1,1,1,1,1,1,1,1,1,1,1,1,null,null,1,1,1,1,1,1,1,1,1,1,1,1,null,null,1,1,1,1,1,1,1,1,1,1,1,1]
[null,"BY2","WORD LEVEL 1 (ALL VERSIONS)",8,null,1,1,1,1,1,1,1,1,1,1,1,1,null,null,1,1,1,1,1,1,1,1,1,1,1,1,null,null,1,1,1,1,1,1,1,1,1,1,1,1,null,null,1,1,1,1,1,1,1,1,1,1,1,1]
[null," Engineering"]
[null,"ADH","GEN: CONTRACT PLANS READING (SELF-STUDY)",40,null,"R","R","R","R","R","R","R","R","R","R","R","R",null,null,"R","R","R","R","R","R","R","R","R","R","R","R",null,null,1,1,1,1,1,1,1,1,1,1,1,1,null,null,1,1,1,1,1,1,1,1,1,1,1,1,null,null,1,1,1,1,1,1,1,1,1,1,1,1]
[null,"AFN","GEN: TECHNICAL MATHEMATICS I (SELF-STUDY)",40,null,"R","R","R","R","R","R","R","R","R","R","R","R",null,null,1,1,1,1,1,1,1,1,1,1,1,1]
[null,"A7J","GEN: TECHNICAL MATHEMATICS II (SELF-STUDY)",40,null,2,2,2,2,2,2,2,2,2,2,2,2,null,null,"R","R","R","R","R","R","R","R","R","R","R","R",null,null,1,1,1,1,1,1,1,1,1,1,1,1]
[null,"APK","SUR: BASIC SURVEYING (SELF-STUDY)",24,null,"R","R","R","R","R","R","R","R","R","R","R","R",null,null,"R","R","R","R","R","R","R","R","R","R","R","R",null,null,1,1,1,1,1,1,1,1,1,1,1,1,null,null,1,1,1,1,1,1,1,1,1,1,1,1]
[null,"C51","TDO: SR MILEPOSTING AND LOCATION REFERENCING",2,null,null,null,null,null,null,null,null,null,null,null,null,null,null,null,"E","E","E","E","E","E",null,null,null,null,"E","E",null,null,1,1,1,1,1,1,null,1,null,1,1,1,null,null,1,1,1,1,1,1,null,1,null,1,1,1,null,null,1,1,1,1,1,1,null,1,null,1,1,1,null,null,2,2,2,2,2,2,null,2,null,2,2,2,null,null,2,2,2,2,2,2,null,2,null,2,2,2,null,null,2,2,2,2,2,2,null,2,null,2,2,2]
[null,"Safety"]
[null,"BN9","FALL PROTECTION",2,null,1,null,1,null,1,null,null,null,null,null,null,null,null,null,1,null,1,null,1,null,null,null,null,null,null,null,null,null,1,null,1,2,1,null,null,2,null,2,null,null,null,null,1,null,1,2,1,null,null,2,null,2,null,null,null,null,1,null,1,2,1,null,null,2,2,2,null,null,null,null,2,null,2,null,null,null,null,null,null,null,null,null,null,null,2,null,2,null,null,null,null,null,null,null,null,null,null,null,2,null,2]
[null,"APS","FIRST AID [Refresher Course Required Every 3 Years]",8,null,1,1,1,1,1,1,1,1,1,1,1,1,null,null,1,1,1,1,1,1,1,1,1,1,1,1,null,null,1,1,1,1,1,1,1,1,1,1,1,1,null,null,1,1,1,1,1,1,1,1,1,1,1,1,null,null,1,1,1,1,1,1,1,1,1,1,1,1,null,null,1,1,1,1,1,1,1,1,1,1,1,1,null,null,1,1,1,1,1,1,1,1,1,1,1,1,null,null,1,1,1,1,1,1,1,1,1,1,1,1]
[null,"AFZ","FLAGGING, TRAFFIC CONTROL [Refresher Course Required Every 3 Years]",8,null,"R","R","R","R","R","R","R","R","R","R","R","R",null,null,"R","R","R","R","R","R","R","R","R","R","R","R",null,null,1,1,1,1,1,1,1,1,1,1,1,1,null,null,1,1,1,1,1,1,1,1,1,1,1,1,null,null,1,2,1,2,1,2,2,2,2,2,2,2]
[null,"AEX","HAZARD COMMUNICATION STANDARD (HCS)",2,null,2,2,2,2,1,2,2,2,2,2,2,2,null,null,2,2,2,2,1,2,2,2,2,2,2,2,null,null,1,2,1,2,2,2,2,2,2,2,2,2,null,null,1,2,1,2,1,2,2,2,2,2,2,2,null,null,1,2,1,2,1,2,2,2,2,2,2,2,null,null,2,null,2,null,2,null,null,null,null,null,null,null,null,null,2,null,2,null,2,null,null,null,null,null,null,null,null,null,2,null,2,null,2]
[null,"ATS","HEARING CONSERVATION",1,null,1,2,1,2,1,2,1,2,2,1,2,2,null,null,1,2,1,2,1,2,1,2,2,1,2,2,null,null,1,2,1,2,1,2,1,2,2,1,2,2,null,null,1,2,1,2,1,2,1,2,2,1,2,2,null,null,1,2,1,2,1,2,1,2,2,1,2,2,null,null,2,null,2,null,2,null,null,null,null,1,null,null,null,null,2,null,2,null,2,null,null,null,null,null,null,null,null,null,2,null,2,null,2]
[null,"ARZ","RESPIRATOR PROTECTION TRAINING",3,null,2,null,2,null,2,null,1,null,1,null,null,null,null,null,2,null,2,null,2,null,1,null,1,null,null,null,null,null,2,null,2,null,2,null,1,null,1,null,null,null,null,null,2,null,2,null,2,null,1,null,1,null,null,null,null,null,2,null,2,null,2,null,1,null,1]
[null,"D I S C I P L I N E - S P E C I F I C  C O U R S E S     "]
[]
[null,"Construction"]
[null,"ACA","CN: AGGREGATE PRODUCTION & TESTING INSPECTION",7,null,1,null,1,null,null,null,1,null,null,null,null,null,null,null,"E","E","E","E","E","E","E","E","E","E","E","E",null,null,1,null,1,null,null,null,1,null,null,2,null,null,null,null,1,null,1,null,null,null,1,null,null,2,null,null,null,null,1,null,1,null,null,null,1,null,2,1,null,null,null,null,null,null,null,null,null,null,1,null,null,1]
[null,"ACC","CN: BITUMINOUS SURFACE TREATMENT INSPECTION",4,null,2,null,2,null,null,null,1,null,null,null,null,null,null,null,"E","E","E","E","E","E","E","E","E","E","E","E",null,null,1,null,1,null,null,null,1,null,null,2,null,null,null,null,1,null,1,null,null,null,1,null,null,2,null,null,null,null,1,null,1,null,null,null,1,null,null,1,null,null,null,null,1,null,1,null,null,null,null,null,null,1]
[null,"ACM","CN: INSPECTING BRIDGE CONSTRUCTION",24,null,2,null,2,null,2,null,null,null,null,null,null,null,null,null,"E","E","E","E","E","E","E","E","E","E","E","E",null,null,1,2,1,null,1,null,null,null,2,null,null,null,null,null,1,2,1,null,1,null,null,null,2,null,null,null,null,null,1,2,1,null,1,null,null,null,1,null,null,null,null,null,1,null,1,null,null,null,null,null,1]
[null,"ACY","CN: CONSTRUCTION INSPECTION DOCUMENTATION",7,null,2,null,2,null,null,null,2,null,null,null,null,null,null,null,"E","E","E","E","E","E","E","E","E","E","E","E",null,null,1,null,1,null,null,null,1,null,2,null,null,null,null,null,1,null,1,null,null,null,1,null,2,null,null,null,null,null,1,null,1,null,null,null,1,null,1]
[null,"ACF","CN: DRAINAGE INSPECTION",6,null,2,null,2,null,2,null,null,null,null,null,null,null,null,null,"E","E","E","E","E","E","E","E","E","E","E","E",null,null,1,2,1,null,1,2,null,2,2,2,null,null,null,null,1,2,1,null,1,2,null,2,2,2,null,null,null,null,1,2,1,null,1,1,null,1,1,1,null,null,null,null,1,null,1,null,null,null,null,null,null,1]
[null,"API","CN: ELECTRICAL-ILLUMINATION & SIGNALS",12,null,2,null,2,null,null,null,null,null,null,null,null,null,null,null,"E","E","E","E","E","E","E","E","E","E","E","E",null,null,1,2,1,2,2,null,null,null,2,null,null,null,null,null,1,2,1,2,2,null,null,null,2,null,null,null,null,null,1,1,1,1,1,null,null,null,1,null,null,null,null,null,1,null,1]
[null,"AC3","CN: EXCAVATION & EMBANKMENTS INSPECTION",8,null,2,null,2,2,2,null,null,null,null,null,null,null,null,null,"E","E","E","E","E","E","E","E","E","E","E","E",null,null,1,1,1,1,1,1,2,1,2,2,2,2,null,null,1,1,1,1,1,1,2,1,2,2,2,2,null,null,1,2,1,2,1,2,2,1,2,2,2,2,null,null,2,null,2,null,null,2]
[null,"ACB","CN: HOT MIX ASPHALT PLACEMENT",8,null,2,null,2,null,null,null,null,null,null,null,null,null,null,null,"E","E","E","E","E","E","E","E","E","E","E","E",null,null,1,2,1,null,null,null,null,null,null,2,null,null,null,null,1,2,1,null,null,null,null,null,null,2,null,null,null,null,1,2,1,null,null,null,null,null,null,1,null,null,null,null,1,null,1,null,null,null,null,null,null,1]
[null,"BG9","CN: HOT MIX ASPHALT PRODUCTION & TESTING",16,null,1,null,1,null,null,null,1,null,null,null,null,null,null,null,"E","E","E","E","E","E","E","E","E","E","E","E",null,null,1,null,1,null,null,null,1,null,null,2,null,null,null,null,1,null,1,null,null,null,1,null,null,2,null,null,null,null,1,null,1,null,null,null,1,null,null,1,null,null,null,null,null,null,null,null,null,null,1,null,null,1]
[null,"ALG","CN: NUCLEAR GAUGE SAFETY AND OPERATION",7,null,1,null,1,null,null,null,1,null,null,null,null,null,null,null,"E","E","E","E","E","E","E","E","E","E","E","E",null,null,1,null,1,null,null,null,1,null,null,null,null,null,null,null,1,null,1,null,null,null,1,null,null,null,null,null,null,null,1,null,1,null,null,null,1]
[null,"ANQ","CN: NUCLEAR GAUGE, EMBANKMENT/SURFACING/PAVEMENT APPLICATIONS",8,null,1,null,1,null,null,null,1,null,null,null,null,null,null,null,"E","E","E","E","E","E","E","E","E","E","E","E",null,null,1,null,1,null,null,null,1,null,null,null,null,null,null,null,1,null,1,null,null,null,1,null,null,null,null,null,null,null,1,null,1,null,null,null,1]
[null,"ABT","CN: PCC FIELD TESTING PROCEDURES",7,null,1,null,1,null,null,null,1,null,null,null,null,null,null,null,1,null,1,null,null,null,1,null,null,null,null,null,null,null,1,2,1,null,null,null,1,null,2,null,null,null,null,null,1,2,1,null,null,null,1,null,2,null,null,null,null,null,1,2,1,null,null,null,1,null,1,null,null,null,null,null,1,null,1]
[null,"BPW","ENV: CONSTRUCTION SITE EROSION AND SEDIMENT CONTROL",8,null,null,null,null,null,null,null,null,null,null,null,null,null,null,null,"E","E","E","E","E","E","E","E","E","E","E","E",null,null,1,null,1,null,null,2,2,2,null,null,null,null,null,null,1,2,1,null,null,2,2,2,null,null,null,null,null,null,1,2,1,null,null,1,1,1,null,null,null,null,null,null,1,2,1,null,null,1,2,1]
[null,"Design"]
[null,"A4J","DES: CONTRACT PLANS & ESTIMATE PREPARATION",16,null,2,2,null,2,2,2,null,null,null,null,null,null,null,null,"E","E","E","E","E","E","E","E","E","E","E","E",null,null,1,1,2,1,2,1,2,2,2,2,2,2,null,null,1,1,2,1,2,1,2,2,2,2,2,2,null,null,1,1,2,1,2,1,2,2,2,2,2,1,null,null,1,1,null,null,null,1,1,1,null,1,null,null,null,null,null,null,null,null,null,null,1]
[null,"BGN","DES: CONTRACT PROVISION PREPARATION",8,null,null,null,null,null,null,null,null,null,null,null,null,null,null,null,"E","E","E","E","E","E","E","E","E","E","E","E",null,null,2,2,2,2,2,2,2,2,2,2,2,2,null,null,1,1,1,1,2,1,2,2,2,2,2,2,null,null,1,1,1,1,2,1,2,2,2,2,2,2,null,null,1,1,null,null,null,null,2,1,2,1,null,null,null,null,null,null,null,null,null,null,1,1,1,1]
[null,"BRK","DES: DESIGN ACADEMY",40,null,null,null,null,null,null,null,null,null,null,null,null,null,null,null,null,null,null,null,null,null,null,null,null,null,null,null,null,null,null,null,null,null,null,null,null,null,null,null,null,null,null,null,1,1,null,null,null,null,null,null,null,null,null,null,null,null,1,1,null,null,null,null,null,null,null,null,null,null,null,null,1,1,null,null,null,null,null,null,null,null,null,null,null,null,1,1]
[null,"BZ8","DES: DESIGN DOCUMENTATION",8,null,null,null,null,null,null,null,null,null,null,null,null,null,null,null,2,2,null,2,null,null,null,null,null,null,2,2,null,null,1,1,null,2,null,null,null,null,null,null,2,2,null,null,1,1,null,1,null,null,null,null,null,null,1,2,null,null,1,1,null,1,null,null,null,null,null,null,1,1,null,null,1,1,null,1,null,null,null,null,null,null,1,1]
[null,"AGH","DES: HYDRAULICS, HIGHWAY DRAINAGE",16,null,null,null,null,null,null,null,null,null,null,null,null,null,null,null,2,2,2,null,2,null,null,null,null,null,null,null,null,null,1,1,1,2,1,2,2,2,2,2,2,2,null,null,1,1,1,2,1,2,2,2,2,2,2,2,null,null,1,1,1,2,1,1,null,1,null,null,null,null,null,null,1,1,null,null,null,1]
[null,"CBD","DES: INTERSECTION AND PEDESTRIAN DESIGN",16,null,null,null,null,null,null,null,null,null,null,null,null,null,null,null,null,null,null,null,null,null,null,null,null,null,null,null,null,null,2,2,null,2,null,null,null,null,null,null,null,null,null,null,1,1,null,1,null,null,null,null,null,null,null,null,null,null,1,1,null,1,null,null,null,null,null,null,null,null,null,null,1,1,null,1]
[null,"CF4","DES: INTRODUCTION TO PROJECT DEVELOPMENT",6,null,null,null,null,null,null,null,null,null,null,null,null,null,null,null,"E","E","E","E","E","E","E","E","E","E","E","E",null,null,1,1,2,1,null,1,null,2,null,2,2,2,null,null,1,1,2,1,null,1,null,2,null,2,2,2,null,null,1,1,2,1,null,1,null,2,null,1,2,2]
[null,"CB5","DES: INTRODUCTION TO PROJECT SCHEDULING",8,null,null,null,null,null,null,null,null,null,null,null,null,null,null,null,2,2,null,null,null,null,null,null,null,null,null,null,null,null,2,2,2,2,null,2,null,2,null,2,null,null,null,null,1,1,2,1,null,2,null,2,null,2,null,2,null,null,1,1,2,1,null,1,null,1,null,1,null,1,null,null,1,1,2,1,null,1,null,1,null,1,null,1,null,null,2,2,2,2,null,2,null,2,null,2]
[null,"BCN","DES: RIGHT OF WAY PLANS PREPARATION",5,null,null,null,null,null,null,null,null,null,null,null,null,null,null,null,2,2,null,null,null,null,null,null,null,null,null,null,null,null,1,1,null,null,null,null,null,null,null,null,null,null,null,null,1,1,null,null,null,null,null,null,null,null,null,null,null,null,1,1,null,null,null,null,null,null,null,null,null,null,null,null,2,2]
[null,"B74","DES: ROADSIDE SAFETY",16,null,null,null,null,null,null,null,null,null,null,null,null,null,null,null,"E","E","E","E","E","E","E","E","E","E","E","E",null,null,1,1,1,2,null,null,null,null,null,null,null,null,null,null,1,1,1,2,null,null,null,null,null,null,null,null,null,null,1,1,1,2,null,null,null,null,null,null,null,null,null,null,1,1,1,2]
[null,"BWE","DES: ROADWAY GEOMETRIC DESIGN",16,null,null,null,null,null,null,null,null,null,null,null,null,null,null,null,"E","E","E","E","E","E","E","E","E","E","E","E",null,null,1,1,1,1,1,1,1,1,1,1,1,1,null,null,1,1,1,1,1,1,1,1,1,1,1,1,null,null,1,1,1,1,1,1,1,1,1,1,1,1,null,null,1,1]
[null,"BUY","DES: STORMSHED (BEGINNING)",6,null,null,null,null,null,null,null,null,null,null,null,null,null,null,null,null,null,null,null,null,null,null,null,null,null,null,null,null,null,2,2,null,null,null,2,null,null,null,null,null,null,null,null,2,2,null,null,null,2,null,null,null,null,null,null,null,null,1,1,null,null,null,1,null,null,null,null,null,null,null,null,2,2,null,null,null,2]
[null,"BK7","DES: STORMSHED (INTERMEDIATE)",6,null,null,null,null,null,null,null,null,null,null,null,null,null,null,null,null,null,null,null,null,null,null,null,null,null,null,null,null,null,2,2,null,null,null,2,null,null,null,null,null,null,null,null,2,2,null,null,null,2,null,null,null,null,null,null,null,null,1,1,null,null,null,1,null,null,null,null,null,null,null,null,2,2,null,null,null,2]
[null,"CFU","DES: WSDOT INTERCHANGE DESIGN",8,null,null,null,null,null,null,null,null,null,null,null,null,null,null,null,null,null,null,null,null,null,null,null,null,null,null,null,null,null,2,2,null,2,null,null,null,null,null,null,null,null,null,null,1,1,null,1,null,null,null,null,null,null,null,null,null,null,1,1,null,1,1,null,null,null,null,null,2,null,null,null,1,1,null,1,null,null,null,null,null,null,2]
[null,"BYZ","ENV: SPILL PLAN REVIEWER TRAINING",3,null,null,null,null,null,null,null,null,null,null,null,null,null,null,null,null,null,null,null,null,null,null,null,null,null,null,null,null,null,2,null,2,null,null,null,null,null,null,null,null,null,null,null,2,2,2,null,null,null,null,null,null,null,null,null,null,null,1,1,1,null,null,1,null,null,null,null,null,null,null,null,1,1,1,null,null,null,null,null,null,null,null,null,null,null,2,2,2,null,null,null,null,null,null,null,null,null,null,null,2,2,2]
[null,"DAS","DES: ACCESS MANAGEMENT  (replaced UW access management course)",24,null,null,null,null,null,null,null,null,null,null,null,null,null,null,null,null,null,null,null,null,null,null,null,null,null,null,null,null,null,null,null,null,null,null,null,null,null,null,null,null,null,null,null,null,null,null,null,null,null,null,null,null,null,null,null,null,null,null,null,null,null,null,null,null,null,null,null,null,null,null,null,1,1,null,null,null,null,null,null,null,null,null,null,null,null,2,2,null,null,null,null,null,null,null,null,null,null,null,null,2,2]
[null,"CFN","UW: GEN-CONSULTANT ADMINISTRATION",8,null,null,null,null,null,null,null,null,null,null,null,null,null,null,null,null,null,null,null,null,null,null,null,null,null,null,null,null,null,null,null,null,null,null,null,null,null,null,null,null,null,null,null,null,null,null,null,null,null,null,null,null,null,null,null,null,null,2,2,null,2,null,2,null,2,null,2,2,null,2,null,1,1,null,1,null,1,null,1,null,1,1,null,null,null,1,1,2,1,null,1,null,1,null,1,1,null,null,null,1,1,2,1,null,1,null,1,null,1,1]
[null,"BQ2","UW: GEN-ROADWAY CULVERT HYDRAULIC DESIGN",16,null,null,null,null,null,null,null,null,null,null,null,null,null,null,null,null,null,null,null,null,null,null,null,null,null,null,null,null,null,2,2,null,null,null,2,null,null,null,null,null,null,null,null,2,2,null,null,null,2,null,null,null,null,null,null,null,null,1,1,null,null,null,1,null,null,null,null,null,null,null,null,2,2,null,null,null,2]
[null,"CIL","DES: CONTRACT WORKING DAYS",8,null,null,null,null,null,null,null,null,null,null,null,null,null,null,null,2,2,2,null,null,null,null,null,null,null,null,null,null,null,2,2,2,2,null,2,null,null,null,null,null,null,null,null,1,1,2,1,null,2,null,null,null,null,null,null,null,null,1,1,2,1,null,1,null,null,null,null,null,2,null,null,1,1,2,1,null,1,null,null,null,null,null,1,null,null,2,2,2,2]
[null,"DAJ","DES: ADA COMPLIANCE WORKSHOP",2,null,null,null,null,null,null,null,null,null,null,null,null,null,null,null,1,1,1,1,null,1,null,null,null,null,null,null,null,null,1,1,1,1,null,1,null,null,null,null,null,null,null,null,1,1,1,1,null,1,null,null,null,null,null,null,null,null,1,1,1,1,1,1,null,null,null,null,null,null,null,null,1,1,1,1,1,1,null,null,null,null,null,null,null,null,1,1,1,1,null,1,null,null,null,null,null,1,null,null,1,1,1,1,null,1,null,null,null,null,null,1]
[null,"Environmental"]
[null,"CA1","ENV: INTRO TO ENDANGERED SPECIES ACT & BIOLOGICAL ASSESSMENT",7,null,null,null,null,null,null,null,null,null,null,null,null,null,null,null,2,2,2,2,2,2,2,2,2,2,2,2,null,null,1,1,1,1,1,1,1,1,1,1,1,1,1,null,1,1,1,1,1,1,1,1,1,1,1,1,1,null,1,1,1,1,1,1,1,1,1,1,1,1,1,null,1,1,1,1,1,1,1,1,1,1,1,1,1,null,1,1,1,1,1,1,1,1,1,1,1,1,1,null,1,1,1,1,1,1,1,1,1,1,1,1]
[null,"BKS","ENV: WETLANDS: RECOGNITION, REGULATION AND RESOURCE VALUE",7,null,null,null,null,null,null,null,null,null,null,null,null,null,null,null,"E","E","E","E","E","E","E","E","E","E","E","E",null,null,2,2,2,2,2,2,2,2,2,2,2,2,null,null,2,2,2,2,2,2,2,2,2,2,2,2,null,null,1,1,1,1,1,1,1,1,1,1,1,1,null,null,1,1,1,1,1,1,1,1,1,1,1,1]
[]
[null,"Traffic"]
[null,"B1I","TR: ILLUMINATION DESIGN FOR TRANSPORTATION APPLICATIONS",16,null,null,null,null,null,null,null,null,null,null,null,null,null,null,null,null,null,null,null,null,null,null,null,null,null,null,null,null,null,null,null,null,2,null,null,null,null,null,null,null,null,null,null,1,1,null,1,null,null,null,null,null,null,null,null,null,null,1,1,null,1,null,null,null,null,null,null,null,null,null,null,1,1,null,1]
[null,"BZA","TR: POWER SUPPLY DESIGN FOR TRANSPORTATION APPLICATIONS",16,null,null,null,null,null,null,null,null,null,null,null,null,null,null,null,null,null,null,null,null,null,null,null,null,null,null,null,null,null,2,null,null,2,null,null,null,null,null,null,null,null,null,null,1,1,null,1,null,null,null,null,null,null,null,null,null,null,1,1,null,1,null,null,null,null,null,null,null,null,null,null,1,1,null,1]
[null,"BC2","TR: SIGN LOCATION & INSTALLATION STANDARDS",6,null,null,null,null,null,null,null,null,null,null,null,null,null,null,null,"E","E","E","E","E","E","E","E","E","E","E","E",null,null,1,2,1,1,1,null,2,2,null,null,null,null,null,null,1,2,1,1,1,null,2,2,null,null,null,null,null,null,1,1,1,1,1,null,2,1,null,null,null,null,null,null,1,null,1]
[null,"A42","TR: WORKZONE TRAFFIC CONTROL SUPERVISORS SEMINAR [Refresher Required Every 4 Years]",20,null,null,null,null,null,null,null,null,null,null,null,null,null,null,null,2,2,2,2,2,null,2,2,null,2,null,null,null,null,1,1,1,1,1,null,1,1,null,null,null,null,null,null,1,1,1,1,1,null,1,1,null,null,null,null,null,null,1,1,1,1,1,null,1,1,null,1,null,null,null,null,1,1,1,1,null,null,null,1,null,1]
[null,"A2C","UW: GEN-BASIC HIGHWAY CAPACITY FOR ENGINEERS AND PLANNERS",24,null,null,null,null,null,null,null,null,null,null,null,null,null,null,null,null,null,null,null,null,null,null,null,null,null,null,null,null,null,2,2,null,2,null,null,null,null,null,2,2,2,null,null,2,2,null,2,null,null,null,null,null,2,2,2,null,null,1,1,null,1,null,null,null,null,null,1,1,2,null,null,null,null,null,1,null,null,null,null,null,1,1,1]
[null,"BML","UW: GEN-UNIFORM TRAFFIC CONTROL DEVICES",24,null,null,null,null,2,null,null,null,null,null,null,null,null,null,null,"E","E","E","E","E","E","E","E","E","E","E","E",null,null,2,2,2,1,1,null,null,null,null,null,null,null,null,null,2,2,2,1,1,null,null,null,null,null,null,null,null,null,1,1,1,1,1,null,null,null,null,null,null,null,null,null,1,null,1,1]
[null,"A3C","UW: TR-ADVANCED HIGHWAY CAPACITY ANALYSIS",24,null,null,null,null,null,null,null,null,null,null,null,null,null,null,null,null,null,null,null,null,null,null,null,null,null,null,null,null,null,null,null,null,2,null,null,null,null,null,null,null,null,null,null,null,null,null,2,null,null,null,null,null,null,null,null,null,null,2,2,null,1,null,null,null,null,null,2,2,null,null,null,1,2,null,1,null,null,null,null,null,1,2]
[null,"BS3","UW: TR-FUNDAMENTALS OF TRAFFIC ENGINEERING",24,null,null,null,null,null,null,null,null,null,null,null,null,null,null,null,"E","E","E","E","E","E","E","E","E","E","E","E",null,null,2,2,2,1,2,2,2,2,2,2,2,2,null,null,2,2,2,1,2,2,2,2,2,2,2,2,null,null,1,1,2,1,2,2,2,2,2,2,1,2,null,null,null,null,null,null,null,null,null,null,null,2,1]
[null,"BS4","UW: TR-TRAFFIC ENGINEERING OPERATIONS",24,null,null,null,null,null,null,null,null,null,null,null,null,null,null,null,null,null,null,null,null,null,null,null,null,null,null,null,null,null,2,2,null,2,null,null,null,null,null,null,null,null,null,null,2,2,null,1,null,null,null,null,null,null,null,null,null,null,1,1,null,1,null,null,null,null,null,null,null,null,null,null,1,1,null,1]
[null,"Geotechnical"]
[null,"AZH","NHI: GTC - DRILLED SHAFTS (132014)",20,null,null,null,null,null,null,null,null,null,null,null,null,null,null,null,null,null,null,null,null,null,null,null,null,null,null,null,null,null,null,null,null,null,null,null,null,null,null,null,null,null,null,null,null,null,null,null,null,null,null,null,null,null,null,null,null,null,null,null,null,null,null,null,null,2,null,null,null,null,null,null,null,null,null,null,null,null,null,2,null,null,null,null,null,null,null,null,null,null,null,null,null,2,null,null,null,null,null,null,null,null,null,null,null,null,null,2]
[null,"BZ6","NHI: GTC-DRIVEN PILE FOUNDATIONS-DESIGN & CONSTR (132021)",32,null,null,null,null,null,null,null,null,null,null,null,null,null,null,null,null,null,null,null,null,null,null,null,null,null,null,null,null,null,null,null,null,null,null,null,null,null,null,null,null,null,null,null,null,null,null,null,null,null,null,null,null,null,null,null,null,null,null,null,null,null,null,null,null,2,null,null,null,null,null,null,null,null,null,null,null,null,null,2,null,null,null,null,null,null,null,null,null,null,null,null,null,2,null,null,null,null,null,null,null,null,null,null,null,null,null,2]
[null,"BZ3","NHI: GTC-G.F.E. GEOTECHNICAL EARTHQUAKE ENGINEERING (132039)",20,null,null,null,null,null,null,null,null,null,null,null,null,null,null,null,null,null,null,null,null,null,null,null,null,null,null,null,null,null,null,null,null,null,null,null,null,null,null,null,null,null,null,null,null,null,null,null,null,null,null,null,null,null,null,null,null,null,null,null,null,null,null,null,null,2,null,null,null,null,null,null,null,null,null,null,null,null,null,2,null,null,null,null,null,null,null,null,null,null,null,null,null,2,null,null,null,null,null,null,null,null,null,null,null,null,null,2]
[null,"BZ4","NHI: GTC-G.F.E. ROCK SLOPES (132035)",16,null,null,null,null,null,null,null,null,null,null,null,null,null,null,null,null,null,null,null,null,null,null,null,null,null,null,null,null,null,null,null,null,null,null,null,null,null,null,null,null,null,null,null,null,null,null,null,null,null,null,null,null,null,null,null,null,null,null,null,null,null,null,null,null,2,null,null,null,null,null,null,null,null,null,null,null,null,null,2,null,null,null,null,null,null,null,null,null,null,null,null,null,2,null,null,null,null,null,null,null,null,null,null,null,null,null,2]
[null,"BZ5","NHI: GTC-G.F.E. SUBSURFACE INVESTIGATIONS (132031)",24,null,null,null,null,null,null,null,null,null,null,null,null,null,null,null,null,null,null,null,null,null,null,null,null,null,null,null,null,null,null,null,null,null,null,null,null,null,null,null,null,null,null,null,null,null,null,null,null,null,null,null,null,null,null,null,null,null,null,null,null,null,null,null,null,2,null,null,null,null,null,null,null,null,null,null,null,null,null,2,null,null,null,null,null,null,null,null,null,null,null,null,null,2,null,null,null,null,null,null,null,null,null,null,null,null,null,2]
[null,"BZ7","NHI: GTC-G.F.E.-GEOTECHNICAL INSTRUMENTATION (132041)",16,null,null,null,null,null,null,null,null,null,null,null,null,null,null,null,null,null,null,null,null,null,null,null,null,null,null,null,null,null,null,null,null,null,null,null,null,null,null,null,null,null,null,null,null,null,null,null,null,null,null,null,null,null,null,null,null,null,null,null,null,null,null,null,null,2,null,null,null,null,null,null,null,null,null,null,null,null,null,2,null,null,null,null,null,null,null,null,null,null,null,null,null,2,null,null,null,null,null,null,null,null,null,null,null,null,null,2]
[null,"AY7","NHI: GTC-SOILS & FOUNDATIONS WORKSHOP (132012)",32,null,null,null,null,null,null,null,null,null,null,null,null,null,null,null,null,null,null,null,null,null,null,null,null,null,null,null,null,null,null,null,null,null,null,null,null,null,null,null,null,null,null,null,null,null,null,null,null,null,null,null,null,null,null,null,null,null,null,null,null,null,null,null,null,1,null,null,null,null,null,null,null,null,null,null,null,null,null,1,null,null,null,null,null,null,null,null,null,null,null,null,null,1,null,null,null,null,null,null,null,null,null,null,null,null,null,1]
[null,"BPV","NHI: GTC-DRIVEN PILE FOUNDATIONS-CONST MONITORING (132022)",16,null,null,null,null,null,null,null,null,null,null,null,null,null,null,null,null,null,null,null,null,null,null,null,null,null,null,null,null,null,null,null,null,null,null,null,null,null,null,null,null,null,null,null,null,null,null,null,null,null,null,null,null,null,null,null,null,null,null,null,null,null,null,null,null,2,null,null,null,null,null,null,null,null,null,null,null,null,null,2,null,null,null,null,null,null,null,null,null,null,null,null,null,2,null,null,null,null,null,null,null,null,null,null,null,null,null,2]
[null,"Computer Aided Engineering"]
[null,"AX4","CAE: MICROSTATION - 101 ENTRY LEVEL",24,null,1,1,2,2,null,1,1,1,null,null,null,null,null,null,"E","E","E","E","E","E","E","E","E","E","E","E",null,null,1,1,2,1,null,1,1,1,null,null,null,null,null,null,2,2,2,1,null,2,1,1,null,null,null,null,null,null,2,2,2,1,null,1,2,1,null,2,null,null,null,null,null,null,null,1,null,null,null,null,null,1]
[null,"AI6","CAE: MICROSTATION - 201 PRODUCTION LEVEL",24,null,1,1,2,2,null,1,1,1,null,null,null,null,null,null,"E","E","E","E","E","E","E","E","E","E","E","E",null,null,1,1,2,1,null,1,1,1,null,null,null,null,null,null,2,2,2,1,null,2,1,1,null,null,null,null,null,null,2,2,2,1,null,2,2,1,null,2,null,null,null,null,null,null,null,1,null,null,null,null,null,1]
[null,"CRZ","CAE: InRoads 201 PRODUCTION LEVEL DESIGN",32,null,null,null,null,null,null,null,null,null,null,null,null,null,null,null,"E","E","E","E","E","E","E","E","E","E","E","E",null,null,2,2,2,null,2,null,null,null,null,null,null,null,null,null,1,1,1,null,2,2,null,null,null,null,null,null,null,null,1,1,1,null,2,1,null,null,null,null,null,null,null,null,2,2,2]
[null,"CU1","CAE: InRoads 202 SURVEY DATA PROCESSING",16,null,null,null,null,null,2,null,null,null,null,null,null,null,null,null,"E","E","E","E","E","E","E","E","E","E","E","E",null,null,1,1,2,null,1,null,null,null,null,null,null,null,null,null,1,1,2,null,1,null,null,null,null,null,null,null,null,null,1,1,2,null,1,null,null,null,null,null,null,null,null,null,2,2,2]
[null,"CTQ","CAE: InRoads 301 ADVANCED ROADWAY DESIGN",14,null,null,null,null,null,null,null,null,null,null,null,null,null,null,null,null,null,null,null,null,null,null,null,null,null,null,null,null,null,2,2,null,null,null,null,null,null,null,null,null,null,null,null,2,2,null,null,null,null,null,null,null,null,null,null,null,null,2,2,null,null,null,null,null,null,null,null,null,null,null,null,2,2]
[null,"Pavement"]
[null,"A45","NHI: GEN-TECHNIQUES FOR PAVEMENT REHABILITATION (131008)",36,null,null,null,null,null,null,null,null,null,null,null,null,null,null,null,null,null,null,null,null,null,null,null,null,null,null,null,null,null,null,null,null,null,null,null,null,null,null,2,null,null,null,null,null,null,null,null,null,null,null,null,null,2,null,null,null,null,2,2,2,null,null,null,null,null,null,1,null,2,null,null,null,null,null,null,null,null,null,null,null,1,null,1]
[null,"BQL","UW: CN-PAVEMENT REHABILITATION",24,null,null,null,null,null,null,null,null,null,null,null,null,null,null,null,null,null,null,null,null,null,null,null,null,null,null,null,null,null,null,null,null,null,null,null,null,null,null,2,null,null,null,null,null,null,null,null,null,null,null,null,null,2,null,null,null,null,2,2,2,null,null,null,null,null,null,1,null,2,null,null,1,1,1,null,null,null,null,null,null,1,null,1]
[null,"Surveying"]
[null,"A6U","SUR: ADVANCED SURVEYING (SELF STUDY)",40,null,null,null,null,null,null,null,null,null,null,null,null,null,null,null,"E","E","E","E","E","E","E","E","E","E","E","E",null,null,2,2,2,null,1,null,null,null,null,null,null,null,null,null,2,2,2,null,1,2,null,null,null,null,null,null,null,null,2,2,2,null,1,1,null,null,null,null,null,null,null,null,2,2]
[]
[null,"Project Management"]
[null,"B71","PM: PROJECT MANAGEMENT PROCESS ",16,null,null,null,null,null,null,null,null,null,null,null,null,null,null,null,2,2,2,2,2,2,null,null,null,null,2,2,null,null,2,2,2,2,null,2,null,2,null,2,2,2,null,null,1,1,2,1,null,1,null,1,null,2,1,1,null,null,1,1,2,1,null,1,null,1,null,1,1,1,null,null,1,1,2,1,null,1,null,1,null,1,1,1,null,null,1,1,2,2,null,2,null,2,null,2,2,null,null,null,1,1,2,2,null,2,1,null,null,null,2]
[null,"CB5","PM: SCHEDULING BASICS",8,null,null,null,null,null,null,null,null,null,null,null,null,null,null,null,2,2,null,null,null,null,null,null,null,null,null,null,null,null,2,2,2,2,null,2,null,2,null,2,null,null,null,null,1,1,2,1,null,2,null,2,null,2,null,2,null,null,1,1,2,1,null,1,null,1,null,1,null,1,null,null,1,1,2,1,null,1,null,1,null,1,null,1,null,null,2,2,2,2,null,2,null,2,null,2]
[null,"CPH","PM: ADVANCED PROJECT MANAGEMENT",16,null,null,null,null,null,null,null,null,null,null,null,null,null,null,null,2,2,2,2,2,2,null,null,null,null,null,null,null,null,2,2,2,2,2,2,2,2,null,2,null,2,null,null,2,2,2,2,2,2,2,2,null,2,null,2,null,null,1,1,1,1,1,1,1,1,null,1,2,1,null,null,1,1,1,1,1,1,1,1,null,1,2,1,null,null,1,1,1,1,1,1,1,1,null,2,2,1,null,null,2,2,2,2,2,2,2,2,null,null,2,2]
[null,"DAW","PM: PMRS POLICIES AND PROCEDURES",4,null,null,null,null,null,null,null,null,null,null,null,null,null,null,null,null,null,null,null,null,null,null,null,null,null,null,null,null,null,null,null,null,null,null,null,null,null,null,null,null,null,null,null,2,2,2,2,2,2,2,2,null,2,null,null,null,null,2,2,2,2,2,2,2,2,null,2,null,null,null,null,2,2,2,2,2,2,2,2,null,2,null,null,null,null,1,1,1,1,1,1,1,1,null,1,null,null,null,null,1,1,1,1,1,1,1,1,null,1]
[null,"DAX","PM: PMRS PRIMAVERA SCHEDULER",24,null,null,null,null,null,null,null,null,null,null,null,null,null,null,null,null,null,null,null,null,null,null,null,null,null,null,null,null,null,null,null,null,null,null,null,null,null,null,null,null,null,null,null,2,2,2,2,2,2,2,2,null,2,null,null,null,null,2,2,2,2,2,2,2,2,null,2,null,null,null,null,1,1,1,2,2,2,2,1,null,2,null,null,null,null,1,1,1,1,1,1,1,1,null,1,null,null,null,null,2,2,2,2,2,2,2,1,null,2]
[null,"DAV","PM: PMRS PRIMAVERA WEB PM UPDATE",8,null,null,null,null,null,null,null,null,null,null,null,null,null,null,null,null,null,null,null,null,null,null,null,null,null,null,null,null,null,2,2,2,2,null,2,2,2,null,2,null,null,null,null,2,2,2,2,2,2,2,2,null,2,null,null,null,null,2,2,2,2,2,2,2,2,null,2,null,null,null,null,1,1,1,1,1,1,1,1,null,1,null,null,null,null,1,1,1,1,1,1,1,1,null,1,null,null,null,null,1,1,1,1,1,1,1,1,null,1]
[null,"DAU","PM: PMRS PRIMAVERA WEB PM VIEW",8,null,null,null,null,null,null,null,null,null,null,null,null,null,null,null,null,null,null,null,null,null,null,null,null,null,null,null,null,null,2,2,2,2,null,2,2,2,null,2,null,null,null,null,2,2,2,2,2,2,2,2,null,2,null,null,null,null,2,2,2,2,2,2,2,2,null,2,null,null,null,null,1,1,2,1,1,1,1,1,null,1,null,null,null,null,1,1,1,1,1,1,1,1,null,1,null,null,null,null,1,1,1,1,1,1,1,1,null,1]
[null,"DAY","PM: PMRS SCHEDULER FOR CONSTRUCTION",8,null,null,null,null,null,null,null,null,null,null,null,null,null,null,null,null,null,null,null,null,null,null,null,null,null,null,null,null,null,2,2,2,2,null,2,2,2,null,2,null,null,null,null,2,2,2,2,null,2,2,2,null,2,null,null,null,null,1,2,1,2,null,2,2,2,null,2,null,null,null,null,1,2,1,2,null,2,2,2,null,2,null,null,null,null,2,2,2,2,null,2,2,2,null,2,null,null,null,null,2,2,2,2,null,2,2,2,null,2]
["   ","CYH","PM: PROJECT MANAGEMENT ACADEMY",32,null,null,null,null,null,null,null,null,null,null,null,null,null,null,null,null,null,null,null,null,null,null,null,null,null,null,null,null,null,null,null,null,null,null,null,null,null,null,null,null,null,null,null,null,null,null,null,null,null,null,null,null,null,null,null,null,null,null,null,null,null,null,null,null,null,null,null,null,null,null,null,1,1,2,2,2,2,2,2,2,2,2,2,null,null,1,1,1,1,2,1,1,1,2,2,2,1,null,null,1,1,1,1,2,1,1,1,2,2,2,1]
[]
[null,"R…Required Courses for Automatic Promotion          E…Elective Courses for Automatic Promotion (Minimum 85 Hours Needed)          "]
[null,"1…Priority One Courses:  Higher priority courses for specific discipline or present job classification.          2…Priority Two Courses:  Courses which enhance employee knowledge and/or prepares them for advancement."]
[null,"CN…Construction; D/C…Design/Construction; DES…Design; ENV…Environmental; GTM…Geo-Technical Materials; MAT…Materials and Testing; MFI...Materials Fabrication Inspection; PGM…Program Management; PLN…Planning; PMD…Pavement Management Design; SUR…Survey;",null,null,null,null,null,null,null,null,null,null,null,null,null,null,null,null,null,null,null,null,null,null,null,null,null,null,null,null,null,null,null,null,null,null,null,null,null,null,null,null,null,null,null,null,null,null,null,null,null,null,null,null,null,null,null,null,null,null,null,null,null,null,null,null,null,null,null,null,null,null,null,null,null,null,null,null,null,null,null,null,"TR...Traffic"]
[null,"#…Courses provided by WSDOT Instructors     *…Matrix Groups encompassing specified work areas in which the Engineering Training Committee does not have expertise represented."]

{"sheet":"Staffing Nbrs","index":1,"n_rows":22,"n_cols":16,"rows_kept":22,"cut":false,"hidden":true,"merged":[[2,2,2,14],[2,0,3,1]]}
["NOTE:  OLD DATA CIRCA 2009"]
[]
["\n\nStaffing Level ",null,"Discipline"]
[null,null,"Apprentice","D/C","DES","CN","TR","SUR*","ENV","MAT","GTM","MFI","PMD","PLN*","PGM*"]
["Matrix","Job Class",0,1,2,3,4,5,6,7,8,9,10,11,12,"Grand Total"]
["  ET","  530K - TE1",null,61,24,3,8,null,1,null,null,null,null,null,1,98]
[null,"  530L - TE2",null,226,117,85,39,16,8,9,5,5,2,4,14,530]
[null,"  530M - TE3",null,108,71,56,38,10,3,2,5,null,3,5,24,325]
[null,"  530N - TE4",null,16,32,15,9,3,4,4,3,3,null,5,13,107]
[null,"  530O - TE5 ",null,null,1,1,3,null,null,null,3,null,2,null,null,10]
[null,"  530P - TTE5",null,4,11,3,7,1,null,1,2,2,1,2,5,39]
[null,"  530Q - TSE",null,null,null,null,1,null,null,null,null,null,null,null,null,1]
[null,"  WMS02",null,30,11,8,11,null,null,3,null,null,null,3,3,69]
[null,"  WMS03",null,22,18,12,null,null,1,1,null,null,null,2,2,58]
[null,"  WMS04",null,1,1,1,null,null,null,null,1,null,null,null,null,4]
[null,"  538R - TT1 ",11,2,4,5,null,null,null,null,null,null,null,null,null,22]
[null,"  538S - TT2",6,95,27,32,5,9,1,2,1,null,null,null,2,180]
[null,"  538T - TT3",null,102,22,39,2,7,1,3,3,null,3,null,2,184]
["  ET Total",null,17,614,309,239,112,46,18,21,22,10,11,16,61,1496]
[]
[]
[null,"TE5+TT5+WMS02",{"$f":"C10+C11+C13","v":0},{"$f":"D10+D11+D13","v":34},{"$f":"E10+E11+E13","v":23},12,21,1,0,4,5,2,3,5,8,{"$f":"SUM(C22:O22)","v":118}]

{"sheet":"Module1","index":2,"n_rows":0,"n_cols":0,"rows_kept":0,"cut":false,"hidden":true,"merged":[]}

{"sheet":"Module2","index":3,"n_rows":0,"n_cols":0,"rows_kept":0,"cut":false,"hidden":true,"merged":[]}

{"sheet":"Instructions","index":4,"n_rows":71,"n_cols":5,"rows_kept":71,"cut":false,"hidden":false,"merged":[[16,1,16,13],[17,1,17,13],[11,1,11,13],[12,1,12,13],[13,1,13,13],[14,1,14,13],[15,1,15,13],[6,0,6,13],[7,1,7,13],[8,1,8,13],[9,1,9,13],[10,1,10,13],[4,0,4,13],[56,0,56,13],[20,0,20,1],[3,0,3,13],[50,0,50,13],[51,0,51,13],[52,0,52,13],[54,0,54,13],[35,1,35,13],[36,1,36,13],[37,1,37,13],[42,1,42,13],[43,1,43,13],[38,1,38,13],[39,1,39,13],[45,1,45,13],[46,1,46,13],[47,1,47,13],[40,1,40,13],[41,1,41,13],[44,1,44,13]]}
["ENGINEERING TRAINING TOOL - Instructions"]
[]
["INTRODUCTION"]
["This is the Engineering Training Tool spreadsheet.  The spreadsheet should help you understand what training is suggested for a particular job class (i.e. TT1 thru 3 and TE1 thru 3).  The training is broken down by division (Design, Construction, Traffic, etc).  To use the spreadsheet, select the division that you work in using the dropdown below.  This will take you to your division's training plan for engineering job classes TT1 through TT3.  You will then be able to select your job class and your priority 1, 2, or mandatory courses.  There is also a \"required\" set of courses for TT1 and TT2 employees that are in a TT3 in-training plan.  Courses listed as \"blank\" are courses that may be available and applicable, but are not a priority for all people of that job class."]
["The complete Engineering Training Matrix is found under the \"Master\" tab. The \"CN-Cert\" tab lets you know which courses you should take to prepare for which certification test. Please see Construction Manual Section GEN 1-00.4(3) for Inspector Certification Program guidance."]
["HOW TO REGISTER FOR A CLASS?"]
["If a class is offered by the Department of Enterprise Services (noted with an ES in the Responsible Division column) or is a Mandatory course, please contact the LMS helpdesk at  360-705-7060 to register.  All other registration is done through the Learning Management System (LMS). Here is how to register for a course in LMS:"]
[null,"1.    Open the Training & Development website at http://wwwi.wsdot.wa.gov/HR/Employees/Training/"]
[null,"2.       In the first bullet, click the Learning Management System hyperlink"]
[null,"a.       At this point, you may be redirected to the aead.sts.wa.gov website.  If this happens, select “WA State Department of Transportat” from the right side of the screen. This step may not happen if you have recently used LMS."]
[null,"4.       Scroll down and click on the “Course Catalog” icon."]
[null,"5.      In the SEARCH block, copy and paste the course name from this spreadsheet then click on the search icon →\nNOTE:  You cannot search using the Course Code in this search tool.  In order to use the Course Code, you must click on Advanced Search and then check the Course Code box."]
[null,"6.       Scroll to bottom of page and you will see your course. Click → "]
[null,"7.       At this point, you may not see any scheduled classes.  If this is the case, and you are in construction, contact your Region's Construction Trainer. Otherwise, have your supervisor contact a division representative (as noted below) as to when this course will be offered or to request a course in your area.  If there is a class available, go to the class you want to attend and click in the box on the left. Once there is a check mark in the box, goto Step 8."]
[null,"8.      Go to the ribbon just above the class listing and click on →                                                              Box must be checked before you can enroll."]
[null,"9.       Wait a little bit and a screen will come up with a notice that you were successful.  You will receive a confirmation email."]
[null,"10.    Over in the far left margin click on “Close Record”."]
[null,"11.    DONE."]
[]
["DIVISION CONTACTS"]
["Name"]
["Last","First","Office","Email","Phone"]
["Sullivan","Molly","Environmental","SullivM@WSDOT.WA.GOV","360-705-7479"]
["Severson","Kate","Design","SeversK@wsdot.wa.gov","360-709-8003"]
["Hill","Clint","CAE Support","HillCl@wsdot.wa.gov","360-709-8016"]
["Martin","Jennifer","HQ HR","MartinJL@wsdot.wa.gov","360-705-7051"]
["Dean","Brigid","Planning","DeanB@wsdot.wa.gov","206-464-1266"]
["Harwood","Monica","Traffic","HarwooM@wsdot.wa.gov ","509-324-6557"]
["Miller","Sherie","LMS","millers@wsdot.wa.gov","360-705-6958"]
["Tak","Denys","Construction","TakD@wsdot.wa.gov","360-705-7833"]
["Graham","Jeff","Survey","GrahamJ@wsdot.wa.gov","360-704-6305"]
["Struna","Rich","CPDM","STRUNAR@wsdot.wa.gov","360-705-7120"]
["DeVol","Joe","Materials/Geotech","DEVOLJ@wsdot.wa.gov ","360-709-5421"]
[]
["TAB DESCRIPTION"]
["Master:","The complete Engineering Training Matrix."]
["CN-Cert:","List the Construction courses you should take to prepare for a certification test. Please see Construction Manual Section GEN 1-00.4(3) for Inspector Certification Program guidance."]
["DES:","Use this tab if your primary job duties are design."]
["CN:","Use this tab if your primary job duties are construction."]
["TR:","Use this tab if your primary job duties are traffic."]
["SUR:","Use this tab if your primary job duties are surveying."]
["ENV:","Use this tab if your primary job duties are environmental."]
["MAT:","Use this tab if your primary job duties are materials."]
["GTM:","Use this tab if your primary job duties are geotech."]
["MFI:","Use this tab if your primary job duties are materials fabrication inspection."]
["PMD:","Use this tab if your primary job duties are pavement design."]
["PLN:","Use this tab if your primary job duties are planning."]
["PGM:","Use this tab if your primary job duties are program management."]
[]
["PRIORITY MEANING"]
["     1 … Priority One Courses:  Higher priority courses for specific discipline or present job classification.  These are not required courses.  Consult your supervisor \n             as to the applicability of these courses to your current or anticipated job duties."]
["     2 … Priority Two Courses:  Courses which enhance employee knowledge and/or may prepare you for advancement."]
["     R … Required as part of the Transportation Technician in-training program"]
["     M … Mandatory as determined by the Human Resources Office"]
["     B … Blank or \"B\" means the course has been offered at some time.  This course may be applicable to your current job\n              duties, but it is not seen as a necessity for the entire job class. Consult with your supervisor regarding applicability."]
["DIVISION ABBREVIATIONS"]
["Abbreviations are used throughout the spreadsheet for the divisions.  The abbreviations are:"]
["CN =","CONSTRUCTION"]
["DES =","DEVELOPMENT DIVISION"]
["ENV =","ENVIRONMENTAL"]
["GTM =","GEO-TECHNICAL MATERIALS"]
["MAT =","MATERIALS AND TESTING"]
["MFI =","MATERIAL FABRICATION INSPECTION"]
["PGM =","PROGRAM MANAGEMENT"]
["PLN =","PLANNING"]
["PMD =","PAVEMENT MANAGEMENT DIVISION"]
["SUR =","SURVEY"]
["SS =","SKILLSOFT COURSE OFFERED IN LMS"]
["TR =","TRAFFIC OPERATIONS DIVISION"]
["ES =","DEPARTMENT OF ENTERPRISE SERVICES"]
["HYD =","HYDRAULICS"]

{"sheet":"Master","index":5,"n_rows":249,"n_cols":74,"rows_kept":249,"cut":false,"hidden":false,"merged":[[210,0,210,2],[213,0,213,2],[152,0,152,2],[185,0,185,2],[151,0,151,2],[191,0,191,2],[202,0,202,2],[76,0,76,2],[83,0,83,2],[85,0,85,2],[88,0,88,2],[95,0,95,2],[55,0,55,2],[58,0,58,2],[60,0,60,2],[63,0,63,2],[70,0,70,2],[2,0,2,2],[13,0,13,2],[48,0,48,2],[49,0,49,2],[52,0,52,2],[0,8,0,18],[0,3,0,7],[0,41,0,51],[0,52,0,62],[0,63,0,73],[0,30,0,40],[0,19,0,29]]}
[null,null,null,"TRAINING STATUS",null,null,null,null,"Transportation Tech 1",null,null,null,null,null,null,null,null,null,null,"Transportation Tech 2",null,null,null,null,null,null,null,null,null,null,"Transportation Tech 3",null,null,null,null,null,null,null,null,null,null,"Trans Engineer 1",null,null,null,null,null,null,null,null,null,null,"Trans Engineer 2",null,null,null,null,null,null,null,null,null,null,"Trans Engineer 3"]
["Responsible Division","LMS COURSE NAME","LMS COURSE CODE","SS\nOLT\nILT\n***","STATUS","If NOT active, \nwhen will it \nbe offered?","Planned Frequency of Instructor Led Training","NOTES","DES","CN","TR","SUR","ENV","MAT","GTM","MFI","PMD","PLN","PGM","DES","CN","TR","SUR","ENV","MAT","GTM","MFI","PMD","PLN","PGM","DES","CN","TR","SUR","ENV","MAT","GTM","MFI","PMD","PLN","PGM","DES","CN","TR","SUR","ENV","MAT","GTM","MFI","PMD","PLN","PGM","DES","CN","TR","SUR","ENV","MAT","GTM","MFI","PMD","PLN","PGM","DES","CN","TR","SUR","ENV","MAT","GTM","MFI","PMD","PLN","PGM"]
["Mandatory"]
["HR","WA-State Ethics in State Government","WA-State Ethics 8-7-2014-V6","OLT","Active",null,"NA","To register for this course, \ncall the LMS Helpdesk at \n360-705-7060.","M","M","M","M","M","M","M","M","M","M","M","M","M","M","M","M","M","M","M","M","M","M","M","M","M","M","M","M","M","M","M","M","M","M","M","M","M","M","M","M","M","M","M","M","M","M","M","M","M","M","M","M","M","M","M","M","M","M","M","M","M","M","M","M","M","M"]
["HR","WSDOT Mandatory: Ethical Standards WSDOT Specific Training","WSDOT_BKB Specific","OLT","Active",null,"NA","To register for this course, \ncall the LMS Helpdesk at \n360-705-7060.","M","M","M","M","M","M","M","M","M","M","M","M","M","M","M","M","M","M","M","M","M","M","M","M","M","M","M","M","M","M","M","M","M","M","M","M","M","M","M","M","M","M","M","M","M","M","M","M","M","M","M","M","M","M","M","M","M","M","M","M","M","M","M","M","M","M"]
["HR","WSDOT Mandatory: System Security Awareness For Transportation Employees (Self Study)","WSDOT_CJJ_UDT","SS","Active",null,"NA","To register for this course, \ncall the LMS Helpdesk at \n360-705-7060.","M","M","M","M","M","M","M","M","M","M","M","M","M","M","M","M","M","M","M","M","M","M","M","M","M","M","M","M","M","M","M","M","M","M","M","M","M","M","M","M","M","M","M","M","M","M","M","M","M","M","M","M","M","M","M","M","M","M","M","M","M","M","M","M","M","M"]
["HR","WSDOT Mandatory: Violence That Affects The Workplace (Self Study)","WSDOT_B9V","SS","Active",null,"NA","To register for this course, \ncall the LMS Helpdesk at \n360-705-7060.","M","M","M","M","M","M","M","M","M","M","M","M","M","M","M","M","M","M","M","M","M","M","M","M","M","M","M","M","M","M","M","M","M","M","M","M","M","M","M","M","M","M","M","M","M","M","M","M","M","M","M","M","M","M","M","M","M","M","M","M","M","M","M","M","M","M"]
["HR","WA-State IT Security Awareness Training","WA-State IT Security Awareness Training - Initial Training-8/16/2013","OLT","Active",null,"NA","To register for this course, \ncall the LMS Helpdesk at \n360-705-7060.","M","M","M","M","M","M","M","M","M","M","M","M","M","M","M","M","M","M","M","M","M","M","M","M","M","M","M","M","M","M","M","M","M","M","M","M","M","M","M","M","M","M","M","M","M","M","M","M","M","M","M","M","M","M","M","M","M","M","M","M","M","M","M","M","M","M"]
["HR","WA-State Sexual Harassment Awareness and Prevention","DES_shap_2013_Updated_9-3-2014","OLT","Active",null,"NA","To register for this course, \ncall the LMS Helpdesk at \n360-705-7060.","M","M","M","M","M","M","M","M","M","M","M","M","M","M","M","M","M","M","M","M","M","M","M","M","M","M","M","M","M","M","M","M","M","M","M","M","M","M","M","M","M","M","M","M","M","M","M","M","M","M","M","M","M","M","M","M","M","M","M","M","M","M","M","M","M","M"]
["HR","WSDOT Mandatory: Disability Awareness Step 1, Understanding the Americans with Disabilities Act (ADA)  ","lchr_01_a15_lc_enus","OLT","Active",null,"NA","To register for this course, \ncall the LMS Helpdesk at \n360-705-7060.","M","M","M","M","M","M","M","M","M","M","M","M","M","M","M","M","M","M","M","M","M","M","M","M","M","M","M","M","M","M","M","M","M","M","M","M","M","M","M","M","M","M","M","M","M","M","M","M","M","M","M","M","M","M","M","M","M","M","M","M","M","M","M","M","M","M"]
["HR","WSDOT Mandatory: Disability Awareness Step 2 of Learning Plan","WSDOT_CD8_UDT2","OLT","Active",null,"NA","To register for this course, \ncall the LMS Helpdesk at \n360-705-7060.","M","M","M","M","M","M","M","M","M","M","M","M","M","M","M","M","M","M","M","M","M","M","M","M","M","M","M","M","M","M","M","M","M","M","M","M","M","M","M","M","M","M","M","M","M","M","M","M","M","M","M","M","M","M","M","M","M","M","M","M","M","M","M","M","M","M"]
["HR","WSDOT Mandatory: Discrimination In The Workplace (Self Study)","WSDOT_DIS","SS","Active",null,"NA","To register for this course, \ncall the LMS Helpdesk at \n360-705-7060.","M","M","M","M","M","M","M","M","M","M","M","M","M","M","M","M","M","M","M","M","M","M","M","M","M","M","M","M","M","M","M","M","M","M","M","M","M","M","M","M","M","M","M","M","M","M","M","M","M","M","M","M","M","M","M","M","M","M","M","M","M","M","M","M","M","M"]
["HR","WSDOT Mandatory: Valuing Diversity Step 2, Promoting Respect in the Global Workplace – Employee Edition","WSDOT_lch_01_a09_lc_enus","OLT","Active",null,"NA","To register for this course, \ncall the LMS Helpdesk at \n360-705-7060.","M","M","M","M","M","M","M","M","M","M","M","M","M","M","M","M","M","M","M","M","M","M","M","M","M","M","M","M","M","M","M","M","M","M","M","M","M","M","M","M","M","M","M","M","M","M","M","M","M","M","M","M","M","M","M","M","M","M","M","M","M","M","M","M","M","M"]
["General Knowledge"]
["GEN","**Legal Liability for Transportation Professionals - Entry",null,"ILT","Inactive",null,"TBD",null,1,1,1,1,1,1,1,1,1,1,1,1,1,1,1,1,1,1,1,1,1,1,1,1,1,1,1,1,1,1,1,1,1,1,1,1,1,1,1,1,1,1,1,1,1,1,1,1,1,1,1,1,1,1,1]
["GEN","**Legal Liability for Transportation Professionals - In-Depth",null,"ILT","Inactive",null,"TBD",null,null,null,null,null,null,null,null,null,null,null,null,null,null,null,null,null,null,null,null,null,null,null,null,null,null,null,null,null,null,null,null,null,null,null,null,null,null,null,null,null,null,null,null,null,null,null,null,null,null,null,null,null,null,null,null,1,1,1,1,1,1,1,1,1,1,1]
["GEN","WSDOT GEN: TECHNICAL MATHEMATICS I (SELF-STUDY)","WSDOT_AFN","SS","Active",null,"NA",null,"R","R","R","R","R","R","R","R","R","R","R","R","R","R","R","R","R","R","R","R","R","R"]
["GEN","WSDOT GEN: TECHNICAL MATHEMATICS II (SELF-STUDY)","WSDOT_A7J","SS","Active",null,"NA",null,"R","R","R","R","R","R","R","R","R","R","R","R","R","R","R","R","R","R","R","R","R","R"]
["SS","Finding Your Bearings as a Project Manager","apj_151_a01_bs_enus","OLT","Active",null,"NA",null,"R","R","R","R","R","R","R","R","R","R","R","R","R","R","R","R","R","R","R","R","R","R"]
["SS","Getting to the Root of a Problem","apj_15_a01_bs_enus","OLT","Active",null,"NA",null,"R","R","R","R","R","R","R","R","R","R","R","R","R","R","R","R","R","R","R","R","R","R"]
["SS","The Process Groups (PMBOK® Guide Fifth Edition)","apj_01_a03_bs_enus","OLT","Active",null,"NA",null,"R","R","R","R","R","R","R","R","R","R","R","R","R","R","R","R","R","R","R","R","R","R"]
["SS","Solving Problems: Generating and Evaluating Alternatives","pd_29_a02_bs_enus","OLT","Active",null,"NA",null,"R","R","R","R","R","R","R","R","R","R","R","R","R","R","R","R","R","R","R","R","R","R"]
["SS","Making and Carrying Out Tough Decisions","pd_29_a03_bs_enus","OLT","Active",null,"NA",null,"R","R","R","R","R","R","R","R","R","R","R","R","R","R","R","R","R","R","R","R","R","R"]
["SS","Solving Problems: Framing the Problem","pd_29_a01_bs_enus","OLT","Active",null,"NA",null,"R","R","R","R","R","R","R","R","R","R","R","R","R","R","R","R","R","R","R","R","R","R"]
["SS","Problem-Solving and Process Management Tools","oper_04_a07_bs_enus","OLT","Active",null,"NA",null,"R","R","R","R","R","R","R","R","R","R","R","R","R","R","R","R","R","R","R","R","R","R"]
["SS","Basic Presentation Skills: Delivering a Presentation","comm_33_a03_bs_enus","OLT","Active",null,"NA",null,"R","R","R","R","R","R","R","R","R","R","R","R","R","R","R","R","R","R","R","R","R","R"]
["SS","Basic Presentation Skills: Creating a Presentation","comm_33_a02_bs_enus","OLT","Active",null,"NA",null,"R","R","R","R","R","R","R","R","R","R","R","R","R","R","R","R","R","R","R","R","R","R"]
["SS","Building the Foundation for an Effective Team","atm_01_a01_bs_enus","OLT","Active",null,"NA",null,"R","R","R","R","R","R","R","R","R","R","R","R","R","R","R","R","R","R","R","R","R","R"]
["SS","Developing a Successful Team","atm_01_a02_bs_enus","OLT","Active",null,"NA",null,"R","R","R","R","R","R","R","R","R","R","R","R","R","R","R","R","R","R","R","R","R","R"]
["SS","Encouraging Team Communication and Collaboration","atm_01_a03_bs_enus","OLT","Active",null,"NA",null,"R","R","R","R","R","R","R","R","R","R","R","R","R","R","R","R","R","R","R","R","R","R"]
["SS","Handling Team Conflict","atm_01_a04_bs_enus","OLT","Active",null,"NA",null,"R","R","R","R","R","R","R","R","R","R","R","R","R","R","R","R","R","R","R","R","R","R"]
["SS","Thinking Critically: Coming to Terms with Assumptions","pe_01_a01_bs_enus","OLT","Active",null,"NA",null,"R","R","R","R","R","R","R","R","R","R","R","R","R","R","R","R","R","R","R","R","R","R"]
["SS","Thinking Critically: Getting Your Arms around Arguments","pe_01_a02_bs_enus","OLT","Active",null,"NA",null,"R","R","R","R","R","R","R","R","R","R","R","R","R","R","R","R","R","R","R","R","R","R"]
["SS","Thinking Critically: Drawing Conclusions with Confidence","pe_01_a03_bs_enus","OLT","Active",null,"NA",null,"R","R","R","R","R","R","R","R","R","R","R","R","R","R","R","R","R","R","R","R","R","R"]
["SS","Microsoft Excel 2016 Essentials: Creating, Editing, and Saving Workbooks","mo_beel_a01_dt_enus","OLT","Active",null,"NA",null,"R","R","R","R","R","R","R","R","R","R","R","R","R","R","R","R","R","R","R","R","R","R"]
["SS","Microsoft Excel 2016 Essentials: Formulas and Functions","mo_beel_a04_dt_enus","OLT","Active",null,"NA",null,"R","R","R","R","R","R","R","R","R","R","R","R","R","R","R","R","R","R","R","R","R","R"]
["SS","Microsoft Excel 2016 Essentials: Formatting Data","mo_beel_a02_dt_enus","OLT","Active",null,"NA",null,"R","R","R","R","R","R","R","R","R","R","R","R","R","R","R","R","R","R","R","R","R","R"]
["SS","Microsoft Excel 2016 Essentials: Data Presentation Strategies","mo_beel_a03_dt_enus","OLT","Active",null,"NA",null,"R","R","R","R","R","R","R","R","R","R","R","R","R","R","R","R","R","R","R","R","R","R"]
["SS","Microsoft Excel 2016 Essentials: Charts, Tables, and Images","mo_beel_a05_dt_enus","OLT","Active",null,"NA",null,"R","R","R","R","R","R","R","R","R","R","R","R","R","R","R","R","R","R","R","R","R","R"]
["SS","Microsoft Office 2016 Intermediate Excel: Working with Data ","mo_inel_a03_dt_enus","OLT","Active",null,"NA",null,2,2,2,2,2,2,2,2,2,2,2,2,2,2,2,2,2,2,2,2,2,2,2,2,2,2,2,2,2,2,2,2,2]
["SS","Microsoft Office 2016 Intermediate Excel: Share, Review, and Collaborate ","mo_inel_a06_dt_enus","OLT","Active",null,"NA",null,2,2,2,2,2,2,2,2,2,2,2,2,2,2,2,2,2,2,2,2,2,2,2,2,2,2,2,2,2,2,2,2,2]
["SS","Microsoft Office 2016 Intermediate Excel: Creating Custom Visual Effects ","mo_inel_a02_dt_enus","OLT","Active",null,"NA",null,2,2,2,2,2,2,2,2,2,2,2,2,2,2,2,2,2,2,2,2,2,2,2,2,2,2,2,2,2,2,2,2,2]
["SS","Working with the Interface and Performing Basic Tasks in Word 2016 ","mo_bewo_a01_dt_enus","OLT","Active",null,"NA",null,"R","R","R","R","R","R","R","R","R","R","R","R","R","R","R","R","R","R","R","R","R","R"]
["SS","Formatting Text in Word 2016 ","mo_bewo_a02_dt_enus","OLT","Active",null,"NA",null,"R","R","R","R","R","R","R","R","R","R","R","R","R","R","R","R","R","R","R","R","R","R"]
["SS","Headers, Footers, Page Numbering, and Layout in Word 2016 ","mo_bewo_a05_dt_enus","OLT","Active",null,"NA",null,"R","R","R","R","R","R","R","R","R","R","R","R","R","R","R","R","R","R","R","R","R","R"]
["SS","Using the Navigation Pane and Creating Lists in Word 2016 ","mo_bewo_a06_dt_enus","OLT","Active",null,"NA",null,"R","R","R","R","R","R","R","R","R","R","R","R","R","R","R","R","R","R","R","R","R","R"]
["SS","Customizing Options and Using Document Views in Word 2016 ","mo_bewo_a03_dt_enus","OLT","Active",null,"NA",null,2,2,2,2,2,2,2,2,2,2,2,2,2,2,2,2,2,2,2,2,2,2,2,2,2,2,2,2,2,2,2,2,2]
["SS","Creating and Formatting Tables in Word 2016 ","mo_bewo_a04_dt_enus","OLT","Active",null,"NA",null,2,2,2,2,2,2,2,2,2,2,2,2,2,2,2,2,2,2,2,2,2,2,2,2,2,2,2,2,2,2,2,2,2]
["Human Resource"]
["Conflict Management - The following two courses are available"]
["SS","Preparing for a Difficult Conversation","mgmt_36_a01_bs_enus","OLT","Active",null,"NA","Take this course first.",2,2,2,2,2,2,2,2,2,2,2,2,2,2,2,2,2,2,2,2,2,2,2,2,2,2,2,2,2,2,2,2,2,1,1,1,1,1,1,1,1,1,1,1,1,1,1,1,1,1,1,1,1,1,1,1,1,1,1,1,1,1,1,1,1,1]
["ES","Managing Emotions in the Workplace","Enterprise Services Course\n1/2 Day - $100","ILT","Active",null,"See DES Website","To register for this course, \ncall the LMS Helpdesk at \n360-705-7060.",2,2,2,2,2,2,2,2,2,2,2,2,2,2,2,2,2,2,2,2,2,2,2,2,2,2,2,2,2,2,2,2,2,1,1,1,1,1,1,1,1,1,1,1,1,1,1,1,1,1,1,1,1,1,1,1,1,1,1,1,1,1,1,1,1,1]
["Interpersonal Communications - The following two courses are available"]
["SS","Difficult People: Strategies to Keep Everyone Working Together","comm_46_a03_bs_enus","OLT","Active",null,"NA","Take this course first.",1,1,1,1,1,1,1,1,1,1,1,1,1,1,1,1,1,1,1,1,1,1,1,1,1,1,1,1,1,1,1,1,1,1,1,1,1,1,1,1,1,1,1,1,1,1,1,1,1,1,1,1,1,1,1,1,1,1,1,1,1,1,1,1,1,1]
["ES","Interpersonal Communication Skills","Enterprise Services Course\nTwo Days - $195","ILT","Active",null,"See DES Website","To register for this course, \ncall the LMS Helpdesk at \n360-705-7060.",1,1,1,1,1,1,1,1,1,1,1,1,1,1,1,1,1,1,1,1,1,1,1,1,1,1,1,1,1,1,1,1,1,1,1,1,1,1,1,1,1,1,1,1,1,1,1,1,1,1,1,1,1,1,1,1,1,1,1,1,1,1,1,1,1,1]
["Interpersonal Communications - The following two courses are available"]
["SS","Active Listening Skills for Professionals","comm_43_a03_bs_enus","OLT","Active",null,"NA","Take this course first.",1,1,1,1,1,1,1,1,1,1,1,1,1,1,1,1,1,1,1,1,1,1,1,1,1,1,1,1,1,1,1,1,1,1,1,1,1,1,1,1,1,1,1,1,1,1,1,1,1,1,1,1,1,1,1,1,1,1,1,1,1,1,1,1,1,1]
["ES","Crucial Conversations","Enterprise Services Course\nTwo Days - $450","ILT","Active",null,"See DES Website","To register for this course, \ncall the LMS Helpdesk at \n360-705-7060.",1,1,1,1,1,1,1,1,1,1,1,1,1,1,1,1,1,1,1,1,1,1,1,1,1,1,1,1,1,1,1,1,1,1,1,1,1,1,1,1,1,1,1,1,1,1,1,1,1,1,1,1,1,1,1,1,1,1,1,1,1,1,1,1,1,1]
["Oral Presentation Techniques"]
["ES","Presentation & Training Design & Delivery ","Enterprise Services Course \nTwo Days - $205","ILT","Active",null,"See DES Website","To register for this course, \ncall the LMS Helpdesk at \n360-705-7060.",null,null,null,null,null,null,null,null,null,null,null,null,null,null,null,null,null,null,null,null,null,null,null,null,null,null,null,null,null,null,null,null,null,null,null,null,null,null,null,null,null,null,null,null,2,2,2,2,2,2,2,2,2,2,2,1,1,1,1,1,1,1,1,1,1,1]
["Stress Management -  The following two courses are available"]
["SS","Conflict, Stress, and Time Management","cust_07_a03_bs_enus","OLT","Active",null,"NA","Take this course first.",1,1,1,1,1,1,1,1,1,1,1,1,1,1,1,1,1,1,1,1,1,1,1,1,1,1,1,1,1,1,1,1,1,1,1,1,1,1,1,1,1,1,1,1,1,1,1,1,1,1,1,1,1,1,1,1,1,1,1,1,1,1,1,1,1,1]
["ES","Managing Job Stress","Enterprise Services Course\nOne Day - $135","ILT","Active",null,"See DES Website","To register for this course, \ncall the LMS Helpdesk at \n360-705-7060.",1,1,1,1,1,1,1,1,1,1,1,1,1,1,1,1,1,1,1,1,1,1,1,1,1,1,1,1,1,1,1,1,1,1,1,1,1,1,1,1,1,1,1,1,1,1,1,1,1,1,1,1,1,1,1,1,1,1,1,1,1,1,1,1,1,1]
["Time Management -  The following six courses are available"]
["SS","Getting Time under Control","_pc_ch_pach021","OLT","Active",null,"NA","Take this course before the Enterprise Services course",1,1,1,1,1,1,1,1,1,1,1,1,1,1,1,1,1,1,1,1,1,1,1,1,1,1,1,1,1,1,1,1,1,1,1,1,1,1,1,1,1,1,1,1,1,1,1,1,1,1,1,1,1,1,1,1,1,1,1,1,1,1,1,1,1,1]
["SS","Make the Time You Need: Get Organized","apd_08_a02_bs_enus","OLT","Active",null,"NA","Take this course before the Enterprise Services course",1,1,1,1,1,1,1,1,1,1,1,1,1,1,1,1,1,1,1,1,1,1,1,1,1,1,1,1,1,1,1,1,1,1,1,1,1,1,1,1,1,1,1,1,1,1,1,1,1,1,1,1,1,1,1,1,1,1,1,1,1,1,1,1,1,1]
["SS","Time Management: Too Much to Do and Too Little Time","pd_20_a01_bs_enus","OLT","Active",null,"NA","Take this course before the Enterprise Services course",1,1,1,1,1,1,1,1,1,1,1,1,1,1,1,1,1,1,1,1,1,1,1,1,1,1,1,1,1,1,1,1,1,1,1,1,1,1,1,1,1,1,1,1,1,1,1,1,1,1,1,1,1,1,1,1,1,1,1,1,1,1,1,1,1,1]
["SS","Time Management: Quit Making Excuses and Make Time Instead","pd_20_a02_bs_enus","OLT","Active",null,"NA","Take this course before the Enterprise Services course",1,1,1,1,1,1,1,1,1,1,1,1,1,1,1,1,1,1,1,1,1,1,1,1,1,1,1,1,1,1,1,1,1,1,1,1,1,1,1,1,1,1,1,1,1,1,1,1,1,1,1,1,1,1,1,1,1,1,1,1,1,1,1,1,1,1]
["SS","Time Management: Ready, Set…Focus!","pd_20_a03_bs_enus","OLT","Active",null,"NA","Take this course before the Enterprise Services course",1,1,1,1,1,1,1,1,1,1,1,1,1,1,1,1,1,1,1,1,1,1,1,1,1,1,1,1,1,1,1,1,1,1,1,1,1,1,1,1,1,1,1,1,1,1,1,1,1,1,1,1,1,1,1,1,1,1,1,1,1,1,1,1,1,1]
["ES","Time Management","Enterprise Services Course\nOne Day - $135","ILT","Active",null,"See DES Website","To register for this course, \ncall the LMS Helpdesk at \n360-705-7060.",1,1,1,1,1,1,1,1,1,1,1,1,1,1,1,1,1,1,1,1,1,1,1,1,1,1,1,1,1,1,1,1,1,1,1,1,1,1,1,1,1,1,1,1,1,1,1,1,1,1,1,1,1,1,1,1,1,1,1,1,1,1,1,1,1,1]
["Technical Writing -  The following five courses are available"]
["SS","Improving Your Technical Writing Skills","acm_06_a01_it_enus","OLT","Active",null,"NA",null,2,null,2,2,2,2,2,2,2,2,2,2,null,2,2,2,2,2,2,2,2,2,2,null,2,2,2,2,2,2,2,2,2,2,null,2,2,2,2,2,2,2,2,2,1,null,1,null,1,null,null,null,null,1,1,1,null,1,null,1,null,null,null,null,1,1]
["SS","Writing for Technical Professionals: Effective Writing Techniques","ib_wstp_a02_it_enus","OLT","Active",null,"NA",null,2,null,2,2,2,2,2,2,2,2,2,2,null,2,2,2,2,2,2,2,2,2,2,null,2,2,2,2,2,2,2,2,2,2,null,2,2,2,2,2,2,2,2,2,1,null,1,null,1,null,null,null,null,1,1,1,null,1,null,1,null,null,null,null,1,1]
["SS","Writing for Technical Professionals: Preparation and Planning","ib_wstp_a01_it_enus","OLT","Active",null,"NA",null,2,null,2,2,2,2,2,2,2,2,2,2,null,2,2,2,2,2,2,2,2,2,2,null,2,2,2,2,2,2,2,2,2,2,null,2,2,2,2,2,2,2,2,2,1,null,1,null,1,null,null,null,null,1,1,1,null,1,null,1,null,null,null,null,1,1]
["ES","Technical Writing: Tricks of the Trade","Enterprise Services Course\nTwo Day Course - $185","ILT","Active",null,"See DES Website","To register for this course, call the LMS Helpdesk at \n360-705-7060.",2,null,2,2,2,2,2,2,2,2,2,2,null,2,2,2,2,2,2,2,2,2,2,null,2,2,2,2,2,2,2,2,2,2,null,2,2,2,2,2,2,2,2,2,1,null,1,null,1,null,null,null,null,1,1,1,null,1,null,1,null,null,null,null,1,1]
["ES","Writing Skills","Enterprise Services Course\nOne Day - $145","ILT","Active",null,"See DES Website","To register for this course, \ncall the LMS Helpdesk at \n360-705-7060.",2,null,2,2,2,2,2,2,2,2,2,2,null,2,2,2,2,2,2,2,2,2,2,null,2,2,2,2,2,2,2,2,2,2,null,2,2,2,2,2,2,2,2,2,1,null,1,null,1,null,null,null,null,1,1,1,null,1,null,1,null,null,null,null,1,1]
["Effective Meeting Management -  The following six courses are available"]
["SS","Dealing with Common Meeting Problems","comm_32_a03_bs_enus","OLT","Active",null,"NA",null,null,null,null,null,null,null,null,null,null,null,null,null,null,null,null,null,null,null,null,null,null,null,null,null,null,null,null,null,null,null,null,null,null,null,null,null,null,null,null,null,null,null,null,null,2,null,2,null,2,null,null,null,null,2,2,1,null,1,null,1,null,null,null,null,1,1]
["SS","Preparing for Effective Business Meetings","comm_32_a01_bs_enus","OLT","Active",null,"NA",null,null,null,null,null,null,null,null,null,null,null,null,null,null,null,null,null,null,null,null,null,null,null,null,null,null,null,null,null,null,null,null,null,null,null,null,null,null,null,null,null,null,null,null,null,2,null,2,null,2,null,null,null,null,2,2,1,null,1,null,1,null,null,null,null,1,1]
["SS","Planning Meetings Fit for Purpose","comm_50_a01_bs_enus","OLT","Active",null,"NA",null,null,null,null,null,null,null,null,null,null,null,null,null,null,null,null,null,null,null,null,null,null,null,null,null,null,null,null,null,null,null,null,null,null,null,null,null,null,null,null,null,null,null,null,null,2,null,2,null,2,null,null,null,null,2,2,1,null,1,null,1,null,null,null,null,1,1]
["SS","Managing Effective Business Meetings","comm_32_a02_bs_enus","OLT","Active",null,"NA",null,null,null,null,null,null,null,null,null,null,null,null,null,null,null,null,null,null,null,null,null,null,null,null,null,null,null,null,null,null,null,null,null,null,null,null,null,null,null,null,null,null,null,null,null,2,null,2,null,2,null,null,null,null,2,2,1,null,1,null,1,null,null,null,null,1,1]
["SS","Running Meetings in Better Directions","comm_50_a02_bs_enus","OLT","Active",null,"NA",null,null,null,null,null,null,null,null,null,null,null,null,null,null,null,null,null,null,null,null,null,null,null,null,null,null,null,null,null,null,null,null,null,null,null,null,null,null,null,null,null,null,null,null,null,2,null,2,null,2,null,null,null,null,2,2,1,null,1,null,1,null,null,null,null,1,1]
["ES","Effective Meeting Management  (or one of the following five SkillSoft)","Enterprise Services Course\nOne Day - $165","ILT","Active",null,"See DES Website","To register for this course, call the LMS Helpdesk at \n360-705-7060.",null,null,null,null,null,null,null,null,null,null,null,null,null,null,null,null,null,null,null,null,null,null,null,null,null,null,null,null,null,null,null,null,null,null,null,null,null,null,null,null,null,null,null,null,2,null,2,null,2,null,null,null,null,2,2,1,null,1,null,1,null,null,null,null,1,1]
["Enhanced Leadership for WSDOT"]
["ES","Leading Teams","Enterprise Services Course\nThree Days - $500","ILT","Active",null,"See DES Website","To register for this course, \ncall the LMS Helpdesk at \n360-705-7060.",null,null,null,null,null,null,null,null,null,null,null,null,null,null,null,null,null,null,null,null,null,null,null,null,null,null,null,null,null,null,null,null,null,null,null,null,null,null,null,null,null,null,null,null,null,null,null,null,null,null,null,null,null,null,null,2,2,2,2,2,2,2,2,2,2,2]
["Entry Management Development"]
["ES","Leading Others","Enterprise Services Course\nFour Days - $500","ILT","Active",null,"See DES Website","To register for this course, \ncall the LMS Helpdesk at \n360-705-7060.",null,null,null,null,null,null,null,null,null,null,null,null,null,null,null,null,null,null,null,null,null,null,null,null,null,null,null,null,null,null,null,null,null,null,null,null,null,null,null,null,null,null,null,null,2,2,2,2,2,2,2,2,2,2,2,1,1,1,1,1,1,1,1,1,1,1]
["ES","Supervision Essentials-Phase II (Prerequisite is Leading Others)","Enterprise Services Course\nTwo Days - $285","ILT","Active",null,"See DES Website","To register for this course, \ncall the LMS Helpdesk at \n360-705-7060.",null,null,null,null,null,null,null,null,null,null,null,null,null,null,null,null,null,null,null,null,null,null,null,null,null,null,null,null,null,null,null,null,null,null,null,null,null,null,null,null,null,null,null,null,null,null,null,null,null,null,null,null,null,null,null,2,2,2,2,2,2,2,2,2,2,2]
["Safety"]
["SAFE","WSDOT SAFE: FALL PROTECTION","WSDOT_BN9","ILT","Active",null,"TBD",null,null,1,2,1,2,null,2,2,2,null,null,null,1,2,1,2,null,2,2,2,null,null,null,1,2,1,2,null,2,2,2,null,null,null,1,2,1,2,null,2,2,2,null,null,null,1,2,1,null,null,null,null,null,null,null,null,1,2,1]
["SAFE","WSDOT SAFE: FIRST AID","WSDOT_APS","ILT","Active",null,"TBD",null,"R","R","R","R","R","R","R","R","R","R","R","R","R","R","R","R","R","R","R","R","R","R",1,1,1,1,1,1,1,1,1,1,1,1,1,1,1,1,1,1,1,1,1,1,1,1,1,1,1,1,1,1,1,1,1,1,1,1,1,1,1,1,1,1,1,1]
["SAFE","WSDOT SAFE: FLAGGING, TRAFFIC CONTROL","WSDOT_AFZ","ILT","Active",null,"TBD",null,"R","R","R","R","R","R","R","R","R","R","R","R","R","R","R","R","R","R","R","R","R","R",1,1,1,1,1,1,1,1,1,1,1,1,1,1,1,1,1,1,1,1,1,1,2,1,1,1,null,null,null,null,null,null,null,2,2,2,1]
["SAFE","WSDOT SAFE: HAZARD COMMUNICATION STANDARD (HCS)","WSDOT_AEX","ILT","Active",null,"TBD",null,2,1,2,1,2,2,2,2,2,2,2,2,1,2,1,2,2,2,2,2,2,2,2,1,2,1,2,2,2,2,2,2,2,2,1,2,1,2,2,2,2,2,2,2,2,1,2,1,2,2,2,2,2,2,2,2,1,2,1,2,2,2,2,2,2,2]
["SAFE","WSDOT SAFE: HEARING CONSERVATION (ILT, and/or Self-Study)","WSDOT_ATS","OLT/ILT","Active",null,"TBD",null,"R","R","R","R","R","R","R","R","R","R","R","R","R","R","R","R","R","R","R","R","R","R",2,1,2,1,2,1,2,2,1,2,2,2,1,2,1,2,1,2,2,1,2,2,2,1,2,1,2,1,2,2,1,2,2,2,1,2,1,2,1,2,2,1,2,2]
["SAFE","WSDOT SAFE: RESPIRATOR PROTECTION TRAINING","WSDOT_ARZ","ILT","Active",null,"TBD",null,null,2,null,2,null,1,null,1,null,null,null,null,2,null,2,null,1,null,1,null,null,null,null,2,null,2,null,1,null,1,null,null,null,null,2,null,2,null,1,null,1,null,null,null,null,2,null,2,null,1,null,1,null,null,null,null,2,null,2,null,1,null,1]
["Construction Division"]
["CN","WSDOT CN: AGGREGATE PRODUCTION & TESTING INSPECTION","WSDOT_ACA","ILT","Active",null,null,null,null,null,null,null,null,1,null,null,null,null,null,null,null,null,null,null,1,null,null,null,null,null,null,null,null,null,null,1,null,null,null,null,null,null,null,null,null,null,1]
["CN","WSDOT CN: BITUMINOUS SURFACE TREATMENT INSPECTION","WSDOT_CN_BST_ACC","ILT","Active",null,null,null,null,2,null,null,null,1,null,null,null,null,null,null,2,null,null,null,1,null,null,null,null,null,null,2,null,null,null,1,null,null,null,null,null,null,2,null,null,null,1,null,null,null,null,null,null,2,null,null,null,null,null,null,null,null,null,null,2]
["CN","WSDOT CN: ACCEPTANCE AND APPROVAL OF MATERIAL","WSDOT_CN_Acceptance_Material_CX8_OLT","OLT","Active",null,null,null,null,1,2,null,null,null,null,null,null,null,null,null,1,2,null,null,null,null,null,null,null,null,null,1,2,null,null,null,null,null,null,null,null,null,1,2,null,null,null,null,null,null,null,null,null,1,null,null,null,null,null,null,null,null,null,null,2]
["CN","WSDOT CN: COMPOSING AN INSPECTOR'S DAILY REPORT","WSDOT_CZ9_OLT","OLT","Active",null,null,null,null,1,2,null,null,null,null,null,null,null,null,null,1,2,null,null,null,null,null,null,null,null,null,1,2,null,null,null,null,null,null,null,null,null,1,2,null,null,null,null,null,null,null,null,null,1,2]
["CN","WSDOT CN: INSPECTING BRIDGE CONSTRUCTION","WSDOT_ACM","ILT","Active",null,null,null,null,2,null,null,null,null,null,null,null,null,null,null,2,null,null,null,null,null,null,null,null,null,null,2,null,null,null,null,null,null,null,null,null,null,2,null,null,null,null,null,null,null,null,null,null,2,null,null,null,null,null,null,null,null,null,null,2]
["CN","WSDOT CN: CONSTRUCTION INSPECTION DOCUMENTATION","WSDOT_ACY","ILT","Active",null,null,null,null,1,2,null,null,null,null,null,null,null,null,null,1,2,null,null,null,null,null,null,null,null,null,1,2,null,null,null,null,null,null,null,null,null,1,2,null,null,null,null,null,null,null,null,null,1,2,null,null,null,null,null,null,null,null,null,1]
["CN","WSDOT CN:CONSTRUCTION MATERIALS, APPROVAL AND ACCEPTANCE","WSDOT_DAP","ILT","Active",null,null,null,null,1,2,null,null,null,null,null,null,null,null,null,1,2,null,null,null,null,null,null,null,null,null,1,2,null,null,null,null,null,null,null,null,null,1,2,null,null,null,null,null,null,null,null,null,1,2,null,null,null,null,null,null,null,null,null,1]
["CN","WSDOT CN: DRAINAGE INSPECTION","WSDOT_ACF","ILT","Active",null,null,null,null,2,null,null,null,null,null,null,null,null,null,null,2,null,null,null,null,null,null,null,null,null,null,2,null,null,null,null,null,null,null,null,null,null,2,null,null,null,null,null,null,null,null,null,null,2,null,null,null,null,null,null,null,null,null,null,2]
["CN","WSDOT CN: EARTHWORK INSPECTION","WSDOT_Earthwork_OLT","OLT","Active",null,null,null,null,2,null,null,null,null,null,null,null,null,null,null,2,null,null,null,null,null,null,null,null,null,null,2,null,null,null,null,null,null,null,null,null,null,2,null,null,null,null,null,null,null,null,null,null,2,null,null,null,null,null,null,null,null,null,null,2]
["CN","WSDOT CN: ELECTRICAL CONDUCTORS AND FIBER for ICP","WSDOT_ICP_Electrical_Conductors_Fiber_OLT","OLT","Active",null,null,null,null,null,2,null,null,null,null,null,null,null,null,null,null,2,null,null,null,null,null,null,null,null,null,null,2,null,null,null,null,null,null,null,null,null,null,2,null,null,null,null,null,null,null,null,null,null,2]
["CN","WSDOT CN: ELECTRICAL-ILLUMINATION-SIGNALS & ITS INSPECTION","WSDOT_API","ILT","Active",null,null,null,null,null,2,null,null,null,null,null,null,null,null,null,null,2,null,null,null,null,null,null,null,null,null,null,2,null,null,null,null,null,null,null,null,null,null,2,null,null,null,null,null,null,null,null,null,null,2]
["CN","WSDOT CN: EXCAVATION & EMBANKMENTS INSPECTION","WSDOT_AC3","ILT","Active",null,null,null,null,1,null,null,null,null,null,null,null,null,null,null,1,null,null,null,null,null,null,null,null,null,null,1,null,null,null,null,null,null,null,null,null,null,1,null,null,null,null,null,null,null,null,null,null,1,null,null,null,null,null,null,null,null,null,null,2]
["CN","WSDOT CN: FIELD PAINTING STRUCTURAL STEEL","WSDOT_CN_Field_Painting_OLT","OLT","Active"]
["CN","WSDOT CN: FORCE ACCOUNT DOCUMENTATION AND PAYMENT","WSDOT_CN_ForceAccount_DG2_OLT","OLT","Active",null,null,null,null,1,2,null,null,null,null,null,null,null,null,null,1,2,null,null,null,null,null,null,null,null,null,1,2,null,null,null,null,null,null,null,null,null,1,2,null,null,null,null,null,null,null,null,null,1,2,null,null,null,null,null,null,null,null,null,2]
["CN","WSDOT CN: FORMS AND FALSEWORK for ICP","WSDOT_ICP_Forms and Falsework_OLT","OLT","Active",null,null,null,null,2,null,null,null,null,null,null,null,null,null,null,2,null,null,null,null,null,null,null,null,null,null,2,null,null,null,null,null,null,null,null,null,null,2,null,null,null,null,null,null,null,null,null,null,2,null,null,null,null,null,null,null,null,null,null,2]
["CN","WSDOT CN: GUARDRAIL INSTALLATION FOR INSPECTORS","WSDOT_DD4","ILT","Active",null,null,null,null,2,null,null,null,null,null,null,null,null,null,null,2,null,null,null,null,null,null,null,null,null,null,2,null,null,null,null,null,null,null,null,null,null,2,null,null,null,null,null,null,null,null,null,null,2,null,null,null,null,null,null,null,null,null,null,2]
["CN","WSDOT CN: HAZMAT FOR THE PORTABLE NUCLEAR GAUGE","WSDOT Hazmat_for_Transportation_of_the_Nuclear_Gauge_ORG","OLT","Active",null,null,null,null,2,null,null,null,null,null,null,null,null,null,null,2,null,null,null,null,null,null,null,null,null,null,2,null,null,null,null,null,null,null,null,null,null,2,null,null,null,null,null,null,null,null,null,null,2]
["CN","WSDOT CN: HMA PLACEMENT INSPECTION","WSDOT_HMAPlacement_OLT","OLT","Active",null,null,null,null,2,null,null,null,null,null,null,null,null,null,null,2,null,null,null,null,null,null,null,null,null,null,2,null,null,null,null,null,null,null,null,null,null,2,null,null,null,null,null,null,null,null,null,null,2,null,null,null,null,null,null,null,null,null,null,2]
["CN","WSDOT CN: HOT MIX ASPHALT PLACEMENT","WSDOT_ACB","ILT","Active",null,null,null,null,2,null,null,null,null,null,null,null,null,null,null,2,null,null,null,null,null,null,null,null,null,null,2,null,null,null,null,null,null,null,null,null,null,2,null,null,null,null,null,null,null,null,null,null,2,null,null,null,null,null,null,null,null,null,null,2]
["CN","WSDOT CN: HOT MIX ASPHALT PRODUCTION & TESTING","WSDOT_BG9","ILT","Active",null,null,null,null,2,null,null,null,null,null,null,null,null,null,null,2,null,null,null,null,null,null,null,null,null,null,2,null,null,null,null,null,null,null,null,null,null,2]
["CN","WSDOT CN: INSPECTING BRIDGE CONSTRUCTION","WSDOT_ACM","ILT","Active",null,null,null,null,2,null,null,null,null,null,null,null,null,null,null,2,null,null,null,null,null,null,null,null,null,null,2,null,null,null,null,null,null,null,null,null,null,2,null,null,null,null,null,null,null,null,null,null,2,null,null,null,null,null,null,null,null,null,null,2]
["CN","WSDOT CN: INSPECTION OF PEDESTRIAN FACILITIES","WSDOT_IFP_OLT","OLT","Active",null,null,null,2,2,2,2,null,null,null,null,null,null,null,2,2,2,2,null,null,null,null,null,null,null,2,2,2,2,null,null,null,null,null,null,null,2,2,2,2,null,null,null,null,null,null,null,2,2,2]
["CN","WSDOT CN: INSPECTOR'S ROLE FOR CHANGE ORDER WORK","WSDOT_DH9_OLT","OLT","Active",null,null,null,null,1,2,null,null,null,null,null,null,null,null,null,1,2,null,null,null,null,null,null,null,null,null,1,2,null,null,null,null,null,null,null,null,null,1,2,null,null,null,null,null,null,null,null,null,1,2,null,null,null,null,null,null,null,null,null,2]
["CN","WSDOT CN:INSPECTOR’S USE OF CONTRACT RESOURCES","WSDOT_UR1_OLT","OLT","Active",null,null,null,null,1,2,null,null,null,null,null,null,null,null,null,1,2,null,null,null,null,null,null,null,null,null,1,2,null,null,null,null,null,null,null,null,null,1,2,null,null,null,null,null,null,null,null,null,1,2,null,null,null,null,null,null,null,null,null,2]
["CN","WSDOT CN: NHI CONTRACT ADMINISTRATION CORE CURRICULUM","WSDOT_NHI CONTRACT ADM","ILT","Active"]
["CN","WSDOT CN:NUCLEAR GAUGE SAFETY AND OPERATION","WSDOT_DCX_OLT","ILT","Active",null,null,null,null,2,null,null,null,null,null,null,null,null,null,null,2,null,null,null,null,null,null,null,null,null,null,2,null,null,null,null,null,null,null,null,null,null,2]
["CN","WSDOT CN: NUCLEAR GAUGE, EMBANKMENT/SURFACING/PAVEMENT APPLICATIONS","WSDOT_ANQ","ILT","Active",null,null,null,null,2,null,null,null,null,null,null,null,null,null,null,2,null,null,null,null,null,null,null,null,null,null,2,null,null,null,null,null,null,null,null,null,null,2]
["CN","WSDOT CN: PAVEMENT REHABILITATION","WSDOT_BQL","ILT","Active"]
["CN","WSDOT CN: PCC FIELD TESTING PROCEDURES","WSDOT_ABT","ILT","Active"]
["CN","WSDOT CN: PILE DRIVING INSPECTION","Piling_OLT","OLT","Active"]
["CN","WSDOT CN: PORTLAND CEMENT CONCRETE INSPECTION","WSDOT_PCC_OLT","OLT","Active",null,null,null,null,2,null,null,null,null,null,null,null,null,null,null,2,null,null,null,null,null,null,null,null,null,null,2,null,null,null,null,null,null,null,null,null,null,2,null,null,null,null,null,null,null,null,null,null,2,null,null,null,null,null,null,null,null,null,null,2]
["CN","WSDOT CN: PRODUCING SOURCE DOCUMENTS","WSDOT_C1H_OLT","OLT","Active",null,null,null,null,null,null,null,null,null,null,null,null,null,null,null,null,null,null,null,null,null,null,null,null,null,null,null,null,null,null,null,null,null,null,null,null,null,null,null,null,null,null,null,null,null,null,null,null,2]
["CN","WSDOT CN: SIGN BRIDGES AND CANTILEVER SIGNS","WSDOT_SBI_OLT","OLT","Active",null,null,null,null,2,2,null,null,null,null,null,null,null,null,null,2,2,null,null,null,null,null,null,null,null,null,2,2,null,null,null,null,null,null,null,null,null,2,2,null,null,null,null,null,null,null,null,null,2,2,null,null,null,null,null,null,null,null,null,2]
["CN","WSDOT CN: SIGN INSPECTOR DUTIES","WSDOT_SID_OLT","OLT","Active",null,null,null,null,null,2,null,null,null,null,null,null,null,null,null,null,2,null,null,null,null,null,null,null,null,null,null,2,null,null,null,null,null,null,null,null,null,null,2,null,null,null,null,null,null,null,null,null,null,2]
["CN","WSDOT CN: SIGN INSTALLATION INSPECTION","WSDOT_DFV","ILT","Active",null,null,null,null,null,2,null,null,null,null,null,null,null,null,null,null,2,null,null,null,null,null,null,null,null,null,null,2,null,null,null,null,null,null,null,null,null,null,2,null,null,null,null,null,null,null,null,null,null,2]
["CN","WSDOT CN: SMALL AND LARGE SIGN INSPECTION REVIEW","WSDOT_SLR_OLT","OLT","Active",null,null,null,null,2,2,null,null,null,null,null,null,null,null,null,2,2,null,null,null,null,null,null,null,null,null,2,2,null,null,null,null,null,null,null,null,null,2,2,null,null,null,null,null,null,null,null,null,2,2,null,null,null,null,null,null,null,null,null,2]
["CN","WSDOT CN: WORK ZONE TRAFFIC CONTROL","WSDOT_WZTC_OLT","OLT","Active",null,null,null,null,1,1,null,null,null,null,null,null,null,null,null,1,1,null,null,null,null,null,null,null,null,null,1,1,null,null,null,null,null,null,null,null,null,1,1,null,null,null,null,null,null,null,null,null,1,1,null,null,null,null,null,null,null,null,null,1]
["CN","WSDOT DB: ALTERNATIVE TECHNICAL CONCEPT (ATC) REVIEW PROCESS","WSDOT_DB_ATC","ILT","Active",null,null,null,null,null,null,null,null,null,null,null,null,null,null,null,null,null,null,null,null,null,null,null,null,null,null,null,null,null,null,null,null,null,null,null,null,null,null,null,null,null,null,null,null,null,null,null,null,null,null,null,null,null,null,null,null,null,null,1,1]
["CN","WSDOT DB: INTRODUCTION TO DESIGN-BUILD","WSDOT_DB_IDB","ILT","Active",null,null,null,null,null,null,null,null,null,null,null,null,null,null,null,null,null,null,null,null,null,null,null,null,null,null,null,null,null,null,null,null,null,null,null,null,null,null,null,null,null,null,null,null,null,null,null,"M","M",null,null,null,null,null,null,null,null,null,"M","M"]
["CN","WSDOT DB: DESIGN-BUILD BEST PRACTICES IN TRANSPORTATION","WSDOT_DB_BPT","ILT","Active",null,null,null,null,null,null,null,null,null,null,null,null,null,null,null,null,null,null,null,null,null,null,null,null,null,null,null,null,null,null,null,null,null,null,null,null,null,null,null,null,null,null,null,null,null,null,null,null,null,null,null,null,null,null,null,null,null,null,1,1]
["CN","WSDOT DB: DESIGN-BUILD CLOSEOUT","WSDOT_DB_CO","ILT","Active",null,null,null,null,null,null,null,null,null,null,null,null,null,null,null,null,null,null,null,null,null,null,null,null,null,null,null,null,null,null,null,null,null,null,null,null,null,null,null,null,null,null,null,null,null,null,null,null,null,null,null,null,null,null,null,null,null,null,1,1]
["CN","WSDOT DB: DESIGN-BUILD INSTRUCTIONS TO PROPOSERS (ITP) AND REQUEST FOR PROPOSALS (RFP)","WSDOT_DB_ITP_RFP","ILT","Active",null,null,null,null,null,null,null,null,null,null,null,null,null,null,null,null,null,null,null,null,null,null,null,null,null,null,null,null,null,null,null,null,null,null,null,null,null,null,null,null,null,null,null,null,null,null,null,null,null,null,null,null,null,null,null,null,null,null,1,1]
["CN","WSDOT DB: DESIGN-BUILD OFFICE MANAGEMENT AND CONTRACT ADMINISTRATION","WSDOT_DB_CA","ILT","Active",null,null,null,null,null,null,null,null,null,null,null,null,null,null,null,null,null,null,null,null,null,null,null,null,null,null,null,null,null,null,null,null,null,null,null,null,null,null,null,null,null,null,null,null,null,null,null,null,null,null,null,null,null,null,null,null,null,null,1,1]
["CN","WSDOT DB: DESIGN-BUILD STARTUP AND REQUEST FOR QUALIFICATIONS (RFQ\") DEVELOPMENT","WSDOT_DB_RFQ","ILT","Active",null,null,null,null,null,null,null,null,null,null,null,null,null,null,null,null,null,null,null,null,null,null,null,null,null,null,null,null,null,null,null,null,null,null,null,null,null,null,null,null,null,null,null,null,null,null,null,null,null,null,null,null,null,null,null,null,null,null,1,1]
["CN","WSDOT DB: ENVIRONMENTAL IN DESIGN-BUILD","WSDOT_DB_E","ILT","Active",null,null,null,null,null,null,null,null,null,null,null,null,null,null,null,null,null,null,null,null,null,null,null,null,null,null,null,null,null,null,null,null,null,null,null,null,null,null,null,null,null,null,null,null,null,null,null,null,null,null,null,null,null,null,null,null,null,null,1,1]
["CN","WSDOT DB: LESSONS LEARNED","WSDOT_DB_LL","ILT","Active",null,null,null,null,null,null,null,null,null,null,null,null,null,null,null,null,null,null,null,null,null,null,null,null,null,null,null,null,null,null,null,null,null,null,null,null,null,null,null,null,null,null,null,null,null,null,null,null,null,null,null,null,null,null,null,null,null,null,1,1]
["CN","WSDOT DB: PROPOSAL EVALUATION","WSDOT_DB_PE","ILT","Active",null,null,null,null,null,null,null,null,null,null,null,null,null,null,null,null,null,null,null,null,null,null,null,null,null,null,null,null,null,null,null,null,null,null,null,null,null,null,null,null,null,null,null,null,null,null,null,null,null,null,null,null,null,null,null,null,null,null,1,1]
["CN","WSDOT DB: QUALITY IN DESIGN-BUILD","WSDOT_DB_Q","ILT","Active",null,null,null,null,null,null,null,null,null,null,null,null,null,null,null,null,null,null,null,null,null,null,null,null,null,null,null,null,null,null,null,null,null,null,null,null,null,null,null,null,null,null,null,null,null,null,null,null,null,null,null,null,null,null,null,null,null,null,1,1]
["CN","WSDOT DB: STATEMENT OF QUALIFICATIONS (SOQ) EVALUATION","WSDOT_DB_SOQE","ILT","Active",null,null,null,null,null,null,null,null,null,null,null,null,null,null,null,null,null,null,null,null,null,null,null,null,null,null,null,null,null,null,null,null,null,null,null,null,null,null,null,null,null,null,null,null,null,null,null,null,null,null,null,null,null,null,null,null,null,null,1,1]
["CN","**WSDOT DB: EVALUATION",null,"ILT","Under Development","Q1 2019",null,null,null,null,null,null,null,null,null,null,null,null,null,null,null,null,null,null,null,null,null,null,null,null,null,null,null,null,null,null,null,null,null,null,null,null,null,null,null,null,null,null,null,null,null,null,null,null,null,null,null,null,null,null,null,null,null,1,1]
["CN","WSDOT DB: DESIGN-BUILD INVOICE PROCESSING",null,"ILT","Active",null,null,null,null,null,null,null,null,null,null,null,null,null,null,null,null,null,null,null,null,null,null,null,null,null,null,null,null,null,null,null,null,null,null,null,null,null,null,null,null,null,null,null,null,null,null,null,null,null,null,null,null,null,null,null,null,null,null,1,1]
["CN","WSDOT DB: INTERNAL AND EXTERNAL DEBRIEFING",null,"ILT","Active",null,null,null,null,null,null,null,null,null,null,null,null,null,null,null,null,null,null,null,null,null,null,null,null,null,null,null,null,null,null,null,null,null,null,null,null,null,null,null,null,null,null,null,null,null,null,null,null,null,null,null,null,null,null,null,null,null,null,1,1]
["CN","WSDOT DB: DESIGN-BUILD QUALITY VERIFICATION",null,"ILT","Active",null,null,null,null,null,null,null,null,null,null,null,null,null,null,null,null,null,null,null,null,null,null,null,null,null,null,null,null,null,null,null,null,null,null,null,null,null,null,null,null,null,null,null,null,null,null,null,null,null,null,null,null,null,null,null,null,null,null,1,1]
["CN","**WSDOT DB: QV ADMINISTRATION",null,"ILT","Under Development","Q1 2019",null,null,null,null,null,null,null,null,null,null,null,null,null,null,null,null,null,null,null,null,null,null,null,null,null,null,null,null,null,null,null,null,null,null,null,null,null,null,null,null,null,null,null,null,null,null,null,null,null,null,null,null,null,null,null,null,null,1,1]
["CN","**WSDOT DB: RISK ANALYSIS AND ALLOCATION FOR DB CONTRACTS",null,"ILT","Under Development","Q1 2019",null,null,null,null,null,null,null,null,null,null,null,null,null,null,null,null,null,null,null,null,null,null,null,null,null,null,null,null,null,null,null,null,null,null,null,null,null,null,null,null,null,null,null,null,null,null,null,null,null,null,null,null,null,null,null,null,null,1,1]
["Development Division"]
["Design"]
["DES","CONTRACT PLANS REVIEW (SELF-STUDY)","Paper and Pencil","SS","Active",null,"NA","E-Learning option as well.  Updated in 2013.","R","R","R","R","R","R","R","R","R","R","R","R","R","R","R","R","R","R","R","R","R","R",1,1,1,1,1,1,1,1,1,1,1,1,1,1,1,1,1,1,1,1,1,1]
["DES","CONTRACT PLANS READING (SELF-STUDY)","Paper and Pencil","SS","Active",null,"NA","Obtain material through Staff Development.","R","R","R","R","R","R","R","R","R","R","R","R","R","R","R","R","R","R","R","R","R","R",1,1,1,1,1,1,1,1,1,1,1,1,1,1,1,1,1,1,1,1,1,1]
["DES","WSDOT DES: CONTRACT PLANS & ESTIMATE PREPARATION","WSDOT_A4J","ILT","Inactive","None","TBD",null,1,null,2,null,null,null,null,null,null,2,null,1,null,2,null,null,null,null,null,null,2,null,1,null,2,null,null,null,null,null,null,2,null,1,null,2,null,null,null,null,null,null,2,null,1,null,2,null,null,null,null,null,null,2,null,2,null,2,null,null,null,null,null,null,null,2]
["DES","WSDOT DES: CONTRACT PROVISION PREPARATION","WSDOT_BGN","ILT","Inactive","None","TBD",null,2,null,2,null,null,null,null,null,null,2,null,2,null,2,null,null,null,null,null,null,2,null,2,null,2,null,null,null,null,null,null,2,null,1,null,2,null,null,null,null,null,null,2,null,1,null,2,null,2,null,null,null,null,null,null,2,null,2]
["DES","WSDOT DESIGN DOCUMENTATION","WSDOT DES: Design Documentation","ILT","Active",null,null,"Contact ASDE; course material is at https://www.wsdot.wa.gov/Design/Support.htm.",1,null,2,null,2,null,null,null,null,null,null,1,null,2,null,2,null,null,null,null,null,null,1,null,2,null,2,null,null,null,null,null,null,1,null,2,null,2,null,null,null,null,null,null,1,null,2,null,2,null,null,null,null,null,null,2,null,2]
["DES","WSDOT DES: INTERSECTION DESIGN","WSDOT_CBD","ILT","Active",null,null,"Course  updated in 2019,  delivered to all regions; class delivered by request.",2,null,2,null,null,null,null,null,null,null,null,2,null,2,null,null,null,null,null,null,null,null,2,null,2,null,null,null,null,null,null,null,null,1,null,2,null,null,null,null,null,null,null,null,1,null,2,null,null,null,null,null,null,null,null,2,null,1]
["DES","WSDOT DES: PROJECT DEVELOPMENT PROCESS","WSDOT_CF4","ILT","Active","None",null,"Updated January 2020; will deliver to regions by 6/30/2021",2,null,2,null,2,null,null,null,null,2,2,2,null,2,null,2,null,null,null,null,2,2,2,null,2,null,2,null,null,null,null,2,2,1,null,1,null,1,null,null,null,null,1,1,1,null,2,null,2]
["DES","WSDOT PM: SCHEDULING BASICS","WSDOT_CB5","ILT","Inactive","None","TBD",null,1,null,2,null,2,null,2,null,null,2,2,1,null,2,null,2,null,2,null,null,2,2,1,null,2,null,2,null,2,null,null,2,2,1,null,2,null,2,null,2,null,null,2,2,1,null,2,null,2,null,2,null,null,2,2,1,null,1,null,null,null,null,null,null,2,2]
["DES","AASHTO T3 CPM SCHEDULING","Resources:\nCPM Scheduling (2 PDHs)\nCPM Scheduling (3 PDHs)","OLT","Active",null,null,"The online CPM training is free for WSDOT employees. To sign up, create an AASHTO account (use your WSDOT email address for the username) then navigate to the CPM training and add it to your cart. Follow the instructions that are emailed to you. There are a variety of other courses available to WSDOT employees at no cost."]
["DES","WSDOT DES: RIGHT OF WAY PLANS PREPARATION","WSDOT_BCN","ILT","Inactive","None","TBD",null,1,null,null,2,null,null,null,null,null,null,null,1,null,null,2,null,null,null,null,null,null,null,1,null,null,2,null,null,null,null,null,null,null,1,null,null,2,null,null,null,null,null,null,null,1,null,null,2,null,null,null,null,null,null,null,2]
["DES","WSDOT DES: ROADSIDE SAFETY","WSDOT_B74","ILT","Inactive","None","TBD",null,1,2,2,null,null,null,null,null,null,null,null,1,2,2,null,null,null,null,null,null,null,null,1,2,2,null,null,null,null,null,null,null,null,1,2,2,null,null,null,null,null,null,null,null,1,2,2,null,null,null,null,null,null,null,null,2,null,1]
["DES","WSDOT DES: ROADWAY GEOMETRIC DESIGN","WSDOT_BWE","ILT","Inactive","None","TBD",null,1,null,2,2,null,null,null,null,null,2,2,1,null,2,2,null,null,null,null,null,2,2,1,null,2,2,null,null,null,null,null,2,2,1,null,2,2,null,null,null,null,null,2,2,1,null,2,2,null,null,null,null,null,2,2,2,null,1]
["DES","WSDOT DES: INTERCHANGE DESIGN","WSDOT_CFU","ILT","Inactive","None",null,"FHWA delivered their interchange training at WSDOT in 2019; course delivery depends on demand.",2,null,2,null,null,null,null,null,null,null,null,2,null,2,null,null,null,null,null,null,null,null,2,null,2,null,null,null,null,null,null,null,null,2,null,2,null,null,null,null,null,null,null,null,1,null,2,null,null,null,null,null,null,null,null,2,null,2]
["DES","WSDOT DES: ACCESS MANAGEMENT","WSDOT_DAS","ILT","Active",null,"Every other year or by request","Being updated, but current class can be given at any time",2,null,null,null,null,null,null,null,null,2,null,2,null,null,null,null,null,null,null,null,2,null,2,null,null,null,null,null,null,null,null,2,null,2,null,null,null,null,null,null,null,null,2,null,2,null,2,null,null,null,null,null,null,2,null,null,null,1]
["DES","ALTERNATIVES COMPARISON WORKSHOP","None","ILT","Inactive","None","TBD",null,1,null,2,null,2,null,null,null,null,1,2,1,null,2,null,2,null,null,null,null,1,2,1,null,2,null,2,null,null,null,null,1,2,1,null,2,null,2,null,null,null,null,1,2,1,null,1,null,1,null,null,null,null,1,2,1,null,1,null,2]
["DES","WSDOT DES: COST ESTIMATING","WSDOT_CZV","ILT","Active",null,null,"This class was updated in 2019 and delivered to all regions 2019-2020; this class can be delivered by request.",1,2,2,null,null,null,null,null,null,1,2,1,2,2,null,null,null,null,null,null,1,2,1,2,2,null,null,null,null,null,null,1,2,1,2,2,null,null,null,null,null,null,1,2,1,2,1,null,null,null,null,null,null,1,1,1,null,1,null,null,null,null,null,null,1,1]
["DES","RISK MANAGEMENT","None","ILT","Inactive","None",null,"Available by arrangement; contact Mark Gabel or Mark Suijka.",2,null,null,null,null,null,null,null,null,null,2,2,null,null,null,null,null,null,null,null,null,2,2,null,null,null,null,null,null,null,null,null,2,2,null,null,null,null,null,null,null,null,null,2,1,null,2,null,null,null,null,null,null,2,2,1,1,1]
["DES","MANAGING PROJECT DELIVERY","None",null,"Inactive","None",null,"PM courses abailable through SkillSoft:  https://wsdot.skillport.com/skillportfe/main.action#whatshappening",1,null,2,null,null,null,null,null,null,2,2,1,null,2,null,null,null,null,null,null,2,2,1,null,2,null,null,null,null,null,null,2,2,1,null,2,null,null,null,null,null,null,2,2,1,null,1,null,null,null,null,null,null,1,null,1,null,1]
["DES","HUMAN FACTORS IN TRANSPORTATION DESIGN","None","ILT","Inactive","None","TBD","Partly covered in the HSM Training",1,null,2,null,null,null,null,null,null,1,null,1,null,2,null,null,null,null,null,null,1,null,1,null,2,null,null,null,null,null,null,1,null,1,null,2,null,null,null,null,null,null,1,null,1,null,1,null,null,null,null,null,null,1,null,1,2,1,null,null,null,null,null,null,1]
["DES","WSDOT DES: [YYYY] DESIGN MANUAL TRAINING","WSDOT_DMUT01202016","ILT","Active",null,"Every other year per Region or by request",null,1,null,2,null,null,null,null,null,null,2,null,1,null,2,null,null,null,null,null,null,2,null,1,null,2,null,null,null,null,null,null,2,null,1,null,2,null,null,null,null,null,null,2,null,1,null,1,null,null,null,null,null,null,2,null,1,null,1,null,null,null,null,null,null,2]
["DES","WSDOT DES: DESIGN MANUAL DIVISION 11 PRACTICAL DESIGN","DMUT_ORG","OLT","Active",null,null,"Available in LMS for credit, also at https://www.wsdot.wa.gov/LocalPrograms/Training/eTraining.htm ",1,null,2,null,null,null,null,null,null,2,null,1,null,2,null,null,null,null,null,null,2,null,1,null,2,null,null,null,null,null,null,2,null,1,null,2,null,null,null,null,null,null,2,null,1,null,1,null,null,null,null,null,null,2,null,1,null,1,null,null,null,null,null,null,2]
["DES","WSDOT PS 201 MULTIMODAL MAKING THE CASE MODULE1 OLT","Module_1:_Why_Multimodal?_ORG","OLT","Active"]
["DES","WSDOT PS 201 MULTIMODAL LAND USE MODULE2 OLT","Module_2_Land_Use_&_Transportation_ORG","OLT","Active"]
["DES","WSDOT PS 201 MULTIMODAL PHASES AND NEEDS MODULE3 OLT","Module_3_Phases_and_Needs_ORG","OLT"," Active"]
["DES","WSDOT PS 201 MULTIMODAL PERFORMANCE BASICS MODULE4 OLT","Module_4_Performance_Basics_ORG","OLT","Active"]
["DES","WSDOT PS 201 MULTIMODAL TRANSIT MODULE5 OLT","Module_5_Transit_ORG","OLT","Active"]
["DES","WSDOT PS 201 MULTIMODAL WALKING MODULE6 OLT","Module_6_People_Walking_ORG","OLT","Active"]
["DES","WSDOT PS 201 MULTIMODAL BIKING MODULE7 OLT","Module_7_People_Biking_ORG","OLT","Active"]
["DES","WSDOT PS 201 MULTIMODAL FREIGHT MODULE8 OLT","Module_8_Freight_Transportation_ORG","OLT","Active"]
["DES","WSDOT PS 201 MULTIMODAL CONFLICTS AND HUBS MODULE9 OLT","Module_9_Modal_Conflicts_and_Hubs_ORG","OLT","Active"]
["DES","WSDOT PRACTICAL SOLUTIONS OVERVIEW OLT","Practical_Solutions_Overview_ORG","OLT","Active",null,null,null,2,2,2,2,2,2,2,2,2,2,2,2,2,2,2,2,2,2,2,2,2,2,2,2,2,2,2,2,2,2,2,2,2,2,2,2,2,2,2,2,2,2,2,2,2,2,2,2,2,2,2,2,2,2,2,2,2,2,2,2,2,2,2,2,2,2]
["DES","WSDOT PS 101: PRACTICAL SOLUTIONS APPROACH TO PROJECT DEVELOPMENT OVERVIEW","WSDOT_PS101","ILT","Inactive",null,"Per Region or Division request",null,2,2,2,2,2,2,2,2,2,2,2,2,2,2,2,2,2,2,2,2,2,2,2,2,2,2,2,2,2,2,2,2,2,2,2,2,2,2,2,2,2,2,2,2,2,2,2,2,2,2,2,2,2,2,2,2,2,2,2,2,2,2,2,2,2,2]
["Hydraulics"]
["HYD","WSDOT DES: HYDRAULICS AND HYDROLOGY","WSDOT_DES_HYDRAULICS_AND_HYDROLOGY","ILT","Active",null,"Once per year east/west side",null,1,2,null,null,2,null,null,null,null,null,null,1,2,null,null,2,null,null,null,null,null,null,1,2,null,null,2,null,null,null,null,null,null,1,2,null,null,2,null,null,null,null,null,null,1,2,2,null,2,null,null,null,null,null,null,1,2]
["HYD","WSDOT DES: 2014 HIGHWAY RUNOFF MANUAL TRAINING","WSDOT_DBI","ILT","Active",null,"Multiple times per year",null,2,2,null,null,2,null,null,null,null,null,null,2,2,null,null,2,null,null,null,null,null,null,2,2,null,null,2,null,null,null,null,null,null,2,2,null,null,2,null,null,null,null,null,null,1,2,null,null,2,null,null,null,null,null,null,1,2]
["HYD","WSDOT_MGSFLOOD_TRAINING","WSDOT_MGSFLOOD_TRAINING","ILT","Active",null,"Once per year ",null,2,null,null,null,2,null,null,null,null,null,null,2,null,null,null,2,null,null,null,null,null,null,2,null,null,null,2,null,null,null,null,null,null,2,null,null,null,2,null,null,null,null,null,null,2]
["HYD","WSDOT DES: STORMSHED BEGINNING","WSDOT_DES_STORMSHED_BEGINNING","ILT","Active",null,"Once per year east/west side",null,2,null,null,null,2,null,null,null,null,null,null,2,null,null,null,2,null,null,null,null,null,null,2,null,null,null,2,null,null,null,null,null,null,2,null,null,null,2,null,null,null,null,null,null,2]
["HYD","WSDOT DES: STORMSHED INTERMEDIATE","WSDOT_DES_STORMSHED_INTERMEDIATE","ILT","Active",null,"Once per year east/west side",null,2,null,null,null,2,null,null,null,null,null,null,2,null,null,null,2,null,null,null,null,null,null,2,null,null,null,2,null,null,null,null,null,null,2,null,null,null,2,null,null,null,null,null,null,2]
["Environmental"]
["ENV","WSDOT ENV: SPILL PLAN REVIEWER TRAINING (OLT)","WSDOT_BYZ_OLT","OLT","Active",null,"NA",null,null,2,null,null,null,null,null,null,null,null,null,null,2,null,null,null,null,null,null,null,null,null,null,2,null,null,null,null,null,null,null,null,null,null,2,null,null,null,null,null,null,null,null,null,null,2,null,null,null,null,null,null,null,null,null,null,2]
["ENV","WSDOT ENV: CONSTRUCTION SITE EROSION AND SEDIMENT CONTROL","WSDOT_BPW","ILT","Active",null,"Once per year per Region or by request",null,2,1,null,null,1,null,null,null,null,null,null,2,1,null,null,1,null,null,null,null,null,null,2,1,null,null,1,null,null,null,null,null,null,2,1,null,null,1,null,null,null,null,null,null,2,1,null,null,1,null,null,null,null,null,null,null,1,null,null,1]
["ENV","WSDOT ENV: CULTURAL RESOURCE TRAINING","WSDOT_B7T","ILT","Active",null,"Offered 1-2 times per year",null,2,2,2,null,2,null,null,null,null,2,null,2,2,2,null,2,null,null,null,null,2,null,2,2,2,null,2,null,null,null,null,2,null,2,2,2,null,2,null,null,null,null,2,null,2,2,2,null,1,null,null,null,null,2,null,2,2,2,null,1,null,null,null,null,2]
["ENV","WSDOT ENV: ENVIRONMENTAL JUSTICE INCLUSION TRAINING (OLT)","WSDOT_EJ1_OLT","OLT","Active",null,"NA",null,1,1,1,1,1,1,1,1,1,1,1,1,1,1,1,1,1,1,1,1,1,1,1,1,1,1,1,1,1,1,1,1,1,1,1,1,1,1,1,1,1,1,1,1,1,1,1,1,1,1,1,1,1,1,1,1,1,1,1,1,1,1,1,1,1]
["ENV","WSDOT ENV: ENVIRONMENTAL OVERVIEW - COMPLIANCE FOR CONSTRUCTION (OLT)","WSDOT_CR5_OLT","OLT","Active",null,"NA",null,1,1,1,1,1,null,null,null,null,1,null,1,1,1,1,1,null,null,null,null,1,null,1,1,1,1,1,null,null,null,null,1,null,1,1,1,1,1,null,null,null,null,1,null,2,1,2,null,1,null,null,null,null,null,null,2,1,2,null,1]
["ENV","WSDOT ENV: ESA (ENDANGERED SPECIES ACT) FOR NON-BIOLOGISTS (OLT)","WSDOT_EV9_OLT","OLT","Active",null,"NA",null,1,2,null,null,1,null,null,null,null,1,null,1,2,null,null,1,null,null,null,null,1,null,1,2,null,null,1,null,null,null,null,1,null,1,2,null,null,1,null,null,null,null,1,null,1,null,null,null,1,null,null,null,null,null,null,1,null,null,null,1]
["ENV","WSDOT ENV: NEPA/SEPA - MODULE 1 - OVERVIEW","WSDOT_DDV","ILT","Active",null,"Once per year per Region or by request",null,null,null,null,null,2,null,null,null,null,null,null,null,null,null,null,2,null,null,null,null,null,null,null,null,null,null,2,null,null,null,null,null,null,null,null,null,null,2,null,null,null,null,null,null,2,null,2,null,1,null,null,null,null,null,null,1,1,1,null,1]
["ENV","WSDOT ENV: NEPA/SEPA - MODULE 2 - DOCUMENTING CATEGORICAL EXCLUSIONS","WSDOT_ENV","ILT","Active",null,"Once per year per Region or by request",null,null,null,null,null,2,null,null,null,null,null,null,null,null,null,null,2,null,null,null,null,null,null,null,null,null,null,2,null,null,null,null,null,null,null,null,null,null,2,null,null,null,null,null,null,2,null,2,null,1,null,null,null,null,null,null,1,1,1,null,1]
["ENV","WSDOT ENV: NEPA/SEPA - MODULE 3 - DOCUMENTING EAs AND EISs","WSDOT_ENV_2","ILT","Active",null,"Once per year per Region or by request",null,null,null,null,null,2,null,null,null,null,null,null,null,null,null,null,2,null,null,null,null,null,null,null,null,null,null,2,null,null,null,null,null,null,null,null,null,null,2,null,null,null,null,null,null,2,null,2,null,1,null,null,null,null,null,null,1,null,1,null,1]
["ENV","WSDOT ENV: POISONOUS AND HARMFUL PLANTS IN WASHINGTON STATE","WSDOT_019_OLT","OLT","Active",null,"NA",null,null,null,null,null,2,null,null,null,null,null,null,null,null,null,null,2,null,null,null,null,null,null,null,null,null,null,2,null,null,null,null,null,null,null,null,null,null,2,null,null,null,null,null,null,2,null,2,null,2,null,null,null,null,null,null,2,null,2,null,2]
["Computer Aided Engineering"]
["CAE","WSDOT CAE: MICROSTATION - 101 ENTRY LEVEL","WSDOT_AX4","ILT","Active",null,"1-3 times per region per year based on demand ",null,1,2,1,1,2,null,null,null,null,null,null,1,2,1,1,2,null,null,null,null,null,null,1,2,1,1,2,null,null,null,null,null,null,1,2,1,1,2,null,null,null,null,null,null,1,2,1,1,2,null,null,null,null,null,null,2,2,2,2,2]
["CAE","WSDOT CAE: MICROSTATION - 201 PRODUCTION LEVEL","WSDOT_AI6","ILT","Active",null,"1-3 times per region per year based on demand ",null,1,2,1,1,2,null,null,null,null,null,null,1,2,1,1,2,null,null,null,null,null,null,1,2,1,1,2,null,null,null,null,null,null,1,2,2,2,2,null,null,null,null,null,null,1,2,1,2,2,null,null,null,null,null,null,2,2,2,2,2]
["CAE","WSDOT CAE: INROADS - 201 PRODUCTION LEVEL DESIGN","WSDOT_CRZ","ILT","Active",null,"1-3 times per region per year based on demand ",null,2,2,null,2,null,null,null,null,null,null,null,2,2,null,2,null,null,null,null,null,null,null,2,2,null,2,null,null,null,null,null,null,null,1,2,null,2,null,null,null,null,null,null,null,1,2,null,2,null,null,null,null,null,null,null,2,2,null,2]
["CAE","WSDOT CAE: INROADS - 202 SURVEY DATA PROCESSING","WSDOT_CU1","ILT","Active",null,"1-3 times per region per year based on demand ",null,null,null,null,1,null,null,null,null,null,null,null,null,null,null,1,null,null,null,null,null,null,null,null,null,null,1,null,null,null,null,null,null,null,null,null,null,1,null,null,null,null,null,null,null,2,2,null,1,null,null,null,null,null,null,null,2,2,null,2]
["CAE","WSDOT CAE: INROADS - 203 GEOMETRICS","WSDOT_DBF","ILT","Active",null,"1-3 times per region per year based on demand ",null,null,null,2,1,null,null,null,null,null,null,null,null,null,2,1,null,null,null,null,null,null,null,null,null,2,1,null,null,null,null,null,null,null,null,null,2,1,null,null,null,null,null,null,null,1,2,2,1,null,null,null,null,null,null,null,2,2,2,2]
["CAE","WSDOT CAE: INROADS - 205 CONSTRUCTION PROCESSES","WSDOT_DH2","ILT","Active",null,"1-3 times per year based on demand ",null,2,2,null,2,null,null,null,null,null,null,null,2,2,null,2,null,null,null,null,null,null,null,2,2,null,2,null,null,null,null,null,null,null,2,2,null,2,null,null,null,null,null,null,null,2,1,null,2,null,null,null,null,null,null,null,2,2,null,2]
["CAE","WSDOT CAE: INROADS - 251 INTERMEDIATE ROADWAY DESIGN","WSDOT_DDL","ILT","Active",null,"1-3 times per region per year based on demand ",null,2,null,null,null,null,null,null,null,null,null,null,2,null,null,null,null,null,null,null,null,null,null,2,null,null,null,null,null,null,null,null,null,null,2,null,null,null,null,null,null,null,null,null,null,1,null,null,2,null,null,null,null,null,null,null,2,null,null,2]
["Survey"]
["SUR","WSDOT SUR: BASIC SURVEYING (SELF-STUDY)","WSDOT_APK","SS","Active",null,"Once per year east/west side",null,"R","R","R","R","R","R","R","R","R","R","R","R","R","R","R","R","R","R","R","R","R","R",1,1,1,1,1,2,null,null,null,null,null,1,1,1,1,1,2]
["SUR","WSDOT SUR: INTERMEDIATE SURVEYING","WSDOT A4U","ILT","Under Development","Q3 2019","Once per year east/west side",null,null,null,null,null,null,null,null,null,null,null,null,null,null,null,null,null,null,null,null,null,null,null,null,null,null,null,null,null,null,null,null,null,null,null,null,null,null,null,null,null,null,null,null,null,2,2,null,1]
["Traffic Operations Division"]
["TR","WSDOT TR: Work Zone Traffic Control Supervisor Re-Certification","WSDOT_BQD","OLT/ILT","Active",null,null,null,null,null,null,null,null,null,null,null,null,null,null,null,null,null,null,null,null,null,null,null,null,null,null,null,null,null,null,null,null,null,null,null,null,null,null,null,null,null,null,null,null,null,null,null,null,1,2,null,null,null,null,null,null,null,null,null,1,2]
["TR","WSDOT TR: Work Zone Traffic Control Supervisor Certification","WSDOT_A42","OLT/ILT","Active",null,null,null,2,2,2,2,null,null,null,null,null,null,null,2,2,2,2,null,null,null,null,null,null,null,2,2,2,2,null,null,null,null,null,null,null,2,2,2,2,null,null,null,null,null,null,null,2,1,2,null,null,null,null,null,null,null,null,2,1,2]
["TR","WSDOT TR: Work Zone Traffic Control Plan Design","WSDOT_DD7 (day one) and WSDOT_DBK (day two)","OLT/ILT","Active",null,null,null,2,null,1,null,null,null,null,null,null,null,null,2,null,1,null,null,null,null,null,null,null,null,2,null,1,null,null,null,null,null,null,null,null,2,null,1,null,null,null,null,null,null,null,null,1,null,1,null,null,null,null,null,null,null,null,1,null,1]
["TR","**VISUM",null,"OLT/ILT","Inactive","None",null,"No technical lead within WSDOT available to teach",null,null,null,null,null,null,null,null,null,null,null,null,null,null,null,null,null,null,null,null,null,null,null,null,null,null,null,null,null,null,null,null,null,null,null,null,null,null,null,null,null,null,null,null,null,null,2,null,null,null,null,null,null,null,null,null,null,2]
["TR","**VISSIM",null,"OLT/ILT","Inactive","None",null,"No technical lead within WSDOT available to teach",null,null,null,null,null,null,null,null,null,null,null,null,null,null,null,null,null,null,null,null,null,null,null,null,null,null,null,null,null,null,null,null,null,null,null,null,null,null,null,null,null,null,null,null,null,null,2,null,null,null,null,null,null,null,null,null,null,2]
["TR","**SIDRA",null,"OLT/ILT","Inactive","None",null,"No technical lead within WSDOT available to teach",null,null,null,null,null,null,null,null,null,null,null,null,null,null,null,null,null,null,null,null,null,null,null,null,null,null,null,null,null,null,null,null,null,null,null,null,null,null,null,null,null,null,null,null,null,null,1,null,null,null,null,null,null,null,null,null,null,1]
["TR","**SYNCHRO",null,"OLT/ILT","Inactive","None",null,"No technical lead within WSDOT available to teach",null,null,null,null,null,null,null,null,null,null,null,null,null,null,null,null,null,null,null,null,null,null,null,null,null,null,null,null,null,null,null,null,null,null,null,null,null,null,null,null,null,null,null,null,null,null,1,null,null,null,null,null,null,null,null,null,null,1]
["TR","WSDOT PSHSM: Highway Safety Manual Level B","PSHSM_B01","OLT/ILT","Inactive","None",null,"No technical lead within WSDOT available to teach",2,null,1,null,null,null,null,null,null,null,2,2,null,1,null,null,null,null,null,null,null,2,2,null,1,null,null,null,null,null,null,null,2,2,null,1,null,null,null,null,null,null,null,2,1,null,2,null,null,null,null,null,null,null,1,1,null,2]
["TR","WSDOT PSHSM: Highway Safety Manual Level C1","PSHSM_C01","OLT/ILT","Inactive","None",null,"No technical lead within WSDOT available to teach",null,null,2,null,null,null,null,null,null,null,null,null,null,2,null,null,null,null,null,null,null,null,null,null,2,null,null,null,null,null,null,null,null,null,null,2,null,null,null,null,null,null,null,null,1,null,1,null,null,null,null,null,null,null,1,1,null,1]
["TR","WSDOT PSHSM: Highway Safety Manual Level C2","PSHSM C2","OLT/ILT","Inactive","None",null,"No technical lead within WSDOT available to teach",null,null,null,null,null,null,null,null,null,null,null,null,null,null,null,null,null,null,null,null,null,null,null,null,null,null,null,null,null,null,null,null,null,null,null,null,null,null,null,null,null,null,null,null,1,null,1,null,null,null,null,null,null,null,1,1,null,1]
["TR","WSDOT PSHSM: Highway Safety Manual Level C3","PSHSM C3","OLT/ILT","Inactive","None",null,"No technical lead within WSDOT available to teach",null,null,null,null,null,null,null,null,null,null,null,null,null,null,null,null,null,null,null,null,null,null,null,null,null,null,null,null,null,null,null,null,null,null,null,null,null,null,null,null,null,null,null,null,2,null,2,null,null,null,null,null,null,null,2,2,null,2]
["TR","WSDOT PSHSM: Highway Safety Manual Level D1","PSHSM D1","OLT/ILT","Inactive","None",null,"No technical lead within WSDOT available to teach",null,null,null,null,null,null,null,null,null,null,null,null,null,null,null,null,null,null,null,null,null,null,null,null,null,null,null,null,null,null,null,null,null,null,null,null,null,null,null,null,null,null,null,null,2,null,2,null,null,null,null,null,null,null,2,2,null,2]
["TR","**ILLUMINATION DESIGN FOR TRANSPORTATION APPLICATIONS",null,"OLT/ILT","Under Development","Q2 2018",null,null,null,null,2,null,null,null,null,null,null,null,null,null,null,2,null,null,null,null,null,null,null,null,null,null,2,null,null,null,null,null,null,null,null,null,null,2,null,null,null,null,null,null,null,null,null,null,2,null,null,null,null,null,null,null,null,null,null,2]
["TR","WSDOT TR: Power Supply Design for Transportation Applications","WSDOT_BZA","OLT/ILT","Active",null,null,null,null,null,2,null,null,null,null,null,null,null,null,null,null,2,null,null,null,null,null,null,null,null,null,null,2,null,null,null,null,null,null,null,null,null,null,2,null,null,null,null,null,null,null,null,null,null,2,null,null,null,null,null,null,null,null,null,null,2]
["TR","**TRAFFIC SIGNAL LAYOUT AND CONDUCTOR TERMINATION",null,"OLT/ILT","Inactive",null,null,"No technical lead within WSDOT available to teach",null,null,2,null,null,null,null,null,null,null,null,null,null,2,null,null,null,null,null,null,null,null,null,null,2,null,null,null,null,null,null,null,null,null,null,2,null,null,null,null,null,null,null,null,null,null,2,null,null,null,null,null,null,null,null,null,null,2]
["TR","**SIGN DESIGN",null,"OLT/ILT","Inactive","None",null,"No technical lead within WSDOT available to teach",null,null,1,null,null,null,null,null,null,null,null,null,null,1,null,null,null,null,null,null,null,null,null,null,1,null,null,null,null,null,null,null,null,null,null,1,null,null,null,null,null,null,null,null,null,null,1,null,null,null,null,null,null,null,null,null,null,1]
["TR","WSDOT NHI: TR-Traffic Signal Design and Operations","WSDOT_TSD","OLT/ILT","Inactive","None",null,"No technical lead within WSDOT available to teach",null,null,1,null,null,null,null,null,null,null,null,null,null,1,null,null,null,null,null,null,null,null,null,null,1,null,null,null,null,null,null,null,null,null,null,1,null,null,null,null,null,null,null,null,null,null,2,null,null,null,null,null,null,null,null,null,null,2]
["TR","WSDOT NHI: TR-Traffic Signal Timing Concepts","WSDOT_STC","OLT/ILT","Inactive","None",null,"No technical lead within WSDOT available to teach",null,null,2,null,null,null,null,null,null,null,null,null,null,2,null,null,null,null,null,null,null,null,null,null,2,null,null,null,null,null,null,null,null,null,null,2,null,null,null,null,null,null,null,null,null,null,2,null,null,null,null,null,null,null,null,null,null,2]
["TR","**SYSTEMS ENGINEERING FOR SIGNAL SYSTEMS",null,"OLT/ILT","Inactive","None",null,"No technical lead within WSDOT available to teach",null,null,2,null,null,null,null,null,null,null,null,null,null,2,null,null,null,null,null,null,null,null,null,null,2,null,null,null,null,null,null,null,null,null,null,2,null,null,null,null,null,null,null,null,null,null,2,null,null,null,null,null,null,null,null,null,null,2]
["TR","**TRAFFIC SIGNAL MANAGEMENT",null,"OLT/ILT","Inactive","None",null,"No technical lead within WSDOT available to teach",null,null,2,null,null,null,null,null,null,null,null,null,null,2,null,null,null,null,null,null,null,null,null,null,2,null,null,null,null,null,null,null,null,null,null,2,null,null,null,null,null,null,null,null,null,null,2,null,null,null,null,null,null,null,null,null,null,2]
["TR","**ITS PROCUREMENT",null,"OLT/ILT","Inactive","None",null,"No technical lead within WSDOT available to teach",null,null,null,null,null,null,null,null,null,null,null,null,null,null,null,null,null,null,null,null,null,null,null,null,null,null,null,null,null,null,null,null,null,null,null,null,null,null,null,null,null,null,null,null,null,null,2,null,null,null,null,null,null,null,null,null,null,2]
["TR","**BASICS OF TRANSPORTATION PLANNING",null,"OLT/ILT","Inactive","None",null,"No technical lead within WSDOT available to teach",null,null,2,null,null,null,null,null,null,2,2,null,null,2,null,null,null,null,null,null,2,2,null,null,2,null,null,null,null,null,null,2,2,null,null,2,null,null,null,null,null,null,2,2,null,null,1,null,null,null,null,null,null,1,1,null,null,1,null,null,null,null,null,null,1,1]
["TR","**ADA/APS DESIGN",null,"OLT/ILT","Inactive","None",null,"No technical lead within WSDOT available to teach",2,null,2,null,null,null,null,null,null,null,null,2,null,2,null,null,null,null,null,null,null,null,2,null,2,null,null,null,null,null,null,null,null,2,null,2,null,null,null,null,null,null,null,null,2,null,2,null,null,null,null,null,null,null,null,2,null,2]
["TR","**SIGNAL WARRANT ANALYSIS",null,"OLT/ILT","Inactive","None",null,"No technical lead within WSDOT available to teach",null,null,2,null,null,null,null,null,null,null,null,null,null,2,null,null,null,null,null,null,null,null,null,null,2,null,null,null,null,null,null,null,null,null,null,2,null,null,null,null,null,null,null,null,null,null,2,null,null,null,null,null,null,null,null,null,null,1]
["TR","WSDOT TR: Introduction to ITS Design","WSDOT_DA6","OLT/ILT","Inactive","None",null,"No technical lead within WSDOT available to teach",null,null,2,null,null,null,null,null,null,null,null,null,null,2,null,null,null,null,null,null,null,null,null,null,2,null,null,null,null,null,null,null,null,null,null,2,null,null,null,null,null,null,null,null,null,null,2,null,null,null,null,null,null,null,null,null,null,2]
["TR","WSDOT TR: Intermediate/Advanced ITS Design","WSDOT_DA7","OLT/ILT","Inactive","None",null,"No technical lead within WSDOT available to teach",null,null,null,null,null,null,null,null,null,null,null,null,null,null,null,null,null,null,null,null,null,null,null,null,null,null,null,null,null,null,null,null,null,null,null,null,null,null,null,null,null,null,null,null,null,null,2,null,null,null,null,null,null,null,null,null,null,2]
["TR","**BASIC HIGHWAY CAPACITY FOR ENGINEERS AND PLANNERS",null,"OLT/ILT","Inactive","None",null,"No technical lead within WSDOT available to teach",null,null,2,null,null,null,null,null,2,2,2,null,null,2,null,null,null,null,null,2,2,2,null,null,2,null,null,null,null,null,2,2,2,null,null,2,null,null,null,null,null,2,2,2,null,null,1,null,null,null,null,null,null,2,null,null,null,1,null,null,null,null,null,null,1]
["TR","WSDOT UW: Gen-Uniform Traffic Control Devices","WSDOT_BML","OLT/ILT","Inactive","None",null,"No technical lead within WSDOT available to teach",null,null,1,null,null,null,null,null,null,null,null,null,null,1,null,null,null,null,null,null,null,null,null,null,1,null,null,null,null,null,null,null,null,null,null,1,null,null,null,null,null,null,null,null,null,null,1,null,null,null,null,null,null,null,null,null,null,1]
["TR","WSDOT UW: TR-Advanced Highway Capacity Analysis","WSDOT_A3C","OLT/ILT","Inactive","None",null,"No technical lead within WSDOT available to teach",null,null,2,null,null,null,null,null,null,null,null,null,null,2,null,null,null,null,null,null,null,null,null,null,2,null,null,null,null,null,null,null,null,null,null,2,null,null,null,null,null,null,null,null,null,null,2,null,null,null,null,null,null,null,null,null,null,1]
["TR","WSDOT UW: TR-Fundamentals of Traffic Engineering","WSDOT_BS3","OLT/ILT","Inactive","None",null,"No technical lead within WSDOT available to teach",2,null,1,null,null,null,null,null,null,2,2,2,null,1,null,null,null,null,null,null,2,2,2,null,1,null,null,null,null,null,null,2,2,2,null,1,null,null,null,null,null,null,2,2,null,null,1,null,null,null,null,null,null,null,null,null,null,1]
["TR","WSDOT UW:TR-Traffic Engineering Operations","WSDOT_BS4","OLT/ILT","Inactive","None",null,"No technical lead within WSDOT available to teach",2,null,1,null,null,null,null,null,null,2,null,2,null,1,null,null,null,null,null,null,2,null,2,null,1,null,null,null,null,null,null,2,null,2,null,1,null,null,null,null,null,null,2,null,null,null,1,null,null,null,null,null,null,null,null,null,null,1]
[null,"** no LMS course"]
[null,"*** SS=Self Study, OLT=Online Training, ILT=Instructor Led Training"]
["ES","= Course offered by Department of Enterprise Services (DES). Contact LMS Helpdesk at 360-705-7060."]
["HR","= Course registration controlled by Human Resources. Contact LMS Helpdesk at 360-705-7060 to Register."]

{"sheet":"HR Courses","index":6,"n_rows":52,"n_cols":84,"rows_kept":52,"cut":false,"hidden":true,"merged":[[19,0,21,0],[22,0,27,0],[28,0,32,0],[33,0,38,0],[40,0,41,0],[0,62,0,72],[0,73,0,83],[3,0,4,0],[12,0,13,0],[14,0,15,0],[0,40,0,50],[0,51,0,61],[16,0,17,0],[0,6,2,6],[0,7,0,17],[0,18,0,28],[0,29,0,39],[0,0,2,0],[0,1,2,1],[0,2,2,2],[0,3,2,3],[0,4,2,4],[0,5,2,5]]}
["SUBJECT MATTER","COURSE NAME","SkillSoft (SS) \nor\n Enterprise Services (ES)","Time","OLT\nILT","COST","LMS Course Code","Transportation Tech 1",null,null,null,null,null,null,null,null,null,null,"Trans Tech 1 & 2",null,null,null,null,null,null,null,null,null,null,"Transportation Tech 3",null,null,null,null,null,null,null,null,null,null,"Trans Engineer 1",null,null,null,null,null,null,null,null,null,null,"Trans Engineer 2",null,null,null,null,null,null,null,null,null,null,"Trans Engineer 3",null,null,null,null,null,null,null,null,null,null,"PE/APE"]
[null,null,null,null,null,null,"Code","DES","CN","TR","SUR","ENV","MAT","GTM","MFI","PMD","PLN","PGM *","DES","CN","TR","SUR","ENV","MAT","GTM","MFI","PMD","PLN","PGM *","DES","CN","TR","SUR","ENV","MAT","GTM","MFI","PMD","PLN","PGM *","DES","CN","TR","SUR","ENV","MAT","GTM","MFI","PMD","PLN","PGM *","DES","CN","TR","SUR","ENV","MAT","GTM","MFI","PMD","PLN","PGM *","DES","CN","TR","SUR","ENV","MAT","GTM","MFI","PMD","PLN","PGM *","DES","CN","TR","SUR","ENV","MAT","GTM","MFI","PMD","PLN","PGM *"]
[null,null,null,null,null,null,null,"PRIORITY",null,null,null,null,null,null,null,null,null,null,"PRIORITY",null,null,null,null,null,null,null,null,null,null,"PRIORITY",null,null,null,null,null,null,null,null,null,null,"PRIORITY",null,null,null,null,null,null,null,null,null,null,"PRIORITY",null,null,null,null,null,null,null,null,null,null,"PRIORITY",null,null,null,null,null,null,null,null,null,null,"PRIORITY"]
["ETHICS","WA-State Ethics in State Government",null,"90 MIN","OLT","Free","WA-State Ethics 8-7-2014-V6","M","M","M","M","M","M","M","M","M","M","M","M","M","M","M","M","M","M","M","M","M","M","M","M","M","M","M","M","M","M","M","M","M","M","M","M","M","M","M","M","M","M","M","M","M","M","M","M","M","M","M","M","M","M","M","M","M","M","M","M","M","M","M","M","M","M"]
[null,"WSDOT Mandatory: Ethical Standards WSDOT Specific Training",null,null,"OLT","Free","WSDOT_BKB Specific","M","M","M","M","M","M","M","M","M","M","M","M","M","M","M","M","M","M","M","M","M","M","M","M","M","M","M","M","M","M","M","M","M","M","M","M","M","M","M","M","M","M","M","M","M","M","M","M","M","M","M","M","M","M","M","M","M","M","M","M","M","M","M","M","M","M"]
["SYSTEM SECURITY","WSDOT Mandatory: System Security Awareness For Transportation Employees (Self Study)",null,null,"SS","Free","WSDOT_CJJ_UDT","M","M","M","M","M","M","M","M","M","M","M","M","M","M","M","M","M","M","M","M","M","M","M","M","M","M","M","M","M","M","M","M","M","M","M","M","M","M","M","M","M","M","M","M","M","M","M","M","M","M","M","M","M","M","M","M","M","M","M","M","M","M","M","M","M","M"]
["VIOLENCE","WSDOT Mandatory: Violence That Affects The Workplace (Self Study)",null,"120 min","SS","Free","WSDOT_B9V","M","M","M","M","M","M","M","M","M","M","M","M","M","M","M","M","M","M","M","M","M","M","M","M","M","M","M","M","M","M","M","M","M","M","M","M","M","M","M","M","M","M","M","M","M","M","M","M","M","M","M","M","M","M","M","M","M","M","M","M","M","M","M","M","M","M"]
["IT SECURITY","WA-State IT Security Awareness Training",null,45,"OLT","Free","WA-State IT Security Awareness Training - Initial Training-8/16/2013","M","M","M","M","M","M","M","M","M","M","M","M","M","M","M","M","M","M","M","M","M","M","M","M","M","M","M","M","M","M","M","M","M","M","M","M","M","M","M","M","M","M","M","M","M","M","M","M","M","M","M","M","M","M","M","M","M","M","M","M","M","M","M","M","M","M"]
["SEXUAL HARASSMENT","WA-State Sexual Harassment Awareness and Prevention","ES",120,"OLT","Free","DES_shap_2013_Updated_9-3-2014","M","M","M","M","M","M","M","M","M","M","M","M","M","M","M","M","M","M","M","M","M","M","M","M","M","M","M","M","M","M","M","M","M","M","M","M","M","M","M","M","M","M","M","M","M","M","M","M","M","M","M","M","M","M","M","M","M","M","M","M","M","M","M","M","M","M"]
["DISABILITY AWARENESS",null,null,null,null,null,null,"M","M","M","M","M","M","M","M","M","M","M","M","M","M","M","M","M","M","M","M","M","M","M","M","M","M","M","M","M","M","M","M","M","M","M","M","M","M","M","M","M","M","M","M","M","M","M","M","M","M","M","M","M","M","M","M","M","M","M","M","M","M","M","M","M","M"]
["DISCRIMINATION","WSDOT Mandatory: Discrimination In The Workplace (Self Study)",null,30,"SS","Free","WSDOT_DIS","M","M","M","M","M","M","M","M","M","M","M","M","M","M","M","M","M","M","M","M","M","M","M","M","M","M","M","M","M","M","M","M","M","M","M","M","M","M","M","M","M","M","M","M","M","M","M","M","M","M","M","M","M","M","M","M","M","M","M","M","M","M","M","M","M","M"]
["DIVERSITY","WSDOT Mandatory: Valuing Diversity Step 2, Promoting Respect in the Global Workplace – Employee Edition",null,30,"OLT","Free","WSDOT_lch_01_a09_lc_enus","M","M","M","M","M","M","M","M","M","M","M","M","M","M","M","M","M","M","M","M","M","M","M","M","M","M","M","M","M","M","M","M","M","M","M","M","M","M","M","M","M","M","M","M","M","M","M","M","M","M","M","M","M","M","M","M","M","M","M","M","M","M","M","M","M","M"]
["CONFLICT MANAGEMENT","Preparing for a Difficult Conversation","SS","60 min","OLT","Free","mgmt_36_a01_bs_enus",2,2,2,2,2,2,2,2,2,2,2,2,2,2,2,2,2,2,2,2,2,2,2,2,2,2,2,2,2,2,2,2,2,1,1,1,1,1,1,1,1,1,1,1,1,1,1,1,1,1,1,1,1,1,1,1,1,1,1,1,1,1,1,1,1,1]
[null,"Managing Emotions in the Workplace","ES","1/2 Day","ILT",100,"DES Course",2,2,2,2,2,2,2,2,2,2,2,2,2,2,2,2,2,2,2,2,2,2,2,2,2,2,2,2,2,2,2,2,2,1,1,1,1,1,1,1,1,1,1,1,1,1,1,1,1,1,1,1,1,1,1,1,1,1,1,1,1,1,1,1,1,1]
["INTERPERSONAL COMMUNICATIONS","Difficult People: Strategies to Keep Everyone Working Together","SS","31 min","OLT","Free","comm_46_a03_bs_enus",1,1,1,1,1,1,1,1,1,1,1,1,1,1,1,1,1,1,1,1,1,1,1,1,1,1,1,1,1,1,1,1,1,1,1,1,1,1,1,1,1,1,1,1,1,1,1,1,1,1,1,1,1,1,1,1,1,1,1,1,1,1,1,1,1,1]
[null,"Interpersonal Communication Skills","ES","2 Days","ILT",195,"DES Course",1,1,1,1,1,1,1,1,1,1,1,1,1,1,1,1,1,1,1,1,1,1,1,1,1,1,1,1,1,1,1,1,1,1,1,1,1,1,1,1,1,1,1,1,1,1,1,1,1,1,1,1,1,1,1,1,1,1,1,1,1,1,1,1,1,1]
["LISTENING SKILLS","Active Listening Skills for Professionals","SS","30 min","OLT","Free","comm_43_a03_bs_enus",1,1,1,1,1,1,1,1,1,1,1,1,1,1,1,1,1,1,1,1,1,1,1,1,1,1,1,1,1,1,1,1,1,1,1,1,1,1,1,1,1,1,1,1,1,1,1,1,1,1,1,1,1,1,1,1,1,1,1,1,1,1,1,1,1,1]
[null,"Crucial Conversations","ES","2 Days","ILT",450,"DES Course",1,1,1,1,1,1,1,1,1,1,1,1,1,1,1,1,1,1,1,1,1,1,1,1,1,1,1,1,1,1,1,1,1,1,1,1,1,1,1,1,1,1,1,1,1,1,1,1,1,1,1,1,1,1,1,1,1,1,1,1,1,1,1,1,1,1]
["ORAL PRESENTATION TECHNIQUES","Presentation & Training Design & Delivery ","ES","2 Days","ILT",205,"DES Course",null,null,null,null,null,null,null,null,null,null,null,null,null,null,null,null,null,null,null,null,null,null,null,null,null,null,null,null,null,null,null,null,null,null,null,null,null,null,null,null,null,null,null,null,2,2,2,2,2,2,2,2,2,2,2,1,1,1,1,1,1,1,1,1,1,1,1,1,1,1,1,1,1,1,1,1,1]
["STRESS MANAGEMENT","Conflict, Stress, and Time Management","SS","210 min","OLT","Free","cust_07_a03_bs_enus",1,1,1,1,1,1,1,1,1,1,1,1,1,1,1,1,1,1,1,1,1,1,1,1,1,1,1,1,1,1,1,1,1,1,1,1,1,1,1,1,1,1,1,1,1,1,1,1,1,1,1,1,1,1,1,1,1,1,1,1,1,1,1,1,1,1]
[null,"Preparing for a Difficult Conversation","SS","60 min","OLT","Free","mgmt_36_a01_bs_enus",1,1,1,1,1,1,1,1,1,1,1,1,1,1,1,1,1,1,1,1,1,1,1,1,1,1,1,1,1,1,1,1,1,1,1,1,1,1,1,1,1,1,1,1,1,1,1,1,1,1,1,1,1,1,1,1,1,1,1,1,1,1,1,1,1,1]
[null,"Managing Job Stress","ES","1 Day","ILT",135,"DES Course",1,1,1,1,1,1,1,1,1,1,1,1,1,1,1,1,1,1,1,1,1,1,1,1,1,1,1,1,1,1,1,1,1,1,1,1,1,1,1,1,1,1,1,1,1,1,1,1,1,1,1,1,1,1,1,1,1,1,1,1,1,1,1,1,1,1]
["TIME MANAGEMENT","Getting Time under Control","SS","15 min","OLT","Free","_pc_ch_pach021",1,1,1,1,1,1,1,1,1,1,1,1,1,1,1,1,1,1,1,1,1,1,1,1,1,1,1,1,1,1,1,1,1,1,1,1,1,1,1,1,1,1,1,1,1,1,1,1,1,1,1,1,1,1,1,1,1,1,1,1,1,1,1,1,1,1]
[null,"Make the Time You Need: Get Organized","SS","28 min","OLT","Free","apd_08_a02_bs_enus",1,1,1,1,1,1,1,1,1,1,1,1,1,1,1,1,1,1,1,1,1,1,1,1,1,1,1,1,1,1,1,1,1,1,1,1,1,1,1,1,1,1,1,1,1,1,1,1,1,1,1,1,1,1,1,1,1,1,1,1,1,1,1,1,1,1]
[null,"Time Management: Too Much to Do and Too Little Time","SS","32 min","OLT","Free","pd_20_a01_bs_enus",1,1,1,1,1,1,1,1,1,1,1,1,1,1,1,1,1,1,1,1,1,1,1,1,1,1,1,1,1,1,1,1,1,1,1,1,1,1,1,1,1,1,1,1,1,1,1,1,1,1,1,1,1,1,1,1,1,1,1,1,1,1,1,1,1,1]
[null,"Time Management: Quit Making Excuses and Make Time Instead","SS","32 min","OLT","Free","pd_20_a02_bs_enus",1,1,1,1,1,1,1,1,1,1,1,1,1,1,1,1,1,1,1,1,1,1,1,1,1,1,1,1,1,1,1,1,1,1,1,1,1,1,1,1,1,1,1,1,1,1,1,1,1,1,1,1,1,1,1,1,1,1,1,1,1,1,1,1,1,1]
[null,"Time Management: Ready, Set…Focus!","SS","32 min","OLT","Free","pd_20_a03_bs_enus",1,1,1,1,1,1,1,1,1,1,1,1,1,1,1,1,1,1,1,1,1,1,1,1,1,1,1,1,1,1,1,1,1,1,1,1,1,1,1,1,1,1,1,1,1,1,1,1,1,1,1,1,1,1,1,1,1,1,1,1,1,1,1,1,1,1]
[null,"Time Management","ES","1 Day","ILT",135,"DES Course",1,1,1,1,1,1,1,1,1,1,1,1,1,1,1,1,1,1,1,1,1,1,1,1,1,1,1,1,1,1,1,1,1,1,1,1,1,1,1,1,1,1,1,1,1,1,1,1,1,1,1,1,1,1,1,1,1,1,1,1,1,1,1,1,1,1]
["WRITING REPORTS","Improving Your Technical Writing Skills","SS","22 min","OLT","Free","acm_06_a01_it_enus",2,null,2,2,2,2,2,2,2,2,2,2,null,2,2,2,2,2,2,2,2,2,2,null,2,2,2,2,2,2,2,2,2,2,null,2,2,2,2,2,2,2,2,2,1,null,1,null,1,null,null,null,null,1,1,1,null,1,null,1,null,null,null,null,1,1]
[null,"Writing for Technical Professionals: Effective Writing Techniques","SS","120 min","OLT","Free","ib_wstp_a02_it_enus",2,null,2,2,2,2,2,2,2,2,2,2,null,2,2,2,2,2,2,2,2,2,2,null,2,2,2,2,2,2,2,2,2,2,null,2,2,2,2,2,2,2,2,2,1,null,1,null,1,null,null,null,null,1,1,1,null,1,null,1,null,null,null,null,1,1]
[null,"Writing for Technical Professionals: Preparation and Planning","SS","60 min","OLT","Free","ib_wstp_a01_it_enus",2,null,2,2,2,2,2,2,2,2,2,2,null,2,2,2,2,2,2,2,2,2,2,null,2,2,2,2,2,2,2,2,2,2,null,2,2,2,2,2,2,2,2,2,1,null,1,null,1,null,null,null,null,1,1,1,null,1,null,1,null,null,null,null,1,1]
[null,"Technical Writing: Tricks of the Trade","ES","2 Days","ILT",185,"DES Course",2,null,2,2,2,2,2,2,2,2,2,2,null,2,2,2,2,2,2,2,2,2,2,null,2,2,2,2,2,2,2,2,2,2,null,2,2,2,2,2,2,2,2,2,1,null,1,null,1,null,null,null,null,1,1,1,null,1,null,1,null,null,null,null,1,1]
[null,"Writing Skills","ES","1 Day","ILT",145,"DES Course",2,null,2,2,2,2,2,2,2,2,2,2,null,2,2,2,2,2,2,2,2,2,2,null,2,2,2,2,2,2,2,2,2,2,null,2,2,2,2,2,2,2,2,2,1,null,1,null,1,null,null,null,null,1,1,1,null,1,null,1,null,null,null,null,1,1]
["EFFECTIVE MEETING MANAGEMENT","Dealing with Common Meeting Problems","SS","60 min","OLT","Free","comm_32_a03_bs_enus",null,null,null,null,null,null,null,null,null,null,null,null,null,null,null,null,null,null,null,null,null,null,null,null,null,null,null,null,null,null,null,null,null,null,null,null,null,null,null,null,null,null,null,null,2,null,2,null,2,null,null,null,null,2,2,1,null,1,null,1,null,null,null,null,1,1]
[null,"Preparing for Effective Business Meetings","SS","60 min","OLT","Free","comm_32_a01_bs_enus",null,null,null,null,null,null,null,null,null,null,null,null,null,null,null,null,null,null,null,null,null,null,null,null,null,null,null,null,null,null,null,null,null,null,null,null,null,null,null,null,null,null,null,null,2,null,2,null,2,null,null,null,null,2,2,1,null,1,null,1,null,null,null,null,1,1]
[null,"Planning Meetings Fit for Purpose","SS","20 min","OLT","Free","comm_50_a01_bs_enus",null,null,null,null,null,null,null,null,null,null,null,null,null,null,null,null,null,null,null,null,null,null,null,null,null,null,null,null,null,null,null,null,null,null,null,null,null,null,null,null,null,null,null,null,2,null,2,null,2,null,null,null,null,2,2,1,null,1,null,1,null,null,null,null,1,1]
[null,"Managing Effective Business Meetings","SS","60 min","OLT","Free","comm_32_a02_bs_enus",null,null,null,null,null,null,null,null,null,null,null,null,null,null,null,null,null,null,null,null,null,null,null,null,null,null,null,null,null,null,null,null,null,null,null,null,null,null,null,null,null,null,null,null,2,null,2,null,2,null,null,null,null,2,2,1,null,1,null,1,null,null,null,null,1,1]
[null,"Running Meetings in Better Directions","SS","20 min","OLT","Free","comm_50_a02_bs_enus",null,null,null,null,null,null,null,null,null,null,null,null,null,null,null,null,null,null,null,null,null,null,null,null,null,null,null,null,null,null,null,null,null,null,null,null,null,null,null,null,null,null,null,null,2,null,2,null,2,null,null,null,null,2,2,1,null,1,null,1,null,null,null,null,1,1]
[null,"Effective Meeting Management ","ES","1 Day","ILT",165,"DES Course",null,null,null,null,null,null,null,null,null,null,null,null,null,null,null,null,null,null,null,null,null,null,null,null,null,null,null,null,null,null,null,null,null,null,null,null,null,null,null,null,null,null,null,null,2,null,2,null,2,null,null,null,null,2,2,1,null,1,null,1,null,null,null,null,1,1]
["ENHANCED LEADERSHIP FOR WSDOT","Leading Teams","ES","3 Days","ILT",500,"DES Course",null,null,null,null,null,null,null,null,null,null,null,null,null,null,null,null,null,null,null,null,null,null,null,null,null,null,null,null,null,null,null,null,null,null,null,null,null,null,null,null,null,null,null,null,null,null,null,null,null,null,null,null,null,null,null,2,2,2,2,2,2,2,2,2,2,2]
["ENTRY MANAGEMENT DEVELOPMENT","Leading Others","ES","4 Days","ILT",500,"DES Course (01-09-M612)",null,null,null,null,null,null,null,null,null,null,null,null,null,null,null,null,null,null,null,null,null,null,null,null,null,null,null,null,null,null,null,null,null,null,null,null,null,null,null,null,null,null,null,null,2,2,2,2,2,2,2,2,2,2,2,1,1,1,1,1,1,1,1,1,1,1]
[null,"Supervision Essentials-Phase II (Prerequisite is Leading Others)","ES","2 Days","ILT",285,"DES Course",null,null,null,null,null,null,null,null,null,null,null,null,null,null,null,null,null,null,null,null,null,null,null,null,null,null,null,null,null,null,null,null,null,null,null,null,null,null,null,null,null,null,null,null,null,null,null,null,null,null,null,null,null,null,null,2,2,2,2,2,2,2,2,2,2,2]
[]
[null,null,null,"= This course was taken by a WSDOT staff member and recommended."]
[null,null,null,"= Course offered by Department of Enterprise Services (DES). Contact LMS Helpdesk at 360-705-7060."]
[null,null,null,"= Mandatory course"]
[null,"OLT",null,"= Online Training"]
[null,"ILT",null,"= Instructor Lead Training"]
[]
[null,"Courses Not Recommended",null,"Time",null,null,"LMS Course Code"]
[null,"Addressing Stakeholder Conflicts",null,"6 min",null,null,"_pc_bi_pmbi008"]
[null,"Managing Conflict in Project Teams",null,"6 min",null,null,"_pc_bi_pmbi003"]

{"sheet":"Trng Satus Graph","index":7,"n_rows":14,"n_cols":5,"rows_kept":14,"cut":false,"hidden":true,"merged":[[12,1,12,7]]}
[]
["Division","Courses Offered","Active","Inactive","Under Development"]
["Conctruction",37,37,0,0]
["Design",18,6,10,2]
["General*"]
["Traffic",31,3,26,2]
["Environmental",8,8,0,0]
["Hydraulics",5,5,0,0]
["CAE",8,7,1,0]
["Survey",3,1,0,2]
["Safety",6,6,0,0]
["TDGMO",1,1,0,0]
[null,"* Basic courses not specifically related to a division.  For example, courses on  communication, writing, Excel, math, and mandatory courses."]
[null,"** National Highway Institute. These are not WSDOT courses and we do not know the status."]

{"sheet":"Training Status","index":8,"n_rows":211,"n_cols":9,"rows_kept":211,"cut":false,"hidden":true,"merged":[]}
[]
["Responsible Division","Division","OLD COURSE NAME","LMS COURSE NAME","LMS COURSE CODE","SS OLT ILT","STATUS","If NOT active, when will it be offered?","NOTES"]
[null,"HR","Ethics","WA-State Ethics in State Government","WA-State Ethics 8-7-2014-V6","OLT","Active"]
[null,"HR","Ethics","WSDOT Mandatory: Ethical Standards WSDOT Specific Training","WSDOT_BKB Specific","OLT","Active"]
[null,"HR","SYSTEM SECURITY","WSDOT Mandatory: System Security Awareness For Transportation Employees (Self Study)","WSDOT_CJJ_UDT","SS","Active"]
[null,"HR","VIOLENCE","WSDOT Mandatory: Violence That Affects The Workplace (Self Study)","WSDOT_B9V","SS","Active"]
[null,"HR","IT SECURITY","WA-State IT Security Awareness Training","WA-State IT Security Awareness Training - Initial Training-8/16/2013","OLT","Active"]
[null,"HR","SEXUAL HARASSMENT","WA-State Sexual Harassment Awareness and Prevention","DES_shap_2013_Updated_9-3-2014","OLT","Active"]
[null,"HR","DISABILITY AWARENESS","Diversity Awareness (Waiting for Sherrie Miller response)"]
[null,"HR","DISCRIMINATION","WSDOT Mandatory: Discrimination In The Workplace (Self Study)","WSDOT_DIS","SS","Active"]
[null,"HR","DIVERSITY","WSDOT Mandatory: Valuing Diversity Step 2, Promoting Respect in the Global Workplace – Employee Edition","WSDOT_lch_01_a09_lc_enus","OLT","Active"]
[null,"GEN","GEN-LEGAL LIABILITY FOR TRANSPORTATION PROFESSIONALS- NEW CLASS (Entry Level)","**Legal Liability for Transportation Professionals - Entry",null,"OLT","Active"]
[null,"GEN","GEN-LEGAL LIABILITY FOR TRANSPORTATION PROFESSIONALS- NEW CLASS (In-Depth)","**Legal Liability for Transportation Professionals - In-Depth",null,"OLT","Active"]
[null,"SS",null,"Introduction to Project Management (PMBOK® Guide Fifth Edition)","apj_01_a01_bs_enus","OLT","Active"]
[null,"SS",null,"Project Fundamentals (PMBOK® Guide Fifth Edition)","apj_01_a02_bs_enus","OLT","Active"]
[null,"SS",null,"The Process Groups (PMBOK® Guide Fifth Edition)","apj_01_a03_bs_enus","OLT","Active"]
[null,"SS",null,"Solving Problems: Generating and Evaluating Alternatives","pd_29_a02_bs_enus","OLT","Active"]
[null,"SS",null,"Making and Carrying Out Tough Decisions","pd_29_a03_bs_enus","OLT","Active"]
[null,"SS",null,"Playing the Devil's Advocate in Decision Making (Resources) ","_pc_bi_pfbi005","OLT","Active"]
[null,"SS",null,"Turning Problems Around with Reverse Brainstorming (Resources) ","_pc_bi_lsbi017","OLT","Active"]
[null,"SS",null,"Uncovering the Root Problem (Resources) ","_pc_ch_lach003","OLT","Active"]
[null,"SS",null,"Problem Solving: Process, Tools, and Techniques (Resources) ","_pc_ch_lach003","OLT","Active"]
[null,"SS",null,"Solving Problems: Framing the Problem","pd_29_a01_bs_enus","OLT","Active"]
[null,"SS",null,"Decisions: Making the Right Move (Resources) ","_pc_ch_pech001","OLT","Active"]
[null,"SS",null,"Problem-Solving and Process Management Tools","oper_04_a07_bs_enus","OLT","Active"]
[null,"SS",null,"Basic Presentation Skills: Delivering a Presentation","comm_33_a03_bs_enus","OLT","Active"]
[null,"SS",null,"Basic Presentation Skills: Creating a Presentation","comm_33_a02_bs_enus","OLT","Active"]
[null,"SS",null,"Leading Teams: Launching a Successful Team","team_03_a01_bs_enus","OLT","Active"]
[null,"SS",null,"Leading Teams: Establishing Goals, Roles, and Guidelines","team_03_a02_bs_enus","OLT","Active"]
[null,"SS",null,"Leading Teams: Developing the Team and its Culture","team_03_a03_bs_enus","OLT","Active"]
[null,"SS",null,"Leading Teams: Building Trust and Commitment","team_03_a04_bs_enus","OLT","Active"]
[null,"SS",null,"Leading Teams: Fostering Effective Communication and Collaboration","team_03_a05_bs_enus","OLT","Active"]
[null,"SS",null,"Leading Teams: Motivating and Optimizing Performance","team_03_a06_bs_enus","OLT","Active"]
[null,"SS",null,"Leading Teams: Dealing with Conflict","team_03_a07_bs_enus","OLT","Active"]
[null,"SS",null,"Leading Teams: Managing Virtual Teams","team_03_a08_bs_enus","OLT","Active"]
[null,"SS",null,"Building Trust Incrementally","_pc_bi_lsbi004","OLT","Active"]
[null,"SS",null,"Inspiring Your Team","_pc_bi_lsbi010","OLT","Active"]
[null,"SS",null,"Support Your Leader ( Resource) ","_pc_bi_pfbi010","OLT","Active"]
[null,"SS",null,"Managing Communications in a Virtual Team ( Resource) ","_pc_bi_mgbi001","OLT","Active"]
[null,"SS",null,"Choosing the Right Team Culture ( Resource) ","_pc_ch_pfch006","OLT","Active"]
[null,"SS",null,"Building and Leading Teams ( Resource) ","_pc_ch_lach023 ","OLT","Active"]
[null,"SS",null,"Thinking Critically: Coming to Terms with Assumptions","pe_01_a01_bs_enus","OLT","Active"]
[null,"SS",null,"Thinking Critically: Getting Your Arms around Arguments","pe_01_a02_bs_enus","OLT","Active"]
[null,"SS",null,"Thinking Critically: Drawing Conclusions with Confidence","pe_01_a03_bs_enus","OLT","Active"]
[null,"SS",null,"Critical Thinking (Resource) ","_pc_ch_lach025","OLT","Active"]
[null,"SS",null,"Applying Your Best Thinking (Resource) ","_pc_ch_pech003","OLT","Active"]
[null,"SS",null,"Microsoft Excel 2016 Essentials: Creating, Editing, and Saving Workbooks","mo_beel_a01_dt_enus","OLT","Active"]
[null,"SS",null,"Microsoft Excel 2016 Essentials: Formulas and Functions","mo_beel_a04_dt_enus","OLT","Active"]
[null,"SS",null,"Microsoft Excel 2016 Essentials: Formatting Data","mo_beel_a02_dt_enus","OLT","Active"]
[null,"SS",null,"Microsoft Excel 2016 Essentials: Data Presentation Strategies","mo_beel_a03_dt_enus","OLT","Active"]
[null,"SS",null,"Microsoft Excel 2016 Essentials: Charts, Tables, and Images","mo_beel_a05_dt_enus","OLT","Active"]
[null,"SS",null,"Microsoft Office 2016 Intermediate Excel: Working with Data ","mo_inel_a03_dt_enus","OLT","Active"]
[null,"SS",null,"Microsoft Office 2016 Intermediate Excel: Share, Review, and Collaborate ","mo_inel_a06_dt_enus","OLT","Active"]
[null,"SS",null,"Microsoft Office 2016 Intermediate Excel: Creating Custom Visual Effects ","mo_inel_a02_dt_enus","OLT","Active"]
[null,"SS",null,"Working with the Interface and Performing Basic Tasks in Word 2016 ","mo_bewo_a01_dt_enus","OLT","Active"]
[null,"SS",null,"Formatting Text in Word 2016 ","mo_bewo_a02_dt_enus","OLT","Active"]
[null,"SS",null,"Headers, Footers, Page Numbering, and Layout in Word 2016 ","mo_bewo_a05_dt_enus","OLT","Active"]
[null,"SS",null,"Using the Navigation Pane and Creating Lists in Word 2016 ","mo_bewo_a06_dt_enus","OLT","Active"]
[null,"SS",null,"Customizing Options and Using Document Views in Word 2016 ","mo_bewo_a03_dt_enus","OLT","Active"]
[null,"SS",null,"Creating and Formatting Tables in Word 2016 ","mo_bewo_a04_dt_enus","OLT","Active"]
[null,"SS","CONFLICT MANAGEMENT","Preparing for a Difficult Conversation","mgmt_36_a01_bs_enus","OLT","Active"]
[null,"SS","INTERPERSONNEL COMMUNICATION","Difficult People: Strategies to Keep Everyone Working Together","comm_46_a03_bs_enus","OLT","Active"]
[null,"SS","STRESS MANAGEMENT","Conflict, Stress, and Time Management","cust_07_a03_bs_enus","OLT","Active"]
[null,"SS","TIME MANAGEMENT","Getting Time under Control","_pc_ch_pach021","OLT","Active"]
[null,"SS","TIME MANAGEMENT","Make the Time You Need: Get Organized","apd_08_a02_bs_enus","OLT","Active"]
[null,"SS","TIME MANAGEMENT","Time Management: Too Much to Do and Too Little Time","pd_20_a01_bs_enus","OLT","Active"]
[null,"SS","TIME MANAGEMENT","Time Management: Quit Making Excuses and Make Time Instead","pd_20_a02_bs_enus","OLT","Active"]
[null,"SS","TIME MANAGEMENT","Time Management: Ready, Set…Focus!","pd_20_a03_bs_enus","OLT","Active"]
[null,"SS","WRITING REPORTS","Improving Your Technical Writing Skills","acm_06_a01_it_enus","OLT","Active"]
[null,"SS","WRITING REPORTS","Writing for Technical Professionals: Effective Writing Techniques","ib_wstp_a02_it_enus","OLT","Active"]
[null,"SS","WRITING REPORTS","Writing for Technical Professionals: Preparation and Planning","ib_wstp_a01_it_enus","OLT","Active"]
[null,"SS","EFFECTIVE MEETING MANAGEMENT","Dealing with Common Meeting Problems","comm_32_a03_bs_enus","OLT","Active"]
[null,"SS","EFFECTIVE MEETING MANAGEMENT","Preparing for Effective Business Meetings","comm_32_a01_bs_enus","OLT","Active"]
[null,"SS","EFFECTIVE MEETING MANAGEMENT","Planning Meetings Fit for Purpose","comm_50_a01_bs_enus","OLT","Active"]
[null,"SS","EFFECTIVE MEETING MANAGEMENT","Managing Effective Business Meetings","comm_32_a02_bs_enus","OLT","Active"]
[null,"SS","EFFECTIVE MEETING MANAGEMENT","Running Meetings in Better Directions","comm_50_a02_bs_enus","OLT","Active"]
[null,"SS","LISTENING SKILLS","Active Listening Skills for Professionals","comm_43_a03_bs_enus","OLT","Active"]
[null,"ES",null,"Managing Emotions in the Workplace","DES Course","ILT","Active"]
[null,"ES",null,"Interpersonal Communication Skills","DES Course","ILT","Active"]
[null,"ES",null,"Crucial Conversations","DES Course","ILT","Active"]
[null,"ES",null,"Presentation & Training Design & Delivery ","DES Course","ILT","Active"]
[null,"ES",null,"Managing Job Stress","DES Course","ILT","Active"]
[null,"ES",null,"Time Management","DES Course","ILT","Active"]
[null,"ES",null,"Technical Writing: Tricks of the Trade","DES Course","ILT","Active"]
[null,"ES",null,"Writing Skills","DES Course","ILT","Active"]
[null,"ES",null,"Effective Meeting Management ","DES Course","ILT","Active"]
[null,"ES",null,"Leading Teams","DES Course","ILT","Active"]
[null,"ES",null,"Leading Others","DES Course (01-09-M612)","ILT","Active"]
[null,"ES",null,"Supervision Essentials-Phase II (Prerequisite is Leading Others)","DES Course","ILT","Active"]
["HR","GEN","TECHNICAL MATHEMATICS I (SELF-STUDY)","WSDOT GEN: TECHNICAL MATHEMATICS I (SELF-STUDY)","WSDOT_AFN","SS","Active"]
["HR","GEN","TECHNICAL MATHEMATICS II (SELF-STUDY)","WSDOT GEN: TECHNICAL MATHEMATICS II (Self Study)","WSDOT_A7J","SS","Active"]
["SAFE","SAFE","FALL PROTECTION","WSDOT SAFE: FALL PROTECTION","WSDOT_BN9","ILT","Active"]
["SAFE","SAFE","FIRST AID [Refresher Course Required Every 3 Years]","WSDOT SAFE: FIRST AID","WSDOT_APS","ILT","Active"]
["SAFE","SAFE","FLAGGING, TRAFFIC CONTROL [Refresher Course Required Every 3 Years]","WSDOT SAFE: FLAGGING, TRAFFIC CONTROL","WSDOT_AFZ","ILT","Active"]
["SAFE","SAFE","HAZARD COMMUNICATION STANDARD (HCS)  {Hazardous Materials}","WSDOT SAFE: HAZARD COMMUNICATION STANDARD (HCS)","WSDOT_AEX","ILT","Active"]
["SAFE","SAFE","HEARING CONSERVATION","WSDOT SAFE: HEARING CONSERVATION (Classroom/ILT, and/or Self-Study)","WSDOT_ATS","OLT/ILT","Active"]
["SAFE","SAFE","RESPIRATOR PROTECTION TRAINING","WSDOT SAFE: RESPIRATOR PROTECTION TRAINING","WSDOT_ARZ","ILT","Active"]
["CN","CN","AGGREGATE PRODUCTION & TESTING INSPECTION","WSDOT CN: AGGREGATE PRODUCTION & TESTING INSPECTION","WSDOT_ACA","ILT","Active"]
["CN","CN","BITUMINOUS SURFACE TREATMENT INSPECTION","WSDOT CN: BITUMINOUS SURFACE TREATMENT INSPECTION","WSDOT_CN_BST_ACC","ILT","Active"]
["CN","CN","ACCEPTANCE AND APPROVAL OF MATERIAL","WSDOT CN: ACCEPTANCE AND APPROVAL OF MATERIAL","WSDOT_CN_Acceptance_Material_CX8_OLT","OLT","Active"]
["CN","CN","COMPOSING AN INSPECTOR'S DAILY REPORT (online)","WSDOT CN: COMPOSING AN INSPECTOR'S DAILY REPORT","WSDOT_CZ9_OLT","OLT","Active"]
["CN","CN","CONCRETE BRIDGE DECKS","WSDOT CN: INSPECTING BRIDGE CONSTRUCTION","WSDOT_ACM","ILT","Active"]
["CN","CN","CONSTRUCTION INSPECTION DOCUMENTATION","WSDOT CN: CONSTRUCTION INSPECTION DOCUMENTATION","WSDOT_ACY","ILT","Active"]
["CN","CN","CONSTRUCTION MATERIALS, APPROVAL AND ACCEPTANCE","WSDOT CN:CONSTRUCTION MATERIALS, APPROVAL AND ACCEPTANCE","WSDOT_DAP","ILT","Active"]
["CN","CN","DRAINAGE INSPECTION","WSDOT CN: DRAINAGE INSPECTION","WSDOT_ACF","ILT","Active"]
["CN","CN","EARTHWORK INSPECTION","WSDOT CN: EARTHWORK INSPECTION","WSDOT_Earthwork_OLT","OLT","Active"]
["CN","CN","ELECTRICAL CONDUCTORS AND FIBER","WSDOT CN: ELECTRICAL CONDUCTORS AND FIBER for ICP","WSDOT_ICP_Electrical_Conductors_Fiber_OLT","OLT","Active"]
["CN","CN","ELECTRICAL-ILLUMINATION-SIGNALS & ITS INSPECTION","WSDOT CN: ELECTRICAL-ILLUMINATION-SIGNALS & ITS INSPECTION","WSDOT_API","ILT","Active"]
["CN","CN","EXCAVATION & EMBANKMENTS INSPECTION","WSDOT CN: EXCAVATION & EMBANKMENTS INSPECTION","WSDOT_AC3","ILT","Active"]
["CN","CN","FIELD PAINTING STRUCTURAL STEEL","WSDOT CN: FIELD PAINTING STRUCTURAL STEEL","WSDOT_CN_Field_Painting_OLT","OLT","Active"]
["CN","CN","FORCE ACCOUNT DOCUMENTATION AND PAYMENT (Online)","WSDOT CN: FORCE ACCOUNT DOCUMENTATION AND PAYMENT","WSDOT_CN_ForceAccount_DG2_OLT","OLT","Active"]
["CN","CN","FORMS AND FALSEWORK","WSDOT CN: FORMS AND FALSEWORK for ICP","WSDOT_ICP_Forms and Falsework_OLT","OLT","Active"]
["CN","CN","GUARDRAIL INSTALLATION FOR INSPECTORS","WSDOT CN: GUARDRAIL INSTALLATION FOR INSPECTORS","WSDOT_DD4","ILT","Active"]
["CN","CN","HAZMAT FOR THE PORTABLE NUCLEAR GAUGE","WSDOT CN: HAZMAT FOR THE PORTABLE NUCLEAR GAUGE","WSDOT Hazmat_for_Transportation_of_the_Nuclear_Gauge_ORG","OLT","Active"]
["CN","CN","HMA PLACEMENT INSPECTION","WSDOT CN: HMA PLACEMENT INSPECTION","WSDOT_HMAPlacement_OLT","OLT","Active"]
["CN","CN","HOT MIX ASPHALT PLACEMENT","WSDOT CN: HOT MIX ASPHALT PLACEMENT","WSDOT_ACB","ILT","Active"]
["CN","CN","HOT MIX ASPHALT PRODUCTION & TESTING","WSDOT CN: HOT MIX ASPHALT PRODUCTION & TESTING","WSDOT_BG9","ILT","Active"]
["CN","CN","INSPECTING BRIDGE CONSTRUCTION","WSDOT CN: INSPECTING BRIDGE CONSTRUCTION","WSDOT_ACM","ILT","Active"]
["CN","CN","INSPECTION OF PEDESTRIAN FACILITIES","WSDOT CN: INSPECTION OF PEDESTRIAN FACILITIES","WSDOT_IFP_OLT","OLT","Active"]
["CN","CN","INSPECTOR'S ROLE FOR CHANGE ORDER WORK (online)","WSDOT CN: INSPECTOR'S ROLE FOR CHANGE ORDER WORK","WSDOT_DH9_OLT","OLT","Active"]
["CN","CN","INSPECTOR’S USE OF CONTRACT RESOURCES (online)","WSDOT CN:INSPECTOR’S USE OF CONTRACT RESOURCES","WSDOT_UR1_OLT","OLT","Active"]
["CN","CN","NHI CONTRACT ADMINISTRATION CORE CURRICULUM","WSDOT CN: NHI CONTRACT ADMINISTRATION CORE CURRICULUM","WSDOT_NHI CONTRACT ADM","ILT","Active"]
["CN","CN","NUCLEAR GAUGE SAFETY AND OPERATION","WSDOT CN:NUCLEAR GAUGE SAFETY AND OPERATION","WSDOT_DCX_OLT","ILT","Active"]
["CN","CN","NUCLEAR GAUGE, EMBANKMENT/SURFACING/PAVEMENT APPLICATIONS","WSDOT CN: NUCLEAR GAUGE, EMBANKMENT/SURFACING/PAVEMENT APPLICATIONS","WSDOT_ANQ","ILT","Active"]
["CN","CN","PAVEMENT REHABILITATION","WSDOT CN: PAVEMENT REHABILITATION","WSDOT_BQL","ILT","Active"]
["CN","CN","PCC FIELD TESTING PROCEDURES (Being replaced by ACI Certification)","WSDOT CN: PCC FIELD TESTING PROCEDURES","WSDOT_ABT","ILT","Active"]
["CN","CN","PILE DRIVING INSPECTION","WSDOT CN: PILE DRIVING INSPECTION","Piling_OLT","OLT","Active"]
["CN","CN","PORTLAND CEMENT CONCRETE INSPECTION (online)","WSDOT CN: PORTLAND CEMENT CONCRETE INSPECTION","WSDOT_PCC_OLT","OLT","Active"]
["CN","CN","PRODUCING SOURCE DOCUMENTS","WSDOT CN: PRODUCING SOURCE DOCUMENTS","WSDOT_C1H_OLT","OLT","Active"]
["CN","CN","SIGN BRIDGES AND CANTILEVER SIGNS","WSDOT CN: SIGN BRIDGES AND CANTILEVER SIGNS","WSDOT_SBI_OLT","OLT","Active"]
["CN","CN","SIGN INSPECTOR DUTIES","WSDOT CN: SIGN INSPECTOR DUTIES","WSDOT_SID_OLT","OLT","Active"]
["CN","CN","SIGN INSTALLATION INSPECTION","WSDOT CN: SIGN INSTALLATION INSPECTION","WSDOT_DFV","ILT","Active"]
["CN","CN","SMALL AND LARGE SIGN INSPECTION REVIEW","WSDOT CN: SMALL AND LARGE SIGN INSPECTION REVIEW","WSDOT_SLR_OLT","OLT","Active"]
["CN","CN","WORK ZONE TRAFFIC CONTROL (online)","WSDOT CN: WORK ZONE TRAFFIC CONTROL","WSDOT_WZTC_OLT","OLT","Active"]
["DES","DES","CONTRACT PLANS REVIEW (SELF-STUDY)","CONTRACT PLANS REVIEW (SELF-STUDY)","Paper and Pencil","SS","Active",null,"E-Learning option as well.  Updated in 2013."]
["DES","DES","CONTRACT PLANS READING (SELF-STUDY)","CONTRACT PLANS READING (SELF-STUDY)","Paper and Pencil","SS","Active",null,"Obtain material through Staff Development."]
["DES","DES","CONTRACT PLANS & ESTIMATE PREPARATION","WSDOT DES: CONTRACT PLANS & ESTIMATE PREPARATION","WSDOT_A4J","ILT","Inactive","None"]
["DES","DES","CONTRACT PROVISION PREPARATION","WSDOT DES: CONTRACT PROVISION PREPARATION","WSDOT_BGN","ILT","Inactive","None"]
["DES","DES","PROJECT DEVELOPMENT ACADEMY","**PROJECT DEVELOPMENT ACADEMY","None","ILT","Inactive","None"]
["DES","DES","DESIGN DOCUMENTATION","WSDOT Design Documentation","WSDOT DES: Design Documentation","ILT","Active",null,"Currently being taught"]
["DES","DES","INTERSECTION DESIGN","WSDOT DES: INTERSECTION DESIGN","WSDOT_CBD","ILT","Under Development","2018 - Q2"]
["DES","DES","INTRODUCTION TO PROJECT DEVELOPMENT","WSDOT DES: INTRODUCTION TO PROJECT DEVELOPMENT","WSDOT_CF4","ILT","Inactive","None"]
["DES","DES","PROJECT SCHEDULING FUNDAMENTALS","WSDOT PM: SCHEDULING BASICS","WSDOT_CB5","ILT","Inactive","None"]
["DES","DES","RIGHT OF WAY PLANS PREPARATION","WSDOT DES: RIGHT OF WAY PLANS PREPARATION","WSDOT_BCN","ILT","Inactive","None"]
["DES","DES","ROADSIDE SAFETY","WSDOT DES: ROADSIDE SAFETY","WSDOT_B74","ILT","Inactive","None"]
["DES","DES","ROADWAY GEOMETRIC DESIGN","WSDOT DES: ROADWAY GEOMETRIC DESIGN","WSDOT_BWE","ILT","Inactive","None"]
["DES","DES","INTERCHANGE DESIGN","WSDOT DES: INTERCHANGE DESIGN","WSDOT_CFU","ILT","Inactive","None"]
["DES","DES","ACCESS MANAGEMENT  (replaced UW access management course)","WSDOT DES: ACCESS MANAGEMENT","WSDOT_DAS","ILT","Active",null,"LeRoy Patterson class.  Being updated, but can be given any time."]
["DES","DES","ALTERNATIVES COMPARISON WORKSHOP - NEW COURSE","**ALTERNATIVES COMPARISON WORKSHOP - NEW COURSE","None","ILT","Retired","None"]
["DES","DES","PROJECT COST ESTIMATING","WSDOT DES: INTRODUCTION TO COST ESTIMATING","WSDOT_CZV","ILT","Under Development","2018 - Q1","Mark Gabel is refreshing this course."]
["DES","DES","RISK MANAGEMENT","**RISK MANAGEMENT","None","ILT","Retired","None"]
["DES","DES","RISK-BASED TRANSPORTATION COST AND SCHEDULE EVALUATION","**RISK-BASED TRANSPORTATION COST AND SCHEDULE EVALUATION","None","ILT","Retired","None"]
["DES","DES","MANAGING PROJECT DELIVERY","**MANAGING PROJECT DELIVERY","None",null,"Retired","None","May be Skillsoft classes that cover this.  Talk to Dan Wisner."]
["DES","DES","HUMAN FACTORS IN TRANSPORTATION DESIGN","**HUMAN FACTORS IN TRANSPORTATION DESIGN","None","ILT","Inactive","None","Part of HSM Training.  Check with Ida and John Donahue regarding Human Factors content in the HSM training."]
["DES","DES","DESIGN MANUAL & PRACTICAL DESIGN","WSDOT DES: Design Manual Update Training","WSDOTDMUT01202016","ILT","Active",null,"Mark Gabel is lead on this."]
["DES","HYD","HYDRAULICS, HIGHWAY DRAINAGE","WSDOT DES: HYDRAULICS AND HYDROLOGY","WSDOT_DES_HYDRAULICS_AND_HYDROLOGY","ILT","Active",null,"Talk to Julie Heilman"]
["DES","HYD","HIGHWAY RUNOFF MANUAL","WSDOT DES: 2014 HIGHWAY RUNOFF MANUAL TRAINING","WSDOT_DBI","ILT","Active",null,"Talk to Julie Heilman"]
["DES","HYD","MGSFLOOD","WSDOT_MGSFLOOD_TRAINING","WSDOT_MGSFLOOD_TRAINING","ILT","Active",null,"Talk to Julie Heilman"]
["DES","HYD","STORMSHED (BEGINNING)","WSDOT DES: STORMSHED BEGINNING","WSDOT_DES_STORMSHED_BEGINNING","ILT","Active",null,"Talk to Julie Heilman"]
["DES","HYD","STORMSHED (INTERMEDIATE)","WSDOT DES: STORMSHED INTERMEDIATE","WSDOT_DES_STORMSHED_INTERMEDIATE","ILT","Active",null,"Talk to Julie Heilman"]
["DES","DES","PS101 - PRACTICAL SOLUTIONS 101","WSDOT PS 101: Practical Solutions Approach to Project Development Overview","WSDOT_PS101","ILT","Active",null,"Talk to Kate Severon"]
["ENV","ENV","SPILL PLAN REVIEWER TRAINING (OLT)","SPILL PLAN REVIEWER TRAINING (OLT)","WSDOT_BYZ_OLT","OLT","Active"]
["ENV","ENV","CONSTRUCTION SITE EROSION AND SEDIMENT CONTROL","CONSTRUCTION SITE EROSION AND SEDIMENT CONTROL","WSDOT_BPW","ILT","Active"]
["ENV","ENV","CULTURAL RESOURCE TRAINING","CULTURAL RESOURCE TRAINING","WSDOT_B7T","ILT","Active"]
["ENV","ENV","CULTURAL RESOURCES PROCEDURES AND POLICIES","CULTURAL RESOURCES PROCEDURES AND POLICIES","WSDOT_DGG","ILT","Active"]
["ENV","ENV","ENVIRONMENTAL JUSTICE INCLUSION TRAINING (OLT)","ENVIRONMENTAL JUSTICE INCLUSION TRAINING (OLT)","WSDOT_EJ1_OLT","OLT","Active"]
["ENV","ENV","ENVIRONMENTAL OVERVIEW - COMPLIANCE FOR CONSTRUCTION (OLT)","ENVIRONMENTAL OVERVIEW - COMPLIANCE FOR CONSTRUCTION (OLT)","WSDOT_CR5_OLT","OLT","Active"]
["ENV","ENV","ESA (ENDANGERED SPECIES ACT) FOR NON-BIOLOGISTS (OLT)","ESA (ENDANGERED SPECIES ACT) FOR NON-BIOLOGISTS (OLT)","WSDOT_EV9_OLT","OLT","Active"]
["ENV","ENV","NEPA/SEPA OVERVIEW","NEPA/SEPA OVERVIEW","WSDOT_DDV","ILT","Active",null,"Name may change, training under development"]
["TR","TR","WORKZONE TRAFFIC CONTROL SUPERVISORS RECERTIFICATION ","WSDOT TR: Work Zone Traffic Control Supervisor Re-Certification","WSDOT_BQD","OLT/ILT","Active"]
["TR","TR","TCS CERTIFICATION","WSDOT TR: Work Zone Traffic Control Supervisor Certification","WSDOT_A42","OLT/ILT","Active"]
["TR","TR","TRAFFIC CONTROL PLANS DESIGN","WSDOT TR: Work Zone Traffic Control Plan Design","WSDOT_DD7 (day one) and WSDOT_DBK (day two)","OLT/ILT","Active"]
["TR","TR","VISUM","**VISUM",null,"OLT/ILT","Inactive","None","No technical lead within WSDOT available to teach"]
["TR","TR","VISSIM","**VISSIM",null,"OLT/ILT","Inactive","None","No technical lead within WSDOT available to teach"]
["TR","TR","SIDRA","**SIDRA",null,"OLT/ILT","Inactive","None","No technical lead within WSDOT available to teach"]
["TR","TR","SYNCHRO","**SYNCHRO",null,"OLT/ILT","Inactive","None","No technical lead within WSDOT available to teach"]
["TR","TR","HIGHWAY SAFETY MANUAL LEVEL B - Overview.  4 hours.","WSDOT PSHSM: Highway Safety Manual Level B","PSHSM_B01","OLT/ILT","Inactive","None","No technical lead within WSDOT available to teach"]
["TR","TR","HIGHWAY SAFETY MANUAL LEVEL C1 - Intro to safety analysis.","WSDOT PSHSM: Highway Safety Manual Level C1","PSHSM_C01","OLT/ILT","Inactive","None","No technical lead within WSDOT available to teach"]
["TR","TR","HIGHWAY SAFETY MANUAL LEVEL C2 - Querying crash data in Cognos.","WSDOT PSHSM: Highway Safety Manual Level C2","PSHSM C2","OLT/ILT","Inactive","None","No technical lead within WSDOT available to teach"]
["TR","TR","HIGHWAY SAFETY MANUAL LEVEL C3 - Predictive safety analysis.","WSDOT PSHSM: Highway Safety Manual Level C3","PSHSM C3","OLT/ILT","Inactive","None","No technical lead within WSDOT available to teach"]
["TR","TR","HIGHWAY SAFETY MANUAL LEVEL D1 - Interactive Highway Safety Design Manual","WSDOT PSHSM: Highway Safety Manual Level D1","PSHSM D1","OLT/ILT","Inactive","None","No technical lead within WSDOT available to teach"]
["TR","TR","ILLUMINATION DESIGN FOR TRANSPORTATION APPLICATIONS","**ILLUMINATION DESIGN FOR TRANSPORTATION APPLICATIONS",null,"OLT/ILT","Under Development","2018 - Q2"]
["TR","TR","POWER SUPPLY DESIGN FOR TRANSPORTATION APPLICATIONS","WSDOT TR: Power Supply Design for Transportation Applications","WSDOT_BZA","OLT/ILT","Under Development","2018 - Q2"]
["TR","TR","TRAFFIC SIGNAL LAYOUT AND CONDUCTOR TERMINATION","**TRAFFIC SIGNAL LAYOUT AND CONDUCTOR TERMINATION",null,"OLT/ILT","Inactive","None","No technical lead within WSDOT available to teach"]
["TR","TR","SIGN DESIGN","**SIGN DESIGN",null,"OLT/ILT","Inactive","None","No technical lead within WSDOT available to teach"]
["NHI","NHI","TRAFFIC SIGNAL DESIGN AND OPERATION","WSDOT NHI: TR-Traffic Signal Design and Operations","WSDOT_TSD","OLT/ILT","Inactive","None","No technical lead within WSDOT available to teach"]
["NHI","NHI","TRAFFIC SIGNAL TIMING CONCEPTS","WSDOT NHI: TR-Traffic Signal Timing Concepts","WSDOT_STC","OLT/ILT","Inactive","None","No technical lead within WSDOT available to teach"]
["NHI","NHI","SYSTEMS ENGINEERING FOR SIGNAL SYSTEMS","**SYSTEMS ENGINEERING FOR SIGNAL SYSTEMS",null,"OLT/ILT","Inactive","None","No technical lead within WSDOT available to teach"]
["NHI","NHI","TRAFFIC SIGNAL MANAGEMENT","**TRAFFIC SIGNAL MANAGEMENT",null,"OLT/ILT","Inactive","None","No technical lead within WSDOT available to teach"]
["NHI","NHI","ITS PROCUREMENT","**ITS PROCUREMENT",null,"OLT/ILT","Inactive","None","No technical lead within WSDOT available to teach"]
["NHI","NHI","BASICS OF TRANSPORTATION PLANNING","**BASICS OF TRANSPORTATION PLANNING",null,"OLT/ILT","Inactive","None","No technical lead within WSDOT available to teach"]
["TR","TR","ADA/APS DESIGN","**ADA/APS DESIGN",null,"OLT/ILT","Inactive","None","No technical lead within WSDOT available to teach"]
["TR","TR","SIGNAL WARRANT ANALYSIS","**SIGNAL WARRANT ANALYSIS",null,"OLT/ILT","Inactive","None","No technical lead within WSDOT available to teach"]
["TR","TR","ITS DESIGN","WSDOT TR: Introduction to ITS Design","WSDOT_DA6","OLT/ILT","Inactive","None","No technical lead within WSDOT available to teach"]
["TR","TR","ITS DESIGN - Advanced","WSDOT TR: Intermediate/Advanced ITS Design","WSDOT_DA7","OLT/ILT","Inactive","None","No technical lead within WSDOT available to teach"]
["TR","TR","BASIC HIGHWAY CAPACITY FOR ENGINEERS AND PLANNERS","**BASIC HIGHWAY CAPACITY FOR ENGINEERS AND PLANNERS",null,"OLT/ILT","Inactive","None","No technical lead within WSDOT available to teach"]
["TR","TR","UNIFORM TRAFFIC CONTROL DEVICES","WSDOT UW: Gen-Uniform Traffic Control Devices","WSDOT_BML","OLT/ILT","Inactive","None","No technical lead within WSDOT available to teach"]
["TR","TR","ADVANCED HIGHWAY CAPACITY ANALYSIS","WSDOT UW: TR-Advanced Highway Capacity Analysis","WSDOT_A3C","OLT/ILT","Inactive","None","No technical lead within WSDOT available to teach"]
["TR","TR","FUNDAMENTALS OF TRAFFIC ENGINEERING","WSDOT UW: TR-Fundamentals of Traffic Engineering","WSDOT_BS3","OLT/ILT","Inactive","None","No technical lead within WSDOT available to teach"]
["TR","TR","TRAFFIC ENGINEERING OPERATIONS","WSDOT UW:TR-Traffic Engineering Operations","WSDOT_BS4","OLT/ILT","Inactive","None","No technical lead within WSDOT available to teach"]
["CAE","CAE","MICROSTATION - 101 ENTRY LEVEL","WSDOT CAE: MICROSTATION - 101 ENTRY LEVEL","WSDOT_AX4","ILT","Active"]
["CAE","CAE","MICROSTATION - 201 PRODUCTION LEVEL","WSDOT CAE: MICROSTATION - 201 PRODUCTION LEVEL","WSDOT_AI6","ILT","Active"]
["CAE","CAE","MICROSTATION - 301 AUTO TURN ","**MICROSTATION - 301 AUTO TURN ",null,null,"Inactive","None","Will know the status when CAE position is filled"]
["CAE","CAE","INROADS - 201 PRODUCTION LEVEL DESIGN","WSDOT CAE: INROADS - 201 PRODUCTION LEVEL DESIGN","WSDOT_CRZ","ILT","Active"]
["CAE","CAE","INROADS - 202 SURVEY DATA PROCESSING","WSDOT CAE: INROADS - 202 SURVEY DATA PROCESSING","WSDOT_CU1","ILT","Active"]
["CAE","CAE","INROADS - 203 GEOMETRICS ","WSDOT CAE: INROADS - 203 GEOMETRICS","WSDOT_DBF","ILT","Active"]
["CAE","CAE","INROADS - 205 CONSTRUCTION PROCESSES ","WSDOT CAE: INROADS - 205 CONSTRUCTION PROCESSES","WSDOT_DH2","ILT","Active"]
["CAE","CAE","INROADS - 251 INTERMEDIATE ROADWAY DESIGN ","WSDOT CAE: INROADS - 251 INTERMEDIATE ROADWAY DESIGN","WSDOT_DDL","ILT","Active"]
["SUR","SUR","BASIC SURVEYING (SELF-STUDY)","WSDOT SUR: BASIC SURVEYING (SELF-STUDY)","WSDOT_APK","SS","Active"]
["SUR","SUR","ADVANCED SURVEYING (SELF STUDY)   {Under Development}","WSDOT SUR: ADVANCED SURVEYING (SELF-STUDY)","WSDOT_A6U","SS","Under Development","2018 - Q3"]
["SUR","SUR","INTERMEDIATE SURVEYING  {Under Development}","WSDOT SUR: INTERMEDIATE SURVEYING","WSDOT A4U","ILT","Under Development","2018 - Q1"]

{"sheet":"CN-Cert","index":9,"n_rows":86,"n_cols":4,"rows_kept":86,"cut":false,"hidden":false,"merged":[[22,0,22,2],[23,0,27,2],[0,0,0,3],[20,0,20,3],[21,0,21,3],[9,2,10,2],[2,2,2,3],[12,2,13,2],[14,2,17,2],[78,1,81,1],[80,2,81,2],[74,0,81,0],[28,0,32,0],[33,0,44,0],[45,0,68,0],[40,1,44,1],[61,1,68,1],[69,0,73,0],[33,1,39,2],[45,1,60,2],[74,1,77,2],[69,1,73,2],[41,2,43,2],[28,1,32,2]]}
["CONSTRUCTION CERTIFICATION "]
[]
[null,null,"Inspector Certification Program - General"]
[null,null,"Certification","Related Courses"]
[null,null,"Math","TECHNICAL MATHEMATICS I (SELF-STUDY)"]
[null,null,"Contract Plans Reading","CONTRACT PLANS READING (SELF-STUDY)"]
[null,null,"Basic Surveying","BASIC SURVEYING (SELF-STUDY)"]
[null,null,"Inspector's Daily Report","CN: COMPOSING AN INSPECTOR'S DAILY REPORT  (OLT)"]
[null,null,"Force Account ","FORCE ACCOUNT DOCUMENTATION AND PAYMENT (OLT)"]
[null,null,"Materials Documentation","CONSTRUCTION MATERIALS, APPROVAL AND ACCEPTANCE (ILT)"]
[null,null,null,"ACCEPTANCE AND APPROVAL OF MATERIAL (OLT)"]
[null,null,"Change Orders ","INSPECTOR'S ROLE FOR CHANGE ORDER WORK (OLT)"]
[null,null,"Safety","Standard Specifications for Road, Bridge, and Municipal Construction (Shoring Safety)"]
[null,null,null,"Safety Procedures and Guidelines Manual"]
[null,null,"Utilizing Resources","Construction Manual"]
[null,null,null,"Standard Specifications for Road, Bridge, and Municipal Construction"]
[null,null,null,"Standard Plans"]
[null,null,null,"INSPECTOR'S USE OF CONTRACT RESOURCES (OLT)"]
[null,null,"Environmental","ENVIRONMENTAL OVERVIEW - COMPLIANCE FOR CONSTRUCTION (OLT)"]
[]
["Inspector Certification Program - Divisional"]
["Please see Construction Manual Section GEN 1-00.4(3) for Inspector Certification Program guidance"]
["Applicable Division",null,null,"Related Courses"]
["Division - All",null,null,"CN: ACCEPTANCE AND APPROVAL OF MATERIAL   (OLT)"]
[null,null,null,"CN: COMPOSING AN INSPECTOR'S DAILY REPORT  (OLT)"]
[null,null,null,"CN: CONSTRUCTION INSPECTION DOCUMENTATION  (OLT & ILT)"]
[null,null,null,"CN: CONSTRUCTION MATERIALS, APPROVAL AND ACCEPTANCE  (OLT & ILT)"]
[null,null,null,"CN: PRODUCING SOURCE DOCUMENTS"]
["Division 2","Division 2 - Earthwork",null,"CN: EARTHWORK INSPECTION  (OLT)"]
[null,null,null,"CN: EXCAVATION & EMBANKMENTS INSPECTION"]
[null,null,null,"CN: HAZMAT FOR THE PORTABLE NUCLEAR GAUGE (OLT)"]
[null,null,null,"CN: NUCLEAR GAUGE SAFETY AND OPERATION  (OLT and ILT)"]
[null,null,null,"CN: NUCLEAR GAUGE, EMBANKMENT/SURFACING/PAVEMENT APPLICATIONS"]
["Division 5","Division 5 - Core Courses",null,"CN: AGGREGATE PRODUCTION & TESTING INSPECTION"]
[null,null,null,"CN: BITUMINOUS SURFACE TREATMENT INSPECTION"]
[null,null,null,"CN: HAZMAT FOR THE PORTABLE NUCLEAR GAUGE   (OLT)"]
[null,null,null,"CN: NUCLEAR GAUGE SAFETY AND OPERATION  (OLT and ILT)"]
[null,null,null,"CN: NUCLEAR GAUGE, EMBANKMENT/SURFACING/PAVEMENT APPLICATIONS"]
[null,null,null,"CN: PCC FIELD TESTING PROCEDURES"]
[null,null,null,"CN: PORTLAND CEMENT CONCRETE INSPECTION  (OLT)"]
[null,"Sub-divisions","Division 5 - Surface Treatments and Pavements","No specific sub-division coursework, see Core Courses"]
[null,null,"Division 5 - Hot Mix Asphalt","CN: HMA PLACEMENT INSPECTION"]
[null,null,null,"CN: HOT MIX ASPHALT PLACEMENT"]
[null,null,null,"CN: HOT MIX ASPHALT PRODUCTION & TESTING"]
[null,null,"Division 5 - Cement Concrete Pavements and Rehabilitation","CN: PAVEMENT REHABILITATION"]
["Division 6","Division 6 - Core Courses",null,"CN: ACCEPTANCE AND APPROVAL OF MATERIAL   (OLT)"]
[null,null,null,"CN: COMPOSING AN INSPECTOR'S DAILY REPORT  (OLT)"]
[null,null,null,"CN: CONSTRUCTION INSPECTION DOCUMENTATION  (OLT & ILT)"]
[null,null,null,"CN: CONSTRUCTION MATERIALS, APPROVAL AND ACCEPTANCE  (OLT & ILT)"]
[null,null,null,"CN: HAZMAT FOR THE PORTABLE NUCLEAR GAUGE   (OLT)"]
[null,null,null,"CN: INSPECTING BRIDGE CONSTRUCTION   (OLT)"]
[null,null,null,"CN: NUCLEAR GAUGE SAFETY AND OPERATION  (OLT and ILT)"]
[null,null,null,"CN: NUCLEAR GAUGE, EMBANKMENT/SURFACING/PAVEMENT APPLICATIONS"]
[null,null,null,"CN: PCC FIELD TESTING PROCEDURES"]
[null,null,null,"CN: PILE DRIVING INSPECTION"]
[null,null,null,"CN: PORTLAND CEMENT CONCRETE INSPECTION  (OLT)"]
[null,null,null,"CN: PRODUCING SOURCE DOCUMENTS"]
[null,null,null,"CN: SIGN BRIDGES AND CANTILEVER SIGNS"]
[null,null,null,"CN: SIGN INSPECTOR DUTIES"]
[null,null,null,"CN: SIGN INSTALLATION INSPECTION"]
[null,null,null,"CN: SMALL AND LARGE SIGN INSPECTION REVIEW"]
[null,"Subdivisions","Division 6 - Structures","CN: FORMS AND FALSEWORK   (OLT & ILT)"]
[null,null,"Division 6 - Cast-in-Place Concrete","CN: FORMS AND FALSEWORK   (OLT & ILT)"]
[null,null,"Division 6 - Foundations","No specific sub-division coursework, see Core Courses"]
[null,null,"Division 6 - Concrete Bridges","CN: FORMS AND FALSEWORK   (OLT & ILT)"]
[null,null,"Division 6 - Steel Bridges","CN: FIELD PAINTING STRUCTURAL STEEL  (OLT & ILT)"]
[null,null,"Division 6 - Structural Earth Walls","CN: FORMS AND FALSEWORK   (OLT & ILT)"]
[null,null,"Division 6 - Tieback Walls","CN: FORMS AND FALSEWORK   (OLT & ILT)"]
[null,null,"Division 6 - Concrete Walls","CN: FORMS AND FALSEWORK   (OLT & ILT)"]
["Division 7","Division 7 - Drainage",null,"CN: DRAINAGE INSPECTION"]
[null,null,null,"CN: HAZMAT FOR THE PORTABLE NUCLEAR GAUGE   (OLT)"]
[null,null,null,"CN: NUCLEAR GAUGE SAFETY AND OPERATION  (OLT and ILT)"]
[null,null,null,"CN: NUCLEAR GAUGE, EMBANKMENT/SURFACING/PAVEMENT APPLICATIONS"]
[null,null,null,"CN: PORTLAND CEMENT CONCRETE INSPECTION  (OLT)"]
["Division 8","Division 8 - Core Courses",null,"CN: SIGN BRIDGES AND CANTILEVER SIGNS"]
[null,null,null,"CN: SIGN INSPECTOR DUTIES"]
[null,null,null,"CN: SIGN INSTALLATION INSPECTION"]
[null,null,null,"CN: SMALL AND LARGE SIGN INSPECTION REVIEW"]
[null,"Sub-divisions","Division 8 - Guardrail","CN: GUARDRAIL INSTALLATION FOR INSPECTORS   (OLT)"]
[null,null,"Division 8 - Signing","No specific sub-division coursework, see Core Courses"]
[null,null,"Division 8 - Illumination, Signal System, Electrical & ITS","CN: ELECTRICAL CONDUCTORS AND FIBER  (OLT)"]
[null,null,null,"CN: ELECTRICAL-ILLUMINATION-SIGNALS & ITS INSPECTION  (OLT & ILT)"]
[]
[null,"Core courses that are applicable to all divisions or the specific division noted."]
["OLT = Online Training"]
["ILT = Instructor Training"]

{"sheet":"DES","index":10,"n_rows":283,"n_cols":13,"rows_kept":283,"cut":false,"hidden":false,"merged":[[202,0,202,6],[210,0,210,6],[213,0,213,6],[76,0,76,6],[83,0,83,6],[85,0,85,6],[88,0,88,6],[95,0,95,6],[151,0,151,6],[152,0,152,6],[185,0,185,6],[191,0,191,6],[55,0,55,6],[58,0,58,6],[60,0,60,6],[63,0,63,6],[70,0,70,6],[2,0,2,6],[13,0,13,6],[48,0,48,6],[49,0,49,6],[52,0,52,6]]}
[null,null,null,7,6]
["Responsible Division","LMS COURSE NAME"," LMS COURSE CODE","Self Study (SS), \nOnline (OLT), or \nInstructor Led (ILT)","TRAINING\nSTATUS","If training status is \"inactive\", when will the course be developed?","NOTES","TT1","TT2","TT3","TE1","TE2","TE3"]
["Mandatory",null,null,null,null,null,null,{"$f":"IF(Master!I3=\"\",\"B\",Master!I3)","v":"B"},{"$f":"IF(Master!T3=\"\",\"B\",Master!T3)","v":"B"},{"$f":"IF(Master!AE3=\"\",\"B\",Master!AE3)","v":"B"},{"$f":"IF(Master!AP3=\"\",\"B\",Master!AP3)","v":"B"},{"$f":"IF(Master!BA3=\"\",\"B\",Master!BA3)","v":"B"},{"$f":"IF(Master!BL3=\"\",\"B\",Master!BL3)","v":"B"}]
[{"$f":"Master!A4","v":"HR"},{"$f":"Master!B4","v":"WA-State Ethics in State Government"},{"$f":"Master!C4","v":"WA-State Ethics 8-7-2014-V6"},{"$f":"Master!D4","v":"OLT"},{"$f":"Master!E4","v":"Active"},{"$f":"Master!F4","v":0},{"$f":"Master!H4","v":"To register for this course, \ncall the LMS Helpdesk at \n360-705-7060."},{"$f":"IF(Master!I4=\"\",\"B\",Master!I4)","v":"M"},{"$f":"IF(Master!T4=\"\",\"B\",Master!T4)","v":"M"},{"$f":"IF(Master!AE4=\"\",\"B\",Master!AE4)","v":"M"},{"$f":"IF(Master!AP4=\"\",\"B\",Master!AP4)","v":"M"},{"$f":"IF(Master!BA4=\"\",\"B\",Master!BA4)","v":"M"},{"$f":"IF(Master!BL4=\"\",\"B\",Master!BL4)","v":"M"}]
[{"$f":"Master!A5","v":"HR"},{"$f":"Master!B5","v":"WSDOT Mandatory: Ethical Standards WSDOT Specific Training"},{"$f":"Master!C5","v":"WSDOT_BKB Specific"},{"$f":"Master!D5","v":"OLT"},{"$f":"Master!E5","v":"Active"},{"$f":"Master!F5","v":0},{"$f":"Master!H5","v":"To register for this course, \ncall the LMS Helpdesk at \n360-705-7060."},{"$f":"IF(Master!I5=\"\",\"B\",Master!I5)","v":"M"},{"$f":"IF(Master!T5=\"\",\"B\",Master!T5)","v":"M"},{"$f":"IF(Master!AE5=\"\",\"B\",Master!AE5)","v":"M"},{"$f":"IF(Master!AP5=\"\",\"B\",Master!AP5)","v":"M"},{"$f":"IF(Master!BA5=\"\",\"B\",Master!BA5)","v":"M"},{"$f":"IF(Master!BL5=\"\",\"B\",Master!BL5)","v":"M"}]
[{"$f":"Master!A6","v":"HR"},{"$f":"Master!B6","v":"WSDOT Mandatory: System Security Awareness For Transportation Employees (Self Study)"},{"$f":"Master!C6","v":"WSDOT_CJJ_UDT"},{"$f":"Master!D6","v":"SS"},{"$f":"Master!E6","v":"Active"},{"$f":"Master!F6","v":0},{"$f":"Master!H6","v":"To register for this course, \ncall the LMS Helpdesk at \n360-705-7060."},{"$f":"IF(Master!I6=\"\",\"B\",Master!I6)","v":"M"},{"$f":"IF(Master!T6=\"\",\"B\",Master!T6)","v":"M"},{"$f":"IF(Master!AE6=\"\",\"B\",Master!AE6)","v":"M"},{"$f":"IF(Master!AP6=\"\",\"B\",Master!AP6)","v":"M"},{"$f":"IF(Master!BA6=\"\",\"B\",Master!BA6)","v":"M"},{"$f":"IF(Master!BL6=\"\",\"B\",Master!BL6)","v":"M"}]
[{"$f":"Master!A7","v":"HR"},{"$f":"Master!B7","v":"WSDOT Mandatory: Violence That Affects The Workplace (Self Study)"},{"$f":"Master!C7","v":"WSDOT_B9V"},{"$f":"Master!D7","v":"SS"},{"$f":"Master!E7","v":"Active"},{"$f":"Master!F7","v":0},{"$f":"Master!H7","v":"To register for this course, \ncall the LMS Helpdesk at \n360-705-7060."},{"$f":"IF(Master!I7=\"\",\"B\",Master!I7)","v":"M"},{"$f":"IF(Master!T7=\"\",\"B\",Master!T7)","v":"M"},{"$f":"IF(Master!AE7=\"\",\"B\",Master!AE7)","v":"M"},{"$f":"IF(Master!AP7=\"\",\"B\",Master!AP7)","v":"M"},{"$f":"IF(Master!BA7=\"\",\"B\",Master!BA7)","v":"M"},{"$f":"IF(Master!BL7=\"\",\"B\",Master!BL7)","v":"M"}]
[{"$f":"Master!A8","v":"HR"},{"$f":"Master!B8","v":"WA-State IT Security Awareness Training"},{"$f":"Master!C8","v":"WA-State IT Security Awareness Training - Initial Training-8/16/2013"},{"$f":"Master!D8","v":"OLT"},{"$f":"Master!E8","v":"Active"},{"$f":"Master!F8","v":0},{"$f":"Master!H8","v":"To register for this course, \ncall the LMS Helpdesk at \n360-705-7060."},{"$f":"IF(Master!I8=\"\",\"B\",Master!I8)","v":"M"},{"$f":"IF(Master!T8=\"\",\"B\",Master!T8)","v":"M"},{"$f":"IF(Master!AE8=\"\",\"B\",Master!AE8)","v":"M"},{"$f":"IF(Master!AP8=\"\",\"B\",Master!AP8)","v":"M"},{"$f":"IF(Master!BA8=\"\",\"B\",Master!BA8)","v":"M"},{"$f":"IF(Master!BL8=\"\",\"B\",Master!BL8)","v":"M"}]
[{"$f":"Master!A9","v":"HR"},{"$f":"Master!B9","v":"WA-State Sexual Harassment Awareness and Prevention"},{"$f":"Master!C9","v":"DES_shap_2013_Updated_9-3-2014"},{"$f":"Master!D9","v":"OLT"},{"$f":"Master!E9","v":"Active"},{"$f":"Master!F9","v":0},{"$f":"Master!H9","v":"To register for this course, \ncall the LMS Helpdesk at \n360-705-7060."},{"$f":"IF(Master!I9=\"\",\"B\",Master!I9)","v":"M"},{"$f":"IF(Master!T9=\"\",\"B\",Master!T9)","v":"M"},{"$f":"IF(Master!AE9=\"\",\"B\",Master!AE9)","v":"M"},{"$f":"IF(Master!AP9=\"\",\"B\",Master!AP9)","v":"M"},{"$f":"IF(Master!BA9=\"\",\"B\",Master!BA9)","v":"M"},{"$f":"IF(Master!BL9=\"\",\"B\",Master!BL9)","v":"M"}]
[{"$f":"Master!A10","v":"HR"},{"$f":"Master!B10","v":"WSDOT Mandatory: Disability Awareness Step 1, Understanding the Americans with Disabilities Act (ADA)  "},{"$f":"Master!C10","v":"lchr_01_a15_lc_enus"},{"$f":"Master!D10","v":"OLT"},{"$f":"Master!E10","v":"Active"},{"$f":"Master!F10","v":0},{"$f":"Master!H10","v":"To register for this course, \ncall the LMS Helpdesk at \n360-705-7060."},{"$f":"IF(Master!I10=\"\",\"B\",Master!I10)","v":"M"},{"$f":"IF(Master!T10=\"\",\"B\",Master!T10)","v":"M"},{"$f":"IF(Master!AE10=\"\",\"B\",Master!AE10)","v":"M"},{"$f":"IF(Master!AP10=\"\",\"B\",Master!AP10)","v":"M"},{"$f":"IF(Master!BA10=\"\",\"B\",Master!BA10)","v":"M"},{"$f":"IF(Master!BL10=\"\",\"B\",Master!BL10)","v":"M"}]
[{"$f":"Master!A11","v":"HR"},{"$f":"Master!B11","v":"WSDOT Mandatory: Disability Awareness Step 2 of Learning Plan"},{"$f":"Master!C11","v":"WSDOT_CD8_UDT2"},{"$f":"Master!D11","v":"OLT"},{"$f":"Master!E11","v":"Active"},{"$f":"Master!F11","v":0},{"$f":"Master!H11","v":"To register for this course, \ncall the LMS Helpdesk at \n360-705-7060."},{"$f":"IF(Master!I11=\"\",\"B\",Master!I11)","v":"M"},{"$f":"IF(Master!T11=\"\",\"B\",Master!T11)","v":"M"},{"$f":"IF(Master!AE11=\"\",\"B\",Master!AE11)","v":"M"},{"$f":"IF(Master!AP11=\"\",\"B\",Master!AP11)","v":"M"},{"$f":"IF(Master!BA11=\"\",\"B\",Master!BA11)","v":"M"},{"$f":"IF(Master!BL11=\"\",\"B\",Master!BL11)","v":"M"}]
[{"$f":"Master!A12","v":"HR"},{"$f":"Master!B12","v":"WSDOT Mandatory: Discrimination In The Workplace (Self Study)"},{"$f":"Master!C12","v":"WSDOT_DIS"},{"$f":"Master!D12","v":"SS"},{"$f":"Master!E12","v":"Active"},{"$f":"Master!F12","v":0},{"$f":"Master!H12","v":"To register for this course, \ncall the LMS Helpdesk at \n360-705-7060."},{"$f":"IF(Master!I12=\"\",\"B\",Master!I12)","v":"M"},{"$f":"IF(Master!T12=\"\",\"B\",Master!T12)","v":"M"},{"$f":"IF(Master!AE12=\"\",\"B\",Master!AE12)","v":"M"},{"$f":"IF(Master!AP12=\"\",\"B\",Master!AP12)","v":"M"},{"$f":"IF(Master!BA12=\"\",\"B\",Master!BA12)","v":"M"},{"$f":"IF(Master!BL12=\"\",\"B\",Master!BL12)","v":"M"}]
[{"$f":"Master!A13","v":"HR"},{"$f":"Master!B13","v":"WSDOT Mandatory: Valuing Diversity Step 2, Promoting Respect in the Global Workplace – Employee Edition"},{"$f":"Master!C13","v":"WSDOT_lch_01_a09_lc_enus"},{"$f":"Master!D13","v":"OLT"},{"$f":"Master!E13","v":"Active"},{"$f":"Master!F13","v":0},{"$f":"Master!H13","v":"To register for this course, \ncall the LMS Helpdesk at \n360-705-7060."},{"$f":"IF(Master!I13=\"\",\"B\",Master!I13)","v":"M"},{"$f":"IF(Master!T13=\"\",\"B\",Master!T13)","v":"M"},{"$f":"IF(Master!AE13=\"\",\"B\",Master!AE13)","v":"M"},{"$f":"IF(Master!AP13=\"\",\"B\",Master!AP13)","v":"M"},{"$f":"IF(Master!BA13=\"\",\"B\",Master!BA13)","v":"M"},{"$f":"IF(Master!BL13=\"\",\"B\",Master!BL13)","v":"M"}]
[{"$f":"Master!A14","v":"General Knowledge"},null,null,null,null,null,null,{"$f":"IF(Master!I14=\"\",\"B\",Master!I14)","v":"B"},null,{"$f":"IF(Master!AE14=\"\",\"B\",Master!AE14)","v":"B"},{"$f":"IF(Master!AP14=\"\",\"B\",Master!AP14)","v":"B"},{"$f":"IF(Master!BA14=\"\",\"B\",Master!BA14)","v":"B"},{"$f":"IF(Master!BL14=\"\",\"B\",Master!BL14)","v":"B"}]
[{"$f":"Master!A15","v":"GEN"},{"$f":"Master!B15","v":"**Legal Liability for Transportation Professionals - Entry"},{"$f":"Master!C15","v":0},{"$f":"Master!D15","v":"ILT"},{"$f":"Master!E15","v":"Inactive"},{"$f":"Master!F15","v":0},{"$f":"Master!G15","v":"TBD"},{"$f":"IF(Master!H15=\"\",\"B\",Master!I15)","v":"B"},{"$f":"IF(Master!T15=\"\",\"B\",Master!T15)","v":1},{"$f":"IF(Master!J15=\"\",\"B\",Master!J15)","v":1},{"$f":"IF(Master!K15=\"\",\"B\",Master!K15)","v":1},{"$f":"IF(Master!L15=\"\",\"B\",Master!L15)","v":1},{"$f":"IF(Master!M15=\"\",\"B\",Master!M15)","v":1}]
[{"$f":"Master!A16","v":"GEN"},{"$f":"Master!B16","v":"**Legal Liability for Transportation Professionals - In-Depth"},{"$f":"Master!C16","v":0},{"$f":"Master!D16","v":"ILT"},{"$f":"Master!E16","v":"Inactive"},{"$f":"Master!F16","v":0},{"$f":"Master!G16","v":"TBD"},{"$f":"IF(Master!H16=\"\",\"B\",Master!I16)","v":"B"},{"$f":"IF(Master!T16=\"\",\"B\",Master!T16)","v":"B"},{"$f":"IF(Master!J16=\"\",\"B\",Master!J16)","v":"B"},{"$f":"IF(Master!K16=\"\",\"B\",Master!K16)","v":"B"},{"$f":"IF(Master!L16=\"\",\"B\",Master!L16)","v":"B"},{"$f":"IF(Master!M16=\"\",\"B\",Master!M16)","v":"B"}]
[{"$f":"Master!A17","v":"GEN"},{"$f":"Master!B17","v":"WSDOT GEN: TECHNICAL MATHEMATICS I (SELF-STUDY)"},{"$f":"Master!C17","v":"WSDOT_AFN"},{"$f":"Master!D17","v":"SS"},{"$f":"Master!E17","v":"Active"},{"$f":"Master!F17","v":0},{"$f":"Master!G17","v":"NA"},{"$f":"IF(Master!H17=\"\",\"B\",Master!I17)","v":"B"},{"$f":"Master!I17","v":"R"},{"$f":"Master!J17","v":"R"},{"$f":"IF(Master!K17=\"\",\"B\",Master!K17)","v":"R"},{"$f":"Master!L17","v":"R"},{"$f":"Master!M17","v":"R"}]
[{"$f":"Master!A18","v":"GEN"},{"$f":"Master!B18","v":"WSDOT GEN: TECHNICAL MATHEMATICS II (SELF-STUDY)"},{"$f":"Master!C18","v":"WSDOT_A7J"},{"$f":"Master!D18","v":"SS"},{"$f":"Master!E18","v":"Active"},{"$f":"Master!F18","v":0},{"$f":"Master!G18","v":"NA"},{"$f":"IF(Master!H18=\"\",\"B\",Master!I18)","v":"B"},{"$f":"Master!I18","v":"R"},{"$f":"Master!J18","v":"R"},{"$f":"IF(Master!K18=\"\",\"B\",Master!K18)","v":"R"},{"$f":"Master!L18","v":"R"},{"$f":"Master!M18","v":"R"}]
[{"$f":"Master!A19","v":"SS"},{"$f":"Master!B19","v":"Finding Your Bearings as a Project Manager"},{"$f":"Master!C19","v":"apj_151_a01_bs_enus"},{"$f":"Master!D19","v":"OLT"},{"$f":"Master!E19","v":"Active"},{"$f":"Master!F19","v":0},{"$f":"Master!G19","v":"NA"},{"$f":"IF(Master!H19=\"\",\"B\",Master!I19)","v":"B"},{"$f":"Master!I19","v":"R"},{"$f":"Master!J19","v":"R"},{"$f":"IF(Master!K19=\"\",\"B\",Master!K19)","v":"R"},{"$f":"Master!L19","v":"R"},{"$f":"Master!M19","v":"R"}]
[{"$f":"Master!A20","v":"SS"},{"$f":"Master!B20","v":"Getting to the Root of a Problem"},{"$f":"Master!C20","v":"apj_15_a01_bs_enus"},{"$f":"Master!D20","v":"OLT"},{"$f":"Master!E20","v":"Active"},{"$f":"Master!F20","v":0},{"$f":"Master!G20","v":"NA"},{"$f":"IF(Master!H20=\"\",\"B\",Master!I20)","v":"B"},{"$f":"Master!I20","v":"R"},{"$f":"Master!J20","v":"R"},{"$f":"IF(Master!K20=\"\",\"B\",Master!K20)","v":"R"},{"$f":"Master!L20","v":"R"},{"$f":"Master!M20","v":"R"}]
[{"$f":"Master!A21","v":"SS"},{"$f":"Master!B21","v":"The Process Groups (PMBOK® Guide Fifth Edition)"},{"$f":"Master!C21","v":"apj_01_a03_bs_enus"},{"$f":"Master!D21","v":"OLT"},{"$f":"Master!E21","v":"Active"},{"$f":"Master!F21","v":0},{"$f":"Master!G21","v":"NA"},{"$f":"IF(Master!H21=\"\",\"B\",Master!I21)","v":"B"},{"$f":"Master!I21","v":"R"},{"$f":"Master!J21","v":"R"},{"$f":"IF(Master!K21=\"\",\"B\",Master!K21)","v":"R"},{"$f":"Master!L21","v":"R"},{"$f":"Master!M21","v":"R"}]
[{"$f":"Master!A22","v":"SS"},{"$f":"Master!B22","v":"Solving Problems: Generating and Evaluating Alternatives"},{"$f":"Master!C22","v":"pd_29_a02_bs_enus"},{"$f":"Master!D22","v":"OLT"},{"$f":"Master!E22","v":"Active"},{"$f":"Master!F22","v":0},{"$f":"Master!G22","v":"NA"},{"$f":"IF(Master!H22=\"\",\"B\",Master!I22)","v":"B"},{"$f":"Master!I22","v":"R"},{"$f":"Master!J22","v":"R"},{"$f":"IF(Master!K22=\"\",\"B\",Master!K22)","v":"R"},{"$f":"Master!L22","v":"R"},{"$f":"Master!M22","v":"R"}]
[{"$f":"Master!A23","v":"SS"},{"$f":"Master!B23","v":"Making and Carrying Out Tough Decisions"},{"$f":"Master!C23","v":"pd_29_a03_bs_enus"},{"$f":"Master!D23","v":"OLT"},{"$f":"Master!E23","v":"Active"},{"$f":"Master!F23","v":0},{"$f":"Master!G23","v":"NA"},{"$f":"IF(Master!H23=\"\",\"B\",Master!I23)","v":"B"},{"$f":"Master!I23","v":"R"},{"$f":"Master!J23","v":"R"},{"$f":"IF(Master!K23=\"\",\"B\",Master!K23)","v":"R"},{"$f":"Master!L23","v":"R"},{"$f":"Master!M23","v":"R"}]
[{"$f":"Master!A24","v":"SS"},{"$f":"Master!B24","v":"Solving Problems: Framing the Problem"},{"$f":"Master!C24","v":"pd_29_a01_bs_enus"},{"$f":"Master!D24","v":"OLT"},{"$f":"Master!E24","v":"Active"},{"$f":"Master!F24","v":0},{"$f":"Master!G24","v":"NA"},{"$f":"IF(Master!H24=\"\",\"B\",Master!I24)","v":"B"},{"$f":"Master!I24","v":"R"},{"$f":"Master!J24","v":"R"},{"$f":"IF(Master!K24=\"\",\"B\",Master!K24)","v":"R"},{"$f":"Master!L24","v":"R"},{"$f":"Master!M24","v":"R"}]
[{"$f":"Master!A25","v":"SS"},{"$f":"Master!B25","v":"Problem-Solving and Process Management Tools"},{"$f":"Master!C25","v":"oper_04_a07_bs_enus"},{"$f":"Master!D25","v":"OLT"},{"$f":"Master!E25","v":"Active"},{"$f":"Master!F25","v":0},{"$f":"Master!G25","v":"NA"},{"$f":"IF(Master!H25=\"\",\"B\",Master!I25)","v":"B"},{"$f":"Master!I25","v":"R"},{"$f":"Master!J25","v":"R"},{"$f":"IF(Master!K25=\"\",\"B\",Master!K25)","v":"R"},{"$f":"Master!L25","v":"R"},{"$f":"Master!M25","v":"R"}]
[{"$f":"Master!A26","v":"SS"},{"$f":"Master!B26","v":"Basic Presentation Skills: Delivering a Presentation"},{"$f":"Master!C26","v":"comm_33_a03_bs_enus"},{"$f":"Master!D26","v":"OLT"},{"$f":"Master!E26","v":"Active"},{"$f":"Master!F26","v":0},{"$f":"Master!G26","v":"NA"},{"$f":"IF(Master!H26=\"\",\"B\",Master!I26)","v":"B"},{"$f":"Master!I26","v":"R"},{"$f":"Master!J26","v":"R"},{"$f":"IF(Master!K26=\"\",\"B\",Master!K26)","v":"R"},{"$f":"Master!L26","v":"R"},{"$f":"Master!M26","v":"R"}]
[{"$f":"Master!A27","v":"SS"},{"$f":"Master!B27","v":"Basic Presentation Skills: Creating a Presentation"},{"$f":"Master!C27","v":"comm_33_a02_bs_enus"},{"$f":"Master!D27","v":"OLT"},{"$f":"Master!E27","v":"Active"},{"$f":"Master!F27","v":0},{"$f":"Master!G27","v":"NA"},{"$f":"IF(Master!H27=\"\",\"B\",Master!I27)","v":"B"},{"$f":"Master!I27","v":"R"},{"$f":"Master!J27","v":"R"},{"$f":"IF(Master!K27=\"\",\"B\",Master!K27)","v":"R"},{"$f":"Master!L27","v":"R"},{"$f":"Master!M27","v":"R"}]
[{"$f":"Master!A28","v":"SS"},{"$f":"Master!B28","v":"Building the Foundation for an Effective Team"},{"$f":"Master!C28","v":"atm_01_a01_bs_enus"},{"$f":"Master!D28","v":"OLT"},{"$f":"Master!E28","v":"Active"},{"$f":"Master!F28","v":0},{"$f":"Master!G28","v":"NA"},{"$f":"IF(Master!H28=\"\",\"B\",Master!I28)","v":"B"},{"$f":"Master!I28","v":"R"},{"$f":"Master!J28","v":"R"},{"$f":"IF(Master!K28=\"\",\"B\",Master!K28)","v":"R"},{"$f":"Master!L28","v":"R"},{"$f":"Master!M28","v":"R"}]
[{"$f":"Master!A29","v":"SS"},{"$f":"Master!B29","v":"Developing a Successful Team"},{"$f":"Master!C29","v":"atm_01_a02_bs_enus"},{"$f":"Master!D29","v":"OLT"},{"$f":"Master!E29","v":"Active"},{"$f":"Master!F29","v":0},{"$f":"Master!G29","v":"NA"},{"$f":"IF(Master!H29=\"\",\"B\",Master!I29)","v":"B"},{"$f":"Master!I29","v":"R"},{"$f":"Master!J29","v":"R"},{"$f":"IF(Master!K29=\"\",\"B\",Master!K29)","v":"R"},{"$f":"Master!L29","v":"R"},{"$f":"Master!M29","v":"R"}]
[{"$f":"Master!A30","v":"SS"},{"$f":"Master!B30","v":"Encouraging Team Communication and Collaboration"},{"$f":"Master!C30","v":"atm_01_a03_bs_enus"},{"$f":"Master!D30","v":"OLT"},{"$f":"Master!E30","v":"Active"},{"$f":"Master!F30","v":0},{"$f":"Master!G30","v":"NA"},{"$f":"IF(Master!H30=\"\",\"B\",Master!I30)","v":"B"},{"$f":"Master!I30","v":"R"},{"$f":"Master!J30","v":"R"},{"$f":"IF(Master!K30=\"\",\"B\",Master!K30)","v":"R"},{"$f":"Master!L30","v":"R"},{"$f":"Master!M30","v":"R"}]
[{"$f":"Master!A31","v":"SS"},{"$f":"Master!B31","v":"Handling Team Conflict"},{"$f":"Master!C31","v":"atm_01_a04_bs_enus"},{"$f":"Master!D31","v":"OLT"},{"$f":"Master!E31","v":"Active"},{"$f":"Master!F31","v":0},{"$f":"Master!G31","v":"NA"},{"$f":"IF(Master!H31=\"\",\"B\",Master!I31)","v":"B"},{"$f":"Master!I31","v":"R"},{"$f":"Master!J31","v":"R"},{"$f":"IF(Master!K31=\"\",\"B\",Master!K31)","v":"R"},{"$f":"Master!L31","v":"R"},{"$f":"Master!M31","v":"R"}]
[{"$f":"Master!A32","v":"SS"},{"$f":"Master!B32","v":"Thinking Critically: Coming to Terms with Assumptions"},{"$f":"Master!C32","v":"pe_01_a01_bs_enus"},{"$f":"Master!D32","v":"OLT"},{"$f":"Master!E32","v":"Active"},{"$f":"Master!F32","v":0},{"$f":"Master!G32","v":"NA"},{"$f":"IF(Master!H32=\"\",\"B\",Master!I32)","v":"B"},{"$f":"Master!I32","v":"R"},{"$f":"Master!J32","v":"R"},{"$f":"IF(Master!K32=\"\",\"B\",Master!K32)","v":"R"},{"$f":"Master!L32","v":"R"},{"$f":"Master!M32","v":"R"}]
[{"$f":"Master!A33","v":"SS"},{"$f":"Master!B33","v":"Thinking Critically: Getting Your Arms around Arguments"},{"$f":"Master!C33","v":"pe_01_a02_bs_enus"},{"$f":"Master!D33","v":"OLT"},{"$f":"Master!E33","v":"Active"},{"$f":"Master!F33","v":0},{"$f":"Master!G33","v":"NA"},{"$f":"IF(Master!H33=\"\",\"B\",Master!I33)","v":"B"},{"$f":"Master!I33","v":"R"},{"$f":"Master!J33","v":"R"},{"$f":"IF(Master!K33=\"\",\"B\",Master!K33)","v":"R"},{"$f":"Master!L33","v":"R"},{"$f":"Master!M33","v":"R"}]
[{"$f":"Master!A34","v":"SS"},{"$f":"Master!B34","v":"Thinking Critically: Drawing Conclusions with Confidence"},{"$f":"Master!C34","v":"pe_01_a03_bs_enus"},{"$f":"Master!D34","v":"OLT"},{"$f":"Master!E34","v":"Active"},{"$f":"Master!F34","v":0},{"$f":"Master!G34","v":"NA"},{"$f":"IF(Master!H34=\"\",\"B\",Master!I34)","v":"B"},{"$f":"Master!I34","v":"R"},{"$f":"Master!J34","v":"R"},{"$f":"IF(Master!K34=\"\",\"B\",Master!K34)","v":"R"},{"$f":"Master!L34","v":"R"},{"$f":"Master!M34","v":"R"}]
[{"$f":"Master!A35","v":"SS"},{"$f":"Master!B35","v":"Microsoft Excel 2016 Essentials: Creating, Editing, and Saving Workbooks"},{"$f":"Master!C35","v":"mo_beel_a01_dt_enus"},{"$f":"Master!D35","v":"OLT"},{"$f":"Master!E35","v":"Active"},{"$f":"Master!F35","v":0},{"$f":"Master!G35","v":"NA"},{"$f":"IF(Master!H35=\"\",\"B\",Master!I35)","v":"B"},{"$f":"Master!I35","v":"R"},{"$f":"Master!J35","v":"R"},{"$f":"IF(Master!K35=\"\",\"B\",Master!K35)","v":"R"},{"$f":"Master!L35","v":"R"},{"$f":"Master!M35","v":"R"}]
[{"$f":"Master!A36","v":"SS"},{"$f":"Master!B36","v":"Microsoft Excel 2016 Essentials: Formulas and Functions"},{"$f":"Master!C36","v":"mo_beel_a04_dt_enus"},{"$f":"Master!D36","v":"OLT"},{"$f":"Master!E36","v":"Active"},{"$f":"Master!F36","v":0},{"$f":"Master!G36","v":"NA"},{"$f":"IF(Master!H36=\"\",\"B\",Master!I36)","v":"B"},{"$f":"Master!I36","v":"R"},{"$f":"Master!J36","v":"R"},{"$f":"Master!K36","v":"R"},{"$f":"Master!L36","v":"R"},{"$f":"Master!M36","v":"R"}]
[{"$f":"Master!A37","v":"SS"},{"$f":"Master!B37","v":"Microsoft Excel 2016 Essentials: Formatting Data"},{"$f":"Master!C37","v":"mo_beel_a02_dt_enus"},{"$f":"Master!D37","v":"OLT"},{"$f":"Master!E37","v":"Active"},{"$f":"Master!F37","v":0},{"$f":"Master!G37","v":"NA"},{"$f":"IF(Master!H37=\"\",\"B\",Master!I37)","v":"B"},{"$f":"Master!I37","v":"R"},{"$f":"Master!J37","v":"R"},{"$f":"Master!K37","v":"R"},{"$f":"Master!L37","v":"R"},{"$f":"Master!M37","v":"R"}]
[{"$f":"Master!A38","v":"SS"},{"$f":"Master!B38","v":"Microsoft Excel 2016 Essentials: Data Presentation Strategies"},{"$f":"Master!C38","v":"mo_beel_a03_dt_enus"},{"$f":"Master!D38","v":"OLT"},{"$f":"Master!E38","v":"Active"},{"$f":"Master!F38","v":0},{"$f":"Master!G38","v":"NA"},{"$f":"IF(Master!H38=\"\",\"B\",Master!I38)","v":"B"},{"$f":"Master!I38","v":"R"},{"$f":"Master!J38","v":"R"},{"$f":"Master!K38","v":"R"},{"$f":"Master!L38","v":"R"},{"$f":"Master!M38","v":"R"}]
[{"$f":"Master!A39","v":"SS"},{"$f":"Master!B39","v":"Microsoft Excel 2016 Essentials: Charts, Tables, and Images"},{"$f":"Master!C39","v":"mo_beel_a05_dt_enus"},{"$f":"Master!D39","v":"OLT"},{"$f":"Master!E39","v":"Active"},{"$f":"Master!F39","v":0},{"$f":"Master!G39","v":"NA"},{"$f":"IF(Master!H39=\"\",\"B\",Master!I39)","v":"B"},{"$f":"Master!I39","v":"R"},{"$f":"Master!J39","v":"R"},{"$f":"Master!K39","v":"R"},{"$f":"Master!L39","v":"R"},{"$f":"Master!M39","v":"R"}]
[{"$f":"Master!A40","v":"SS"},{"$f":"Master!B40","v":"Microsoft Office 2016 Intermediate Excel: Working with Data "},{"$f":"Master!C40","v":"mo_inel_a03_dt_enus"},{"$f":"Master!D40","v":"OLT"},{"$f":"Master!E40","v":"Active"},{"$f":"Master!F40","v":0},{"$f":"Master!G40","v":"NA"},{"$f":"IF(Master!H40=\"\",\"B\",Master!I40)","v":"B"},{"$f":"Master!I40","v":2},{"$f":"Master!J40","v":2},{"$f":"Master!K40","v":2},{"$f":"Master!L40","v":2},{"$f":"Master!M40","v":2}]
[{"$f":"Master!A41","v":"SS"},{"$f":"Master!B41","v":"Microsoft Office 2016 Intermediate Excel: Share, Review, and Collaborate "},{"$f":"Master!C41","v":"mo_inel_a06_dt_enus"},{"$f":"Master!D41","v":"OLT"},{"$f":"Master!E41","v":"Active"},{"$f":"Master!F41","v":0},{"$f":"Master!G41","v":"NA"},{"$f":"IF(Master!H41=\"\",\"B\",Master!I41)","v":"B"},{"$f":"Master!I41","v":2},{"$f":"Master!J41","v":2},{"$f":"Master!K41","v":2},{"$f":"Master!L41","v":2},{"$f":"Master!M41","v":2}]
[{"$f":"Master!A42","v":"SS"},{"$f":"Master!B42","v":"Microsoft Office 2016 Intermediate Excel: Creating Custom Visual Effects "},{"$f":"Master!C42","v":"mo_inel_a02_dt_enus"},{"$f":"Master!D42","v":"OLT"},{"$f":"Master!E42","v":"Active"},{"$f":"Master!F42","v":0},{"$f":"Master!G42","v":"NA"},{"$f":"IF(Master!H42=\"\",\"B\",Master!I42)","v":"B"},{"$f":"Master!I42","v":2},{"$f":"Master!J42","v":2},{"$f":"Master!K42","v":2},{"$f":"Master!L42","v":2},{"$f":"Master!M42","v":2}]
[{"$f":"Master!A43","v":"SS"},{"$f":"Master!B43","v":"Working with the Interface and Performing Basic Tasks in Word 2016 "},{"$f":"Master!C43","v":"mo_bewo_a01_dt_enus"},{"$f":"Master!D43","v":"OLT"},{"$f":"Master!E43","v":"Active"},{"$f":"Master!F43","v":0},{"$f":"Master!G43","v":"NA"},{"$f":"IF(Master!H43=\"\",\"B\",Master!I43)","v":"B"},{"$f":"Master!I43","v":"R"},{"$f":"Master!J43","v":"R"},{"$f":"Master!K43","v":"R"},{"$f":"Master!L43","v":"R"},{"$f":"Master!M43","v":"R"}]
[{"$f":"Master!A44","v":"SS"},{"$f":"Master!B44","v":"Formatting Text in Word 2016 "},{"$f":"Master!C44","v":"mo_bewo_a02_dt_enus"},{"$f":"Master!D44","v":"OLT"},{"$f":"Master!E44","v":"Active"},{"$f":"Master!F44","v":0},{"$f":"Master!G44","v":"NA"},{"$f":"IF(Master!H44=\"\",\"B\",Master!I44)","v":"B"},{"$f":"Master!I44","v":"R"},{"$f":"Master!J44","v":"R"},{"$f":"Master!K44","v":"R"},{"$f":"Master!L44","v":"R"},{"$f":"Master!M44","v":"R"}]
[{"$f":"Master!A45","v":"SS"},{"$f":"Master!B45","v":"Headers, Footers, Page Numbering, and Layout in Word 2016 "},{"$f":"Master!C45","v":"mo_bewo_a05_dt_enus"},{"$f":"Master!D45","v":"OLT"},{"$f":"Master!E45","v":"Active"},{"$f":"Master!F45","v":0},{"$f":"Master!G45","v":"NA"},{"$f":"IF(Master!H45=\"\",\"B\",Master!I45)","v":"B"},{"$f":"Master!I45","v":"R"},{"$f":"Master!J45","v":"R"},{"$f":"Master!K45","v":"R"},{"$f":"Master!L45","v":"R"},{"$f":"Master!M45","v":"R"}]
[{"$f":"Master!A46","v":"SS"},{"$f":"Master!B46","v":"Using the Navigation Pane and Creating Lists in Word 2016 "},{"$f":"Master!C46","v":"mo_bewo_a06_dt_enus"},{"$f":"Master!D46","v":"OLT"},{"$f":"Master!E46","v":"Active"},{"$f":"Master!F46","v":0},{"$f":"Master!G46","v":"NA"},{"$f":"IF(Master!H46=\"\",\"B\",Master!I46)","v":"B"},{"$f":"Master!I46","v":"R"},{"$f":"Master!J46","v":"R"},{"$f":"Master!K46","v":"R"},{"$f":"Master!L46","v":"R"},{"$f":"Master!M46","v":"R"}]
[{"$f":"Master!A47","v":"SS"},{"$f":"Master!B47","v":"Customizing Options and Using Document Views in Word 2016 "},{"$f":"Master!C47","v":"mo_bewo_a03_dt_enus"},{"$f":"Master!D47","v":"OLT"},{"$f":"Master!E47","v":"Active"},{"$f":"Master!F47","v":0},{"$f":"Master!G47","v":"NA"},{"$f":"IF(Master!H47=\"\",\"B\",Master!I47)","v":"B"},{"$f":"Master!I47","v":2},{"$f":"Master!J47","v":2},{"$f":"Master!K47","v":2},{"$f":"Master!L47","v":2},{"$f":"Master!M47","v":2}]
[{"$f":"Master!A48","v":"SS"},{"$f":"Master!B48","v":"Creating and Formatting Tables in Word 2016 "},{"$f":"Master!C48","v":"mo_bewo_a04_dt_enus"},{"$f":"Master!D48","v":"OLT"},{"$f":"Master!E48","v":"Active"},{"$f":"Master!F48","v":0},{"$f":"Master!G48","v":"NA"},{"$f":"IF(Master!H48=\"\",\"B\",Master!I48)","v":"B"},{"$f":"Master!I48","v":2},{"$f":"Master!J48","v":2},{"$f":"Master!K48","v":2},{"$f":"Master!L48","v":2},{"$f":"Master!M48","v":2}]
[{"$f":"Master!A49","v":"Human Resource"},null,null,null,null,null,null,{"$f":"IF(Master!I49=\"\",\"B\",Master!I49)","v":"B"},{"$f":"IF(Master!T49=\"\",\"B\",Master!T49)","v":"B"},{"$f":"IF(Master!AE49=\"\",\"B\",Master!AE49)","v":"B"},{"$f":"IF(Master!AP49=\"\",\"B\",Master!AP49)","v":"B"},{"$f":"IF(Master!BA49=\"\",\"B\",Master!BA49)","v":"B"},{"$f":"IF(Master!BL49=\"\",\"B\",Master!BL49)","v":"B"}]
[{"$f":"Master!A50","v":"Conflict Management - The following two courses are available"},null,null,null,null,null,null,{"$f":"IF(Master!I50=\"\",\"B\",Master!I50)","v":"B"},{"$f":"IF(Master!T50=\"\",\"B\",Master!T50)","v":"B"},{"$f":"IF(Master!AE50=\"\",\"B\",Master!AE50)","v":"B"},{"$f":"IF(Master!AP50=\"\",\"B\",Master!AP50)","v":"B"},{"$f":"IF(Master!BA50=\"\",\"B\",Master!BA50)","v":"B"},{"$f":"IF(Master!BL50=\"\",\"B\",Master!BL50)","v":"B"}]
[{"$f":"Master!A51","v":"SS"},{"$f":"Master!B51","v":"Preparing for a Difficult Conversation"},{"$f":"Master!C51","v":"mgmt_36_a01_bs_enus"},{"$f":"Master!D51","v":"OLT"},{"$f":"Master!E51","v":"Active"},{"$f":"Master!F51","v":0},{"$f":"Master!H51","v":"Take this course first."},{"$f":"IF(Master!I51=\"\",\"B\",Master!I51)","v":2},{"$f":"IF(Master!T51=\"\",\"B\",Master!T51)","v":2},{"$f":"IF(Master!AE51=\"\",\"B\",Master!AE51)","v":2},{"$f":"IF(Master!AP51=\"\",\"B\",Master!AP51)","v":1},{"$f":"IF(Master!BA51=\"\",\"B\",Master!BA51)","v":1},{"$f":"IF(Master!BL51=\"\",\"B\",Master!BL51)","v":1}]
[{"$f":"Master!A52","v":"ES"},{"$f":"Master!B52","v":"Managing Emotions in the Workplace"},{"$f":"Master!C52","v":"Enterprise Services Course\n1/2 Day - $100"},{"$f":"Master!D52","v":"ILT"},{"$f":"Master!E52","v":"Active"},{"$f":"Master!F52","v":0},{"$f":"Master!H52","v":"To register for this course, \ncall the LMS Helpdesk at \n360-705-7060."},{"$f":"IF(Master!I52=\"\",\"B\",Master!I52)","v":2},{"$f":"IF(Master!T52=\"\",\"B\",Master!T52)","v":2},{"$f":"IF(Master!AE52=\"\",\"B\",Master!AE52)","v":2},{"$f":"IF(Master!AP52=\"\",\"B\",Master!AP52)","v":1},{"$f":"IF(Master!BA52=\"\",\"B\",Master!BA52)","v":1},{"$f":"IF(Master!BL52=\"\",\"B\",Master!BL52)","v":1}]
[{"$f":"Master!A53","v":"Interpersonal Communications - The following two courses are available"},null,null,null,null,null,null,{"$f":"IF(Master!I53=\"\",\"B\",Master!I53)","v":"B"},{"$f":"IF(Master!T53=\"\",\"B\",Master!T53)","v":"B"},{"$f":"IF(Master!AE53=\"\",\"B\",Master!AE53)","v":"B"},{"$f":"IF(Master!AP53=\"\",\"B\",Master!AP53)","v":"B"},{"$f":"IF(Master!BA53=\"\",\"B\",Master!BA53)","v":"B"},{"$f":"IF(Master!BL53=\"\",\"B\",Master!BL53)","v":"B"}]
[{"$f":"Master!A54","v":"SS"},{"$f":"Master!B54","v":"Difficult People: Strategies to Keep Everyone Working Together"},{"$f":"Master!C54","v":"comm_46_a03_bs_enus"},{"$f":"Master!D54","v":"OLT"},{"$f":"Master!E54","v":"Active"},{"$f":"Master!F54","v":0},{"$f":"Master!H54","v":"Take this course first."},{"$f":"IF(Master!I54=\"\",\"B\",Master!I54)","v":1},{"$f":"IF(Master!T54=\"\",\"B\",Master!T54)","v":1},{"$f":"IF(Master!AE54=\"\",\"B\",Master!AE54)","v":1},{"$f":"IF(Master!AP54=\"\",\"B\",Master!AP54)","v":1},{"$f":"IF(Master!BA54=\"\",\"B\",Master!BA54)","v":1},{"$f":"IF(Master!BL54=\"\",\"B\",Master!BL54)","v":1}]
[{"$f":"Master!A55","v":"ES"},{"$f":"Master!B55","v":"Interpersonal Communication Skills"},{"$f":"Master!C55","v":"Enterprise Services Course\nTwo Days - $195"},{"$f":"Master!D55","v":"ILT"},{"$f":"Master!E55","v":"Active"},{"$f":"Master!F55","v":0},{"$f":"Master!H55","v":"To register for this course, \ncall the LMS Helpdesk at \n360-705-7060."},{"$f":"IF(Master!I55=\"\",\"B\",Master!I55)","v":1},{"$f":"IF(Master!T55=\"\",\"B\",Master!T55)","v":1},{"$f":"IF(Master!AE55=\"\",\"B\",Master!AE55)","v":1},{"$f":"IF(Master!AP55=\"\",\"B\",Master!AP55)","v":1},{"$f":"IF(Master!BA55=\"\",\"B\",Master!BA55)","v":1},{"$f":"IF(Master!BL55=\"\",\"B\",Master!BL55)","v":1}]
[{"$f":"Master!A56","v":"Interpersonal Communications - The following two courses are available"},null,null,null,null,null,null,{"$f":"IF(Master!I56=\"\",\"B\",Master!I56)","v":"B"},{"$f":"IF(Master!T56=\"\",\"B\",Master!T56)","v":"B"},{"$f":"IF(Master!AE56=\"\",\"B\",Master!AE56)","v":"B"},{"$f":"IF(Master!AP56=\"\",\"B\",Master!AP56)","v":"B"},{"$f":"IF(Master!BA56=\"\",\"B\",Master!BA56)","v":"B"},{"$f":"IF(Master!BL56=\"\",\"B\",Master!BL56)","v":"B"}]
[{"$f":"Master!A57","v":"SS"},{"$f":"Master!B57","v":"Active Listening Skills for Professionals"},{"$f":"Master!C57","v":"comm_43_a03_bs_enus"},{"$f":"Master!D57","v":"OLT"},{"$f":"Master!E57","v":"Active"},{"$f":"Master!F57","v":0},{"$f":"Master!H57","v":"Take this course first."},{"$f":"IF(Master!I57=\"\",\"B\",Master!I57)","v":1},{"$f":"IF(Master!T57=\"\",\"B\",Master!T57)","v":1},{"$f":"IF(Master!AE57=\"\",\"B\",Master!AE57)","v":1},{"$f":"IF(Master!AP57=\"\",\"B\",Master!AP57)","v":1},{"$f":"IF(Master!BA57=\"\",\"B\",Master!BA57)","v":1},{"$f":"IF(Master!BL57=\"\",\"B\",Master!BL57)","v":1}]
[{"$f":"Master!A58","v":"ES"},{"$f":"Master!B58","v":"Crucial Conversations"},{"$f":"Master!C58","v":"Enterprise Services Course\nTwo Days - $450"},{"$f":"Master!D58","v":"ILT"},{"$f":"Master!E58","v":"Active"},{"$f":"Master!F58","v":0},{"$f":"Master!H58","v":"To register for this course, \ncall the LMS Helpdesk at \n360-705-7060."},{"$f":"IF(Master!I58=\"\",\"B\",Master!I58)","v":1},{"$f":"IF(Master!T58=\"\",\"B\",Master!T58)","v":1},{"$f":"IF(Master!AE58=\"\",\"B\",Master!AE58)","v":1},{"$f":"IF(Master!AP58=\"\",\"B\",Master!AP58)","v":1},{"$f":"IF(Master!BA58=\"\",\"B\",Master!BA58)","v":1},{"$f":"IF(Master!BL58=\"\",\"B\",Master!BL58)","v":1}]
[{"$f":"Master!A59","v":"Oral Presentation Techniques"},null,null,null,null,null,null,{"$f":"IF(Master!I59=\"\",\"B\",Master!I59)","v":"B"},{"$f":"IF(Master!T59=\"\",\"B\",Master!T59)","v":"B"},{"$f":"IF(Master!AE59=\"\",\"B\",Master!AE59)","v":"B"},{"$f":"IF(Master!AP59=\"\",\"B\",Master!AP59)","v":"B"},{"$f":"IF(Master!BA59=\"\",\"B\",Master!BA59)","v":"B"},{"$f":"IF(Master!BL59=\"\",\"B\",Master!BL59)","v":"B"}]
[{"$f":"Master!A60","v":"ES"},{"$f":"Master!B60","v":"Presentation & Training Design & Delivery "},{"$f":"Master!C60","v":"Enterprise Services Course \nTwo Days - $205"},{"$f":"Master!D60","v":"ILT"},{"$f":"Master!E60","v":"Active"},{"$f":"Master!F60","v":0},{"$f":"Master!H60","v":"To register for this course, \ncall the LMS Helpdesk at \n360-705-7060."},{"$f":"IF(Master!I60=\"\",\"B\",Master!I60)","v":"B"},{"$f":"IF(Master!T60=\"\",\"B\",Master!T60)","v":"B"},{"$f":"IF(Master!AE60=\"\",\"B\",Master!AE60)","v":"B"},{"$f":"IF(Master!AP60=\"\",\"B\",Master!AP60)","v":"B"},{"$f":"IF(Master!BA60=\"\",\"B\",Master!BA60)","v":2},{"$f":"IF(Master!BL60=\"\",\"B\",Master!BL60)","v":1}]
[{"$f":"Master!A61","v":"Stress Management -  The following two courses are available"},null,null,null,null,null,null,{"$f":"IF(Master!I61=\"\",\"B\",Master!I61)","v":"B"},{"$f":"IF(Master!T61=\"\",\"B\",Master!T61)","v":"B"},{"$f":"IF(Master!AE61=\"\",\"B\",Master!AE61)","v":"B"},{"$f":"IF(Master!AP61=\"\",\"B\",Master!AP61)","v":"B"},{"$f":"IF(Master!BA61=\"\",\"B\",Master!BA61)","v":"B"},{"$f":"IF(Master!BL61=\"\",\"B\",Master!BL61)","v":"B"}]
[{"$f":"Master!A62","v":"SS"},{"$f":"Master!B62","v":"Conflict, Stress, and Time Management"},{"$f":"Master!C62","v":"cust_07_a03_bs_enus"},{"$f":"Master!D62","v":"OLT"},{"$f":"Master!E62","v":"Active"},{"$f":"Master!F62","v":0},{"$f":"Master!H62","v":"Take this course first."},{"$f":"IF(Master!I62=\"\",\"B\",Master!I62)","v":1},{"$f":"IF(Master!T62=\"\",\"B\",Master!T62)","v":1},{"$f":"IF(Master!AE62=\"\",\"B\",Master!AE62)","v":1},{"$f":"IF(Master!AP62=\"\",\"B\",Master!AP62)","v":1},{"$f":"IF(Master!BA62=\"\",\"B\",Master!BA62)","v":1},{"$f":"IF(Master!BL62=\"\",\"B\",Master!BL62)","v":1}]
[{"$f":"Master!A63","v":"ES"},{"$f":"Master!B63","v":"Managing Job Stress"},{"$f":"Master!C63","v":"Enterprise Services Course\nOne Day - $135"},{"$f":"Master!D63","v":"ILT"},{"$f":"Master!E63","v":"Active"},{"$f":"Master!F63","v":0},{"$f":"Master!H63","v":"To register for this course, \ncall the LMS Helpdesk at \n360-705-7060."},{"$f":"IF(Master!I63=\"\",\"B\",Master!I63)","v":1},{"$f":"IF(Master!T63=\"\",\"B\",Master!T63)","v":1},{"$f":"IF(Master!AE63=\"\",\"B\",Master!AE63)","v":1},{"$f":"IF(Master!AP63=\"\",\"B\",Master!AP63)","v":1},{"$f":"IF(Master!BA63=\"\",\"B\",Master!BA63)","v":1},{"$f":"IF(Master!BL63=\"\",\"B\",Master!BL63)","v":1}]
[{"$f":"Master!A64","v":"Time Management -  The following six courses are available"},null,null,null,null,null,null,{"$f":"IF(Master!I64=\"\",\"B\",Master!I64)","v":"B"},{"$f":"IF(Master!T64=\"\",\"B\",Master!T64)","v":"B"},{"$f":"IF(Master!AE64=\"\",\"B\",Master!AE64)","v":"B"},{"$f":"IF(Master!AP64=\"\",\"B\",Master!AP64)","v":"B"},{"$f":"IF(Master!BA64=\"\",\"B\",Master!BA64)","v":"B"},{"$f":"IF(Master!BL64=\"\",\"B\",Master!BL64)","v":"B"}]
[{"$f":"Master!A65","v":"SS"},{"$f":"Master!B65","v":"Getting Time under Control"},{"$f":"Master!C65","v":"_pc_ch_pach021"},{"$f":"Master!D65","v":"OLT"},{"$f":"Master!E65","v":"Active"},{"$f":"Master!F65","v":0},{"$f":"Master!H65","v":"Take this course before the Enterprise Services course"},{"$f":"IF(Master!I65=\"\",\"B\",Master!I65)","v":1},{"$f":"IF(Master!T65=\"\",\"B\",Master!T65)","v":1},{"$f":"IF(Master!AE65=\"\",\"B\",Master!AE65)","v":1},{"$f":"IF(Master!AP65=\"\",\"B\",Master!AP65)","v":1},{"$f":"IF(Master!BA65=\"\",\"B\",Master!BA65)","v":1},{"$f":"IF(Master!BL65=\"\",\"B\",Master!BL65)","v":1}]
[{"$f":"Master!A66","v":"SS"},{"$f":"Master!B66","v":"Make the Time You Need: Get Organized"},{"$f":"Master!C66","v":"apd_08_a02_bs_enus"},{"$f":"Master!D66","v":"OLT"},{"$f":"Master!E66","v":"Active"},{"$f":"Master!F66","v":0},{"$f":"Master!H66","v":"Take this course before the Enterprise Services course"},{"$f":"IF(Master!I66=\"\",\"B\",Master!I66)","v":1},{"$f":"IF(Master!T66=\"\",\"B\",Master!T66)","v":1},{"$f":"IF(Master!AE66=\"\",\"B\",Master!AE66)","v":1},{"$f":"IF(Master!AP66=\"\",\"B\",Master!AP66)","v":1},{"$f":"IF(Master!BA66=\"\",\"B\",Master!BA66)","v":1},{"$f":"IF(Master!BL66=\"\",\"B\",Master!BL66)","v":1}]
[{"$f":"Master!A67","v":"SS"},{"$f":"Master!B67","v":"Time Management: Too Much to Do and Too Little Time"},{"$f":"Master!C67","v":"pd_20_a01_bs_enus"},{"$f":"Master!D67","v":"OLT"},{"$f":"Master!E67","v":"Active"},{"$f":"Master!F67","v":0},{"$f":"Master!H67","v":"Take this course before the Enterprise Services course"},{"$f":"IF(Master!I67=\"\",\"B\",Master!I67)","v":1},{"$f":"IF(Master!T67=\"\",\"B\",Master!T67)","v":1},{"$f":"IF(Master!AE67=\"\",\"B\",Master!AE67)","v":1},{"$f":"IF(Master!AP67=\"\",\"B\",Master!AP67)","v":1},{"$f":"IF(Master!BA67=\"\",\"B\",Master!BA67)","v":1},{"$f":"IF(Master!BL67=\"\",\"B\",Master!BL67)","v":1}]
[{"$f":"Master!A68","v":"SS"},{"$f":"Master!B68","v":"Time Management: Quit Making Excuses and Make Time Instead"},{"$f":"Master!C68","v":"pd_20_a02_bs_enus"},{"$f":"Master!D68","v":"OLT"},{"$f":"Master!E68","v":"Active"},{"$f":"Master!F68","v":0},{"$f":"Master!H68","v":"Take this course before the Enterprise Services course"},{"$f":"IF(Master!I68=\"\",\"B\",Master!I68)","v":1},{"$f":"IF(Master!T68=\"\",\"B\",Master!T68)","v":1},{"$f":"IF(Master!AE68=\"\",\"B\",Master!AE68)","v":1},{"$f":"IF(Master!AP68=\"\",\"B\",Master!AP68)","v":1},{"$f":"IF(Master!BA68=\"\",\"B\",Master!BA68)","v":1},{"$f":"IF(Master!BL68=\"\",\"B\",Master!BL68)","v":1}]
[{"$f":"Master!A69","v":"SS"},{"$f":"Master!B69","v":"Time Management: Ready, Set…Focus!"},{"$f":"Master!C69","v":"pd_20_a03_bs_enus"},{"$f":"Master!D69","v":"OLT"},{"$f":"Master!E69","v":"Active"},{"$f":"Master!F69","v":0},{"$f":"Master!H69","v":"Take this course before the Enterprise Services course"},{"$f":"IF(Master!I69=\"\",\"B\",Master!I69)","v":1},{"$f":"IF(Master!T69=\"\",\"B\",Master!T69)","v":1},{"$f":"IF(Master!AE69=\"\",\"B\",Master!AE69)","v":1},{"$f":"IF(Master!AP69=\"\",\"B\",Master!AP69)","v":1},{"$f":"IF(Master!BA69=\"\",\"B\",Master!BA69)","v":1},{"$f":"IF(Master!BL69=\"\",\"B\",Master!BL69)","v":1}]
[{"$f":"Master!A70","v":"ES"},{"$f":"Master!B70","v":"Time Management"},{"$f":"Master!C70","v":"Enterprise Services Course\nOne Day - $135"},{"$f":"Master!D70","v":"ILT"},{"$f":"Master!E70","v":"Active"},{"$f":"Master!F70","v":0},{"$f":"Master!H70","v":"To register for this course, \ncall the LMS Helpdesk at \n360-705-7060."},{"$f":"IF(Master!I70=\"\",\"B\",Master!I70)","v":1},{"$f":"IF(Master!T70=\"\",\"B\",Master!T70)","v":1},{"$f":"IF(Master!AE70=\"\",\"B\",Master!AE70)","v":1},{"$f":"IF(Master!AP70=\"\",\"B\",Master!AP70)","v":1},{"$f":"IF(Master!BA70=\"\",\"B\",Master!BA70)","v":1},{"$f":"IF(Master!BL70=\"\",\"B\",Master!BL70)","v":1}]
[{"$f":"Master!A71","v":"Technical Writing -  The following five courses are available"},null,null,null,null,null,null,{"$f":"IF(Master!I71=\"\",\"B\",Master!I71)","v":"B"},{"$f":"IF(Master!T71=\"\",\"B\",Master!T71)","v":"B"},{"$f":"IF(Master!AE71=\"\",\"B\",Master!AE71)","v":"B"},{"$f":"IF(Master!AP71=\"\",\"B\",Master!AP71)","v":"B"},{"$f":"IF(Master!BA71=\"\",\"B\",Master!BA71)","v":"B"},{"$f":"IF(Master!BL71=\"\",\"B\",Master!BL71)","v":"B"}]
[{"$f":"Master!A72","v":"SS"},{"$f":"Master!B72","v":"Improving Your Technical Writing Skills"},{"$f":"Master!C72","v":"acm_06_a01_it_enus"},{"$f":"Master!D72","v":"OLT"},{"$f":"Master!E72","v":"Active"},{"$f":"Master!F72","v":0},{"$f":"Master!H72","v":0},{"$f":"IF(Master!I72=\"\",\"B\",Master!I72)","v":2},{"$f":"IF(Master!T72=\"\",\"B\",Master!T72)","v":2},{"$f":"IF(Master!AE72=\"\",\"B\",Master!AE72)","v":2},{"$f":"IF(Master!AP72=\"\",\"B\",Master!AP72)","v":2},{"$f":"IF(Master!BA72=\"\",\"B\",Master!BA72)","v":1},{"$f":"IF(Master!BL72=\"\",\"B\",Master!BL72)","v":1}]
[{"$f":"Master!A73","v":"SS"},{"$f":"Master!B73","v":"Writing for Technical Professionals: Effective Writing Techniques"},{"$f":"Master!C73","v":"ib_wstp_a02_it_enus"},{"$f":"Master!D73","v":"OLT"},{"$f":"Master!E73","v":"Active"},{"$f":"Master!F73","v":0},{"$f":"Master!H73","v":0},{"$f":"IF(Master!I73=\"\",\"B\",Master!I73)","v":2},{"$f":"IF(Master!T73=\"\",\"B\",Master!T73)","v":2},{"$f":"IF(Master!AE73=\"\",\"B\",Master!AE73)","v":2},{"$f":"IF(Master!AP73=\"\",\"B\",Master!AP73)","v":2},{"$f":"IF(Master!BA73=\"\",\"B\",Master!BA73)","v":1},{"$f":"IF(Master!BL73=\"\",\"B\",Master!BL73)","v":1}]
[{"$f":"Master!A74","v":"SS"},{"$f":"Master!B74","v":"Writing for Technical Professionals: Preparation and Planning"},{"$f":"Master!C74","v":"ib_wstp_a01_it_enus"},{"$f":"Master!D74","v":"OLT"},{"$f":"Master!E74","v":"Active"},{"$f":"Master!F74","v":0},{"$f":"Master!H74","v":0},{"$f":"IF(Master!I74=\"\",\"B\",Master!I74)","v":2},{"$f":"IF(Master!T74=\"\",\"B\",Master!T74)","v":2},{"$f":"IF(Master!AE74=\"\",\"B\",Master!AE74)","v":2},{"$f":"IF(Master!AP74=\"\",\"B\",Master!AP74)","v":2},{"$f":"IF(Master!BA74=\"\",\"B\",Master!BA74)","v":1},{"$f":"IF(Master!BL74=\"\",\"B\",Master!BL74)","v":1}]
[{"$f":"Master!A75","v":"ES"},{"$f":"Master!B75","v":"Technical Writing: Tricks of the Trade"},{"$f":"Master!C75","v":"Enterprise Services Course\nTwo Day Course - $185"},{"$f":"Master!D75","v":"ILT"},{"$f":"Master!E75","v":"Active"},{"$f":"Master!F75","v":0},{"$f":"Master!H75","v":"To register for this course, call the LMS Helpdesk at \n360-705-7060."},{"$f":"IF(Master!I75=\"\",\"B\",Master!I75)","v":2},{"$f":"IF(Master!T75=\"\",\"B\",Master!T75)","v":2},{"$f":"IF(Master!AE75=\"\",\"B\",Master!AE75)","v":2},{"$f":"IF(Master!AP75=\"\",\"B\",Master!AP75)","v":2},{"$f":"IF(Master!BA75=\"\",\"B\",Master!BA75)","v":1},{"$f":"IF(Master!BL75=\"\",\"B\",Master!BL75)","v":1}]
[{"$f":"Master!A76","v":"ES"},{"$f":"Master!B76","v":"Writing Skills"},{"$f":"Master!C76","v":"Enterprise Services Course\nOne Day - $145"},{"$f":"Master!D76","v":"ILT"},{"$f":"Master!E76","v":"Active"},{"$f":"Master!F76","v":0},{"$f":"Master!H76","v":"To register for this course, \ncall the LMS Helpdesk at \n360-705-7060."},{"$f":"IF(Master!I76=\"\",\"B\",Master!I76)","v":2},{"$f":"IF(Master!T76=\"\",\"B\",Master!T76)","v":2},{"$f":"IF(Master!AE76=\"\",\"B\",Master!AE76)","v":2},{"$f":"IF(Master!AP76=\"\",\"B\",Master!AP76)","v":2},{"$f":"IF(Master!BA76=\"\",\"B\",Master!BA76)","v":1},{"$f":"IF(Master!BL76=\"\",\"B\",Master!BL76)","v":1}]
[{"$f":"Master!A77","v":"Effective Meeting Management -  The following six courses are available"},null,null,null,null,null,null,{"$f":"IF(Master!I77=\"\",\"B\",Master!I77)","v":"B"},{"$f":"IF(Master!T77=\"\",\"B\",Master!T77)","v":"B"},{"$f":"IF(Master!AE77=\"\",\"B\",Master!AE77)","v":"B"},{"$f":"IF(Master!AP77=\"\",\"B\",Master!AP77)","v":"B"},{"$f":"IF(Master!BA77=\"\",\"B\",Master!BA77)","v":"B"},{"$f":"IF(Master!BL77=\"\",\"B\",Master!BL77)","v":"B"}]
[{"$f":"Master!A78","v":"SS"},{"$f":"Master!B78","v":"Dealing with Common Meeting Problems"},{"$f":"Master!C78","v":"comm_32_a03_bs_enus"},{"$f":"Master!D78","v":"OLT"},{"$f":"Master!E78","v":"Active"},{"$f":"Master!F78","v":0},{"$f":"Master!H78","v":0},{"$f":"IF(Master!I78=\"\",\"B\",Master!I78)","v":"B"},{"$f":"IF(Master!T78=\"\",\"B\",Master!T78)","v":"B"},{"$f":"IF(Master!AE78=\"\",\"B\",Master!AE78)","v":"B"},{"$f":"IF(Master!AP78=\"\",\"B\",Master!AP78)","v":"B"},{"$f":"IF(Master!BA78=\"\",\"B\",Master!BA78)","v":2},{"$f":"IF(Master!BL78=\"\",\"B\",Master!BL78)","v":1}]
[{"$f":"Master!A79","v":"SS"},{"$f":"Master!B79","v":"Preparing for Effective Business Meetings"},{"$f":"Master!C79","v":"comm_32_a01_bs_enus"},{"$f":"Master!D79","v":"OLT"},{"$f":"Master!E79","v":"Active"},{"$f":"Master!F79","v":0},{"$f":"Master!H79","v":0},{"$f":"IF(Master!I79=\"\",\"B\",Master!I79)","v":"B"},{"$f":"IF(Master!T79=\"\",\"B\",Master!T79)","v":"B"},{"$f":"IF(Master!AE79=\"\",\"B\",Master!AE79)","v":"B"},{"$f":"IF(Master!AP79=\"\",\"B\",Master!AP79)","v":"B"},{"$f":"IF(Master!BA79=\"\",\"B\",Master!BA79)","v":2},{"$f":"IF(Master!BL79=\"\",\"B\",Master!BL79)","v":1}]
[{"$f":"Master!A80","v":"SS"},{"$f":"Master!B80","v":"Planning Meetings Fit for Purpose"},{"$f":"Master!C80","v":"comm_50_a01_bs_enus"},{"$f":"Master!D80","v":"OLT"},{"$f":"Master!E80","v":"Active"},{"$f":"Master!F80","v":0},{"$f":"Master!H80","v":0},{"$f":"IF(Master!I80=\"\",\"B\",Master!I80)","v":"B"},{"$f":"IF(Master!T80=\"\",\"B\",Master!T80)","v":"B"},{"$f":"IF(Master!AE80=\"\",\"B\",Master!AE80)","v":"B"},{"$f":"IF(Master!AP80=\"\",\"B\",Master!AP80)","v":"B"},{"$f":"IF(Master!BA80=\"\",\"B\",Master!BA80)","v":2},{"$f":"IF(Master!BL80=\"\",\"B\",Master!BL80)","v":1}]
[{"$f":"Master!A81","v":"SS"},{"$f":"Master!B81","v":"Managing Effective Business Meetings"},{"$f":"Master!C81","v":"comm_32_a02_bs_enus"},{"$f":"Master!D81","v":"OLT"},{"$f":"Master!E81","v":"Active"},{"$f":"Master!F81","v":0},{"$f":"Master!H81","v":0},{"$f":"IF(Master!I81=\"\",\"B\",Master!I81)","v":"B"},{"$f":"IF(Master!T81=\"\",\"B\",Master!T81)","v":"B"},{"$f":"IF(Master!AE81=\"\",\"B\",Master!AE81)","v":"B"},{"$f":"IF(Master!AP81=\"\",\"B\",Master!AP81)","v":"B"},{"$f":"IF(Master!BA81=\"\",\"B\",Master!BA81)","v":2},{"$f":"IF(Master!BL81=\"\",\"B\",Master!BL81)","v":1}]
[{"$f":"Master!A82","v":"SS"},{"$f":"Master!B82","v":"Running Meetings in Better Directions"},{"$f":"Master!C82","v":"comm_50_a02_bs_enus"},{"$f":"Master!D82","v":"OLT"},{"$f":"Master!E82","v":"Active"},{"$f":"Master!F82","v":0},{"$f":"Master!H82","v":0},{"$f":"IF(Master!I82=\"\",\"B\",Master!I82)","v":"B"},{"$f":"IF(Master!T82=\"\",\"B\",Master!T82)","v":"B"},{"$f":"IF(Master!AE82=\"\",\"B\",Master!AE82)","v":"B"},{"$f":"IF(Master!AP82=\"\",\"B\",Master!AP82)","v":"B"},{"$f":"IF(Master!BA82=\"\",\"B\",Master!BA82)","v":2},{"$f":"IF(Master!BL82=\"\",\"B\",Master!BL82)","v":1}]
[{"$f":"Master!A83","v":"ES"},{"$f":"Master!B83","v":"Effective Meeting Management  (or one of the following five SkillSoft)"},{"$f":"Master!C83","v":"Enterprise Services Course\nOne Day - $165"},{"$f":"Master!D83","v":"ILT"},{"$f":"Master!E83","v":"Active"},{"$f":"Master!F83","v":0},{"$f":"Master!H83","v":"To register for this course, call the LMS Helpdesk at \n360-705-7060."},{"$f":"IF(Master!I83=\"\",\"B\",Master!I83)","v":"B"},{"$f":"IF(Master!T83=\"\",\"B\",Master!T83)","v":"B"},{"$f":"IF(Master!AE83=\"\",\"B\",Master!AE83)","v":"B"},{"$f":"IF(Master!AP83=\"\",\"B\",Master!AP83)","v":"B"},{"$f":"IF(Master!BA83=\"\",\"B\",Master!BA83)","v":2},{"$f":"IF(Master!BL83=\"\",\"B\",Master!BL83)","v":1}]
[{"$f":"Master!A84","v":"Enhanced Leadership for WSDOT"},null,null,null,null,null,null,{"$f":"IF(Master!I84=\"\",\"B\",Master!I84)","v":"B"},{"$f":"IF(Master!T84=\"\",\"B\",Master!T84)","v":"B"},{"$f":"IF(Master!AE84=\"\",\"B\",Master!AE84)","v":"B"},{"$f":"IF(Master!AP84=\"\",\"B\",Master!AP84)","v":"B"},{"$f":"IF(Master!BA84=\"\",\"B\",Master!BA84)","v":"B"},{"$f":"IF(Master!BL84=\"\",\"B\",Master!BL84)","v":"B"}]
[{"$f":"Master!A85","v":"ES"},{"$f":"Master!B85","v":"Leading Teams"},{"$f":"Master!C85","v":"Enterprise Services Course\nThree Days - $500"},{"$f":"Master!D85","v":"ILT"},{"$f":"Master!E85","v":"Active"},{"$f":"Master!F85","v":0},{"$f":"Master!H85","v":"To register for this course, \ncall the LMS Helpdesk at \n360-705-7060."},{"$f":"IF(Master!I85=\"\",\"B\",Master!I85)","v":"B"},{"$f":"IF(Master!T85=\"\",\"B\",Master!T85)","v":"B"},{"$f":"IF(Master!AE85=\"\",\"B\",Master!AE85)","v":"B"},{"$f":"IF(Master!AP85=\"\",\"B\",Master!AP85)","v":"B"},{"$f":"IF(Master!BA85=\"\",\"B\",Master!BA85)","v":"B"},{"$f":"IF(Master!BL85=\"\",\"B\",Master!BL85)","v":2}]
[{"$f":"Master!A86","v":"Entry Management Development"},null,null,null,null,null,null,{"$f":"IF(Master!I86=\"\",\"B\",Master!I86)","v":"B"},{"$f":"IF(Master!T86=\"\",\"B\",Master!T86)","v":"B"},{"$f":"IF(Master!AE86=\"\",\"B\",Master!AE86)","v":"B"},{"$f":"IF(Master!AP86=\"\",\"B\",Master!AP86)","v":"B"},{"$f":"IF(Master!BA86=\"\",\"B\",Master!BA86)","v":"B"},{"$f":"IF(Master!BL86=\"\",\"B\",Master!BL86)","v":"B"}]
[{"$f":"Master!A87","v":"ES"},{"$f":"Master!B87","v":"Leading Others"},{"$f":"Master!C87","v":"Enterprise Services Course\nFour Days - $500"},{"$f":"Master!D87","v":"ILT"},{"$f":"Master!E87","v":"Active"},{"$f":"Master!F87","v":0},{"$f":"Master!H87","v":"To register for this course, \ncall the LMS Helpdesk at \n360-705-7060."},{"$f":"IF(Master!I87=\"\",\"B\",Master!I87)","v":"B"},{"$f":"IF(Master!T87=\"\",\"B\",Master!T87)","v":"B"},{"$f":"IF(Master!AE87=\"\",\"B\",Master!AE87)","v":"B"},{"$f":"IF(Master!AP87=\"\",\"B\",Master!AP87)","v":"B"},{"$f":"IF(Master!BA87=\"\",\"B\",Master!BA87)","v":2},{"$f":"IF(Master!BL87=\"\",\"B\",Master!BL87)","v":1}]
[{"$f":"Master!A88","v":"ES"},{"$f":"Master!B88","v":"Supervision Essentials-Phase II (Prerequisite is Leading Others)"},{"$f":"Master!C88","v":"Enterprise Services Course\nTwo Days - $285"},{"$f":"Master!D88","v":"ILT"},{"$f":"Master!E88","v":"Active"},{"$f":"Master!F88","v":0},{"$f":"Master!H88","v":"To register for this course, \ncall the LMS Helpdesk at \n360-705-7060."},{"$f":"IF(Master!I88=\"\",\"B\",Master!I88)","v":"B"},{"$f":"IF(Master!T88=\"\",\"B\",Master!T88)","v":"B"},{"$f":"IF(Master!AE88=\"\",\"B\",Master!AE88)","v":"B"},{"$f":"IF(Master!AP88=\"\",\"B\",Master!AP88)","v":"B"},{"$f":"IF(Master!BA88=\"\",\"B\",Master!BA88)","v":"B"},{"$f":"IF(Master!BL88=\"\",\"B\",Master!BL88)","v":2}]
[{"$f":"Master!A89","v":"Safety"},null,null,null,null,null,null,{"$f":"IF(Master!I89=\"\",\"B\",Master!I89)","v":"B"},{"$f":"IF(Master!T89=\"\",\"B\",Master!T89)","v":"B"},{"$f":"IF(Master!AE89=\"\",\"B\",Master!AE89)","v":"B"},{"$f":"IF(Master!AP89=\"\",\"B\",Master!AP89)","v":"B"},{"$f":"IF(Master!BA89=\"\",\"B\",Master!BA89)","v":"B"},{"$f":"IF(Master!BL89=\"\",\"B\",Master!BL89)","v":"B"}]
[{"$f":"Master!A90","v":"SAFE"},{"$f":"Master!B90","v":"WSDOT SAFE: FALL PROTECTION"},{"$f":"Master!C90","v":"WSDOT_BN9"},{"$f":"Master!D90","v":"ILT"},{"$f":"Master!E90","v":"Active"},{"$f":"Master!F90","v":0},{"$f":"Master!H90","v":0},{"$f":"IF(Master!I90=\"\",\"B\",Master!I90)","v":"B"},{"$f":"IF(Master!T90=\"\",\"B\",Master!T90)","v":"B"},{"$f":"IF(Master!AE90=\"\",\"B\",Master!AE90)","v":"B"},{"$f":"IF(Master!AP90=\"\",\"B\",Master!AP90)","v":"B"},{"$f":"IF(Master!BA90=\"\",\"B\",Master!BA90)","v":"B"},{"$f":"IF(Master!BL90=\"\",\"B\",Master!BL90)","v":"B"}]
[{"$f":"Master!A91","v":"SAFE"},{"$f":"Master!B91","v":"WSDOT SAFE: FIRST AID"},{"$f":"Master!C91","v":"WSDOT_APS"},{"$f":"Master!D91","v":"ILT"},{"$f":"Master!E91","v":"Active"},{"$f":"Master!F91","v":0},{"$f":"Master!H91","v":0},{"$f":"IF(Master!I91=\"\",\"B\",Master!I91)","v":"R"},{"$f":"IF(Master!T91=\"\",\"B\",Master!T91)","v":"R"},{"$f":"IF(Master!AE91=\"\",\"B\",Master!AE91)","v":1},{"$f":"IF(Master!AP91=\"\",\"B\",Master!AP91)","v":1},{"$f":"IF(Master!BA91=\"\",\"B\",Master!BA91)","v":1},{"$f":"IF(Master!BL91=\"\",\"B\",Master!BL91)","v":1}]
[{"$f":"Master!A92","v":"SAFE"},{"$f":"Master!B92","v":"WSDOT SAFE: FLAGGING, TRAFFIC CONTROL"},{"$f":"Master!C92","v":"WSDOT_AFZ"},{"$f":"Master!D92","v":"ILT"},{"$f":"Master!E92","v":"Active"},{"$f":"Master!F92","v":0},{"$f":"Master!H92","v":0},{"$f":"IF(Master!I92=\"\",\"B\",Master!I92)","v":"R"},{"$f":"IF(Master!T92=\"\",\"B\",Master!T92)","v":"R"},{"$f":"IF(Master!AE92=\"\",\"B\",Master!AE92)","v":1},{"$f":"IF(Master!AP92=\"\",\"B\",Master!AP92)","v":1},{"$f":"IF(Master!BA92=\"\",\"B\",Master!BA92)","v":2},{"$f":"IF(Master!BL92=\"\",\"B\",Master!BL92)","v":2}]
[{"$f":"Master!A93","v":"SAFE"},{"$f":"Master!B93","v":"WSDOT SAFE: HAZARD COMMUNICATION STANDARD (HCS)"},{"$f":"Master!C93","v":"WSDOT_AEX"},{"$f":"Master!D93","v":"ILT"},{"$f":"Master!E93","v":"Active"},{"$f":"Master!F93","v":0},{"$f":"Master!H93","v":0},{"$f":"IF(Master!I93=\"\",\"B\",Master!I93)","v":2},{"$f":"IF(Master!T93=\"\",\"B\",Master!T93)","v":2},{"$f":"IF(Master!AE93=\"\",\"B\",Master!AE93)","v":2},{"$f":"IF(Master!AP93=\"\",\"B\",Master!AP93)","v":2},{"$f":"IF(Master!BA93=\"\",\"B\",Master!BA93)","v":2},{"$f":"IF(Master!BL93=\"\",\"B\",Master!BL93)","v":2}]
[{"$f":"Master!A94","v":"SAFE"},{"$f":"Master!B94","v":"WSDOT SAFE: HEARING CONSERVATION (ILT, and/or Self-Study)"},{"$f":"Master!C94","v":"WSDOT_ATS"},{"$f":"Master!D94","v":"OLT/ILT"},{"$f":"Master!E94","v":"Active"},{"$f":"Master!F94","v":0},{"$f":"Master!H94","v":0},{"$f":"IF(Master!I94=\"\",\"B\",Master!I94)","v":"R"},{"$f":"IF(Master!T94=\"\",\"B\",Master!T94)","v":"R"},{"$f":"IF(Master!AE94=\"\",\"B\",Master!AE94)","v":2},{"$f":"IF(Master!AP94=\"\",\"B\",Master!AP94)","v":2},{"$f":"IF(Master!BA94=\"\",\"B\",Master!BA94)","v":2},{"$f":"IF(Master!BL94=\"\",\"B\",Master!BL94)","v":2}]
[{"$f":"Master!A95","v":"SAFE"},{"$f":"Master!B95","v":"WSDOT SAFE: RESPIRATOR PROTECTION TRAINING"},{"$f":"Master!C95","v":"WSDOT_ARZ"},{"$f":"Master!D95","v":"ILT"},{"$f":"Master!E95","v":"Active"},{"$f":"Master!F95","v":0},{"$f":"Master!H95","v":0},{"$f":"IF(Master!I95=\"\",\"B\",Master!I95)","v":"B"},{"$f":"IF(Master!T95=\"\",\"B\",Master!T95)","v":"B"},{"$f":"IF(Master!AE95=\"\",\"B\",Master!AE95)","v":"B"},{"$f":"IF(Master!AP95=\"\",\"B\",Master!AP95)","v":"B"},{"$f":"IF(Master!BA95=\"\",\"B\",Master!BA95)","v":"B"},{"$f":"IF(Master!BL95=\"\",\"B\",Master!BL95)","v":"B"}]
[{"$f":"Master!A96","v":"Construction Division"},null,null,null,null,null,null,{"$f":"IF(Master!I96=\"\",\"B\",Master!I96)","v":"B"},{"$f":"IF(Master!T96=\"\",\"B\",Master!T96)","v":"B"},{"$f":"IF(Master!AE96=\"\",\"B\",Master!AE96)","v":"B"},{"$f":"IF(Master!AP96=\"\",\"B\",Master!AP96)","v":"B"},{"$f":"IF(Master!BA96=\"\",\"B\",Master!BA96)","v":"B"},{"$f":"IF(Master!BL96=\"\",\"B\",Master!BL96)","v":"B"}]
[{"$f":"Master!A97","v":"CN"},{"$f":"Master!B97","v":"WSDOT CN: AGGREGATE PRODUCTION & TESTING INSPECTION"},{"$f":"Master!C97","v":"WSDOT_ACA"},{"$f":"Master!D97","v":"ILT"},{"$f":"Master!E97","v":"Active"},{"$f":"Master!F97","v":0},{"$f":"Master!G97","v":0},{"$f":"IF(Master!H97=\"\",\"B\",Master!H97)","v":"B"},{"$f":"IF(Master!I97=\"\",\"B\",Master!I97)","v":"B"},{"$f":"IF(Master!J97=\"\",\"B\",Master!J97)","v":"B"},{"$f":"IF(Master!K97=\"\",\"B\",Master!K97)","v":"B"},{"$f":"IF(Master!L97=\"\",\"B\",Master!L97)","v":"B"},{"$f":"IF(Master!M97=\"\",\"B\",Master!M97)","v":"B"}]
[{"$f":"Master!A98","v":"CN"},{"$f":"Master!B98","v":"WSDOT CN: BITUMINOUS SURFACE TREATMENT INSPECTION"},{"$f":"Master!C98","v":"WSDOT_CN_BST_ACC"},{"$f":"Master!D98","v":"ILT"},{"$f":"Master!E98","v":"Active"},{"$f":"Master!F98","v":0},{"$f":"Master!G98","v":0},{"$f":"IF(Master!H98=\"\",\"B\",Master!H98)","v":"B"},{"$f":"IF(Master!I98=\"\",\"B\",Master!I98)","v":"B"},{"$f":"IF(Master!J98=\"\",\"B\",Master!J98)","v":2},{"$f":"IF(Master!K98=\"\",\"B\",Master!K98)","v":"B"},{"$f":"IF(Master!L98=\"\",\"B\",Master!L98)","v":"B"},{"$f":"IF(Master!M98=\"\",\"B\",Master!M98)","v":"B"}]
[{"$f":"Master!A99","v":"CN"},{"$f":"Master!B99","v":"WSDOT CN: ACCEPTANCE AND APPROVAL OF MATERIAL"},{"$f":"Master!C99","v":"WSDOT_CN_Acceptance_Material_CX8_OLT"},{"$f":"Master!D99","v":"OLT"},{"$f":"Master!E99","v":"Active"},{"$f":"Master!F99","v":0},{"$f":"Master!G99","v":0},{"$f":"IF(Master!H99=\"\",\"B\",Master!H99)","v":"B"},{"$f":"IF(Master!I99=\"\",\"B\",Master!I99)","v":"B"},{"$f":"IF(Master!J99=\"\",\"B\",Master!J99)","v":1},{"$f":"IF(Master!K99=\"\",\"B\",Master!K99)","v":2},{"$f":"IF(Master!L99=\"\",\"B\",Master!L99)","v":"B"},{"$f":"IF(Master!M99=\"\",\"B\",Master!M99)","v":"B"}]
[{"$f":"Master!A100","v":"CN"},{"$f":"Master!B100","v":"WSDOT CN: COMPOSING AN INSPECTOR'S DAILY REPORT"},{"$f":"Master!C100","v":"WSDOT_CZ9_OLT"},{"$f":"Master!D100","v":"OLT"},{"$f":"Master!E100","v":"Active"},{"$f":"Master!F100","v":0},{"$f":"Master!G100","v":0},{"$f":"IF(Master!H100=\"\",\"B\",Master!H100)","v":"B"},{"$f":"IF(Master!I100=\"\",\"B\",Master!I100)","v":"B"},{"$f":"IF(Master!J100=\"\",\"B\",Master!J100)","v":1},{"$f":"IF(Master!K100=\"\",\"B\",Master!K100)","v":2},{"$f":"IF(Master!L100=\"\",\"B\",Master!L100)","v":"B"},{"$f":"IF(Master!M100=\"\",\"B\",Master!M100)","v":"B"}]
[{"$f":"Master!A101","v":"CN"},{"$f":"Master!B101","v":"WSDOT CN: INSPECTING BRIDGE CONSTRUCTION"},{"$f":"Master!C101","v":"WSDOT_ACM"},{"$f":"Master!D101","v":"ILT"},{"$f":"Master!E101","v":"Active"},{"$f":"Master!F101","v":0},{"$f":"Master!G101","v":0},{"$f":"IF(Master!H101=\"\",\"B\",Master!H101)","v":"B"},{"$f":"IF(Master!I101=\"\",\"B\",Master!I101)","v":"B"},{"$f":"IF(Master!J101=\"\",\"B\",Master!J101)","v":2},{"$f":"IF(Master!K101=\"\",\"B\",Master!K101)","v":"B"},{"$f":"IF(Master!L101=\"\",\"B\",Master!L101)","v":"B"},{"$f":"IF(Master!M101=\"\",\"B\",Master!M101)","v":"B"}]
[{"$f":"Master!A102","v":"CN"},{"$f":"Master!B102","v":"WSDOT CN: CONSTRUCTION INSPECTION DOCUMENTATION"},{"$f":"Master!C102","v":"WSDOT_ACY"},{"$f":"Master!D102","v":"ILT"},{"$f":"Master!E102","v":"Active"},{"$f":"Master!F102","v":0},{"$f":"Master!G102","v":0},{"$f":"IF(Master!H102=\"\",\"B\",Master!H102)","v":"B"},{"$f":"IF(Master!I102=\"\",\"B\",Master!I102)","v":"B"},{"$f":"IF(Master!J102=\"\",\"B\",Master!J102)","v":1},{"$f":"IF(Master!K102=\"\",\"B\",Master!K102)","v":2},{"$f":"IF(Master!L102=\"\",\"B\",Master!L102)","v":"B"},{"$f":"IF(Master!M102=\"\",\"B\",Master!M102)","v":"B"}]
[{"$f":"Master!A103","v":"CN"},{"$f":"Master!B103","v":"WSDOT CN:CONSTRUCTION MATERIALS, APPROVAL AND ACCEPTANCE"},{"$f":"Master!C103","v":"WSDOT_DAP"},{"$f":"Master!D103","v":"ILT"},{"$f":"Master!E103","v":"Active"},{"$f":"Master!F103","v":0},{"$f":"Master!G103","v":0},{"$f":"IF(Master!H103=\"\",\"B\",Master!H103)","v":"B"},{"$f":"IF(Master!I103=\"\",\"B\",Master!I103)","v":"B"},{"$f":"IF(Master!J103=\"\",\"B\",Master!J103)","v":1},{"$f":"IF(Master!K103=\"\",\"B\",Master!K103)","v":2},{"$f":"IF(Master!L103=\"\",\"B\",Master!L103)","v":"B"},{"$f":"IF(Master!M103=\"\",\"B\",Master!M103)","v":"B"}]
[{"$f":"Master!A104","v":"CN"},{"$f":"Master!B104","v":"WSDOT CN: DRAINAGE INSPECTION"},{"$f":"Master!C104","v":"WSDOT_ACF"},{"$f":"Master!D104","v":"ILT"},{"$f":"Master!E104","v":"Active"},{"$f":"Master!F104","v":0},{"$f":"Master!G104","v":0},{"$f":"IF(Master!H104=\"\",\"B\",Master!H104)","v":"B"},{"$f":"IF(Master!I104=\"\",\"B\",Master!I104)","v":"B"},{"$f":"IF(Master!J104=\"\",\"B\",Master!J104)","v":2},{"$f":"IF(Master!K104=\"\",\"B\",Master!K104)","v":"B"},{"$f":"IF(Master!L104=\"\",\"B\",Master!L104)","v":"B"},{"$f":"IF(Master!M104=\"\",\"B\",Master!M104)","v":"B"}]
[{"$f":"Master!A105","v":"CN"},{"$f":"Master!B105","v":"WSDOT CN: EARTHWORK INSPECTION"},{"$f":"Master!C105","v":"WSDOT_Earthwork_OLT"},{"$f":"Master!D105","v":"OLT"},{"$f":"Master!E105","v":"Active"},{"$f":"Master!F105","v":0},{"$f":"Master!G105","v":0},{"$f":"IF(Master!H105=\"\",\"B\",Master!H105)","v":"B"},{"$f":"IF(Master!I105=\"\",\"B\",Master!I105)","v":"B"},{"$f":"IF(Master!J105=\"\",\"B\",Master!J105)","v":2},{"$f":"IF(Master!K105=\"\",\"B\",Master!K105)","v":"B"},{"$f":"IF(Master!L105=\"\",\"B\",Master!L105)","v":"B"},{"$f":"IF(Master!M105=\"\",\"B\",Master!M105)","v":"B"}]
[{"$f":"Master!A106","v":"CN"},{"$f":"Master!B106","v":"WSDOT CN: ELECTRICAL CONDUCTORS AND FIBER for ICP"},{"$f":"Master!C106","v":"WSDOT_ICP_Electrical_Conductors_Fiber_OLT"},{"$f":"Master!D106","v":"OLT"},{"$f":"Master!E106","v":"Active"},{"$f":"Master!F106","v":0},{"$f":"Master!G106","v":0},{"$f":"IF(Master!H106=\"\",\"B\",Master!H106)","v":"B"},{"$f":"IF(Master!I106=\"\",\"B\",Master!I106)","v":"B"},{"$f":"IF(Master!J106=\"\",\"B\",Master!J106)","v":"B"},{"$f":"IF(Master!K106=\"\",\"B\",Master!K106)","v":2},{"$f":"IF(Master!L106=\"\",\"B\",Master!L106)","v":"B"},{"$f":"IF(Master!M106=\"\",\"B\",Master!M106)","v":"B"}]
[{"$f":"Master!A107","v":"CN"},{"$f":"Master!B107","v":"WSDOT CN: ELECTRICAL-ILLUMINATION-SIGNALS & ITS INSPECTION"},{"$f":"Master!C107","v":"WSDOT_API"},{"$f":"Master!D107","v":"ILT"},{"$f":"Master!E107","v":"Active"},{"$f":"Master!F107","v":0},{"$f":"Master!G107","v":0},{"$f":"IF(Master!H107=\"\",\"B\",Master!H107)","v":"B"},{"$f":"IF(Master!I107=\"\",\"B\",Master!I107)","v":"B"},{"$f":"IF(Master!J107=\"\",\"B\",Master!J107)","v":"B"},{"$f":"IF(Master!K107=\"\",\"B\",Master!K107)","v":2},{"$f":"IF(Master!L107=\"\",\"B\",Master!L107)","v":"B"},{"$f":"IF(Master!M107=\"\",\"B\",Master!M107)","v":"B"}]
[{"$f":"Master!A108","v":"CN"},{"$f":"Master!B108","v":"WSDOT CN: EXCAVATION & EMBANKMENTS INSPECTION"},{"$f":"Master!C108","v":"WSDOT_AC3"},{"$f":"Master!D108","v":"ILT"},{"$f":"Master!E108","v":"Active"},{"$f":"Master!F108","v":0},{"$f":"Master!G108","v":0},{"$f":"IF(Master!H108=\"\",\"B\",Master!H108)","v":"B"},{"$f":"IF(Master!I108=\"\",\"B\",Master!I108)","v":"B"},{"$f":"IF(Master!J108=\"\",\"B\",Master!J108)","v":1},{"$f":"IF(Master!K108=\"\",\"B\",Master!K108)","v":"B"},{"$f":"IF(Master!L108=\"\",\"B\",Master!L108)","v":"B"},{"$f":"IF(Master!M108=\"\",\"B\",Master!M108)","v":"B"}]
[{"$f":"Master!A109","v":"CN"},{"$f":"Master!B109","v":"WSDOT CN: FIELD PAINTING STRUCTURAL STEEL"},{"$f":"Master!C109","v":"WSDOT_CN_Field_Painting_OLT"},{"$f":"Master!D109","v":"OLT"},{"$f":"Master!E109","v":"Active"},{"$f":"Master!F109","v":0},{"$f":"Master!G109","v":0},{"$f":"IF(Master!H109=\"\",\"B\",Master!H109)","v":"B"},{"$f":"IF(Master!I109=\"\",\"B\",Master!I109)","v":"B"},{"$f":"IF(Master!J109=\"\",\"B\",Master!J109)","v":"B"},{"$f":"IF(Master!K109=\"\",\"B\",Master!K109)","v":"B"},{"$f":"IF(Master!L109=\"\",\"B\",Master!L109)","v":"B"},{"$f":"IF(Master!M109=\"\",\"B\",Master!M109)","v":"B"}]
[{"$f":"Master!A110","v":"CN"},{"$f":"Master!B110","v":"WSDOT CN: FORCE ACCOUNT DOCUMENTATION AND PAYMENT"},{"$f":"Master!C110","v":"WSDOT_CN_ForceAccount_DG2_OLT"},{"$f":"Master!D110","v":"OLT"},{"$f":"Master!E110","v":"Active"},{"$f":"Master!F110","v":0},{"$f":"Master!G110","v":0},{"$f":"IF(Master!H110=\"\",\"B\",Master!H110)","v":"B"},{"$f":"IF(Master!I110=\"\",\"B\",Master!I110)","v":"B"},{"$f":"IF(Master!J110=\"\",\"B\",Master!J110)","v":1},{"$f":"IF(Master!K110=\"\",\"B\",Master!K110)","v":2},{"$f":"IF(Master!L110=\"\",\"B\",Master!L110)","v":"B"},{"$f":"IF(Master!M110=\"\",\"B\",Master!M110)","v":"B"}]
[{"$f":"Master!A111","v":"CN"},{"$f":"Master!B111","v":"WSDOT CN: FORMS AND FALSEWORK for ICP"},{"$f":"Master!C111","v":"WSDOT_ICP_Forms and Falsework_OLT"},{"$f":"Master!D111","v":"OLT"},{"$f":"Master!E111","v":"Active"},{"$f":"Master!F111","v":0},{"$f":"Master!G111","v":0},{"$f":"IF(Master!H111=\"\",\"B\",Master!H111)","v":"B"},{"$f":"IF(Master!I111=\"\",\"B\",Master!I111)","v":"B"},{"$f":"IF(Master!J111=\"\",\"B\",Master!J111)","v":2},{"$f":"IF(Master!K111=\"\",\"B\",Master!K111)","v":"B"},{"$f":"IF(Master!L111=\"\",\"B\",Master!L111)","v":"B"},{"$f":"IF(Master!M111=\"\",\"B\",Master!M111)","v":"B"}]
[{"$f":"Master!A112","v":"CN"},{"$f":"Master!B112","v":"WSDOT CN: GUARDRAIL INSTALLATION FOR INSPECTORS"},{"$f":"Master!C112","v":"WSDOT_DD4"},{"$f":"Master!D112","v":"ILT"},{"$f":"Master!E112","v":"Active"},{"$f":"Master!F112","v":0},{"$f":"Master!G112","v":0},{"$f":"IF(Master!H112=\"\",\"B\",Master!H112)","v":"B"},{"$f":"IF(Master!I112=\"\",\"B\",Master!I112)","v":"B"},{"$f":"IF(Master!J112=\"\",\"B\",Master!J112)","v":2},{"$f":"IF(Master!K112=\"\",\"B\",Master!K112)","v":"B"},{"$f":"IF(Master!L112=\"\",\"B\",Master!L112)","v":"B"},{"$f":"IF(Master!M112=\"\",\"B\",Master!M112)","v":"B"}]
[{"$f":"Master!A113","v":"CN"},{"$f":"Master!B113","v":"WSDOT CN: HAZMAT FOR THE PORTABLE NUCLEAR GAUGE"},{"$f":"Master!C113","v":"WSDOT Hazmat_for_Transportation_of_the_Nuclear_Gauge_ORG"},{"$f":"Master!D113","v":"OLT"},{"$f":"Master!E113","v":"Active"},{"$f":"Master!F113","v":0},{"$f":"Master!G113","v":0},{"$f":"IF(Master!H113=\"\",\"B\",Master!H113)","v":"B"},{"$f":"IF(Master!I113=\"\",\"B\",Master!I113)","v":"B"},{"$f":"IF(Master!J113=\"\",\"B\",Master!J113)","v":2},{"$f":"IF(Master!K113=\"\",\"B\",Master!K113)","v":"B"},{"$f":"IF(Master!L113=\"\",\"B\",Master!L113)","v":"B"},{"$f":"IF(Master!M113=\"\",\"B\",Master!M113)","v":"B"}]
[{"$f":"Master!A114","v":"CN"},{"$f":"Master!B114","v":"WSDOT CN: HMA PLACEMENT INSPECTION"},{"$f":"Master!C114","v":"WSDOT_HMAPlacement_OLT"},{"$f":"Master!D114","v":"OLT"},{"$f":"Master!E114","v":"Active"},{"$f":"Master!F114","v":0},{"$f":"Master!G114","v":0},{"$f":"IF(Master!H114=\"\",\"B\",Master!H114)","v":"B"},{"$f":"IF(Master!I114=\"\",\"B\",Master!I114)","v":"B"},{"$f":"IF(Master!J114=\"\",\"B\",Master!J114)","v":2},{"$f":"IF(Master!K114=\"\",\"B\",Master!K114)","v":"B"},{"$f":"IF(Master!L114=\"\",\"B\",Master!L114)","v":"B"},{"$f":"IF(Master!M114=\"\",\"B\",Master!M114)","v":"B"}]
[{"$f":"Master!A115","v":"CN"},{"$f":"Master!B115","v":"WSDOT CN: HOT MIX ASPHALT PLACEMENT"},{"$f":"Master!C115","v":"WSDOT_ACB"},{"$f":"Master!D115","v":"ILT"},{"$f":"Master!E115","v":"Active"},{"$f":"Master!F115","v":0},{"$f":"Master!G115","v":0},{"$f":"IF(Master!H115=\"\",\"B\",Master!H115)","v":"B"},{"$f":"IF(Master!I115=\"\",\"B\",Master!I115)","v":"B"},{"$f":"IF(Master!J115=\"\",\"B\",Master!J115)","v":2},{"$f":"IF(Master!K115=\"\",\"B\",Master!K115)","v":"B"},{"$f":"IF(Master!L115=\"\",\"B\",Master!L115)","v":"B"},{"$f":"IF(Master!M115=\"\",\"B\",Master!M115)","v":"B"}]
[{"$f":"Master!A116","v":"CN"},{"$f":"Master!B116","v":"WSDOT CN: HOT MIX ASPHALT PRODUCTION & TESTING"},{"$f":"Master!C116","v":"WSDOT_BG9"},{"$f":"Master!D116","v":"ILT"},{"$f":"Master!E116","v":"Active"},{"$f":"Master!F116","v":0},{"$f":"Master!G116","v":0},{"$f":"IF(Master!H116=\"\",\"B\",Master!H116)","v":"B"},{"$f":"IF(Master!I116=\"\",\"B\",Master!I116)","v":"B"},{"$f":"IF(Master!J116=\"\",\"B\",Master!J116)","v":2},{"$f":"IF(Master!K116=\"\",\"B\",Master!K116)","v":"B"},{"$f":"IF(Master!L116=\"\",\"B\",Master!L116)","v":"B"},{"$f":"IF(Master!M116=\"\",\"B\",Master!M116)","v":"B"}]
[{"$f":"Master!A117","v":"CN"},{"$f":"Master!B117","v":"WSDOT CN: INSPECTING BRIDGE CONSTRUCTION"},{"$f":"Master!C117","v":"WSDOT_ACM"},{"$f":"Master!D117","v":"ILT"},{"$f":"Master!E117","v":"Active"},{"$f":"Master!F117","v":0},{"$f":"Master!G117","v":0},{"$f":"IF(Master!H117=\"\",\"B\",Master!H117)","v":"B"},{"$f":"IF(Master!I117=\"\",\"B\",Master!I117)","v":"B"},{"$f":"IF(Master!J117=\"\",\"B\",Master!J117)","v":2},{"$f":"IF(Master!K117=\"\",\"B\",Master!K117)","v":"B"},{"$f":"IF(Master!L117=\"\",\"B\",Master!L117)","v":"B"},{"$f":"IF(Master!M117=\"\",\"B\",Master!M117)","v":"B"}]
[{"$f":"Master!A118","v":"CN"},{"$f":"Master!B118","v":"WSDOT CN: INSPECTION OF PEDESTRIAN FACILITIES"},{"$f":"Master!C118","v":"WSDOT_IFP_OLT"},{"$f":"Master!D118","v":"OLT"},{"$f":"Master!E118","v":"Active"},{"$f":"Master!F118","v":0},{"$f":"Master!G118","v":0},{"$f":"IF(Master!H118=\"\",\"B\",Master!H118)","v":"B"},{"$f":"IF(Master!I118=\"\",\"B\",Master!I118)","v":2},{"$f":"IF(Master!J118=\"\",\"B\",Master!J118)","v":2},{"$f":"IF(Master!K118=\"\",\"B\",Master!K118)","v":2},{"$f":"IF(Master!L118=\"\",\"B\",Master!L118)","v":2},{"$f":"IF(Master!M118=\"\",\"B\",Master!M118)","v":"B"}]
[{"$f":"Master!A119","v":"CN"},{"$f":"Master!B119","v":"WSDOT CN: INSPECTOR'S ROLE FOR CHANGE ORDER WORK"},{"$f":"Master!C119","v":"WSDOT_DH9_OLT"},{"$f":"Master!D119","v":"OLT"},{"$f":"Master!E119","v":"Active"},{"$f":"Master!F119","v":0},{"$f":"Master!G119","v":0},{"$f":"IF(Master!H119=\"\",\"B\",Master!H119)","v":"B"},{"$f":"IF(Master!I119=\"\",\"B\",Master!I119)","v":"B"},{"$f":"IF(Master!J119=\"\",\"B\",Master!J119)","v":1},{"$f":"IF(Master!K119=\"\",\"B\",Master!K119)","v":2},{"$f":"IF(Master!L119=\"\",\"B\",Master!L119)","v":"B"},{"$f":"IF(Master!M119=\"\",\"B\",Master!M119)","v":"B"}]
[{"$f":"Master!A120","v":"CN"},{"$f":"Master!B120","v":"WSDOT CN:INSPECTOR’S USE OF CONTRACT RESOURCES"},{"$f":"Master!C120","v":"WSDOT_UR1_OLT"},{"$f":"Master!D120","v":"OLT"},{"$f":"Master!E120","v":"Active"},{"$f":"Master!F120","v":0},{"$f":"Master!G120","v":0},{"$f":"IF(Master!H120=\"\",\"B\",Master!H120)","v":"B"},{"$f":"IF(Master!I120=\"\",\"B\",Master!I120)","v":"B"},{"$f":"IF(Master!J120=\"\",\"B\",Master!J120)","v":1},{"$f":"IF(Master!K120=\"\",\"B\",Master!K120)","v":2},{"$f":"IF(Master!L120=\"\",\"B\",Master!L120)","v":"B"},{"$f":"IF(Master!M120=\"\",\"B\",Master!M120)","v":"B"}]
[{"$f":"Master!A121","v":"CN"},{"$f":"Master!B121","v":"WSDOT CN: NHI CONTRACT ADMINISTRATION CORE CURRICULUM"},{"$f":"Master!C121","v":"WSDOT_NHI CONTRACT ADM"},{"$f":"Master!D121","v":"ILT"},{"$f":"Master!E121","v":"Active"},{"$f":"Master!F121","v":0},{"$f":"Master!G121","v":0},{"$f":"IF(Master!H121=\"\",\"B\",Master!H121)","v":"B"},{"$f":"IF(Master!I121=\"\",\"B\",Master!I121)","v":"B"},{"$f":"IF(Master!J121=\"\",\"B\",Master!J121)","v":"B"},{"$f":"IF(Master!K121=\"\",\"B\",Master!K121)","v":"B"},{"$f":"IF(Master!L121=\"\",\"B\",Master!L121)","v":"B"},{"$f":"IF(Master!M121=\"\",\"B\",Master!M121)","v":"B"}]
[{"$f":"Master!A122","v":"CN"},{"$f":"Master!B122","v":"WSDOT CN:NUCLEAR GAUGE SAFETY AND OPERATION"},{"$f":"Master!C122","v":"WSDOT_DCX_OLT"},{"$f":"Master!D122","v":"ILT"},{"$f":"Master!E122","v":"Active"},{"$f":"Master!F122","v":0},{"$f":"Master!G122","v":0},{"$f":"IF(Master!H122=\"\",\"B\",Master!H122)","v":"B"},{"$f":"IF(Master!I122=\"\",\"B\",Master!I122)","v":"B"},{"$f":"IF(Master!J122=\"\",\"B\",Master!J122)","v":2},{"$f":"IF(Master!K122=\"\",\"B\",Master!K122)","v":"B"},{"$f":"IF(Master!L122=\"\",\"B\",Master!L122)","v":"B"},{"$f":"IF(Master!M122=\"\",\"B\",Master!M122)","v":"B"}]
[{"$f":"Master!A123","v":"CN"},{"$f":"Master!B123","v":"WSDOT CN: NUCLEAR GAUGE, EMBANKMENT/SURFACING/PAVEMENT APPLICATIONS"},{"$f":"Master!C123","v":"WSDOT_ANQ"},{"$f":"Master!D123","v":"ILT"},{"$f":"Master!E123","v":"Active"},{"$f":"Master!F123","v":0},{"$f":"Master!G123","v":0},{"$f":"IF(Master!H123=\"\",\"B\",Master!H123)","v":"B"},{"$f":"IF(Master!I123=\"\",\"B\",Master!I123)","v":"B"},{"$f":"IF(Master!J123=\"\",\"B\",Master!J123)","v":2},{"$f":"IF(Master!K123=\"\",\"B\",Master!K123)","v":"B"},{"$f":"IF(Master!L123=\"\",\"B\",Master!L123)","v":"B"},{"$f":"IF(Master!M123=\"\",\"B\",Master!M123)","v":"B"}]
[{"$f":"Master!A124","v":"CN"},{"$f":"Master!B124","v":"WSDOT CN: PAVEMENT REHABILITATION"},{"$f":"Master!C124","v":"WSDOT_BQL"},{"$f":"Master!D124","v":"ILT"},{"$f":"Master!E124","v":"Active"},{"$f":"Master!F124","v":0},{"$f":"Master!G124","v":0},{"$f":"IF(Master!H124=\"\",\"B\",Master!H124)","v":"B"},{"$f":"IF(Master!I124=\"\",\"B\",Master!I124)","v":"B"},{"$f":"IF(Master!J124=\"\",\"B\",Master!J124)","v":"B"},{"$f":"IF(Master!K124=\"\",\"B\",Master!K124)","v":"B"},{"$f":"IF(Master!L124=\"\",\"B\",Master!L124)","v":"B"},{"$f":"IF(Master!M124=\"\",\"B\",Master!M124)","v":"B"}]
[{"$f":"Master!A125","v":"CN"},{"$f":"Master!B125","v":"WSDOT CN: PCC FIELD TESTING PROCEDURES"},{"$f":"Master!C125","v":"WSDOT_ABT"},{"$f":"Master!D125","v":"ILT"},{"$f":"Master!E125","v":"Active"},{"$f":"Master!F125","v":0},{"$f":"Master!G125","v":0},{"$f":"IF(Master!H125=\"\",\"B\",Master!H125)","v":"B"},{"$f":"IF(Master!I125=\"\",\"B\",Master!I125)","v":"B"},{"$f":"IF(Master!J125=\"\",\"B\",Master!J125)","v":"B"},{"$f":"IF(Master!K125=\"\",\"B\",Master!K125)","v":"B"},{"$f":"IF(Master!L125=\"\",\"B\",Master!L125)","v":"B"},{"$f":"IF(Master!M125=\"\",\"B\",Master!M125)","v":"B"}]
[{"$f":"Master!A126","v":"CN"},{"$f":"Master!B126","v":"WSDOT CN: PILE DRIVING INSPECTION"},{"$f":"Master!C126","v":"Piling_OLT"},{"$f":"Master!D126","v":"OLT"},{"$f":"Master!E126","v":"Active"},{"$f":"Master!F126","v":0},{"$f":"Master!G126","v":0},{"$f":"IF(Master!H126=\"\",\"B\",Master!H126)","v":"B"},{"$f":"IF(Master!I126=\"\",\"B\",Master!I126)","v":"B"},{"$f":"IF(Master!J126=\"\",\"B\",Master!J126)","v":"B"},{"$f":"IF(Master!K126=\"\",\"B\",Master!K126)","v":"B"},{"$f":"IF(Master!L126=\"\",\"B\",Master!L126)","v":"B"},{"$f":"IF(Master!M126=\"\",\"B\",Master!M126)","v":"B"}]
[{"$f":"Master!A127","v":"CN"},{"$f":"Master!B127","v":"WSDOT CN: PORTLAND CEMENT CONCRETE INSPECTION"},{"$f":"Master!C127","v":"WSDOT_PCC_OLT"},{"$f":"Master!D127","v":"OLT"},{"$f":"Master!E127","v":"Active"},{"$f":"Master!F127","v":0},{"$f":"Master!G127","v":0},{"$f":"IF(Master!H127=\"\",\"B\",Master!H127)","v":"B"},{"$f":"IF(Master!I127=\"\",\"B\",Master!I127)","v":"B"},{"$f":"IF(Master!J127=\"\",\"B\",Master!J127)","v":2},{"$f":"IF(Master!K127=\"\",\"B\",Master!K127)","v":"B"},{"$f":"IF(Master!L127=\"\",\"B\",Master!L127)","v":"B"},{"$f":"IF(Master!M127=\"\",\"B\",Master!M127)","v":"B"}]
[{"$f":"Master!A128","v":"CN"},{"$f":"Master!B128","v":"WSDOT CN: PRODUCING SOURCE DOCUMENTS"},{"$f":"Master!C128","v":"WSDOT_C1H_OLT"},{"$f":"Master!D128","v":"OLT"},{"$f":"Master!E128","v":"Active"},{"$f":"Master!F128","v":0},{"$f":"Master!G128","v":0},{"$f":"IF(Master!H128=\"\",\"B\",Master!H128)","v":"B"},{"$f":"IF(Master!I128=\"\",\"B\",Master!I128)","v":"B"},{"$f":"IF(Master!J128=\"\",\"B\",Master!J128)","v":"B"},{"$f":"IF(Master!K128=\"\",\"B\",Master!K128)","v":"B"},{"$f":"IF(Master!L128=\"\",\"B\",Master!L128)","v":"B"},{"$f":"IF(Master!M128=\"\",\"B\",Master!M128)","v":"B"}]
[{"$f":"Master!A129","v":"CN"},{"$f":"Master!B129","v":"WSDOT CN: SIGN BRIDGES AND CANTILEVER SIGNS"},{"$f":"Master!C129","v":"WSDOT_SBI_OLT"},{"$f":"Master!D129","v":"OLT"},{"$f":"Master!E129","v":"Active"},{"$f":"Master!F129","v":0},{"$f":"Master!G129","v":0},{"$f":"IF(Master!H129=\"\",\"B\",Master!H129)","v":"B"},{"$f":"IF(Master!I129=\"\",\"B\",Master!I129)","v":"B"},{"$f":"IF(Master!J129=\"\",\"B\",Master!J129)","v":2},{"$f":"IF(Master!K129=\"\",\"B\",Master!K129)","v":2},{"$f":"IF(Master!L129=\"\",\"B\",Master!L129)","v":"B"},{"$f":"IF(Master!M129=\"\",\"B\",Master!M129)","v":"B"}]
[{"$f":"Master!A130","v":"CN"},{"$f":"Master!B130","v":"WSDOT CN: SIGN INSPECTOR DUTIES"},{"$f":"Master!C130","v":"WSDOT_SID_OLT"},{"$f":"Master!D130","v":"OLT"},{"$f":"Master!E130","v":"Active"},{"$f":"Master!F130","v":0},{"$f":"Master!G130","v":0},{"$f":"IF(Master!H130=\"\",\"B\",Master!H130)","v":"B"},{"$f":"IF(Master!I130=\"\",\"B\",Master!I130)","v":"B"},{"$f":"IF(Master!J130=\"\",\"B\",Master!J130)","v":"B"},{"$f":"IF(Master!K130=\"\",\"B\",Master!K130)","v":2},{"$f":"IF(Master!L130=\"\",\"B\",Master!L130)","v":"B"},{"$f":"IF(Master!M130=\"\",\"B\",Master!M130)","v":"B"}]
[{"$f":"Master!A131","v":"CN"},{"$f":"Master!B131","v":"WSDOT CN: SIGN INSTALLATION INSPECTION"},{"$f":"Master!C131","v":"WSDOT_DFV"},{"$f":"Master!D131","v":"ILT"},{"$f":"Master!E131","v":"Active"},{"$f":"Master!F131","v":0},{"$f":"Master!G131","v":0},{"$f":"IF(Master!H131=\"\",\"B\",Master!H131)","v":"B"},{"$f":"IF(Master!I131=\"\",\"B\",Master!I131)","v":"B"},{"$f":"IF(Master!J131=\"\",\"B\",Master!J131)","v":"B"},{"$f":"IF(Master!K131=\"\",\"B\",Master!K131)","v":2},{"$f":"IF(Master!L131=\"\",\"B\",Master!L131)","v":"B"},{"$f":"IF(Master!M131=\"\",\"B\",Master!M131)","v":"B"}]
[{"$f":"Master!A132","v":"CN"},{"$f":"Master!B132","v":"WSDOT CN: SMALL AND LARGE SIGN INSPECTION REVIEW"},{"$f":"Master!C132","v":"WSDOT_SLR_OLT"},{"$f":"Master!D132","v":"OLT"},{"$f":"Master!E132","v":"Active"},{"$f":"Master!F132","v":0},{"$f":"Master!G132","v":0},{"$f":"IF(Master!H132=\"\",\"B\",Master!H132)","v":"B"},{"$f":"IF(Master!I132=\"\",\"B\",Master!I132)","v":"B"},{"$f":"IF(Master!J132=\"\",\"B\",Master!J132)","v":2},{"$f":"IF(Master!K132=\"\",\"B\",Master!K132)","v":2},{"$f":"IF(Master!L132=\"\",\"B\",Master!L132)","v":"B"},{"$f":"IF(Master!M132=\"\",\"B\",Master!M132)","v":"B"}]
[{"$f":"Master!A133","v":"CN"},{"$f":"Master!B133","v":"WSDOT CN: WORK ZONE TRAFFIC CONTROL"},{"$f":"Master!C133","v":"WSDOT_WZTC_OLT"},{"$f":"Master!D133","v":"OLT"},{"$f":"Master!E133","v":"Active"},{"$f":"Master!F133","v":0},{"$f":"Master!G133","v":0},{"$f":"IF(Master!H133=\"\",\"B\",Master!H133)","v":"B"},{"$f":"IF(Master!I133=\"\",\"B\",Master!I133)","v":"B"},{"$f":"IF(Master!J133=\"\",\"B\",Master!J133)","v":1},{"$f":"IF(Master!K133=\"\",\"B\",Master!K133)","v":1},{"$f":"IF(Master!L133=\"\",\"B\",Master!L133)","v":"B"},{"$f":"IF(Master!M133=\"\",\"B\",Master!M133)","v":"B"}]
[{"$f":"Master!A134","v":"CN"},{"$f":"Master!B134","v":"WSDOT DB: ALTERNATIVE TECHNICAL CONCEPT (ATC) REVIEW PROCESS"},{"$f":"Master!C134","v":"WSDOT_DB_ATC"},{"$f":"Master!D134","v":"ILT"},{"$f":"Master!E134","v":"Active"},{"$f":"Master!F134","v":0},{"$f":"Master!G134","v":0},{"$f":"IF(Master!H134=\"\",\"B\",Master!H134)","v":"B"},{"$f":"IF(Master!I134=\"\",\"B\",Master!I134)","v":"B"},{"$f":"IF(Master!J134=\"\",\"B\",Master!J134)","v":"B"},{"$f":"IF(Master!K134=\"\",\"B\",Master!K134)","v":"B"},{"$f":"IF(Master!L134=\"\",\"B\",Master!L134)","v":"B"},{"$f":"IF(Master!M134=\"\",\"B\",Master!M134)","v":"B"}]
[{"$f":"Master!A135","v":"CN"},{"$f":"Master!B135","v":"WSDOT DB: INTRODUCTION TO DESIGN-BUILD"},{"$f":"Master!C135","v":"WSDOT_DB_IDB"},{"$f":"Master!D135","v":"ILT"},{"$f":"Master!E135","v":"Active"},{"$f":"Master!F135","v":0},{"$f":"Master!G135","v":0},{"$f":"IF(Master!H135=\"\",\"B\",Master!H135)","v":"B"},{"$f":"IF(Master!I135=\"\",\"B\",Master!I135)","v":"B"},{"$f":"IF(Master!J135=\"\",\"B\",Master!J135)","v":"B"},{"$f":"IF(Master!K135=\"\",\"B\",Master!K135)","v":"B"},{"$f":"IF(Master!L135=\"\",\"B\",Master!L135)","v":"B"},{"$f":"IF(Master!M135=\"\",\"B\",Master!M135)","v":"B"}]
[{"$f":"Master!A136","v":"CN"},{"$f":"Master!B136","v":"WSDOT DB: DESIGN-BUILD BEST PRACTICES IN TRANSPORTATION"},{"$f":"Master!C136","v":"WSDOT_DB_BPT"},{"$f":"Master!D136","v":"ILT"},{"$f":"Master!E136","v":"Active"},{"$f":"Master!F136","v":0},{"$f":"Master!G136","v":0},{"$f":"IF(Master!H136=\"\",\"B\",Master!H136)","v":"B"},{"$f":"IF(Master!I136=\"\",\"B\",Master!I136)","v":"B"},{"$f":"IF(Master!J136=\"\",\"B\",Master!J136)","v":"B"},{"$f":"IF(Master!K136=\"\",\"B\",Master!K136)","v":"B"},{"$f":"IF(Master!L136=\"\",\"B\",Master!L136)","v":"B"},{"$f":"IF(Master!M136=\"\",\"B\",Master!M136)","v":"B"}]
[{"$f":"Master!A137","v":"CN"},{"$f":"Master!B137","v":"WSDOT DB: DESIGN-BUILD CLOSEOUT"},{"$f":"Master!C137","v":"WSDOT_DB_CO"},{"$f":"Master!D137","v":"ILT"},{"$f":"Master!E137","v":"Active"},{"$f":"Master!F137","v":0},{"$f":"Master!G137","v":0},{"$f":"IF(Master!H137=\"\",\"B\",Master!H137)","v":"B"},{"$f":"IF(Master!I137=\"\",\"B\",Master!I137)","v":"B"},{"$f":"IF(Master!J137=\"\",\"B\",Master!J137)","v":"B"},{"$f":"IF(Master!K137=\"\",\"B\",Master!K137)","v":"B"},{"$f":"IF(Master!L137=\"\",\"B\",Master!L137)","v":"B"},{"$f":"IF(Master!M137=\"\",\"B\",Master!M137)","v":"B"}]
[{"$f":"Master!A138","v":"CN"},{"$f":"Master!B138","v":"WSDOT DB: DESIGN-BUILD INSTRUCTIONS TO PROPOSERS (ITP) AND REQUEST FOR PROPOSALS (RFP)"},{"$f":"Master!C138","v":"WSDOT_DB_ITP_RFP"},{"$f":"Master!D138","v":"ILT"},{"$f":"Master!E138","v":"Active"},{"$f":"Master!F138","v":0},{"$f":"Master!G138","v":0},{"$f":"IF(Master!H138=\"\",\"B\",Master!H138)","v":"B"},{"$f":"IF(Master!I138=\"\",\"B\",Master!I138)","v":"B"},{"$f":"IF(Master!J138=\"\",\"B\",Master!J138)","v":"B"},{"$f":"IF(Master!K138=\"\",\"B\",Master!K138)","v":"B"},{"$f":"IF(Master!L138=\"\",\"B\",Master!L138)","v":"B"},{"$f":"IF(Master!M138=\"\",\"B\",Master!M138)","v":"B"}]
[{"$f":"Master!A139","v":"CN"},{"$f":"Master!B139","v":"WSDOT DB: DESIGN-BUILD OFFICE MANAGEMENT AND CONTRACT ADMINISTRATION"},{"$f":"Master!C139","v":"WSDOT_DB_CA"},{"$f":"Master!D139","v":"ILT"},{"$f":"Master!E139","v":"Active"},{"$f":"Master!F139","v":0},{"$f":"Master!G139","v":0},{"$f":"IF(Master!H139=\"\",\"B\",Master!H139)","v":"B"},{"$f":"IF(Master!I139=\"\",\"B\",Master!I139)","v":"B"},{"$f":"IF(Master!J139=\"\",\"B\",Master!J139)","v":"B"},{"$f":"IF(Master!K139=\"\",\"B\",Master!K139)","v":"B"},{"$f":"IF(Master!L139=\"\",\"B\",Master!L139)","v":"B"},{"$f":"IF(Master!M139=\"\",\"B\",Master!M139)","v":"B"}]
[{"$f":"Master!A140","v":"CN"},{"$f":"Master!B140","v":"WSDOT DB: DESIGN-BUILD STARTUP AND REQUEST FOR QUALIFICATIONS (RFQ\") DEVELOPMENT"},{"$f":"Master!C140","v":"WSDOT_DB_RFQ"},{"$f":"Master!D140","v":"ILT"},{"$f":"Master!E140","v":"Active"},{"$f":"Master!F140","v":0},{"$f":"Master!G140","v":0},{"$f":"IF(Master!H140=\"\",\"B\",Master!H140)","v":"B"},{"$f":"IF(Master!I140=\"\",\"B\",Master!I140)","v":"B"},{"$f":"IF(Master!J140=\"\",\"B\",Master!J140)","v":"B"},{"$f":"IF(Master!K140=\"\",\"B\",Master!K140)","v":"B"},{"$f":"IF(Master!L140=\"\",\"B\",Master!L140)","v":"B"},{"$f":"IF(Master!M140=\"\",\"B\",Master!M140)","v":"B"}]
[{"$f":"Master!A141","v":"CN"},{"$f":"Master!B141","v":"WSDOT DB: ENVIRONMENTAL IN DESIGN-BUILD"},{"$f":"Master!C141","v":"WSDOT_DB_E"},{"$f":"Master!D141","v":"ILT"},{"$f":"Master!E141","v":"Active"},{"$f":"Master!F141","v":0},{"$f":"Master!G141","v":0},{"$f":"IF(Master!H141=\"\",\"B\",Master!H141)","v":"B"},{"$f":"IF(Master!I141=\"\",\"B\",Master!I141)","v":"B"},{"$f":"IF(Master!J141=\"\",\"B\",Master!J141)","v":"B"},{"$f":"IF(Master!K141=\"\",\"B\",Master!K141)","v":"B"},{"$f":"IF(Master!L141=\"\",\"B\",Master!L141)","v":"B"},{"$f":"IF(Master!M141=\"\",\"B\",Master!M141)","v":"B"}]
[{"$f":"Master!A142","v":"CN"},{"$f":"Master!B142","v":"WSDOT DB: LESSONS LEARNED"},{"$f":"Master!C142","v":"WSDOT_DB_LL"},{"$f":"Master!D142","v":"ILT"},{"$f":"Master!E142","v":"Active"},{"$f":"Master!F142","v":0},{"$f":"Master!G142","v":0},{"$f":"IF(Master!H142=\"\",\"B\",Master!H142)","v":"B"},{"$f":"IF(Master!I142=\"\",\"B\",Master!I142)","v":"B"},{"$f":"IF(Master!J142=\"\",\"B\",Master!J142)","v":"B"},{"$f":"IF(Master!K142=\"\",\"B\",Master!K142)","v":"B"},{"$f":"IF(Master!L142=\"\",\"B\",Master!L142)","v":"B"},{"$f":"IF(Master!M142=\"\",\"B\",Master!M142)","v":"B"}]
[{"$f":"Master!A143","v":"CN"},{"$f":"Master!B143","v":"WSDOT DB: PROPOSAL EVALUATION"},{"$f":"Master!C143","v":"WSDOT_DB_PE"},{"$f":"Master!D143","v":"ILT"},{"$f":"Master!E143","v":"Active"},{"$f":"Master!F143","v":0},{"$f":"Master!G143","v":0},{"$f":"IF(Master!H143=\"\",\"B\",Master!H143)","v":"B"},{"$f":"IF(Master!I143=\"\",\"B\",Master!I143)","v":"B"},{"$f":"IF(Master!J143=\"\",\"B\",Master!J143)","v":"B"},{"$f":"IF(Master!K143=\"\",\"B\",Master!K143)","v":"B"},{"$f":"IF(Master!L143=\"\",\"B\",Master!L143)","v":"B"},{"$f":"IF(Master!M143=\"\",\"B\",Master!M143)","v":"B"}]
[{"$f":"Master!A144","v":"CN"},{"$f":"Master!B144","v":"WSDOT DB: QUALITY IN DESIGN-BUILD"},{"$f":"Master!C144","v":"WSDOT_DB_Q"},{"$f":"Master!D144","v":"ILT"},{"$f":"Master!E144","v":"Active"},{"$f":"Master!F144","v":0},{"$f":"Master!G144","v":0},{"$f":"IF(Master!H144=\"\",\"B\",Master!H144)","v":"B"},{"$f":"IF(Master!I144=\"\",\"B\",Master!I144)","v":"B"},{"$f":"IF(Master!J144=\"\",\"B\",Master!J144)","v":"B"},{"$f":"IF(Master!K144=\"\",\"B\",Master!K144)","v":"B"},{"$f":"IF(Master!L144=\"\",\"B\",Master!L144)","v":"B"},{"$f":"IF(Master!M144=\"\",\"B\",Master!M144)","v":"B"}]
[{"$f":"Master!A145","v":"CN"},{"$f":"Master!B145","v":"WSDOT DB: STATEMENT OF QUALIFICATIONS (SOQ) EVALUATION"},{"$f":"Master!C145","v":"WSDOT_DB_SOQE"},{"$f":"Master!D145","v":"ILT"},{"$f":"Master!E145","v":"Active"},{"$f":"Master!F145","v":0},{"$f":"Master!G145","v":0},{"$f":"IF(Master!H145=\"\",\"B\",Master!H145)","v":"B"},{"$f":"IF(Master!I145=\"\",\"B\",Master!I145)","v":"B"},{"$f":"IF(Master!J145=\"\",\"B\",Master!J145)","v":"B"},{"$f":"IF(Master!K145=\"\",\"B\",Master!K145)","v":"B"},{"$f":"IF(Master!L145=\"\",\"B\",Master!L145)","v":"B"},{"$f":"IF(Master!M145=\"\",\"B\",Master!M145)","v":"B"}]
[{"$f":"Master!A146","v":"CN"},{"$f":"Master!B146","v":"**WSDOT DB: EVALUATION"},{"$f":"Master!C146","v":0},{"$f":"Master!D146","v":"ILT"},{"$f":"Master!E146","v":"Under Development"},{"$f":"Master!F146","v":"Q1 2019"},{"$f":"Master!G146","v":0},{"$f":"IF(Master!H146=\"\",\"B\",Master!H146)","v":"B"},{"$f":"IF(Master!I146=\"\",\"B\",Master!I146)","v":"B"},{"$f":"IF(Master!J146=\"\",\"B\",Master!J146)","v":"B"},{"$f":"IF(Master!K146=\"\",\"B\",Master!K146)","v":"B"},{"$f":"IF(Master!L146=\"\",\"B\",Master!L146)","v":"B"},{"$f":"IF(Master!M146=\"\",\"B\",Master!M146)","v":"B"}]
[{"$f":"Master!A147","v":"CN"},{"$f":"Master!B147","v":"WSDOT DB: DESIGN-BUILD INVOICE PROCESSING"},{"$f":"Master!C147","v":0},{"$f":"Master!D147","v":"ILT"},{"$f":"Master!E147","v":"Active"},{"$f":"Master!F147","v":0},{"$f":"Master!G147","v":0},{"$f":"IF(Master!H147=\"\",\"B\",Master!H147)","v":"B"},{"$f":"IF(Master!I147=\"\",\"B\",Master!I147)","v":"B"},{"$f":"IF(Master!J147=\"\",\"B\",Master!J147)","v":"B"},{"$f":"IF(Master!K147=\"\",\"B\",Master!K147)","v":"B"},{"$f":"IF(Master!L147=\"\",\"B\",Master!L147)","v":"B"},{"$f":"IF(Master!M147=\"\",\"B\",Master!M147)","v":"B"}]
[{"$f":"Master!A148","v":"CN"},{"$f":"Master!B148","v":"WSDOT DB: INTERNAL AND EXTERNAL DEBRIEFING"},{"$f":"Master!C148","v":0},{"$f":"Master!D148","v":"ILT"},{"$f":"Master!E148","v":"Active"},{"$f":"Master!F148","v":0},{"$f":"Master!G148","v":0},{"$f":"IF(Master!H148=\"\",\"B\",Master!H148)","v":"B"},{"$f":"IF(Master!I148=\"\",\"B\",Master!I148)","v":"B"},{"$f":"IF(Master!J148=\"\",\"B\",Master!J148)","v":"B"},{"$f":"IF(Master!K148=\"\",\"B\",Master!K148)","v":"B"},{"$f":"IF(Master!L148=\"\",\"B\",Master!L148)","v":"B"},{"$f":"IF(Master!M148=\"\",\"B\",Master!M148)","v":"B"}]
[{"$f":"Master!A149","v":"CN"},{"$f":"Master!B149","v":"WSDOT DB: DESIGN-BUILD QUALITY VERIFICATION"},{"$f":"Master!C149","v":0},{"$f":"Master!D149","v":"ILT"},{"$f":"Master!E149","v":"Active"},{"$f":"Master!F149","v":0},{"$f":"Master!G149","v":0},{"$f":"IF(Master!H149=\"\",\"B\",Master!H149)","v":"B"},{"$f":"IF(Master!I149=\"\",\"B\",Master!I149)","v":"B"},{"$f":"IF(Master!J149=\"\",\"B\",Master!J149)","v":"B"},{"$f":"IF(Master!K149=\"\",\"B\",Master!K149)","v":"B"},{"$f":"IF(Master!L149=\"\",\"B\",Master!L149)","v":"B"},{"$f":"IF(Master!M149=\"\",\"B\",Master!M149)","v":"B"}]
[{"$f":"Master!A150","v":"CN"},{"$f":"Master!B150","v":"**WSDOT DB: QV ADMINISTRATION"},{"$f":"Master!C150","v":0},{"$f":"Master!D150","v":"ILT"},{"$f":"Master!E150","v":"Under Development"},{"$f":"Master!F150","v":"Q1 2019"},{"$f":"Master!G150","v":0},{"$f":"IF(Master!H150=\"\",\"B\",Master!H150)","v":"B"},{"$f":"IF(Master!I150=\"\",\"B\",Master!I150)","v":"B"},{"$f":"IF(Master!J150=\"\",\"B\",Master!J150)","v":"B"},{"$f":"IF(Master!K150=\"\",\"B\",Master!K150)","v":"B"},{"$f":"IF(Master!L150=\"\",\"B\",Master!L150)","v":"B"},{"$f":"IF(Master!M150=\"\",\"B\",Master!M150)","v":"B"}]
[{"$f":"Master!A151","v":"CN"},{"$f":"Master!B151","v":"**WSDOT DB: RISK ANALYSIS AND ALLOCATION FOR DB CONTRACTS"},{"$f":"Master!C151","v":0},{"$f":"Master!D151","v":"ILT"},{"$f":"Master!E151","v":"Under Development"},{"$f":"Master!F151","v":"Q1 2019"},{"$f":"Master!G151","v":0},{"$f":"IF(Master!H151=\"\",\"B\",Master!H151)","v":"B"},{"$f":"IF(Master!I151=\"\",\"B\",Master!I151)","v":"B"},{"$f":"IF(Master!J151=\"\",\"B\",Master!J151)","v":"B"},{"$f":"IF(Master!K151=\"\",\"B\",Master!K151)","v":"B"},{"$f":"IF(Master!L151=\"\",\"B\",Master!L151)","v":"B"},{"$f":"IF(Master!M151=\"\",\"B\",Master!M151)","v":"B"}]
[{"$f":"Master!A152","v":"Development Division"},null,null,null,null,null,null,{"$f":"IF(Master!I152=\"\",\"B\",Master!I152)","v":"B"},{"$f":"IF(Master!T152=\"\",\"B\",Master!T152)","v":"B"},{"$f":"IF(Master!AE152=\"\",\"B\",Master!AE152)","v":"B"},{"$f":"IF(Master!AP152=\"\",\"B\",Master!AP152)","v":"B"},{"$f":"IF(Master!BA152=\"\",\"B\",Master!BA152)","v":"B"},{"$f":"IF(Master!BL152=\"\",\"B\",Master!BL152)","v":"B"}]
[{"$f":"Master!A153","v":"Design"},null,null,null,null,null,null,{"$f":"IF(Master!I153=\"\",\"B\",Master!I153)","v":"B"},{"$f":"IF(Master!T153=\"\",\"B\",Master!T153)","v":"B"},{"$f":"IF(Master!AE153=\"\",\"B\",Master!AE153)","v":"B"},{"$f":"IF(Master!AP153=\"\",\"B\",Master!AP153)","v":"B"},{"$f":"IF(Master!BA153=\"\",\"B\",Master!BA153)","v":"B"},{"$f":"IF(Master!BL153=\"\",\"B\",Master!BL153)","v":"B"}]
[{"$f":"Master!A154","v":"DES"},{"$f":"Master!B154","v":"CONTRACT PLANS REVIEW (SELF-STUDY)"},{"$f":"Master!C154","v":"Paper and Pencil"},{"$f":"Master!D154","v":"SS"},{"$f":"Master!E154","v":"Active"},{"$f":"Master!F154","v":0},{"$f":"Master!H154","v":"E-Learning option as well.  Updated in 2013."},{"$f":"IF(Master!I154=\"\",\"B\",Master!I154)","v":"R"},{"$f":"IF(Master!T154=\"\",\"B\",Master!T154)","v":"R"},{"$f":"IF(Master!AE154=\"\",\"B\",Master!AE154)","v":1},{"$f":"IF(Master!AP154=\"\",\"B\",Master!AP154)","v":1},{"$f":"IF(Master!BA154=\"\",\"B\",Master!BA154)","v":"B"},{"$f":"IF(Master!BL154=\"\",\"B\",Master!BL154)","v":"B"}]
[{"$f":"Master!A155","v":"DES"},{"$f":"Master!B155","v":"CONTRACT PLANS READING (SELF-STUDY)"},{"$f":"Master!C155","v":"Paper and Pencil"},{"$f":"Master!D155","v":"SS"},{"$f":"Master!E155","v":"Active"},{"$f":"Master!F155","v":0},{"$f":"Master!H155","v":"Obtain material through Staff Development."},{"$f":"IF(Master!I155=\"\",\"B\",Master!I155)","v":"R"},{"$f":"IF(Master!T155=\"\",\"B\",Master!T155)","v":"R"},{"$f":"IF(Master!AE155=\"\",\"B\",Master!AE155)","v":1},{"$f":"IF(Master!AP155=\"\",\"B\",Master!AP155)","v":1},{"$f":"IF(Master!BA155=\"\",\"B\",Master!BA155)","v":"B"},{"$f":"IF(Master!BL155=\"\",\"B\",Master!BL155)","v":"B"}]
[{"$f":"Master!A156","v":"DES"},{"$f":"Master!B156","v":"WSDOT DES: CONTRACT PLANS & ESTIMATE PREPARATION"},{"$f":"Master!C156","v":"WSDOT_A4J"},{"$f":"Master!D156","v":"ILT"},{"$f":"Master!E156","v":"Inactive"},{"$f":"Master!F156","v":"None"},{"$f":"Master!H156","v":0},{"$f":"IF(Master!I156=\"\",\"B\",Master!I156)","v":1},{"$f":"IF(Master!T156=\"\",\"B\",Master!T156)","v":1},{"$f":"IF(Master!AE156=\"\",\"B\",Master!AE156)","v":1},{"$f":"IF(Master!AP156=\"\",\"B\",Master!AP156)","v":1},{"$f":"IF(Master!BA156=\"\",\"B\",Master!BA156)","v":1},{"$f":"IF(Master!BL156=\"\",\"B\",Master!BL156)","v":2}]
[{"$f":"Master!A157","v":"DES"},{"$f":"Master!B157","v":"WSDOT DES: CONTRACT PROVISION PREPARATION"},{"$f":"Master!C157","v":"WSDOT_BGN"},{"$f":"Master!D157","v":"ILT"},{"$f":"Master!E157","v":"Inactive"},{"$f":"Master!F157","v":"None"},{"$f":"Master!H157","v":0},{"$f":"IF(Master!I157=\"\",\"B\",Master!I157)","v":2},{"$f":"IF(Master!T157=\"\",\"B\",Master!T157)","v":2},{"$f":"IF(Master!AE157=\"\",\"B\",Master!AE157)","v":2},{"$f":"IF(Master!AP157=\"\",\"B\",Master!AP157)","v":1},{"$f":"IF(Master!BA157=\"\",\"B\",Master!BA157)","v":1},{"$f":"IF(Master!BL157=\"\",\"B\",Master!BL157)","v":2}]
[{"$f":"Master!A158","v":"DES"},{"$f":"Master!B158","v":"WSDOT DESIGN DOCUMENTATION"},{"$f":"Master!C158","v":"WSDOT DES: Design Documentation"},{"$f":"Master!D158","v":"ILT"},{"$f":"Master!E158","v":"Active"},{"$f":"Master!F158","v":0},{"$f":"Master!H158","v":"Contact ASDE; course material is at https://www.wsdot.wa.gov/Design/Support.htm."},{"$f":"IF(Master!I158=\"\",\"B\",Master!I158)","v":1},{"$f":"IF(Master!T158=\"\",\"B\",Master!T158)","v":1},{"$f":"IF(Master!AE158=\"\",\"B\",Master!AE158)","v":1},{"$f":"IF(Master!AP158=\"\",\"B\",Master!AP158)","v":1},{"$f":"IF(Master!BA158=\"\",\"B\",Master!BA158)","v":1},{"$f":"IF(Master!BL158=\"\",\"B\",Master!BL158)","v":2}]
[{"$f":"Master!A159","v":"DES"},{"$f":"Master!B159","v":"WSDOT DES: INTERSECTION DESIGN"},{"$f":"Master!C159","v":"WSDOT_CBD"},{"$f":"Master!D159","v":"ILT"},{"$f":"Master!E159","v":"Active"},{"$f":"Master!F159","v":0},{"$f":"Master!H159","v":"Course  updated in 2019,  delivered to all regions; class delivered by request."},{"$f":"IF(Master!I159=\"\",\"B\",Master!I159)","v":2},{"$f":"IF(Master!T159=\"\",\"B\",Master!T159)","v":2},{"$f":"IF(Master!AE159=\"\",\"B\",Master!AE159)","v":2},{"$f":"IF(Master!AP159=\"\",\"B\",Master!AP159)","v":1},{"$f":"IF(Master!BA159=\"\",\"B\",Master!BA159)","v":1},{"$f":"IF(Master!BL159=\"\",\"B\",Master!BL159)","v":2}]
[{"$f":"Master!A160","v":"DES"},{"$f":"Master!B160","v":"WSDOT DES: PROJECT DEVELOPMENT PROCESS"},{"$f":"Master!C160","v":"WSDOT_CF4"},{"$f":"Master!D160","v":"ILT"},{"$f":"Master!E160","v":"Active"},{"$f":"Master!F160","v":"None"},{"$f":"Master!H160","v":"Updated January 2020; will deliver to regions by 6/30/2021"},{"$f":"IF(Master!I160=\"\",\"B\",Master!I160)","v":2},{"$f":"IF(Master!T160=\"\",\"B\",Master!T160)","v":2},{"$f":"IF(Master!AE160=\"\",\"B\",Master!AE160)","v":2},{"$f":"IF(Master!AP160=\"\",\"B\",Master!AP160)","v":1},{"$f":"IF(Master!BA160=\"\",\"B\",Master!BA160)","v":1},{"$f":"IF(Master!BL160=\"\",\"B\",Master!BL160)","v":"B"}]
[{"$f":"Master!A161","v":"DES"},{"$f":"Master!B161","v":"WSDOT PM: SCHEDULING BASICS"},{"$f":"Master!C161","v":"WSDOT_CB5"},{"$f":"Master!D161","v":"ILT"},{"$f":"Master!E161","v":"Inactive"},{"$f":"Master!F161","v":"None"},{"$f":"Master!H161","v":0},{"$f":"IF(Master!I161=\"\",\"B\",Master!I161)","v":1},{"$f":"IF(Master!T161=\"\",\"B\",Master!T161)","v":1},{"$f":"IF(Master!AE161=\"\",\"B\",Master!AE161)","v":1},{"$f":"IF(Master!AP161=\"\",\"B\",Master!AP161)","v":1},{"$f":"IF(Master!BA161=\"\",\"B\",Master!BA161)","v":1},{"$f":"IF(Master!BL161=\"\",\"B\",Master!BL161)","v":1}]
[{"$f":"Master!A162","v":"DES"},{"$f":"Master!B162","v":"AASHTO T3 CPM SCHEDULING"},{"$f":"Master!C162","v":"Resources:\nCPM Scheduling (2 PDHs)\nCPM Scheduling (3 PDHs)"},{"$f":"Master!D162","v":"OLT"},{"$f":"Master!E162","v":"Active"},{"$f":"Master!F162","v":0},{"$f":"Master!H162","v":"The online CPM training is free for WSDOT employees. To sign up, create an AASHTO account (use your WSDOT email address for the username) then navigate to the CPM training and add it to your cart. Follow the instructions that are emailed to you. There are a variety of other courses available to WSDOT employees at no cost."}]
[{"$f":"Master!A163","v":"DES"},{"$f":"Master!B163","v":"WSDOT DES: RIGHT OF WAY PLANS PREPARATION"},{"$f":"Master!C163","v":"WSDOT_BCN"},{"$f":"Master!D163","v":"ILT"},{"$f":"Master!E163","v":"Inactive"},{"$f":"Master!F163","v":"None"},{"$f":"Master!H163","v":0},{"$f":"IF(Master!I163=\"\",\"B\",Master!I163)","v":1},{"$f":"IF(Master!T163=\"\",\"B\",Master!T163)","v":1},{"$f":"IF(Master!AE163=\"\",\"B\",Master!AE163)","v":1},{"$f":"IF(Master!AP163=\"\",\"B\",Master!AP163)","v":1},{"$f":"IF(Master!BA163=\"\",\"B\",Master!BA163)","v":1},{"$f":"IF(Master!BL163=\"\",\"B\",Master!BL163)","v":2}]
[{"$f":"Master!A164","v":"DES"},{"$f":"Master!B164","v":"WSDOT DES: ROADSIDE SAFETY"},{"$f":"Master!C164","v":"WSDOT_B74"},{"$f":"Master!D164","v":"ILT"},{"$f":"Master!E164","v":"Inactive"},{"$f":"Master!F164","v":"None"},{"$f":"Master!H164","v":0},{"$f":"IF(Master!I164=\"\",\"B\",Master!I164)","v":1},{"$f":"IF(Master!T164=\"\",\"B\",Master!T164)","v":1},{"$f":"IF(Master!AE164=\"\",\"B\",Master!AE164)","v":1},{"$f":"IF(Master!AP164=\"\",\"B\",Master!AP164)","v":1},{"$f":"IF(Master!BA164=\"\",\"B\",Master!BA164)","v":1},{"$f":"IF(Master!BL164=\"\",\"B\",Master!BL164)","v":2}]
[{"$f":"Master!A165","v":"DES"},{"$f":"Master!B165","v":"WSDOT DES: ROADWAY GEOMETRIC DESIGN"},{"$f":"Master!C165","v":"WSDOT_BWE"},{"$f":"Master!D165","v":"ILT"},{"$f":"Master!E165","v":"Inactive"},{"$f":"Master!F165","v":"None"},{"$f":"Master!H165","v":0},{"$f":"IF(Master!I165=\"\",\"B\",Master!I165)","v":1},{"$f":"IF(Master!T165=\"\",\"B\",Master!T165)","v":1},{"$f":"IF(Master!AE165=\"\",\"B\",Master!AE165)","v":1},{"$f":"IF(Master!AP165=\"\",\"B\",Master!AP165)","v":1},{"$f":"IF(Master!BA165=\"\",\"B\",Master!BA165)","v":1},{"$f":"IF(Master!BL165=\"\",\"B\",Master!BL165)","v":2}]
[{"$f":"Master!A166","v":"DES"},{"$f":"Master!B166","v":"WSDOT DES: INTERCHANGE DESIGN"},{"$f":"Master!C166","v":"WSDOT_CFU"},{"$f":"Master!D166","v":"ILT"},{"$f":"Master!E166","v":"Inactive"},{"$f":"Master!F166","v":"None"},{"$f":"Master!H166","v":"FHWA delivered their interchange training at WSDOT in 2019; course delivery depends on demand."},{"$f":"IF(Master!I166=\"\",\"B\",Master!I166)","v":2},{"$f":"IF(Master!T166=\"\",\"B\",Master!T166)","v":2},{"$f":"IF(Master!AE166=\"\",\"B\",Master!AE166)","v":2},{"$f":"IF(Master!AP166=\"\",\"B\",Master!AP166)","v":2},{"$f":"IF(Master!BA166=\"\",\"B\",Master!BA166)","v":1},{"$f":"IF(Master!BL166=\"\",\"B\",Master!BL166)","v":2}]
[{"$f":"Master!A167","v":"DES"},{"$f":"Master!B167","v":"WSDOT DES: ACCESS MANAGEMENT"},{"$f":"Master!C167","v":"WSDOT_DAS"},{"$f":"Master!D167","v":"ILT"},{"$f":"Master!E167","v":"Active"},{"$f":"Master!F167","v":0},{"$f":"Master!H167","v":"Being updated, but current class can be given at any time"},{"$f":"IF(Master!I167=\"\",\"B\",Master!I167)","v":2},{"$f":"IF(Master!T167=\"\",\"B\",Master!T167)","v":2},{"$f":"IF(Master!AE167=\"\",\"B\",Master!AE167)","v":2},{"$f":"IF(Master!AP167=\"\",\"B\",Master!AP167)","v":2},{"$f":"IF(Master!BA167=\"\",\"B\",Master!BA167)","v":2},{"$f":"IF(Master!BL167=\"\",\"B\",Master!BL167)","v":"B"}]
[{"$f":"Master!A168","v":"DES"},{"$f":"Master!B168","v":"ALTERNATIVES COMPARISON WORKSHOP"},{"$f":"Master!C168","v":"None"},{"$f":"Master!D168","v":"ILT"},{"$f":"Master!E168","v":"Inactive"},{"$f":"Master!F168","v":"None"},{"$f":"Master!H168","v":0},{"$f":"IF(Master!I168=\"\",\"B\",Master!I168)","v":1},{"$f":"IF(Master!T168=\"\",\"B\",Master!T168)","v":1},{"$f":"IF(Master!AE168=\"\",\"B\",Master!AE168)","v":1},{"$f":"IF(Master!AP168=\"\",\"B\",Master!AP168)","v":1},{"$f":"IF(Master!BA168=\"\",\"B\",Master!BA168)","v":1},{"$f":"IF(Master!BL168=\"\",\"B\",Master!BL168)","v":1}]
[{"$f":"Master!A169","v":"DES"},{"$f":"Master!B169","v":"WSDOT DES: COST ESTIMATING"},{"$f":"Master!C169","v":"WSDOT_CZV"},{"$f":"Master!D169","v":"ILT"},{"$f":"Master!E169","v":"Active"},{"$f":"Master!F169","v":0},{"$f":"Master!H169","v":"This class was updated in 2019 and delivered to all regions 2019-2020; this class can be delivered by request."},{"$f":"IF(Master!I169=\"\",\"B\",Master!I169)","v":1},{"$f":"IF(Master!T169=\"\",\"B\",Master!T169)","v":1},{"$f":"IF(Master!AE169=\"\",\"B\",Master!AE169)","v":1},{"$f":"IF(Master!AP169=\"\",\"B\",Master!AP169)","v":1},{"$f":"IF(Master!BA169=\"\",\"B\",Master!BA169)","v":1},{"$f":"IF(Master!BL169=\"\",\"B\",Master!BL169)","v":1}]
[{"$f":"Master!A170","v":"DES"},{"$f":"Master!B170","v":"RISK MANAGEMENT"},{"$f":"Master!C170","v":"None"},{"$f":"Master!D170","v":"ILT"},{"$f":"Master!E170","v":"Inactive"},{"$f":"Master!F170","v":"None"},{"$f":"Master!H170","v":"Available by arrangement; contact Mark Gabel or Mark Suijka."},{"$f":"IF(Master!I170=\"\",\"B\",Master!I170)","v":2},{"$f":"IF(Master!T170=\"\",\"B\",Master!T170)","v":2},{"$f":"IF(Master!AE170=\"\",\"B\",Master!AE170)","v":2},{"$f":"IF(Master!AP170=\"\",\"B\",Master!AP170)","v":2},{"$f":"IF(Master!BA170=\"\",\"B\",Master!BA170)","v":1},{"$f":"IF(Master!BL170=\"\",\"B\",Master!BL170)","v":1}]
[{"$f":"Master!A171","v":"DES"},{"$f":"Master!B171","v":"MANAGING PROJECT DELIVERY"},{"$f":"Master!C171","v":"None"},{"$f":"Master!D171","v":0},{"$f":"Master!E171","v":"Inactive"},{"$f":"Master!F171","v":"None"},{"$f":"Master!H171","v":"PM courses abailable through SkillSoft:  https://wsdot.skillport.com/skillportfe/main.action#whatshappening"},{"$f":"IF(Master!I171=\"\",\"B\",Master!I171)","v":1},{"$f":"IF(Master!T171=\"\",\"B\",Master!T171)","v":1},{"$f":"IF(Master!AE171=\"\",\"B\",Master!AE171)","v":1},{"$f":"IF(Master!AP171=\"\",\"B\",Master!AP171)","v":1},{"$f":"IF(Master!BA171=\"\",\"B\",Master!BA171)","v":1},{"$f":"IF(Master!BL171=\"\",\"B\",Master!BL171)","v":1}]
[{"$f":"Master!A172","v":"DES"},{"$f":"Master!B172","v":"HUMAN FACTORS IN TRANSPORTATION DESIGN"},{"$f":"Master!C172","v":"None"},{"$f":"Master!D172","v":"ILT"},{"$f":"Master!E172","v":"Inactive"},{"$f":"Master!F172","v":"None"},{"$f":"Master!H172","v":"Partly covered in the HSM Training"},{"$f":"IF(Master!I172=\"\",\"B\",Master!I172)","v":1},{"$f":"IF(Master!T172=\"\",\"B\",Master!T172)","v":1},{"$f":"IF(Master!AE172=\"\",\"B\",Master!AE172)","v":1},{"$f":"IF(Master!AP172=\"\",\"B\",Master!AP172)","v":1},{"$f":"IF(Master!BA172=\"\",\"B\",Master!BA172)","v":1},{"$f":"IF(Master!BL172=\"\",\"B\",Master!BL172)","v":1}]
[{"$f":"Master!A173","v":"DES"},{"$f":"Master!B173","v":"WSDOT DES: [YYYY] DESIGN MANUAL TRAINING"},{"$f":"Master!C173","v":"WSDOT_DMUT01202016"},{"$f":"Master!D173","v":"ILT"},{"$f":"Master!E173","v":"Active"},{"$f":"Master!F173","v":0},{"$f":"Master!H173","v":0},{"$f":"IF(Master!I173=\"\",\"B\",Master!I173)","v":1},{"$f":"IF(Master!T173=\"\",\"B\",Master!T173)","v":1},{"$f":"IF(Master!AE173=\"\",\"B\",Master!AE173)","v":1},{"$f":"IF(Master!AP173=\"\",\"B\",Master!AP173)","v":1},{"$f":"IF(Master!BA173=\"\",\"B\",Master!BA173)","v":1},{"$f":"IF(Master!BL173=\"\",\"B\",Master!BL173)","v":1}]
[{"$f":"Master!A174","v":"DES"},{"$f":"Master!B174","v":"WSDOT DES: DESIGN MANUAL DIVISION 11 PRACTICAL DESIGN"},{"$f":"Master!C174","v":"DMUT_ORG"},{"$f":"Master!D174","v":"OLT"},{"$f":"Master!E174","v":"Active"},{"$f":"Master!F174","v":0},{"$f":"Master!H174","v":"Available in LMS for credit, also at https://www.wsdot.wa.gov/LocalPrograms/Training/eTraining.htm "},{"$f":"IF(Master!I174=\"\",\"B\",Master!I174)","v":1},{"$f":"IF(Master!J174=\"\",\"B\",Master!J174)","v":"B"},{"$f":"IF(Master!K174=\"\",\"B\",Master!K174)","v":2},{"$f":"IF(Master!L174=\"\",\"B\",Master!L174)","v":"B"},{"$f":"IF(Master!M174=\"\",\"B\",Master!M174)","v":"B"},{"$f":"IF(Master!N174=\"\",\"B\",Master!N174)","v":"B"}]
[{"$f":"Master!A175","v":"DES"},{"$f":"Master!B175","v":"WSDOT PS 201 MULTIMODAL MAKING THE CASE MODULE1 OLT"},{"$f":"Master!C175","v":"Module_1:_Why_Multimodal?_ORG"},{"$f":"Master!D175","v":"OLT"},{"$f":"Master!E175","v":"Active"},{"$f":"Master!F175","v":0},{"$f":"Master!H175","v":0},{"$f":"IF(Master!I175=\"\",\"B\",Master!I175)","v":"B"},{"$f":"IF(Master!J175=\"\",\"B\",Master!J175)","v":"B"},{"$f":"IF(Master!K175=\"\",\"B\",Master!K175)","v":"B"},{"$f":"IF(Master!L175=\"\",\"B\",Master!L175)","v":"B"},{"$f":"IF(Master!M175=\"\",\"B\",Master!M175)","v":"B"},{"$f":"IF(Master!N175=\"\",\"B\",Master!N175)","v":"B"}]
[{"$f":"Master!A176","v":"DES"},{"$f":"Master!B176","v":"WSDOT PS 201 MULTIMODAL LAND USE MODULE2 OLT"},{"$f":"Master!C176","v":"Module_2_Land_Use_&_Transportation_ORG"},{"$f":"Master!D176","v":"OLT"},{"$f":"Master!E176","v":"Active"},{"$f":"Master!F176","v":0},{"$f":"Master!H176","v":0},{"$f":"IF(Master!I176=\"\",\"B\",Master!I176)","v":"B"},{"$f":"IF(Master!J176=\"\",\"B\",Master!J176)","v":"B"},{"$f":"IF(Master!K176=\"\",\"B\",Master!K176)","v":"B"},{"$f":"IF(Master!L176=\"\",\"B\",Master!L176)","v":"B"},{"$f":"IF(Master!M176=\"\",\"B\",Master!M176)","v":"B"},{"$f":"IF(Master!N176=\"\",\"B\",Master!N176)","v":"B"}]
[{"$f":"Master!A177","v":"DES"},{"$f":"Master!B177","v":"WSDOT PS 201 MULTIMODAL PHASES AND NEEDS MODULE3 OLT"},{"$f":"Master!C177","v":"Module_3_Phases_and_Needs_ORG"},{"$f":"Master!D177","v":"OLT"},{"$f":"Master!E177","v":" Active"},{"$f":"Master!F177","v":0},{"$f":"Master!H177","v":0},{"$f":"IF(Master!I177=\"\",\"B\",Master!I177)","v":"B"},{"$f":"IF(Master!J177=\"\",\"B\",Master!J177)","v":"B"},{"$f":"IF(Master!K177=\"\",\"B\",Master!K177)","v":"B"},{"$f":"IF(Master!L177=\"\",\"B\",Master!L177)","v":"B"},{"$f":"IF(Master!M177=\"\",\"B\",Master!M177)","v":"B"},{"$f":"IF(Master!N177=\"\",\"B\",Master!N177)","v":"B"}]
[{"$f":"Master!A178","v":"DES"},{"$f":"Master!B178","v":"WSDOT PS 201 MULTIMODAL PERFORMANCE BASICS MODULE4 OLT"},{"$f":"Master!C178","v":"Module_4_Performance_Basics_ORG"},{"$f":"Master!D178","v":"OLT"},{"$f":"Master!E178","v":"Active"},{"$f":"Master!F178","v":0},{"$f":"Master!H178","v":0},{"$f":"IF(Master!I178=\"\",\"B\",Master!I178)","v":"B"},{"$f":"IF(Master!J178=\"\",\"B\",Master!J178)","v":"B"},{"$f":"IF(Master!K178=\"\",\"B\",Master!K178)","v":"B"},{"$f":"IF(Master!L178=\"\",\"B\",Master!L178)","v":"B"},{"$f":"IF(Master!M178=\"\",\"B\",Master!M178)","v":"B"},{"$f":"IF(Master!N178=\"\",\"B\",Master!N178)","v":"B"}]
[{"$f":"Master!A179","v":"DES"},{"$f":"Master!B179","v":"WSDOT PS 201 MULTIMODAL TRANSIT MODULE5 OLT"},{"$f":"Master!C179","v":"Module_5_Transit_ORG"},{"$f":"Master!D179","v":"OLT"},{"$f":"Master!E179","v":"Active"},{"$f":"Master!F179","v":0},{"$f":"Master!H179","v":0},{"$f":"IF(Master!I179=\"\",\"B\",Master!I179)","v":"B"},{"$f":"IF(Master!J179=\"\",\"B\",Master!J179)","v":"B"},{"$f":"IF(Master!K179=\"\",\"B\",Master!K179)","v":"B"},{"$f":"IF(Master!L179=\"\",\"B\",Master!L179)","v":"B"},{"$f":"IF(Master!M179=\"\",\"B\",Master!M179)","v":"B"},{"$f":"IF(Master!N179=\"\",\"B\",Master!N179)","v":"B"}]
[{"$f":"Master!A180","v":"DES"},{"$f":"Master!B180","v":"WSDOT PS 201 MULTIMODAL WALKING MODULE6 OLT"},{"$f":"Master!C180","v":"Module_6_People_Walking_ORG"},{"$f":"Master!D180","v":"OLT"},{"$f":"Master!E180","v":"Active"},{"$f":"Master!F180","v":0},{"$f":"Master!H180","v":0},{"$f":"IF(Master!I180=\"\",\"B\",Master!I180)","v":"B"},{"$f":"IF(Master!J180=\"\",\"B\",Master!J180)","v":"B"},{"$f":"IF(Master!K180=\"\",\"B\",Master!K180)","v":"B"},{"$f":"IF(Master!L180=\"\",\"B\",Master!L180)","v":"B"},{"$f":"IF(Master!M180=\"\",\"B\",Master!M180)","v":"B"},{"$f":"IF(Master!N180=\"\",\"B\",Master!N180)","v":"B"}]
[{"$f":"Master!A181","v":"DES"},{"$f":"Master!B181","v":"WSDOT PS 201 MULTIMODAL BIKING MODULE7 OLT"},{"$f":"Master!C181","v":"Module_7_People_Biking_ORG"},{"$f":"Master!D181","v":"OLT"},{"$f":"Master!E181","v":"Active"},{"$f":"Master!F181","v":0},{"$f":"Master!H181","v":0},{"$f":"IF(Master!I181=\"\",\"B\",Master!I181)","v":"B"},{"$f":"IF(Master!J181=\"\",\"B\",Master!J181)","v":"B"},{"$f":"IF(Master!K181=\"\",\"B\",Master!K181)","v":"B"},{"$f":"IF(Master!L181=\"\",\"B\",Master!L181)","v":"B"},{"$f":"IF(Master!M181=\"\",\"B\",Master!M181)","v":"B"},{"$f":"IF(Master!N181=\"\",\"B\",Master!N181)","v":"B"}]
[{"$f":"Master!A182","v":"DES"},{"$f":"Master!B182","v":"WSDOT PS 201 MULTIMODAL FREIGHT MODULE8 OLT"},{"$f":"Master!C182","v":"Module_8_Freight_Transportation_ORG"},{"$f":"Master!D182","v":"OLT"},{"$f":"Master!E182","v":"Active"},{"$f":"Master!F182","v":0},{"$f":"Master!H182","v":0},{"$f":"IF(Master!I182=\"\",\"B\",Master!I182)","v":"B"},{"$f":"IF(Master!J182=\"\",\"B\",Master!J182)","v":"B"},{"$f":"IF(Master!K182=\"\",\"B\",Master!K182)","v":"B"},{"$f":"IF(Master!L182=\"\",\"B\",Master!L182)","v":"B"},{"$f":"IF(Master!M182=\"\",\"B\",Master!M182)","v":"B"},{"$f":"IF(Master!N182=\"\",\"B\",Master!N182)","v":"B"}]
[{"$f":"Master!A183","v":"DES"},{"$f":"Master!B183","v":"WSDOT PS 201 MULTIMODAL CONFLICTS AND HUBS MODULE9 OLT"},{"$f":"Master!C183","v":"Module_9_Modal_Conflicts_and_Hubs_ORG"},{"$f":"Master!D183","v":"OLT"},{"$f":"Master!E183","v":"Active"},{"$f":"Master!F183","v":0},{"$f":"Master!H183","v":0},{"$f":"IF(Master!I183=\"\",\"B\",Master!I183)","v":"B"},{"$f":"IF(Master!J183=\"\",\"B\",Master!J183)","v":"B"},{"$f":"IF(Master!K183=\"\",\"B\",Master!K183)","v":"B"},{"$f":"IF(Master!L183=\"\",\"B\",Master!L183)","v":"B"},{"$f":"IF(Master!M183=\"\",\"B\",Master!M183)","v":"B"},{"$f":"IF(Master!N183=\"\",\"B\",Master!N183)","v":"B"}]
[{"$f":"Master!A184","v":"DES"},{"$f":"Master!B184","v":"WSDOT PRACTICAL SOLUTIONS OVERVIEW OLT"},{"$f":"Master!C184","v":"Practical_Solutions_Overview_ORG"},{"$f":"Master!D184","v":"OLT"},{"$f":"Master!E184","v":"Active"},{"$f":"Master!F184","v":0},{"$f":"Master!H184","v":0},{"$f":"IF(Master!I184=\"\",\"B\",Master!I184)","v":2},{"$f":"IF(Master!J184=\"\",\"B\",Master!J184)","v":2},{"$f":"IF(Master!K184=\"\",\"B\",Master!K184)","v":2},{"$f":"IF(Master!L184=\"\",\"B\",Master!L184)","v":2},{"$f":"IF(Master!M184=\"\",\"B\",Master!M184)","v":2},{"$f":"IF(Master!N184=\"\",\"B\",Master!N184)","v":2}]
[{"$f":"Master!A185","v":"DES"},{"$f":"Master!B185","v":"WSDOT PS 101: PRACTICAL SOLUTIONS APPROACH TO PROJECT DEVELOPMENT OVERVIEW"},{"$f":"Master!C185","v":"WSDOT_PS101"},{"$f":"Master!D185","v":"ILT"},{"$f":"Master!E185","v":"Inactive"},{"$f":"Master!F185","v":0},{"$f":"Master!H185","v":0},{"$f":"IF(Master!I185=\"\",\"B\",Master!I185)","v":2},{"$f":"IF(Master!T185=\"\",\"B\",Master!T185)","v":2},{"$f":"IF(Master!AE185=\"\",\"B\",Master!AE185)","v":2},{"$f":"IF(Master!AP185=\"\",\"B\",Master!AP185)","v":2},{"$f":"IF(Master!BA185=\"\",\"B\",Master!BA185)","v":2},{"$f":"IF(Master!BL185=\"\",\"B\",Master!BL185)","v":2}]
[{"$f":"Master!A186","v":"Hydraulics"},null,null,null,null,null,null,{"$f":"IF(Master!I186=\"\",\"B\",Master!I186)","v":"B"},{"$f":"IF(Master!T186=\"\",\"B\",Master!T186)","v":"B"},{"$f":"IF(Master!AE186=\"\",\"B\",Master!AE186)","v":"B"},{"$f":"IF(Master!AP186=\"\",\"B\",Master!AP186)","v":"B"},{"$f":"IF(Master!BA186=\"\",\"B\",Master!BA186)","v":"B"},{"$f":"IF(Master!BL186=\"\",\"B\",Master!BL186)","v":"B"}]
[{"$f":"Master!A187","v":"HYD"},{"$f":"Master!B187","v":"WSDOT DES: HYDRAULICS AND HYDROLOGY"},{"$f":"Master!C187","v":"WSDOT_DES_HYDRAULICS_AND_HYDROLOGY"},{"$f":"Master!D187","v":"ILT"},{"$f":"Master!E187","v":"Active"},{"$f":"Master!F187","v":0},{"$f":"Master!H187","v":0},{"$f":"IF(Master!I187=\"\",\"B\",Master!I187)","v":1},{"$f":"IF(Master!T187=\"\",\"B\",Master!T187)","v":1},{"$f":"IF(Master!AE187=\"\",\"B\",Master!AE187)","v":1},{"$f":"IF(Master!AP187=\"\",\"B\",Master!AP187)","v":1},{"$f":"IF(Master!BA187=\"\",\"B\",Master!BA187)","v":1},{"$f":"IF(Master!BL187=\"\",\"B\",Master!BL187)","v":1}]
[{"$f":"Master!A188","v":"HYD"},{"$f":"Master!B188","v":"WSDOT DES: 2014 HIGHWAY RUNOFF MANUAL TRAINING"},{"$f":"Master!C188","v":"WSDOT_DBI"},{"$f":"Master!D188","v":"ILT"},{"$f":"Master!E188","v":"Active"},{"$f":"Master!F188","v":0},{"$f":"Master!H188","v":0},{"$f":"IF(Master!I188=\"\",\"B\",Master!I188)","v":2},{"$f":"IF(Master!T188=\"\",\"B\",Master!T188)","v":2},{"$f":"IF(Master!AE188=\"\",\"B\",Master!AE188)","v":2},{"$f":"IF(Master!AP188=\"\",\"B\",Master!AP188)","v":2},{"$f":"IF(Master!BA188=\"\",\"B\",Master!BA188)","v":1},{"$f":"IF(Master!BL188=\"\",\"B\",Master!BL188)","v":1}]
[{"$f":"Master!A189","v":"HYD"},{"$f":"Master!B189","v":"WSDOT_MGSFLOOD_TRAINING"},{"$f":"Master!C189","v":"WSDOT_MGSFLOOD_TRAINING"},{"$f":"Master!D189","v":"ILT"},{"$f":"Master!E189","v":"Active"},{"$f":"Master!F189","v":0},{"$f":"Master!H189","v":0},{"$f":"IF(Master!I189=\"\",\"B\",Master!I189)","v":2},{"$f":"IF(Master!T189=\"\",\"B\",Master!T189)","v":2},{"$f":"IF(Master!AE189=\"\",\"B\",Master!AE189)","v":2},{"$f":"IF(Master!AP189=\"\",\"B\",Master!AP189)","v":2},{"$f":"IF(Master!BA189=\"\",\"B\",Master!BA189)","v":2},{"$f":"IF(Master!BL189=\"\",\"B\",Master!BL189)","v":"B"}]
[{"$f":"Master!A190","v":"HYD"},{"$f":"Master!B190","v":"WSDOT DES: STORMSHED BEGINNING"},{"$f":"Master!C190","v":"WSDOT_DES_STORMSHED_BEGINNING"},{"$f":"Master!D190","v":"ILT"},{"$f":"Master!E190","v":"Active"},{"$f":"Master!F190","v":0},{"$f":"Master!H190","v":0},{"$f":"IF(Master!I190=\"\",\"B\",Master!I190)","v":2},{"$f":"IF(Master!T190=\"\",\"B\",Master!T190)","v":2},{"$f":"IF(Master!AE190=\"\",\"B\",Master!AE190)","v":2},{"$f":"IF(Master!AP190=\"\",\"B\",Master!AP190)","v":2},{"$f":"IF(Master!BA190=\"\",\"B\",Master!BA190)","v":2},{"$f":"IF(Master!BL190=\"\",\"B\",Master!BL190)","v":"B"}]
[{"$f":"Master!A191","v":"HYD"},{"$f":"Master!B191","v":"WSDOT DES: STORMSHED INTERMEDIATE"},{"$f":"Master!C191","v":"WSDOT_DES_STORMSHED_INTERMEDIATE"},{"$f":"Master!D191","v":"ILT"},{"$f":"Master!E191","v":"Active"},{"$f":"Master!F191","v":0},{"$f":"Master!H191","v":0},{"$f":"IF(Master!I191=\"\",\"B\",Master!I191)","v":2},{"$f":"IF(Master!T191=\"\",\"B\",Master!T191)","v":2},{"$f":"IF(Master!AE191=\"\",\"B\",Master!AE191)","v":2},{"$f":"IF(Master!AP191=\"\",\"B\",Master!AP191)","v":2},{"$f":"IF(Master!BA191=\"\",\"B\",Master!BA191)","v":2},{"$f":"IF(Master!BL191=\"\",\"B\",Master!BL191)","v":"B"}]
[{"$f":"Master!A192","v":"Environmental"},null,null,null,null,null,null,{"$f":"IF(Master!I192=\"\",\"B\",Master!I192)","v":"B"},{"$f":"IF(Master!T192=\"\",\"B\",Master!T192)","v":"B"},{"$f":"IF(Master!AE192=\"\",\"B\",Master!AE192)","v":"B"},{"$f":"IF(Master!AP192=\"\",\"B\",Master!AP192)","v":"B"},{"$f":"IF(Master!BA192=\"\",\"B\",Master!BA192)","v":"B"},{"$f":"IF(Master!BL192=\"\",\"B\",Master!BL192)","v":"B"}]
[{"$f":"Master!A193","v":"ENV"},{"$f":"Master!B193","v":"WSDOT ENV: SPILL PLAN REVIEWER TRAINING (OLT)"},{"$f":"Master!C193","v":"WSDOT_BYZ_OLT"},{"$f":"Master!D193","v":"OLT"},{"$f":"Master!E193","v":"Active"},{"$f":"Master!F193","v":0},{"$f":"Master!G193","v":"NA"},{"$f":"IF(Master!I193=\"\",\"B\",Master!I193)","v":"B"},{"$f":"IF(Master!T193=\"\",\"B\",Master!T193)","v":"B"},{"$f":"IF(Master!AE193=\"\",\"B\",Master!AE193)","v":"B"},{"$f":"IF(Master!AP193=\"\",\"B\",Master!AP193)","v":"B"},{"$f":"IF(Master!BA193=\"\",\"B\",Master!BA193)","v":"B"},{"$f":"IF(Master!BL193=\"\",\"B\",Master!BL193)","v":"B"}]
[{"$f":"Master!A194","v":"ENV"},{"$f":"Master!B194","v":"WSDOT ENV: CONSTRUCTION SITE EROSION AND SEDIMENT CONTROL"},{"$f":"Master!C194","v":"WSDOT_BPW"},{"$f":"Master!D194","v":"ILT"},{"$f":"Master!E194","v":"Active"},{"$f":"Master!F194","v":0},{"$f":"Master!G194","v":"Once per year per Region or by request"},{"$f":"IF(Master!I194=\"\",\"B\",Master!I194)","v":2},{"$f":"IF(Master!T194=\"\",\"B\",Master!T194)","v":2},{"$f":"IF(Master!AE194=\"\",\"B\",Master!AE194)","v":2},{"$f":"IF(Master!AP194=\"\",\"B\",Master!AP194)","v":2},{"$f":"IF(Master!BA194=\"\",\"B\",Master!BA194)","v":2},{"$f":"IF(Master!BL194=\"\",\"B\",Master!BL194)","v":"B"}]
[{"$f":"Master!A195","v":"ENV"},{"$f":"Master!B195","v":"WSDOT ENV: CULTURAL RESOURCE TRAINING"},{"$f":"Master!C195","v":"WSDOT_B7T"},{"$f":"Master!D195","v":"ILT"},{"$f":"Master!E195","v":"Active"},{"$f":"Master!F195","v":0},{"$f":"Master!G195","v":"Offered 1-2 times per year"},{"$f":"IF(Master!I195=\"\",\"B\",Master!I195)","v":2},{"$f":"IF(Master!T195=\"\",\"B\",Master!T195)","v":2},{"$f":"IF(Master!AE195=\"\",\"B\",Master!AE195)","v":2},{"$f":"IF(Master!AP195=\"\",\"B\",Master!AP195)","v":2},{"$f":"IF(Master!BA195=\"\",\"B\",Master!BA195)","v":2},{"$f":"IF(Master!BL195=\"\",\"B\",Master!BL195)","v":2}]
[{"$f":"Master!A196","v":"ENV"},{"$f":"Master!B196","v":"WSDOT ENV: ENVIRONMENTAL JUSTICE INCLUSION TRAINING (OLT)"},{"$f":"Master!C196","v":"WSDOT_EJ1_OLT"},{"$f":"Master!D196","v":"OLT"},{"$f":"Master!E196","v":"Active"},{"$f":"Master!F196","v":0},{"$f":"Master!G196","v":"NA"},{"$f":"IF(Master!I196=\"\",\"B\",Master!I196)","v":1},{"$f":"IF(Master!T196=\"\",\"B\",Master!T196)","v":1},{"$f":"IF(Master!AE196=\"\",\"B\",Master!AE196)","v":1},{"$f":"IF(Master!AP196=\"\",\"B\",Master!AP196)","v":1},{"$f":"IF(Master!BA196=\"\",\"B\",Master!BA196)","v":1},{"$f":"IF(Master!BL196=\"\",\"B\",Master!BL196)","v":1}]
[{"$f":"Master!A197","v":"ENV"},{"$f":"Master!B197","v":"WSDOT ENV: ENVIRONMENTAL OVERVIEW - COMPLIANCE FOR CONSTRUCTION (OLT)"},{"$f":"Master!C197","v":"WSDOT_CR5_OLT"},{"$f":"Master!D197","v":"OLT"},{"$f":"Master!E197","v":"Active"},{"$f":"Master!F197","v":0},{"$f":"Master!G197","v":"NA"},{"$f":"IF(Master!I197=\"\",\"B\",Master!I197)","v":1},{"$f":"IF(Master!T197=\"\",\"B\",Master!T197)","v":1},{"$f":"IF(Master!AE197=\"\",\"B\",Master!AE197)","v":1},{"$f":"IF(Master!AP197=\"\",\"B\",Master!AP197)","v":1},{"$f":"IF(Master!BA197=\"\",\"B\",Master!BA197)","v":2},{"$f":"IF(Master!BL197=\"\",\"B\",Master!BL197)","v":2}]
[{"$f":"Master!A198","v":"ENV"},{"$f":"Master!B198","v":"WSDOT ENV: ESA (ENDANGERED SPECIES ACT) FOR NON-BIOLOGISTS (OLT)"},{"$f":"Master!C198","v":"WSDOT_EV9_OLT"},{"$f":"Master!D198","v":"OLT"},{"$f":"Master!E198","v":"Active"},{"$f":"Master!F198","v":0},{"$f":"Master!G198","v":"NA"},{"$f":"IF(Master!I198=\"\",\"B\",Master!I198)","v":1},{"$f":"IF(Master!T198=\"\",\"B\",Master!T198)","v":1},{"$f":"IF(Master!AE198=\"\",\"B\",Master!AE198)","v":1},{"$f":"IF(Master!AP198=\"\",\"B\",Master!AP198)","v":1},{"$f":"IF(Master!BA198=\"\",\"B\",Master!BA198)","v":1},{"$f":"IF(Master!BL198=\"\",\"B\",Master!BL198)","v":1}]
[{"$f":"Master!A199","v":"ENV"},{"$f":"Master!B199","v":"WSDOT ENV: NEPA/SEPA - MODULE 1 - OVERVIEW"},{"$f":"Master!C199","v":"WSDOT_DDV"},{"$f":"Master!D199","v":"ILT"},{"$f":"Master!E199","v":"Active"},{"$f":"Master!F199","v":0},{"$f":"Master!G199","v":"Once per year per Region or by request"},{"$f":"IF(Master!I199=\"\",\"B\",Master!I199)","v":"B"},{"$f":"IF(Master!J199=\"\",\"B\",Master!J199)","v":"B"},{"$f":"IF(Master!K199=\"\",\"B\",Master!K199)","v":"B"},{"$f":"IF(Master!L199=\"\",\"B\",Master!L199)","v":"B"},{"$f":"IF(Master!M199=\"\",\"B\",Master!M199)","v":2},{"$f":"IF(Master!N199=\"\",\"B\",Master!N199)","v":"B"}]
[{"$f":"Master!A200","v":"ENV"},{"$f":"Master!B200","v":"WSDOT ENV: NEPA/SEPA - MODULE 2 - DOCUMENTING CATEGORICAL EXCLUSIONS"},{"$f":"Master!C200","v":"WSDOT_ENV"},{"$f":"Master!D200","v":"ILT"},{"$f":"Master!E200","v":"Active"},{"$f":"Master!F200","v":0},{"$f":"Master!G200","v":"Once per year per Region or by request"},{"$f":"IF(Master!I200=\"\",\"B\",Master!I200)","v":"B"},{"$f":"IF(Master!J200=\"\",\"B\",Master!J200)","v":"B"},{"$f":"IF(Master!K200=\"\",\"B\",Master!K200)","v":"B"},{"$f":"IF(Master!L200=\"\",\"B\",Master!L200)","v":"B"},{"$f":"IF(Master!M200=\"\",\"B\",Master!M200)","v":2},{"$f":"IF(Master!N200=\"\",\"B\",Master!N200)","v":"B"}]
[{"$f":"Master!A201","v":"ENV"},{"$f":"Master!B201","v":"WSDOT ENV: NEPA/SEPA - MODULE 3 - DOCUMENTING EAs AND EISs"},{"$f":"Master!C201","v":"WSDOT_ENV_2"},{"$f":"Master!D201","v":"ILT"},{"$f":"Master!E201","v":"Active"},{"$f":"Master!F202","v":0},{"$f":"Master!G201","v":"Once per year per Region or by request"},{"$f":"IF(Master!I201=\"\",\"B\",Master!I201)","v":"B"},{"$f":"IF(Master!J201=\"\",\"B\",Master!J201)","v":"B"},{"$f":"IF(Master!K201=\"\",\"B\",Master!K201)","v":"B"},{"$f":"IF(Master!L201=\"\",\"B\",Master!L201)","v":"B"},{"$f":"IF(Master!M201=\"\",\"B\",Master!M201)","v":2},{"$f":"IF(Master!N201=\"\",\"B\",Master!N201)","v":"B"}]
[{"$f":"Master!A202","v":"ENV"},{"$f":"Master!B202","v":"WSDOT ENV: POISONOUS AND HARMFUL PLANTS IN WASHINGTON STATE"},{"$f":"Master!C202","v":"WSDOT_019_OLT"},{"$f":"Master!D202","v":"OLT"},{"$f":"Master!E202","v":"Active"},{"$f":"Master!F203","v":0},{"$f":"Master!G202","v":"NA"},{"$f":"IF(Master!I202=\"\",\"B\",Master!I202)","v":"B"},{"$f":"IF(Master!J202=\"\",\"B\",Master!J202)","v":"B"},{"$f":"IF(Master!K202=\"\",\"B\",Master!K202)","v":"B"},{"$f":"IF(Master!L202=\"\",\"B\",Master!L202)","v":"B"},{"$f":"IF(Master!M202=\"\",\"B\",Master!M202)","v":2},{"$f":"IF(Master!N202=\"\",\"B\",Master!N202)","v":"B"}]
[{"$f":"Master!A203","v":"Computer Aided Engineering"},null,null,null,null,null,null,{"$f":"IF(Master!I203=\"\",\"B\",Master!I203)","v":"B"},{"$f":"IF(Master!T203=\"\",\"B\",Master!T203)","v":"B"},{"$f":"IF(Master!AE203=\"\",\"B\",Master!AE203)","v":"B"},{"$f":"IF(Master!AP203=\"\",\"B\",Master!AP203)","v":"B"},{"$f":"IF(Master!BA203=\"\",\"B\",Master!BA203)","v":"B"},{"$f":"IF(Master!BL203=\"\",\"B\",Master!BL203)","v":"B"}]
[{"$f":"Master!A204","v":"CAE"},{"$f":"Master!B204","v":"WSDOT CAE: MICROSTATION - 101 ENTRY LEVEL"},{"$f":"Master!C204","v":"WSDOT_AX4"},{"$f":"Master!D204","v":"ILT"},{"$f":"Master!E204","v":"Active"},{"$f":"Master!F204","v":0},{"$f":"Master!H204","v":0},{"$f":"IF(Master!I204=\"\",\"B\",Master!I204)","v":1},{"$f":"IF(Master!T204=\"\",\"B\",Master!T204)","v":1},{"$f":"IF(Master!AE204=\"\",\"B\",Master!AE204)","v":1},{"$f":"IF(Master!AP204=\"\",\"B\",Master!AP204)","v":1},{"$f":"IF(Master!BA204=\"\",\"B\",Master!BA204)","v":1},{"$f":"IF(Master!BL204=\"\",\"B\",Master!BL204)","v":2}]
[{"$f":"Master!A205","v":"CAE"},{"$f":"Master!B205","v":"WSDOT CAE: MICROSTATION - 201 PRODUCTION LEVEL"},{"$f":"Master!C205","v":"WSDOT_AI6"},{"$f":"Master!D205","v":"ILT"},{"$f":"Master!E205","v":"Active"},{"$f":"Master!F205","v":0},{"$f":"Master!H205","v":0},{"$f":"IF(Master!I205=\"\",\"B\",Master!I205)","v":1},{"$f":"IF(Master!T205=\"\",\"B\",Master!T205)","v":1},{"$f":"IF(Master!AE205=\"\",\"B\",Master!AE205)","v":1},{"$f":"IF(Master!AP205=\"\",\"B\",Master!AP205)","v":1},{"$f":"IF(Master!BA205=\"\",\"B\",Master!BA205)","v":1},{"$f":"IF(Master!BL205=\"\",\"B\",Master!BL205)","v":2}]
[{"$f":"Master!A206","v":"CAE"},{"$f":"Master!B206","v":"WSDOT CAE: INROADS - 201 PRODUCTION LEVEL DESIGN"},{"$f":"Master!C206","v":"WSDOT_CRZ"},{"$f":"Master!D206","v":"ILT"},{"$f":"Master!E206","v":"Active"},{"$f":"Master!F206","v":0},{"$f":"Master!H206","v":0},{"$f":"IF(Master!I206=\"\",\"B\",Master!I206)","v":2},{"$f":"IF(Master!T206=\"\",\"B\",Master!T206)","v":2},{"$f":"IF(Master!AE206=\"\",\"B\",Master!AE206)","v":2},{"$f":"IF(Master!AP206=\"\",\"B\",Master!AP206)","v":1},{"$f":"IF(Master!BA206=\"\",\"B\",Master!BA206)","v":1},{"$f":"IF(Master!BL206=\"\",\"B\",Master!BL206)","v":2}]
[{"$f":"Master!A207","v":"CAE"},{"$f":"Master!B207","v":"WSDOT CAE: INROADS - 202 SURVEY DATA PROCESSING"},{"$f":"Master!C207","v":"WSDOT_CU1"},{"$f":"Master!D207","v":"ILT"},{"$f":"Master!E207","v":"Active"},{"$f":"Master!F207","v":0},{"$f":"Master!H207","v":0},{"$f":"IF(Master!I207=\"\",\"B\",Master!I207)","v":"B"},{"$f":"IF(Master!T207=\"\",\"B\",Master!T207)","v":"B"},{"$f":"IF(Master!AE207=\"\",\"B\",Master!AE207)","v":"B"},{"$f":"IF(Master!AP207=\"\",\"B\",Master!AP207)","v":"B"},{"$f":"IF(Master!BA207=\"\",\"B\",Master!BA207)","v":2},{"$f":"IF(Master!BL207=\"\",\"B\",Master!BL207)","v":2}]
[{"$f":"Master!A208","v":"CAE"},{"$f":"Master!B208","v":"WSDOT CAE: INROADS - 203 GEOMETRICS"},{"$f":"Master!C208","v":"WSDOT_DBF"},{"$f":"Master!D208","v":"ILT"},{"$f":"Master!E208","v":"Active"},{"$f":"Master!F208","v":0},{"$f":"Master!H208","v":0},{"$f":"IF(Master!I208=\"\",\"B\",Master!I208)","v":"B"},{"$f":"IF(Master!T208=\"\",\"B\",Master!T208)","v":"B"},{"$f":"IF(Master!AE208=\"\",\"B\",Master!AE208)","v":"B"},{"$f":"IF(Master!AP208=\"\",\"B\",Master!AP208)","v":"B"},{"$f":"IF(Master!BA208=\"\",\"B\",Master!BA208)","v":1},{"$f":"IF(Master!BL208=\"\",\"B\",Master!BL208)","v":2}]
[{"$f":"Master!A209","v":"CAE"},{"$f":"Master!B209","v":"WSDOT CAE: INROADS - 205 CONSTRUCTION PROCESSES"},{"$f":"Master!C209","v":"WSDOT_DH2"},{"$f":"Master!D209","v":"ILT"},{"$f":"Master!E209","v":"Active"},{"$f":"Master!F209","v":0},{"$f":"Master!H209","v":0},{"$f":"IF(Master!I209=\"\",\"B\",Master!I209)","v":2},{"$f":"IF(Master!T209=\"\",\"B\",Master!T209)","v":2},{"$f":"IF(Master!AE209=\"\",\"B\",Master!AE209)","v":2},{"$f":"IF(Master!AP209=\"\",\"B\",Master!AP209)","v":2},{"$f":"IF(Master!BA209=\"\",\"B\",Master!BA209)","v":2},{"$f":"IF(Master!BL209=\"\",\"B\",Master!BL209)","v":2}]
[{"$f":"Master!A210","v":"CAE"},{"$f":"Master!B210","v":"WSDOT CAE: INROADS - 251 INTERMEDIATE ROADWAY DESIGN"},{"$f":"Master!C210","v":"WSDOT_DDL"},{"$f":"Master!D210","v":"ILT"},{"$f":"Master!E210","v":"Active"},{"$f":"Master!F210","v":0},{"$f":"Master!H210","v":0},{"$f":"IF(Master!I210=\"\",\"B\",Master!I210)","v":2},{"$f":"IF(Master!T210=\"\",\"B\",Master!T210)","v":2},{"$f":"IF(Master!AE210=\"\",\"B\",Master!AE210)","v":2},{"$f":"IF(Master!AP210=\"\",\"B\",Master!AP210)","v":2},{"$f":"IF(Master!BA210=\"\",\"B\",Master!BA210)","v":1},{"$f":"IF(Master!BL210=\"\",\"B\",Master!BL210)","v":2}]
[{"$f":"Master!A211","v":"Survey"},null,null,null,null,null,null,{"$f":"IF(Master!I211=\"\",\"B\",Master!I211)","v":"B"},{"$f":"IF(Master!T211=\"\",\"B\",Master!T211)","v":"B"},{"$f":"IF(Master!AE211=\"\",\"B\",Master!AE211)","v":"B"},{"$f":"IF(Master!AP211=\"\",\"B\",Master!AP211)","v":"B"},{"$f":"IF(Master!BA211=\"\",\"B\",Master!BA211)","v":"B"},{"$f":"IF(Master!BL211=\"\",\"B\",Master!BL211)","v":"B"}]
[{"$f":"Master!A212","v":"SUR"},{"$f":"Master!B212","v":"WSDOT SUR: BASIC SURVEYING (SELF-STUDY)"},{"$f":"Master!C212","v":"WSDOT_APK"},{"$f":"Master!D212","v":"SS"},{"$f":"Master!E212","v":"Active"},{"$f":"Master!F212","v":0},{"$f":"Master!H212","v":0},{"$f":"IF(Master!I212=\"\",\"B\",Master!I212)","v":"R"},{"$f":"IF(Master!T212=\"\",\"B\",Master!T212)","v":"R"},{"$f":"IF(Master!AE212=\"\",\"B\",Master!AE212)","v":1},{"$f":"IF(Master!AP212=\"\",\"B\",Master!AP212)","v":1},{"$f":"IF(Master!BA212=\"\",\"B\",Master!BA212)","v":"B"},{"$f":"IF(Master!BL212=\"\",\"B\",Master!BL212)","v":"B"}]
[{"$f":"Master!A213","v":"SUR"},{"$f":"Master!B213","v":"WSDOT SUR: INTERMEDIATE SURVEYING"},{"$f":"Master!C213","v":"WSDOT A4U"},{"$f":"Master!D213","v":"ILT"},{"$f":"Master!E213","v":"Under Development"},{"$f":"Master!F213","v":"Q3 2019"},{"$f":"Master!H213","v":0},{"$f":"IF(Master!I213=\"\",\"B\",Master!I213)","v":"B"},{"$f":"IF(Master!T213=\"\",\"B\",Master!T213)","v":"B"},{"$f":"IF(Master!AE213=\"\",\"B\",Master!AE213)","v":"B"},{"$f":"IF(Master!AP213=\"\",\"B\",Master!AP213)","v":"B"},{"$f":"IF(Master!BA213=\"\",\"B\",Master!BA213)","v":2},{"$f":"IF(Master!BL213=\"\",\"B\",Master!BL213)","v":"B"}]
[{"$f":"Master!A214","v":"Traffic Operations Division"},null,null,null,null,null,null,{"$f":"IF(Master!I214=\"\",\"B\",Master!I214)","v":"B"},{"$f":"IF(Master!T214=\"\",\"B\",Master!T214)","v":"B"},{"$f":"IF(Master!AE214=\"\",\"B\",Master!AE214)","v":"B"},{"$f":"IF(Master!AP214=\"\",\"B\",Master!AP214)","v":"B"},{"$f":"IF(Master!BA214=\"\",\"B\",Master!BA214)","v":"B"},{"$f":"IF(Master!BL214=\"\",\"B\",Master!BL214)","v":"B"}]
[{"$f":"Master!A215","v":"TR"},{"$f":"Master!B215","v":"WSDOT TR: Work Zone Traffic Control Supervisor Re-Certification"},{"$f":"Master!C215","v":"WSDOT_BQD"},{"$f":"Master!D215","v":"OLT/ILT"},{"$f":"Master!E215","v":"Active"},{"$f":"Master!F215","v":0},{"$f":"Master!H215","v":0},{"$f":"IF(Master!I215=\"\",\"B\",Master!I215)","v":"B"},{"$f":"IF(Master!T215=\"\",\"B\",Master!T215)","v":"B"},{"$f":"IF(Master!AE215=\"\",\"B\",Master!AE215)","v":"B"},{"$f":"IF(Master!AP215=\"\",\"B\",Master!AP215)","v":"B"},{"$f":"IF(Master!BA215=\"\",\"B\",Master!BA215)","v":"B"},{"$f":"IF(Master!BL215=\"\",\"B\",Master!BL215)","v":"B"}]
[{"$f":"Master!A216","v":"TR"},{"$f":"Master!B216","v":"WSDOT TR: Work Zone Traffic Control Supervisor Certification"},{"$f":"Master!C216","v":"WSDOT_A42"},{"$f":"Master!D216","v":"OLT/ILT"},{"$f":"Master!E216","v":"Active"},{"$f":"Master!F216","v":0},{"$f":"Master!H216","v":0},{"$f":"IF(Master!I216=\"\",\"B\",Master!I216)","v":2},{"$f":"IF(Master!T216=\"\",\"B\",Master!T216)","v":2},{"$f":"IF(Master!AE216=\"\",\"B\",Master!AE216)","v":2},{"$f":"IF(Master!AP216=\"\",\"B\",Master!AP216)","v":2},{"$f":"IF(Master!BA216=\"\",\"B\",Master!BA216)","v":2},{"$f":"IF(Master!BL216=\"\",\"B\",Master!BL216)","v":2}]
[{"$f":"Master!A217","v":"TR"},{"$f":"Master!B217","v":"WSDOT TR: Work Zone Traffic Control Plan Design"},{"$f":"Master!C217","v":"WSDOT_DD7 (day one) and WSDOT_DBK (day two)"},{"$f":"Master!D217","v":"OLT/ILT"},{"$f":"Master!E217","v":"Active"},{"$f":"Master!F217","v":0},{"$f":"Master!H217","v":0},{"$f":"IF(Master!I217=\"\",\"B\",Master!I217)","v":2},{"$f":"IF(Master!T217=\"\",\"B\",Master!T217)","v":2},{"$f":"IF(Master!AE217=\"\",\"B\",Master!AE217)","v":2},{"$f":"IF(Master!AP217=\"\",\"B\",Master!AP217)","v":2},{"$f":"IF(Master!BA217=\"\",\"B\",Master!BA217)","v":1},{"$f":"IF(Master!BL217=\"\",\"B\",Master!BL217)","v":1}]
[{"$f":"Master!A218","v":"TR"},{"$f":"Master!B218","v":"**VISUM"},{"$f":"Master!C218","v":0},{"$f":"Master!D218","v":"OLT/ILT"},{"$f":"Master!E218","v":"Inactive"},{"$f":"Master!F218","v":"None"},{"$f":"Master!H218","v":"No technical lead within WSDOT available to teach"},{"$f":"IF(Master!I218=\"\",\"B\",Master!I218)","v":"B"},{"$f":"IF(Master!T218=\"\",\"B\",Master!T218)","v":"B"},{"$f":"IF(Master!AE218=\"\",\"B\",Master!AE218)","v":"B"},{"$f":"IF(Master!AP218=\"\",\"B\",Master!AP218)","v":"B"},{"$f":"IF(Master!BA218=\"\",\"B\",Master!BA218)","v":"B"},{"$f":"IF(Master!BL218=\"\",\"B\",Master!BL218)","v":"B"}]
[{"$f":"Master!A219","v":"TR"},{"$f":"Master!B219","v":"**VISSIM"},{"$f":"Master!C219","v":0},{"$f":"Master!D219","v":"OLT/ILT"},{"$f":"Master!E219","v":"Inactive"},{"$f":"Master!F219","v":"None"},{"$f":"Master!H219","v":"No technical lead within WSDOT available to teach"},{"$f":"IF(Master!I219=\"\",\"B\",Master!I219)","v":"B"},{"$f":"IF(Master!T219=\"\",\"B\",Master!T219)","v":"B"},{"$f":"IF(Master!AE219=\"\",\"B\",Master!AE219)","v":"B"},{"$f":"IF(Master!AP219=\"\",\"B\",Master!AP219)","v":"B"},{"$f":"IF(Master!BA219=\"\",\"B\",Master!BA219)","v":"B"},{"$f":"IF(Master!BL219=\"\",\"B\",Master!BL219)","v":"B"}]
[{"$f":"Master!A220","v":"TR"},{"$f":"Master!B220","v":"**SIDRA"},{"$f":"Master!C220","v":0},{"$f":"Master!D220","v":"OLT/ILT"},{"$f":"Master!E220","v":"Inactive"},{"$f":"Master!F220","v":"None"},{"$f":"Master!H220","v":"No technical lead within WSDOT available to teach"},{"$f":"IF(Master!I220=\"\",\"B\",Master!I220)","v":"B"},{"$f":"IF(Master!T220=\"\",\"B\",Master!T220)","v":"B"},{"$f":"IF(Master!AE220=\"\",\"B\",Master!AE220)","v":"B"},{"$f":"IF(Master!AP220=\"\",\"B\",Master!AP220)","v":"B"},{"$f":"IF(Master!BA220=\"\",\"B\",Master!BA220)","v":"B"},{"$f":"IF(Master!BL220=\"\",\"B\",Master!BL220)","v":"B"}]
[{"$f":"Master!A221","v":"TR"},{"$f":"Master!B221","v":"**SYNCHRO"},{"$f":"Master!C221","v":0},{"$f":"Master!D221","v":"OLT/ILT"},{"$f":"Master!E221","v":"Inactive"},{"$f":"Master!F221","v":"None"},{"$f":"Master!H221","v":"No technical lead within WSDOT available to teach"},{"$f":"IF(Master!I221=\"\",\"B\",Master!I221)","v":"B"},{"$f":"IF(Master!T221=\"\",\"B\",Master!T221)","v":"B"},{"$f":"IF(Master!AE221=\"\",\"B\",Master!AE221)","v":"B"},{"$f":"IF(Master!AP221=\"\",\"B\",Master!AP221)","v":"B"},{"$f":"IF(Master!BA221=\"\",\"B\",Master!BA221)","v":"B"},{"$f":"IF(Master!BL221=\"\",\"B\",Master!BL221)","v":"B"}]
[{"$f":"Master!A222","v":"TR"},{"$f":"Master!B222","v":"WSDOT PSHSM: Highway Safety Manual Level B"},{"$f":"Master!C222","v":"PSHSM_B01"},{"$f":"Master!D222","v":"OLT/ILT"},{"$f":"Master!E222","v":"Inactive"},{"$f":"Master!F222","v":"None"},{"$f":"Master!H222","v":"No technical lead within WSDOT available to teach"},{"$f":"IF(Master!I222=\"\",\"B\",Master!I222)","v":2},{"$f":"IF(Master!T222=\"\",\"B\",Master!T222)","v":2},{"$f":"IF(Master!AE222=\"\",\"B\",Master!AE222)","v":2},{"$f":"IF(Master!AP222=\"\",\"B\",Master!AP222)","v":2},{"$f":"IF(Master!BA222=\"\",\"B\",Master!BA222)","v":1},{"$f":"IF(Master!BL222=\"\",\"B\",Master!BL222)","v":1}]
[{"$f":"Master!A223","v":"TR"},{"$f":"Master!B223","v":"WSDOT PSHSM: Highway Safety Manual Level C1"},{"$f":"Master!C223","v":"PSHSM_C01"},{"$f":"Master!D223","v":"OLT/ILT"},{"$f":"Master!E223","v":"Inactive"},{"$f":"Master!F223","v":"None"},{"$f":"Master!H223","v":"No technical lead within WSDOT available to teach"},{"$f":"IF(Master!I223=\"\",\"B\",Master!I223)","v":"B"},{"$f":"IF(Master!T223=\"\",\"B\",Master!T223)","v":"B"},{"$f":"IF(Master!AE223=\"\",\"B\",Master!AE223)","v":"B"},{"$f":"IF(Master!AP223=\"\",\"B\",Master!AP223)","v":"B"},{"$f":"IF(Master!BA223=\"\",\"B\",Master!BA223)","v":1},{"$f":"IF(Master!BL223=\"\",\"B\",Master!BL223)","v":1}]
[{"$f":"Master!A224","v":"TR"},{"$f":"Master!B224","v":"WSDOT PSHSM: Highway Safety Manual Level C2"},{"$f":"Master!C224","v":"PSHSM C2"},{"$f":"Master!D224","v":"OLT/ILT"},{"$f":"Master!E224","v":"Inactive"},{"$f":"Master!F224","v":"None"},{"$f":"Master!H224","v":"No technical lead within WSDOT available to teach"},{"$f":"IF(Master!I224=\"\",\"B\",Master!I224)","v":"B"},{"$f":"IF(Master!T224=\"\",\"B\",Master!T224)","v":"B"},{"$f":"IF(Master!AE224=\"\",\"B\",Master!AE224)","v":"B"},{"$f":"IF(Master!AP224=\"\",\"B\",Master!AP224)","v":"B"},{"$f":"IF(Master!BA224=\"\",\"B\",Master!BA224)","v":1},{"$f":"IF(Master!BL224=\"\",\"B\",Master!BL224)","v":1}]
[{"$f":"Master!A225","v":"TR"},{"$f":"Master!B225","v":"WSDOT PSHSM: Highway Safety Manual Level C3"},{"$f":"Master!C225","v":"PSHSM C3"},{"$f":"Master!D225","v":"OLT/ILT"},{"$f":"Master!E225","v":"Inactive"},{"$f":"Master!F225","v":"None"},{"$f":"Master!H225","v":"No technical lead within WSDOT available to teach"},{"$f":"IF(Master!I225=\"\",\"B\",Master!I225)","v":"B"},{"$f":"IF(Master!T225=\"\",\"B\",Master!T225)","v":"B"},{"$f":"IF(Master!AE225=\"\",\"B\",Master!AE225)","v":"B"},{"$f":"IF(Master!AP225=\"\",\"B\",Master!AP225)","v":"B"},{"$f":"IF(Master!BA225=\"\",\"B\",Master!BA225)","v":2},{"$f":"IF(Master!BL225=\"\",\"B\",Master!BL225)","v":2}]
[{"$f":"Master!A226","v":"TR"},{"$f":"Master!B226","v":"WSDOT PSHSM: Highway Safety Manual Level D1"},{"$f":"Master!C226","v":"PSHSM D1"},{"$f":"Master!D226","v":"OLT/ILT"},{"$f":"Master!E226","v":"Inactive"},{"$f":"Master!F226","v":"None"},{"$f":"Master!H226","v":"No technical lead within WSDOT available to teach"},{"$f":"IF(Master!I226=\"\",\"B\",Master!I226)","v":"B"},{"$f":"IF(Master!T226=\"\",\"B\",Master!T226)","v":"B"},{"$f":"IF(Master!AE226=\"\",\"B\",Master!AE226)","v":"B"},{"$f":"IF(Master!AP226=\"\",\"B\",Master!AP226)","v":"B"},{"$f":"IF(Master!BA226=\"\",\"B\",Master!BA226)","v":2},{"$f":"IF(Master!BL226=\"\",\"B\",Master!BL226)","v":2}]
[{"$f":"Master!A227","v":"TR"},{"$f":"Master!B227","v":"**ILLUMINATION DESIGN FOR TRANSPORTATION APPLICATIONS"},{"$f":"Master!C227","v":0},{"$f":"Master!D227","v":"OLT/ILT"},{"$f":"Master!E227","v":"Under Development"},{"$f":"Master!F227","v":"Q2 2018"},{"$f":"Master!H227","v":0},{"$f":"IF(Master!I227=\"\",\"B\",Master!I227)","v":"B"},{"$f":"IF(Master!T227=\"\",\"B\",Master!T227)","v":"B"},{"$f":"IF(Master!AE227=\"\",\"B\",Master!AE227)","v":"B"},{"$f":"IF(Master!AP227=\"\",\"B\",Master!AP227)","v":"B"},{"$f":"IF(Master!BA227=\"\",\"B\",Master!BA227)","v":"B"},{"$f":"IF(Master!BL227=\"\",\"B\",Master!BL227)","v":"B"}]
[{"$f":"Master!A228","v":"TR"},{"$f":"Master!B228","v":"WSDOT TR: Power Supply Design for Transportation Applications"},{"$f":"Master!C228","v":"WSDOT_BZA"},{"$f":"Master!D228","v":"OLT/ILT"},{"$f":"Master!E228","v":"Active"},{"$f":"Master!F228","v":0},{"$f":"Master!H228","v":0},{"$f":"IF(Master!I228=\"\",\"B\",Master!I228)","v":"B"},{"$f":"IF(Master!T228=\"\",\"B\",Master!T228)","v":"B"},{"$f":"IF(Master!AE228=\"\",\"B\",Master!AE228)","v":"B"},{"$f":"IF(Master!AP228=\"\",\"B\",Master!AP228)","v":"B"},{"$f":"IF(Master!BA228=\"\",\"B\",Master!BA228)","v":"B"},{"$f":"IF(Master!BL228=\"\",\"B\",Master!BL228)","v":"B"}]
[{"$f":"Master!A229","v":"TR"},{"$f":"Master!B229","v":"**TRAFFIC SIGNAL LAYOUT AND CONDUCTOR TERMINATION"},{"$f":"Master!C229","v":0},{"$f":"Master!D229","v":"OLT/ILT"},{"$f":"Master!E229","v":"Inactive"},{"$f":"Master!F229","v":0},{"$f":"Master!H229","v":"No technical lead within WSDOT available to teach"},{"$f":"IF(Master!I229=\"\",\"B\",Master!I229)","v":"B"},{"$f":"IF(Master!T229=\"\",\"B\",Master!T229)","v":"B"},{"$f":"IF(Master!AE229=\"\",\"B\",Master!AE229)","v":"B"},{"$f":"IF(Master!AP229=\"\",\"B\",Master!AP229)","v":"B"},{"$f":"IF(Master!BA229=\"\",\"B\",Master!BA229)","v":"B"},{"$f":"IF(Master!BL229=\"\",\"B\",Master!BL229)","v":"B"}]
[{"$f":"Master!A230","v":"TR"},{"$f":"Master!B230","v":"**SIGN DESIGN"},{"$f":"Master!C230","v":0},{"$f":"Master!D230","v":"OLT/ILT"},{"$f":"Master!E230","v":"Inactive"},{"$f":"Master!F230","v":"None"},{"$f":"Master!H230","v":"No technical lead within WSDOT available to teach"},{"$f":"IF(Master!I230=\"\",\"B\",Master!I230)","v":"B"},{"$f":"IF(Master!T230=\"\",\"B\",Master!T230)","v":"B"},{"$f":"IF(Master!AE230=\"\",\"B\",Master!AE230)","v":"B"},{"$f":"IF(Master!AP230=\"\",\"B\",Master!AP230)","v":"B"},{"$f":"IF(Master!BA230=\"\",\"B\",Master!BA230)","v":"B"},{"$f":"IF(Master!BL230=\"\",\"B\",Master!BL230)","v":"B"}]
[{"$f":"Master!A231","v":"TR"},{"$f":"Master!B231","v":"WSDOT NHI: TR-Traffic Signal Design and Operations"},{"$f":"Master!C231","v":"WSDOT_TSD"},{"$f":"Master!D231","v":"OLT/ILT"},{"$f":"Master!E231","v":"Inactive"},{"$f":"Master!F231","v":"None"},{"$f":"Master!H231","v":"No technical lead within WSDOT available to teach"},{"$f":"IF(Master!I231=\"\",\"B\",Master!I231)","v":"B"},{"$f":"IF(Master!T231=\"\",\"B\",Master!T231)","v":"B"},{"$f":"IF(Master!AE231=\"\",\"B\",Master!AE231)","v":"B"},{"$f":"IF(Master!AP231=\"\",\"B\",Master!AP231)","v":"B"},{"$f":"IF(Master!BA231=\"\",\"B\",Master!BA231)","v":"B"},{"$f":"IF(Master!BL231=\"\",\"B\",Master!BL231)","v":"B"}]
[{"$f":"Master!A232","v":"TR"},{"$f":"Master!B232","v":"WSDOT NHI: TR-Traffic Signal Timing Concepts"},{"$f":"Master!C232","v":"WSDOT_STC"},{"$f":"Master!D232","v":"OLT/ILT"},{"$f":"Master!E232","v":"Inactive"},{"$f":"Master!F232","v":"None"},{"$f":"Master!H232","v":"No technical lead within WSDOT available to teach"},{"$f":"IF(Master!I232=\"\",\"B\",Master!I232)","v":"B"},{"$f":"IF(Master!T232=\"\",\"B\",Master!T232)","v":"B"},{"$f":"IF(Master!AE232=\"\",\"B\",Master!AE232)","v":"B"},{"$f":"IF(Master!AP232=\"\",\"B\",Master!AP232)","v":"B"},{"$f":"IF(Master!BA232=\"\",\"B\",Master!BA232)","v":"B"},{"$f":"IF(Master!BL232=\"\",\"B\",Master!BL232)","v":"B"}]
[{"$f":"Master!A233","v":"TR"},{"$f":"Master!B233","v":"**SYSTEMS ENGINEERING FOR SIGNAL SYSTEMS"},{"$f":"Master!C233","v":0},{"$f":"Master!D233","v":"OLT/ILT"},{"$f":"Master!E233","v":"Inactive"},{"$f":"Master!F233","v":"None"},{"$f":"Master!H233","v":"No technical lead within WSDOT available to teach"},{"$f":"IF(Master!I233=\"\",\"B\",Master!I233)","v":"B"},{"$f":"IF(Master!T233=\"\",\"B\",Master!T233)","v":"B"},{"$f":"IF(Master!AE233=\"\",\"B\",Master!AE233)","v":"B"},{"$f":"IF(Master!AP233=\"\",\"B\",Master!AP233)","v":"B"},{"$f":"IF(Master!BA233=\"\",\"B\",Master!BA233)","v":"B"},{"$f":"IF(Master!BL233=\"\",\"B\",Master!BL233)","v":"B"}]
[{"$f":"Master!A234","v":"TR"},{"$f":"Master!B234","v":"**TRAFFIC SIGNAL MANAGEMENT"},{"$f":"Master!C234","v":0},{"$f":"Master!D234","v":"OLT/ILT"},{"$f":"Master!E234","v":"Inactive"},{"$f":"Master!F234","v":"None"},{"$f":"Master!H234","v":"No technical lead within WSDOT available to teach"},{"$f":"IF(Master!I234=\"\",\"B\",Master!I234)","v":"B"},{"$f":"IF(Master!T234=\"\",\"B\",Master!T234)","v":"B"},{"$f":"IF(Master!AE234=\"\",\"B\",Master!AE234)","v":"B"},{"$f":"IF(Master!AP234=\"\",\"B\",Master!AP234)","v":"B"},{"$f":"IF(Master!BA234=\"\",\"B\",Master!BA234)","v":"B"},{"$f":"IF(Master!BL234=\"\",\"B\",Master!BL234)","v":"B"}]
[{"$f":"Master!A235","v":"TR"},{"$f":"Master!B235","v":"**ITS PROCUREMENT"},{"$f":"Master!C235","v":0},{"$f":"Master!D235","v":"OLT/ILT"},{"$f":"Master!E235","v":"Inactive"},{"$f":"Master!F235","v":"None"},{"$f":"Master!H235","v":"No technical lead within WSDOT available to teach"},{"$f":"IF(Master!I235=\"\",\"B\",Master!I235)","v":"B"},{"$f":"IF(Master!T235=\"\",\"B\",Master!T235)","v":"B"},{"$f":"IF(Master!AE235=\"\",\"B\",Master!AE235)","v":"B"},{"$f":"IF(Master!AP235=\"\",\"B\",Master!AP235)","v":"B"},{"$f":"IF(Master!BA235=\"\",\"B\",Master!BA235)","v":"B"},{"$f":"IF(Master!BL235=\"\",\"B\",Master!BL235)","v":"B"}]
[{"$f":"Master!A236","v":"TR"},{"$f":"Master!B236","v":"**BASICS OF TRANSPORTATION PLANNING"},{"$f":"Master!C236","v":0},{"$f":"Master!D236","v":"OLT/ILT"},{"$f":"Master!E236","v":"Inactive"},{"$f":"Master!F236","v":"None"},{"$f":"Master!H236","v":"No technical lead within WSDOT available to teach"},{"$f":"IF(Master!I236=\"\",\"B\",Master!I236)","v":"B"},{"$f":"IF(Master!T236=\"\",\"B\",Master!T236)","v":"B"},{"$f":"IF(Master!AE236=\"\",\"B\",Master!AE236)","v":"B"},{"$f":"IF(Master!AP236=\"\",\"B\",Master!AP236)","v":"B"},{"$f":"IF(Master!BA236=\"\",\"B\",Master!BA236)","v":"B"},{"$f":"IF(Master!BL236=\"\",\"B\",Master!BL236)","v":"B"}]
[{"$f":"Master!A237","v":"TR"},{"$f":"Master!B237","v":"**ADA/APS DESIGN"},{"$f":"Master!C237","v":0},{"$f":"Master!D237","v":"OLT/ILT"},{"$f":"Master!E237","v":"Inactive"},{"$f":"Master!F237","v":"None"},{"$f":"Master!H237","v":"No technical lead within WSDOT available to teach"},{"$f":"IF(Master!I237=\"\",\"B\",Master!I237)","v":2},{"$f":"IF(Master!T237=\"\",\"B\",Master!T237)","v":2},{"$f":"IF(Master!AE237=\"\",\"B\",Master!AE237)","v":2},{"$f":"IF(Master!AP237=\"\",\"B\",Master!AP237)","v":2},{"$f":"IF(Master!BA237=\"\",\"B\",Master!BA237)","v":2},{"$f":"IF(Master!BL237=\"\",\"B\",Master!BL237)","v":2}]
[{"$f":"Master!A238","v":"TR"},{"$f":"Master!B238","v":"**SIGNAL WARRANT ANALYSIS"},{"$f":"Master!C238","v":0},{"$f":"Master!D238","v":"OLT/ILT"},{"$f":"Master!E238","v":"Inactive"},{"$f":"Master!F238","v":"None"},{"$f":"Master!H238","v":"No technical lead within WSDOT available to teach"},{"$f":"IF(Master!I238=\"\",\"B\",Master!I238)","v":"B"},{"$f":"IF(Master!T238=\"\",\"B\",Master!T238)","v":"B"},{"$f":"IF(Master!AE238=\"\",\"B\",Master!AE238)","v":"B"},{"$f":"IF(Master!AP238=\"\",\"B\",Master!AP238)","v":"B"},{"$f":"IF(Master!BA238=\"\",\"B\",Master!BA238)","v":"B"},{"$f":"IF(Master!BL238=\"\",\"B\",Master!BL238)","v":"B"}]
[{"$f":"Master!A239","v":"TR"},{"$f":"Master!B239","v":"WSDOT TR: Introduction to ITS Design"},{"$f":"Master!C239","v":"WSDOT_DA6"},{"$f":"Master!D239","v":"OLT/ILT"},{"$f":"Master!E239","v":"Inactive"},{"$f":"Master!F239","v":"None"},{"$f":"Master!H239","v":"No technical lead within WSDOT available to teach"},{"$f":"IF(Master!I239=\"\",\"B\",Master!I239)","v":"B"},{"$f":"IF(Master!T239=\"\",\"B\",Master!T239)","v":"B"},{"$f":"IF(Master!AE239=\"\",\"B\",Master!AE239)","v":"B"},{"$f":"IF(Master!AP239=\"\",\"B\",Master!AP239)","v":"B"},{"$f":"IF(Master!BA239=\"\",\"B\",Master!BA239)","v":"B"},{"$f":"IF(Master!BL239=\"\",\"B\",Master!BL239)","v":"B"}]
[{"$f":"Master!A240","v":"TR"},{"$f":"Master!B240","v":"WSDOT TR: Intermediate/Advanced ITS Design"},{"$f":"Master!C240","v":"WSDOT_DA7"},{"$f":"Master!D240","v":"OLT/ILT"},{"$f":"Master!E240","v":"Inactive"},{"$f":"Master!F240","v":"None"},{"$f":"Master!H240","v":"No technical lead within WSDOT available to teach"},{"$f":"IF(Master!I240=\"\",\"B\",Master!I240)","v":"B"},{"$f":"IF(Master!T240=\"\",\"B\",Master!T240)","v":"B"},{"$f":"IF(Master!AE240=\"\",\"B\",Master!AE240)","v":"B"},{"$f":"IF(Master!AP240=\"\",\"B\",Master!AP240)","v":"B"},{"$f":"IF(Master!BA240=\"\",\"B\",Master!BA240)","v":"B"},{"$f":"IF(Master!BL240=\"\",\"B\",Master!BL240)","v":"B"}]
[{"$f":"Master!A241","v":"TR"},{"$f":"Master!B241","v":"**BASIC HIGHWAY CAPACITY FOR ENGINEERS AND PLANNERS"},{"$f":"Master!C241","v":0},{"$f":"Master!D241","v":"OLT/ILT"},{"$f":"Master!E241","v":"Inactive"},{"$f":"Master!F241","v":"None"},{"$f":"Master!H241","v":"No technical lead within WSDOT available to teach"},{"$f":"IF(Master!I241=\"\",\"B\",Master!I241)","v":"B"},{"$f":"IF(Master!T241=\"\",\"B\",Master!T241)","v":"B"},{"$f":"IF(Master!AE241=\"\",\"B\",Master!AE241)","v":"B"},{"$f":"IF(Master!AP241=\"\",\"B\",Master!AP241)","v":"B"},{"$f":"IF(Master!BA241=\"\",\"B\",Master!BA241)","v":"B"},{"$f":"IF(Master!BL241=\"\",\"B\",Master!BL241)","v":"B"}]
[{"$f":"Master!A242","v":"TR"},{"$f":"Master!B242","v":"WSDOT UW: Gen-Uniform Traffic Control Devices"},{"$f":"Master!C242","v":"WSDOT_BML"},{"$f":"Master!D242","v":"OLT/ILT"},{"$f":"Master!E242","v":"Inactive"},{"$f":"Master!F242","v":"None"},{"$f":"Master!H242","v":"No technical lead within WSDOT available to teach"},{"$f":"IF(Master!I242=\"\",\"B\",Master!I242)","v":"B"},{"$f":"IF(Master!T242=\"\",\"B\",Master!T242)","v":"B"},{"$f":"IF(Master!AE242=\"\",\"B\",Master!AE242)","v":"B"},{"$f":"IF(Master!AP242=\"\",\"B\",Master!AP242)","v":"B"},{"$f":"IF(Master!BA242=\"\",\"B\",Master!BA242)","v":"B"},{"$f":"IF(Master!BL242=\"\",\"B\",Master!BL242)","v":"B"}]
[{"$f":"Master!A243","v":"TR"},{"$f":"Master!B243","v":"WSDOT UW: TR-Advanced Highway Capacity Analysis"},{"$f":"Master!C243","v":"WSDOT_A3C"},{"$f":"Master!D243","v":"OLT/ILT"},{"$f":"Master!E243","v":"Inactive"},{"$f":"Master!F243","v":"None"},{"$f":"Master!H243","v":"No technical lead within WSDOT available to teach"},{"$f":"IF(Master!I243=\"\",\"B\",Master!I243)","v":"B"},{"$f":"IF(Master!T243=\"\",\"B\",Master!T243)","v":"B"},{"$f":"IF(Master!AE243=\"\",\"B\",Master!AE243)","v":"B"},{"$f":"IF(Master!AP243=\"\",\"B\",Master!AP243)","v":"B"},{"$f":"IF(Master!BA243=\"\",\"B\",Master!BA243)","v":"B"},{"$f":"IF(Master!BL243=\"\",\"B\",Master!BL243)","v":"B"}]
[{"$f":"Master!A244","v":"TR"},{"$f":"Master!B244","v":"WSDOT UW: TR-Fundamentals of Traffic Engineering"},{"$f":"Master!C244","v":"WSDOT_BS3"},{"$f":"Master!D244","v":"OLT/ILT"},{"$f":"Master!E244","v":"Inactive"},{"$f":"Master!F244","v":"None"},{"$f":"Master!H244","v":"No technical lead within WSDOT available to teach"},{"$f":"IF(Master!I244=\"\",\"B\",Master!I244)","v":2},{"$f":"IF(Master!T244=\"\",\"B\",Master!T244)","v":2},{"$f":"IF(Master!AE244=\"\",\"B\",Master!AE244)","v":2},{"$f":"IF(Master!AP244=\"\",\"B\",Master!AP244)","v":2},{"$f":"IF(Master!BA244=\"\",\"B\",Master!BA244)","v":"B"},{"$f":"IF(Master!BL244=\"\",\"B\",Master!BL244)","v":"B"}]
[{"$f":"Master!A245","v":"TR"},{"$f":"Master!B245","v":"WSDOT UW:TR-Traffic Engineering Operations"},{"$f":"Master!C245","v":"WSDOT_BS4"},{"$f":"Master!D245","v":"OLT/ILT"},{"$f":"Master!E245","v":"Inactive"},{"$f":"Master!F245","v":"None"},{"$f":"Master!H245","v":"No technical lead within WSDOT available to teach"},{"$f":"IF(Master!I245=\"\",\"B\",Master!I245)","v":2},{"$f":"IF(Master!T245=\"\",\"B\",Master!T245)","v":2},{"$f":"IF(Master!AE245=\"\",\"B\",Master!AE245)","v":2},{"$f":"IF(Master!AP245=\"\",\"B\",Master!AP245)","v":2},{"$f":"IF(Master!BA245=\"\",\"B\",Master!BA245)","v":"B"},{"$f":"IF(Master!BL245=\"\",\"B\",Master!BL245)","v":"B"}]
[{"$f":"Master!A246","v":0},{"$f":"Master!B246","v":"** no LMS course"},{"$f":"Master!C246","v":0},{"$f":"Master!D246","v":0},{"$f":"Master!E246","v":0},{"$f":"Master!F246","v":0},{"$f":"Master!H246","v":0}]
[{"$f":"Master!A247","v":0},{"$f":"Master!B247","v":"*** SS=Self Study, OLT=Online Training, ILT=Instructor Led Training"},{"$f":"Master!C247","v":0},{"$f":"Master!D247","v":0},{"$f":"Master!E247","v":0},{"$f":"Master!F247","v":0},{"$f":"Master!H247","v":0}]
[{"$f":"Master!A248","v":"ES"},{"$f":"Master!B248","v":"= Course offered by Department of Enterprise Services (DES). Contact LMS Helpdesk at 360-705-7060."},{"$f":"Master!C248","v":0},{"$f":"Master!D248","v":0},{"$f":"Master!E248","v":0},{"$f":"Master!F248","v":0},{"$f":"Master!H248","v":0}]
[{"$f":"Master!A249","v":"HR"},{"$f":"Master!B249","v":"= Course registration controlled by Human Resources. Contact LMS Helpdesk at 360-705-7060 to Register."},{"$f":"Master!C249","v":0},{"$f":"Master!D249","v":0},{"$f":"Master!E249","v":0},{"$f":"Master!F249","v":0},{"$f":"Master!H249","v":0}]
[{"$f":"Master!A250","v":0},{"$f":"Master!B250","v":0},{"$f":"Master!C250","v":0},{"$f":"Master!D250","v":0},{"$f":"Master!E250","v":0},{"$f":"Master!F250","v":0},{"$f":"Master!H250","v":0}]
[{"$f":"Master!A251","v":0},{"$f":"Master!B251","v":0},{"$f":"Master!C251","v":0},{"$f":"Master!D251","v":0},{"$f":"Master!E251","v":0},{"$f":"Master!F251","v":0},{"$f":"Master!H251","v":0}]
[{"$f":"Master!A252","v":0},{"$f":"Master!B252","v":0},{"$f":"Master!C252","v":0},{"$f":"Master!D252","v":0},{"$f":"Master!E252","v":0},{"$f":"Master!F252","v":0},{"$f":"Master!H252","v":0}]
[{"$f":"Master!A253","v":0},{"$f":"Master!B253","v":0},{"$f":"Master!C253","v":0},{"$f":"Master!D253","v":0},{"$f":"Master!E253","v":0},{"$f":"Master!F253","v":0},{"$f":"Master!H253","v":0}]
[{"$f":"Master!A254","v":0},{"$f":"Master!B254","v":0},{"$f":"Master!C254","v":0},{"$f":"Master!D254","v":0},{"$f":"Master!E254","v":0},{"$f":"Master!F254","v":0},{"$f":"Master!H254","v":0}]
[{"$f":"Master!A255","v":0},{"$f":"Master!B255","v":0},{"$f":"Master!C255","v":0},{"$f":"Master!D255","v":0},{"$f":"Master!E255","v":0},{"$f":"Master!F255","v":0},{"$f":"Master!H255","v":0}]
[{"$f":"Master!A256","v":0},{"$f":"Master!B256","v":0},{"$f":"Master!C256","v":0},{"$f":"Master!D256","v":0},{"$f":"Master!E256","v":0},{"$f":"Master!F256","v":0},{"$f":"Master!H256","v":0}]
[{"$f":"Master!A257","v":0},{"$f":"Master!B257","v":0},{"$f":"Master!C257","v":0},{"$f":"Master!D257","v":0},{"$f":"Master!E257","v":0},{"$f":"Master!F257","v":0},{"$f":"Master!H257","v":0}]
[{"$f":"Master!A258","v":0},{"$f":"Master!B258","v":0},{"$f":"Master!C258","v":0},{"$f":"Master!D258","v":0},{"$f":"Master!E258","v":0},{"$f":"Master!F258","v":0},{"$f":"Master!H258","v":0}]
[{"$f":"Master!A259","v":0},{"$f":"Master!B259","v":0},{"$f":"Master!C259","v":0},{"$f":"Master!D259","v":0},{"$f":"Master!E259","v":0},{"$f":"Master!F259","v":0},{"$f":"Master!H259","v":0}]
[{"$f":"Master!A260","v":0},{"$f":"Master!B260","v":0},{"$f":"Master!C260","v":0},{"$f":"Master!D260","v":0},{"$f":"Master!E260","v":0},{"$f":"Master!F260","v":0},{"$f":"Master!H260","v":0}]
[{"$f":"Master!A261","v":0},{"$f":"Master!B261","v":0},{"$f":"Master!C261","v":0},{"$f":"Master!D261","v":0},{"$f":"Master!E261","v":0},{"$f":"Master!F261","v":0},{"$f":"Master!H261","v":0}]
[{"$f":"Master!A262","v":0},{"$f":"Master!B262","v":0},{"$f":"Master!C262","v":0},{"$f":"Master!D262","v":0},{"$f":"Master!E262","v":0},{"$f":"Master!F262","v":0},{"$f":"Master!H262","v":0}]
[{"$f":"Master!A263","v":0},{"$f":"Master!B263","v":0},{"$f":"Master!C263","v":0},{"$f":"Master!D263","v":0},{"$f":"Master!E263","v":0},{"$f":"Master!F263","v":0},{"$f":"Master!H263","v":0}]
[{"$f":"Master!A264","v":0},{"$f":"Master!B264","v":0},{"$f":"Master!C264","v":0},{"$f":"Master!D264","v":0},{"$f":"Master!E264","v":0},{"$f":"Master!F264","v":0},{"$f":"Master!H264","v":0}]
[{"$f":"Master!A265","v":0},{"$f":"Master!B265","v":0},{"$f":"Master!C265","v":0},{"$f":"Master!D265","v":0},{"$f":"Master!E265","v":0},{"$f":"Master!F265","v":0},{"$f":"Master!H265","v":0}]
[{"$f":"Master!A266","v":0},{"$f":"Master!B266","v":0},{"$f":"Master!C266","v":0},{"$f":"Master!D266","v":0},{"$f":"Master!E266","v":0},{"$f":"Master!F266","v":0},{"$f":"Master!H266","v":0}]
[{"$f":"Master!A267","v":0},{"$f":"Master!B267","v":0},{"$f":"Master!C267","v":0},{"$f":"Master!D267","v":0},{"$f":"Master!E267","v":0},{"$f":"Master!F267","v":0},{"$f":"Master!H267","v":0}]
[{"$f":"Master!A268","v":0},{"$f":"Master!B268","v":0},{"$f":"Master!C268","v":0},{"$f":"Master!D268","v":0},{"$f":"Master!E268","v":0},{"$f":"Master!F268","v":0},{"$f":"Master!H268","v":0}]
[{"$f":"Master!A269","v":0},{"$f":"Master!B269","v":0},{"$f":"Master!C269","v":0},{"$f":"Master!D269","v":0},{"$f":"Master!E269","v":0},{"$f":"Master!F269","v":0},{"$f":"Master!H269","v":0}]
[{"$f":"Master!A270","v":0},{"$f":"Master!B270","v":0},{"$f":"Master!C270","v":0},{"$f":"Master!D270","v":0},{"$f":"Master!E270","v":0},{"$f":"Master!F270","v":0},{"$f":"Master!H270","v":0}]
[{"$f":"Master!A271","v":0},{"$f":"Master!B271","v":0},{"$f":"Master!C271","v":0},{"$f":"Master!D271","v":0},{"$f":"Master!E271","v":0},{"$f":"Master!F271","v":0},{"$f":"Master!H271","v":0}]
[{"$f":"Master!A272","v":0},{"$f":"Master!B272","v":0},{"$f":"Master!C272","v":0},{"$f":"Master!D272","v":0},{"$f":"Master!E272","v":0},{"$f":"Master!F272","v":0},{"$f":"Master!H272","v":0}]
[{"$f":"Master!A273","v":0},{"$f":"Master!B273","v":0},{"$f":"Master!C273","v":0},{"$f":"Master!D273","v":0},{"$f":"Master!E273","v":0},{"$f":"Master!F273","v":0},{"$f":"Master!H273","v":0}]
[{"$f":"Master!A274","v":0},{"$f":"Master!B274","v":0},{"$f":"Master!C274","v":0},{"$f":"Master!D274","v":0},{"$f":"Master!E274","v":0},{"$f":"Master!F274","v":0},{"$f":"Master!H274","v":0}]
[{"$f":"Master!A275","v":0},{"$f":"Master!B275","v":0},{"$f":"Master!C275","v":0},{"$f":"Master!D275","v":0},{"$f":"Master!E275","v":0},{"$f":"Master!F275","v":0},{"$f":"Master!H275","v":0}]
[{"$f":"Master!A276","v":0},{"$f":"Master!B276","v":0},{"$f":"Master!C276","v":0},{"$f":"Master!D276","v":0},{"$f":"Master!E276","v":0},{"$f":"Master!F276","v":0},{"$f":"Master!H276","v":0}]
[{"$f":"Master!A277","v":0},{"$f":"Master!B277","v":0},{"$f":"Master!C277","v":0},{"$f":"Master!D277","v":0},{"$f":"Master!E277","v":0},{"$f":"Master!F277","v":0},{"$f":"Master!H277","v":0}]
[{"$f":"Master!A278","v":0},{"$f":"Master!B278","v":0},{"$f":"Master!C278","v":0},{"$f":"Master!D278","v":0},{"$f":"Master!E278","v":0},{"$f":"Master!F278","v":0},{"$f":"Master!H278","v":0}]
[{"$f":"Master!A279","v":0},{"$f":"Master!B279","v":0},{"$f":"Master!C279","v":0},{"$f":"Master!D279","v":0},{"$f":"Master!E279","v":0},{"$f":"Master!F279","v":0},{"$f":"Master!H279","v":0}]
[{"$f":"Master!A280","v":0},{"$f":"Master!B280","v":0},{"$f":"Master!C280","v":0},{"$f":"Master!D280","v":0},{"$f":"Master!E280","v":0},{"$f":"Master!F280","v":0},{"$f":"Master!H280","v":0}]
[{"$f":"Master!A281","v":0},{"$f":"Master!B281","v":0},{"$f":"Master!C281","v":0},{"$f":"Master!D281","v":0},{"$f":"Master!E281","v":0},{"$f":"Master!F281","v":0},{"$f":"Master!H281","v":0}]
[{"$f":"Master!A282","v":0},{"$f":"Master!B282","v":0},{"$f":"Master!C282","v":0},{"$f":"Master!D282","v":0},{"$f":"Master!E282","v":0},{"$f":"Master!F282","v":0},{"$f":"Master!H282","v":0}]
[{"$f":"Master!A283","v":0},{"$f":"Master!B283","v":0},{"$f":"Master!C283","v":0},{"$f":"Master!D283","v":0},{"$f":"Master!E283","v":0},{"$f":"Master!F283","v":0},{"$f":"Master!H283","v":0}]

{"sheet":"CN","index":11,"n_rows":283,"n_cols":13,"rows_kept":283,"cut":false,"hidden":false,"merged":[[191,0,191,6],[202,0,202,6],[210,0,210,6],[213,0,213,6],[85,0,85,6],[88,0,88,6],[95,0,95,6],[151,0,151,6],[152,0,152,6],[185,0,185,6],[83,0,83,6],[2,0,2,6],[13,0,13,6],[48,0,48,6],[49,0,49,6],[52,0,52,6],[55,0,55,6],[58,0,58,6],[60,0,60,6],[63,0,63,6],[70,0,70,6],[76,0,76,6]]}
[null,null,null,7,6]
["Responsible Division","LMS COURSE NAME"," LMS COURSE CODE","Self Study (SS), \nOnline (OLT), or \nInstructor Led (ILT)","TRAINING\nSTATUS","If training status is \"inactive\", when will the course be developed?","NOTES","TT1","TT2","TT3","TE1","TE2","TE3"]
["Mandatory",null,null,null,null,null,null,{"$f":"IF(Master!J3=\"\",\"B\",Master!J3)","v":"B"},{"$f":"IF(Master!U3=\"\",\"B\",Master!U3)","v":"B"},{"$f":"IF(Master!AF3=\"\",\"B\",Master!AF3)","v":"B"},{"$f":"IF(Master!AQ3=\"\",\"B\",Master!AQ3)","v":"B"},{"$f":"IF(Master!BB3=\"\",\"B\",Master!BB3)","v":"B"},{"$f":"IF(Master!BM3=\"\",\"B\",Master!BM3)","v":"B"}]
[{"$f":"Master!A4","v":"HR"},{"$f":"Master!B4","v":"WA-State Ethics in State Government"},{"$f":"Master!C4","v":"WA-State Ethics 8-7-2014-V6"},{"$f":"Master!D4","v":"OLT"},{"$f":"Master!E4","v":"Active"},{"$f":"Master!F4","v":0},{"$f":"Master!H4","v":"To register for this course, \ncall the LMS Helpdesk at \n360-705-7060."},{"$f":"IF(Master!J4=\"\",\"B\",Master!J4)","v":"M"},{"$f":"IF(Master!U4=\"\",\"B\",Master!U4)","v":"M"},{"$f":"IF(Master!AF4=\"\",\"B\",Master!AF4)","v":"M"},{"$f":"IF(Master!AQ4=\"\",\"B\",Master!AQ4)","v":"M"},{"$f":"IF(Master!BB4=\"\",\"B\",Master!BB4)","v":"M"},{"$f":"IF(Master!BM4=\"\",\"B\",Master!BM4)","v":"M"}]
[{"$f":"Master!A5","v":"HR"},{"$f":"Master!B5","v":"WSDOT Mandatory: Ethical Standards WSDOT Specific Training"},{"$f":"Master!C5","v":"WSDOT_BKB Specific"},{"$f":"Master!D5","v":"OLT"},{"$f":"Master!E5","v":"Active"},{"$f":"Master!F5","v":0},{"$f":"Master!H5","v":"To register for this course, \ncall the LMS Helpdesk at \n360-705-7060."},{"$f":"IF(Master!J5=\"\",\"B\",Master!J5)","v":"M"},{"$f":"IF(Master!U5=\"\",\"B\",Master!U5)","v":"M"},{"$f":"IF(Master!AF5=\"\",\"B\",Master!AF5)","v":"M"},{"$f":"IF(Master!AQ5=\"\",\"B\",Master!AQ5)","v":"M"},{"$f":"IF(Master!BB5=\"\",\"B\",Master!BB5)","v":"M"},{"$f":"IF(Master!BM5=\"\",\"B\",Master!BM5)","v":"M"}]
[{"$f":"Master!A6","v":"HR"},{"$f":"Master!B6","v":"WSDOT Mandatory: System Security Awareness For Transportation Employees (Self Study)"},{"$f":"Master!C6","v":"WSDOT_CJJ_UDT"},{"$f":"Master!D6","v":"SS"},{"$f":"Master!E6","v":"Active"},{"$f":"Master!F6","v":0},{"$f":"Master!H6","v":"To register for this course, \ncall the LMS Helpdesk at \n360-705-7060."},{"$f":"IF(Master!J6=\"\",\"B\",Master!J6)","v":"M"},{"$f":"IF(Master!U6=\"\",\"B\",Master!U6)","v":"M"},{"$f":"IF(Master!AF6=\"\",\"B\",Master!AF6)","v":"M"},{"$f":"IF(Master!AQ6=\"\",\"B\",Master!AQ6)","v":"M"},{"$f":"IF(Master!BB6=\"\",\"B\",Master!BB6)","v":"M"},{"$f":"IF(Master!BM6=\"\",\"B\",Master!BM6)","v":"M"}]
[{"$f":"Master!A7","v":"HR"},{"$f":"Master!B7","v":"WSDOT Mandatory: Violence That Affects The Workplace (Self Study)"},{"$f":"Master!C7","v":"WSDOT_B9V"},{"$f":"Master!D7","v":"SS"},{"$f":"Master!E7","v":"Active"},{"$f":"Master!F7","v":0},{"$f":"Master!H7","v":"To register for this course, \ncall the LMS Helpdesk at \n360-705-7060."},{"$f":"IF(Master!J7=\"\",\"B\",Master!J7)","v":"M"},{"$f":"IF(Master!U7=\"\",\"B\",Master!U7)","v":"M"},{"$f":"IF(Master!AF7=\"\",\"B\",Master!AF7)","v":"M"},{"$f":"IF(Master!AQ7=\"\",\"B\",Master!AQ7)","v":"M"},{"$f":"IF(Master!BB7=\"\",\"B\",Master!BB7)","v":"M"},{"$f":"IF(Master!BM7=\"\",\"B\",Master!BM7)","v":"M"}]
[{"$f":"Master!A8","v":"HR"},{"$f":"Master!B8","v":"WA-State IT Security Awareness Training"},{"$f":"Master!C8","v":"WA-State IT Security Awareness Training - Initial Training-8/16/2013"},{"$f":"Master!D8","v":"OLT"},{"$f":"Master!E8","v":"Active"},{"$f":"Master!F8","v":0},{"$f":"Master!H8","v":"To register for this course, \ncall the LMS Helpdesk at \n360-705-7060."},{"$f":"IF(Master!J8=\"\",\"B\",Master!J8)","v":"M"},{"$f":"IF(Master!U8=\"\",\"B\",Master!U8)","v":"M"},{"$f":"IF(Master!AF8=\"\",\"B\",Master!AF8)","v":"M"},{"$f":"IF(Master!AQ8=\"\",\"B\",Master!AQ8)","v":"M"},{"$f":"IF(Master!BB8=\"\",\"B\",Master!BB8)","v":"M"},{"$f":"IF(Master!BM8=\"\",\"B\",Master!BM8)","v":"M"}]
[{"$f":"Master!A9","v":"HR"},{"$f":"Master!B9","v":"WA-State Sexual Harassment Awareness and Prevention"},{"$f":"Master!C9","v":"DES_shap_2013_Updated_9-3-2014"},{"$f":"Master!D9","v":"OLT"},{"$f":"Master!E9","v":"Active"},{"$f":"Master!F9","v":0},{"$f":"Master!H9","v":"To register for this course, \ncall the LMS Helpdesk at \n360-705-7060."},{"$f":"IF(Master!J9=\"\",\"B\",Master!J9)","v":"M"},{"$f":"IF(Master!U9=\"\",\"B\",Master!U9)","v":"M"},{"$f":"IF(Master!AF9=\"\",\"B\",Master!AF9)","v":"M"},{"$f":"IF(Master!AQ9=\"\",\"B\",Master!AQ9)","v":"M"},{"$f":"IF(Master!BB9=\"\",\"B\",Master!BB9)","v":"M"},{"$f":"IF(Master!BM9=\"\",\"B\",Master!BM9)","v":"M"}]
[{"$f":"Master!A10","v":"HR"},{"$f":"Master!B10","v":"WSDOT Mandatory: Disability Awareness Step 1, Understanding the Americans with Disabilities Act (ADA)  "},{"$f":"Master!C10","v":"lchr_01_a15_lc_enus"},{"$f":"Master!D10","v":"OLT"},{"$f":"Master!E10","v":"Active"},{"$f":"Master!F10","v":0},{"$f":"Master!H10","v":"To register for this course, \ncall the LMS Helpdesk at \n360-705-7060."},{"$f":"IF(Master!J10=\"\",\"B\",Master!J10)","v":"M"},{"$f":"IF(Master!U10=\"\",\"B\",Master!U10)","v":"M"},{"$f":"IF(Master!AF10=\"\",\"B\",Master!AF10)","v":"M"},{"$f":"IF(Master!AQ10=\"\",\"B\",Master!AQ10)","v":"M"},{"$f":"IF(Master!BB10=\"\",\"B\",Master!BB10)","v":"M"},{"$f":"IF(Master!BM10=\"\",\"B\",Master!BM10)","v":"M"}]
[{"$f":"Master!A11","v":"HR"},{"$f":"Master!B11","v":"WSDOT Mandatory: Disability Awareness Step 2 of Learning Plan"},{"$f":"Master!C11","v":"WSDOT_CD8_UDT2"},{"$f":"Master!D11","v":"OLT"},{"$f":"Master!E11","v":"Active"},{"$f":"Master!F11","v":0},{"$f":"Master!H11","v":"To register for this course, \ncall the LMS Helpdesk at \n360-705-7060."},{"$f":"IF(Master!J11=\"\",\"B\",Master!J11)","v":"M"},{"$f":"IF(Master!U11=\"\",\"B\",Master!U11)","v":"M"},{"$f":"IF(Master!AF11=\"\",\"B\",Master!AF11)","v":"M"},{"$f":"IF(Master!AQ11=\"\",\"B\",Master!AQ11)","v":"M"},{"$f":"IF(Master!BB11=\"\",\"B\",Master!BB11)","v":"M"},{"$f":"IF(Master!BM11=\"\",\"B\",Master!BM11)","v":"M"}]
[{"$f":"Master!A12","v":"HR"},{"$f":"Master!B12","v":"WSDOT Mandatory: Discrimination In The Workplace (Self Study)"},{"$f":"Master!C12","v":"WSDOT_DIS"},{"$f":"Master!D12","v":"SS"},{"$f":"Master!E12","v":"Active"},{"$f":"Master!F12","v":0},{"$f":"Master!H12","v":"To register for this course, \ncall the LMS Helpdesk at \n360-705-7060."},{"$f":"IF(Master!J12=\"\",\"B\",Master!J12)","v":"M"},{"$f":"IF(Master!U12=\"\",\"B\",Master!U12)","v":"M"},{"$f":"IF(Master!AF12=\"\",\"B\",Master!AF12)","v":"M"},{"$f":"IF(Master!AQ12=\"\",\"B\",Master!AQ12)","v":"M"},{"$f":"IF(Master!BB12=\"\",\"B\",Master!BB12)","v":"M"},{"$f":"IF(Master!BM12=\"\",\"B\",Master!BM12)","v":"M"}]
[{"$f":"Master!A13","v":"HR"},{"$f":"Master!B13","v":"WSDOT Mandatory: Valuing Diversity Step 2, Promoting Respect in the Global Workplace – Employee Edition"},{"$f":"Master!C13","v":"WSDOT_lch_01_a09_lc_enus"},{"$f":"Master!D13","v":"OLT"},{"$f":"Master!E13","v":"Active"},{"$f":"Master!F13","v":0},{"$f":"Master!H13","v":"To register for this course, \ncall the LMS Helpdesk at \n360-705-7060."},{"$f":"IF(Master!J13=\"\",\"B\",Master!J13)","v":"M"},{"$f":"IF(Master!U13=\"\",\"B\",Master!U13)","v":"M"},{"$f":"IF(Master!AF13=\"\",\"B\",Master!AF13)","v":"M"},{"$f":"IF(Master!AQ13=\"\",\"B\",Master!AQ13)","v":"M"},{"$f":"IF(Master!BB13=\"\",\"B\",Master!BB13)","v":"M"},{"$f":"IF(Master!BM13=\"\",\"B\",Master!BM13)","v":"M"}]
[{"$f":"Master!A14","v":"General Knowledge"},null,null,null,null,null,null,{"$f":"IF(Master!J14=\"\",\"B\",Master!J14)","v":"B"},{"$f":"IF(Master!U14=\"\",\"B\",Master!U14)","v":"B"},{"$f":"IF(Master!AF14=\"\",\"B\",Master!AF14)","v":"B"},{"$f":"IF(Master!AQ14=\"\",\"B\",Master!AQ14)","v":"B"},{"$f":"IF(Master!BB14=\"\",\"B\",Master!BB14)","v":"B"},{"$f":"IF(Master!BM14=\"\",\"B\",Master!BM14)","v":"B"}]
[{"$f":"Master!A15","v":"GEN"},{"$f":"Master!B15","v":"**Legal Liability for Transportation Professionals - Entry"},{"$f":"Master!C15","v":0},{"$f":"Master!D15","v":"ILT"},{"$f":"Master!E15","v":"Inactive"},{"$f":"Master!F15","v":0},{"$f":"Master!H15","v":0},{"$f":"IF(Master!J15=\"\",\"B\",Master!J15)","v":1},{"$f":"IF(Master!U15=\"\",\"B\",Master!U15)","v":1},{"$f":"IF(Master!AF15=\"\",\"B\",Master!AF15)","v":1},{"$f":"IF(Master!AQ15=\"\",\"B\",Master!AQ15)","v":1},{"$f":"IF(Master!BB15=\"\",\"B\",Master!BB15)","v":1},{"$f":"IF(Master!BM15=\"\",\"B\",Master!BM15)","v":"B"}]
[{"$f":"Master!A16","v":"GEN"},{"$f":"Master!B16","v":"**Legal Liability for Transportation Professionals - In-Depth"},{"$f":"Master!C16","v":0},{"$f":"Master!D16","v":"ILT"},{"$f":"Master!E16","v":"Inactive"},{"$f":"Master!F16","v":0},{"$f":"Master!H16","v":0},{"$f":"IF(Master!J16=\"\",\"B\",Master!J16)","v":"B"},{"$f":"IF(Master!U16=\"\",\"B\",Master!U16)","v":"B"},{"$f":"IF(Master!AF16=\"\",\"B\",Master!AF16)","v":"B"},{"$f":"IF(Master!AQ16=\"\",\"B\",Master!AQ16)","v":"B"},{"$f":"IF(Master!BB16=\"\",\"B\",Master!BB16)","v":"B"},{"$f":"IF(Master!BM16=\"\",\"B\",Master!BM16)","v":1}]
[{"$f":"Master!A17","v":"GEN"},{"$f":"Master!B17","v":"WSDOT GEN: TECHNICAL MATHEMATICS I (SELF-STUDY)"},{"$f":"Master!C17","v":"WSDOT_AFN"},{"$f":"Master!D17","v":"SS"},{"$f":"Master!E17","v":"Active"},{"$f":"Master!F17","v":0},{"$f":"Master!H17","v":0},{"$f":"IF(Master!J17=\"\",\"B\",Master!J17)","v":"R"},{"$f":"IF(Master!U17=\"\",\"B\",Master!U17)","v":"R"},{"$f":"IF(Master!AF17=\"\",\"B\",Master!AF17)","v":"B"},{"$f":"IF(Master!AQ17=\"\",\"B\",Master!AQ17)","v":"B"},{"$f":"IF(Master!BB17=\"\",\"B\",Master!BB17)","v":"B"},{"$f":"IF(Master!BM17=\"\",\"B\",Master!BM17)","v":"B"}]
[{"$f":"Master!A18","v":"GEN"},{"$f":"Master!B18","v":"WSDOT GEN: TECHNICAL MATHEMATICS II (SELF-STUDY)"},{"$f":"Master!C18","v":"WSDOT_A7J"},{"$f":"Master!D18","v":"SS"},{"$f":"Master!E18","v":"Active"},{"$f":"Master!F18","v":0},{"$f":"Master!H18","v":0},{"$f":"IF(Master!J18=\"\",\"B\",Master!J18)","v":"R"},{"$f":"IF(Master!U18=\"\",\"B\",Master!U18)","v":"R"},{"$f":"IF(Master!AF18=\"\",\"B\",Master!AF18)","v":"B"},{"$f":"IF(Master!AQ18=\"\",\"B\",Master!AQ18)","v":"B"},{"$f":"IF(Master!BB18=\"\",\"B\",Master!BB18)","v":"B"},{"$f":"IF(Master!BM18=\"\",\"B\",Master!BM18)","v":"B"}]
[{"$f":"Master!A19","v":"SS"},{"$f":"Master!B19","v":"Finding Your Bearings as a Project Manager"},{"$f":"Master!C19","v":"apj_151_a01_bs_enus"},{"$f":"Master!D19","v":"OLT"},{"$f":"Master!E19","v":"Active"},{"$f":"Master!F19","v":0},{"$f":"Master!H19","v":0},{"$f":"IF(Master!J19=\"\",\"B\",Master!J19)","v":"R"},{"$f":"IF(Master!U19=\"\",\"B\",Master!U19)","v":"R"},{"$f":"IF(Master!AF19=\"\",\"B\",Master!AF19)","v":"B"},{"$f":"IF(Master!AQ19=\"\",\"B\",Master!AQ19)","v":"B"},{"$f":"IF(Master!BB19=\"\",\"B\",Master!BB19)","v":"B"},{"$f":"IF(Master!BM19=\"\",\"B\",Master!BM19)","v":"B"}]
[{"$f":"Master!A20","v":"SS"},{"$f":"Master!B20","v":"Getting to the Root of a Problem"},{"$f":"Master!C20","v":"apj_15_a01_bs_enus"},{"$f":"Master!D20","v":"OLT"},{"$f":"Master!E20","v":"Active"},{"$f":"Master!F20","v":0},{"$f":"Master!H20","v":0},{"$f":"IF(Master!J20=\"\",\"B\",Master!J20)","v":"R"},{"$f":"IF(Master!U20=\"\",\"B\",Master!U20)","v":"R"},{"$f":"IF(Master!AF20=\"\",\"B\",Master!AF20)","v":"B"},{"$f":"IF(Master!AQ20=\"\",\"B\",Master!AQ20)","v":"B"},{"$f":"IF(Master!BB20=\"\",\"B\",Master!BB20)","v":"B"},{"$f":"IF(Master!BM20=\"\",\"B\",Master!BM20)","v":"B"}]
[{"$f":"Master!A21","v":"SS"},{"$f":"Master!B21","v":"The Process Groups (PMBOK® Guide Fifth Edition)"},{"$f":"Master!C21","v":"apj_01_a03_bs_enus"},{"$f":"Master!D21","v":"OLT"},{"$f":"Master!E21","v":"Active"},{"$f":"Master!F21","v":0},{"$f":"Master!H21","v":0},{"$f":"IF(Master!J21=\"\",\"B\",Master!J21)","v":"R"},{"$f":"IF(Master!U21=\"\",\"B\",Master!U21)","v":"R"},{"$f":"IF(Master!AF21=\"\",\"B\",Master!AF21)","v":"B"},{"$f":"IF(Master!AQ21=\"\",\"B\",Master!AQ21)","v":"B"},{"$f":"IF(Master!BB21=\"\",\"B\",Master!BB21)","v":"B"},{"$f":"IF(Master!BM21=\"\",\"B\",Master!BM21)","v":"B"}]
[{"$f":"Master!A22","v":"SS"},{"$f":"Master!B22","v":"Solving Problems: Generating and Evaluating Alternatives"},{"$f":"Master!C22","v":"pd_29_a02_bs_enus"},{"$f":"Master!D22","v":"OLT"},{"$f":"Master!E22","v":"Active"},{"$f":"Master!F22","v":0},{"$f":"Master!H22","v":0},{"$f":"IF(Master!J22=\"\",\"B\",Master!J22)","v":"R"},{"$f":"IF(Master!U22=\"\",\"B\",Master!U22)","v":"R"},{"$f":"IF(Master!AF22=\"\",\"B\",Master!AF22)","v":"B"},{"$f":"IF(Master!AQ22=\"\",\"B\",Master!AQ22)","v":"B"},{"$f":"IF(Master!BB22=\"\",\"B\",Master!BB22)","v":"B"},{"$f":"IF(Master!BM22=\"\",\"B\",Master!BM22)","v":"B"}]
[{"$f":"Master!A23","v":"SS"},{"$f":"Master!B23","v":"Making and Carrying Out Tough Decisions"},{"$f":"Master!C23","v":"pd_29_a03_bs_enus"},{"$f":"Master!D23","v":"OLT"},{"$f":"Master!E23","v":"Active"},{"$f":"Master!F23","v":0},{"$f":"Master!H23","v":0},{"$f":"IF(Master!J23=\"\",\"B\",Master!J23)","v":"R"},{"$f":"IF(Master!U23=\"\",\"B\",Master!U23)","v":"R"},{"$f":"IF(Master!AF23=\"\",\"B\",Master!AF23)","v":"B"},{"$f":"IF(Master!AQ23=\"\",\"B\",Master!AQ23)","v":"B"},{"$f":"IF(Master!BB23=\"\",\"B\",Master!BB23)","v":"B"},{"$f":"IF(Master!BM23=\"\",\"B\",Master!BM23)","v":"B"}]
[{"$f":"Master!A24","v":"SS"},{"$f":"Master!B24","v":"Solving Problems: Framing the Problem"},{"$f":"Master!C24","v":"pd_29_a01_bs_enus"},{"$f":"Master!D24","v":"OLT"},{"$f":"Master!E24","v":"Active"},{"$f":"Master!F24","v":0},{"$f":"Master!H24","v":0},{"$f":"IF(Master!J24=\"\",\"B\",Master!J24)","v":"R"},{"$f":"IF(Master!U24=\"\",\"B\",Master!U24)","v":"R"},{"$f":"IF(Master!AF24=\"\",\"B\",Master!AF24)","v":"B"},{"$f":"IF(Master!AQ24=\"\",\"B\",Master!AQ24)","v":"B"},{"$f":"IF(Master!BB24=\"\",\"B\",Master!BB24)","v":"B"},{"$f":"IF(Master!BM24=\"\",\"B\",Master!BM24)","v":"B"}]
[{"$f":"Master!A25","v":"SS"},{"$f":"Master!B25","v":"Problem-Solving and Process Management Tools"},{"$f":"Master!C25","v":"oper_04_a07_bs_enus"},{"$f":"Master!D25","v":"OLT"},{"$f":"Master!E25","v":"Active"},{"$f":"Master!F25","v":0},{"$f":"Master!H25","v":0},{"$f":"IF(Master!J25=\"\",\"B\",Master!J25)","v":"R"},{"$f":"IF(Master!U25=\"\",\"B\",Master!U25)","v":"R"},{"$f":"IF(Master!AF25=\"\",\"B\",Master!AF25)","v":"B"},{"$f":"IF(Master!AQ25=\"\",\"B\",Master!AQ25)","v":"B"},{"$f":"IF(Master!BB25=\"\",\"B\",Master!BB25)","v":"B"},{"$f":"IF(Master!BM25=\"\",\"B\",Master!BM25)","v":"B"}]
[{"$f":"Master!A26","v":"SS"},{"$f":"Master!B26","v":"Basic Presentation Skills: Delivering a Presentation"},{"$f":"Master!C26","v":"comm_33_a03_bs_enus"},{"$f":"Master!D26","v":"OLT"},{"$f":"Master!E26","v":"Active"},{"$f":"Master!F26","v":0},{"$f":"Master!H26","v":0},{"$f":"IF(Master!J26=\"\",\"B\",Master!J26)","v":"R"},{"$f":"IF(Master!U26=\"\",\"B\",Master!U26)","v":"R"},{"$f":"IF(Master!AF26=\"\",\"B\",Master!AF26)","v":"B"},{"$f":"IF(Master!AQ26=\"\",\"B\",Master!AQ26)","v":"B"},{"$f":"IF(Master!BB26=\"\",\"B\",Master!BB26)","v":"B"},{"$f":"IF(Master!BM26=\"\",\"B\",Master!BM26)","v":"B"}]
[{"$f":"Master!A27","v":"SS"},{"$f":"Master!B27","v":"Basic Presentation Skills: Creating a Presentation"},{"$f":"Master!C27","v":"comm_33_a02_bs_enus"},{"$f":"Master!D27","v":"OLT"},{"$f":"Master!E27","v":"Active"},{"$f":"Master!F27","v":0},{"$f":"Master!H27","v":0},{"$f":"IF(Master!J27=\"\",\"B\",Master!J27)","v":"R"},{"$f":"IF(Master!U27=\"\",\"B\",Master!U27)","v":"R"},{"$f":"IF(Master!AF27=\"\",\"B\",Master!AF27)","v":"B"},{"$f":"IF(Master!AQ27=\"\",\"B\",Master!AQ27)","v":"B"},{"$f":"IF(Master!BB27=\"\",\"B\",Master!BB27)","v":"B"},{"$f":"IF(Master!BM27=\"\",\"B\",Master!BM27)","v":"B"}]
[{"$f":"Master!A28","v":"SS"},{"$f":"Master!B28","v":"Building the Foundation for an Effective Team"},{"$f":"Master!C28","v":"atm_01_a01_bs_enus"},{"$f":"Master!D28","v":"OLT"},{"$f":"Master!E28","v":"Active"},{"$f":"Master!F28","v":0},{"$f":"Master!H28","v":0},{"$f":"IF(Master!J28=\"\",\"B\",Master!J28)","v":"R"},{"$f":"IF(Master!U28=\"\",\"B\",Master!U28)","v":"R"},{"$f":"IF(Master!AF28=\"\",\"B\",Master!AF28)","v":"B"},{"$f":"IF(Master!AQ28=\"\",\"B\",Master!AQ28)","v":"B"},{"$f":"IF(Master!BB28=\"\",\"B\",Master!BB28)","v":"B"},{"$f":"IF(Master!BM28=\"\",\"B\",Master!BM28)","v":"B"}]
[{"$f":"Master!A29","v":"SS"},{"$f":"Master!B29","v":"Developing a Successful Team"},{"$f":"Master!C29","v":"atm_01_a02_bs_enus"},{"$f":"Master!D29","v":"OLT"},{"$f":"Master!E29","v":"Active"},{"$f":"Master!F29","v":0},{"$f":"Master!H29","v":0},{"$f":"IF(Master!J29=\"\",\"B\",Master!J29)","v":"R"},{"$f":"IF(Master!U29=\"\",\"B\",Master!U29)","v":"R"},{"$f":"IF(Master!AF29=\"\",\"B\",Master!AF29)","v":"B"},{"$f":"IF(Master!AQ29=\"\",\"B\",Master!AQ29)","v":"B"},{"$f":"IF(Master!BB29=\"\",\"B\",Master!BB29)","v":"B"},{"$f":"IF(Master!BM29=\"\",\"B\",Master!BM29)","v":"B"}]
[{"$f":"Master!A30","v":"SS"},{"$f":"Master!B30","v":"Encouraging Team Communication and Collaboration"},{"$f":"Master!C30","v":"atm_01_a03_bs_enus"},{"$f":"Master!D30","v":"OLT"},{"$f":"Master!E30","v":"Active"},{"$f":"Master!F30","v":0},{"$f":"Master!H30","v":0},{"$f":"IF(Master!J30=\"\",\"B\",Master!J30)","v":"R"},{"$f":"IF(Master!U30=\"\",\"B\",Master!U30)","v":"R"},{"$f":"IF(Master!AF30=\"\",\"B\",Master!AF30)","v":"B"},{"$f":"IF(Master!AQ30=\"\",\"B\",Master!AQ30)","v":"B"},{"$f":"IF(Master!BB30=\"\",\"B\",Master!BB30)","v":"B"},{"$f":"IF(Master!BM30=\"\",\"B\",Master!BM30)","v":"B"}]
[{"$f":"Master!A31","v":"SS"},{"$f":"Master!B31","v":"Handling Team Conflict"},{"$f":"Master!C31","v":"atm_01_a04_bs_enus"},{"$f":"Master!D31","v":"OLT"},{"$f":"Master!E31","v":"Active"},{"$f":"Master!F31","v":0},{"$f":"Master!H31","v":0},{"$f":"IF(Master!J31=\"\",\"B\",Master!J31)","v":"R"},{"$f":"IF(Master!U31=\"\",\"B\",Master!U31)","v":"R"},{"$f":"IF(Master!AF31=\"\",\"B\",Master!AF31)","v":"B"},{"$f":"IF(Master!AQ31=\"\",\"B\",Master!AQ31)","v":"B"},{"$f":"IF(Master!BB31=\"\",\"B\",Master!BB31)","v":"B"},{"$f":"IF(Master!BM31=\"\",\"B\",Master!BM31)","v":"B"}]
[{"$f":"Master!A32","v":"SS"},{"$f":"Master!B32","v":"Thinking Critically: Coming to Terms with Assumptions"},{"$f":"Master!C32","v":"pe_01_a01_bs_enus"},{"$f":"Master!D32","v":"OLT"},{"$f":"Master!E32","v":"Active"},{"$f":"Master!F32","v":0},{"$f":"Master!H32","v":0},{"$f":"IF(Master!J32=\"\",\"B\",Master!J32)","v":"R"},{"$f":"IF(Master!U32=\"\",\"B\",Master!U32)","v":"R"},{"$f":"IF(Master!AF32=\"\",\"B\",Master!AF32)","v":"B"},{"$f":"IF(Master!AQ32=\"\",\"B\",Master!AQ32)","v":"B"},{"$f":"IF(Master!BB32=\"\",\"B\",Master!BB32)","v":"B"},{"$f":"IF(Master!BM32=\"\",\"B\",Master!BM32)","v":"B"}]
[{"$f":"Master!A33","v":"SS"},{"$f":"Master!B33","v":"Thinking Critically: Getting Your Arms around Arguments"},{"$f":"Master!C33","v":"pe_01_a02_bs_enus"},{"$f":"Master!D33","v":"OLT"},{"$f":"Master!E33","v":"Active"},{"$f":"Master!F33","v":0},{"$f":"Master!H33","v":0},{"$f":"IF(Master!J33=\"\",\"B\",Master!J33)","v":"R"},{"$f":"IF(Master!U33=\"\",\"B\",Master!U33)","v":"R"},{"$f":"IF(Master!AF33=\"\",\"B\",Master!AF33)","v":"B"},{"$f":"IF(Master!AQ33=\"\",\"B\",Master!AQ33)","v":"B"},{"$f":"IF(Master!BB33=\"\",\"B\",Master!BB33)","v":"B"},{"$f":"IF(Master!BM33=\"\",\"B\",Master!BM33)","v":"B"}]
[{"$f":"Master!A34","v":"SS"},{"$f":"Master!B34","v":"Thinking Critically: Drawing Conclusions with Confidence"},{"$f":"Master!C34","v":"pe_01_a03_bs_enus"},{"$f":"Master!D34","v":"OLT"},{"$f":"Master!E34","v":"Active"},{"$f":"Master!F34","v":0},{"$f":"Master!H34","v":0},{"$f":"IF(Master!J34=\"\",\"B\",Master!J34)","v":"R"},{"$f":"IF(Master!U34=\"\",\"B\",Master!U34)","v":"R"},{"$f":"IF(Master!AF34=\"\",\"B\",Master!AF34)","v":"B"},{"$f":"IF(Master!AQ34=\"\",\"B\",Master!AQ34)","v":"B"},{"$f":"IF(Master!BB34=\"\",\"B\",Master!BB34)","v":"B"},{"$f":"IF(Master!BM34=\"\",\"B\",Master!BM34)","v":"B"}]
[{"$f":"Master!A35","v":"SS"},{"$f":"Master!B35","v":"Microsoft Excel 2016 Essentials: Creating, Editing, and Saving Workbooks"},{"$f":"Master!C35","v":"mo_beel_a01_dt_enus"},{"$f":"Master!D35","v":"OLT"},{"$f":"Master!E35","v":"Active"},{"$f":"Master!F35","v":0},{"$f":"Master!H35","v":0},{"$f":"IF(Master!J35=\"\",\"B\",Master!J35)","v":"R"},{"$f":"IF(Master!U35=\"\",\"B\",Master!U35)","v":"R"},{"$f":"IF(Master!AF35=\"\",\"B\",Master!AF35)","v":"B"},{"$f":"IF(Master!AQ35=\"\",\"B\",Master!AQ35)","v":"B"},{"$f":"IF(Master!BB35=\"\",\"B\",Master!BB35)","v":"B"},{"$f":"IF(Master!BM35=\"\",\"B\",Master!BM35)","v":"B"}]
[{"$f":"Master!A36","v":"SS"},{"$f":"Master!B36","v":"Microsoft Excel 2016 Essentials: Formulas and Functions"},{"$f":"Master!C36","v":"mo_beel_a04_dt_enus"},{"$f":"Master!D36","v":"OLT"},{"$f":"Master!E36","v":"Active"},{"$f":"Master!F36","v":0},{"$f":"Master!H36","v":0},{"$f":"IF(Master!J36=\"\",\"B\",Master!J36)","v":"R"},{"$f":"IF(Master!U36=\"\",\"B\",Master!U36)","v":"R"},{"$f":"IF(Master!AF36=\"\",\"B\",Master!AF36)","v":"B"},{"$f":"IF(Master!AQ36=\"\",\"B\",Master!AQ36)","v":"B"},{"$f":"IF(Master!BB36=\"\",\"B\",Master!BB36)","v":"B"},{"$f":"IF(Master!BM36=\"\",\"B\",Master!BM36)","v":"B"}]
[{"$f":"Master!A37","v":"SS"},{"$f":"Master!B37","v":"Microsoft Excel 2016 Essentials: Formatting Data"},{"$f":"Master!C37","v":"mo_beel_a02_dt_enus"},{"$f":"Master!D37","v":"OLT"},{"$f":"Master!E37","v":"Active"},{"$f":"Master!F37","v":0},{"$f":"Master!H37","v":0},{"$f":"IF(Master!J37=\"\",\"B\",Master!J37)","v":"R"},{"$f":"IF(Master!U37=\"\",\"B\",Master!U37)","v":"R"},{"$f":"IF(Master!AF37=\"\",\"B\",Master!AF37)","v":"B"},{"$f":"IF(Master!AQ37=\"\",\"B\",Master!AQ37)","v":"B"},{"$f":"IF(Master!BB37=\"\",\"B\",Master!BB37)","v":"B"},{"$f":"IF(Master!BM37=\"\",\"B\",Master!BM37)","v":"B"}]
[{"$f":"Master!A38","v":"SS"},{"$f":"Master!B38","v":"Microsoft Excel 2016 Essentials: Data Presentation Strategies"},{"$f":"Master!C38","v":"mo_beel_a03_dt_enus"},{"$f":"Master!D38","v":"OLT"},{"$f":"Master!E38","v":"Active"},{"$f":"Master!F38","v":0},{"$f":"Master!H38","v":0},{"$f":"IF(Master!J38=\"\",\"B\",Master!J38)","v":"R"},{"$f":"IF(Master!U38=\"\",\"B\",Master!U38)","v":"R"},{"$f":"IF(Master!AF38=\"\",\"B\",Master!AF38)","v":"B"},{"$f":"IF(Master!AQ38=\"\",\"B\",Master!AQ38)","v":"B"},{"$f":"IF(Master!BB38=\"\",\"B\",Master!BB38)","v":"B"},{"$f":"IF(Master!BM38=\"\",\"B\",Master!BM38)","v":"B"}]
[{"$f":"Master!A39","v":"SS"},{"$f":"Master!B39","v":"Microsoft Excel 2016 Essentials: Charts, Tables, and Images"},{"$f":"Master!C39","v":"mo_beel_a05_dt_enus"},{"$f":"Master!D39","v":"OLT"},{"$f":"Master!E39","v":"Active"},{"$f":"Master!F39","v":0},{"$f":"Master!H39","v":0},{"$f":"IF(Master!J39=\"\",\"B\",Master!J39)","v":"R"},{"$f":"IF(Master!U39=\"\",\"B\",Master!U39)","v":"R"},{"$f":"IF(Master!AF39=\"\",\"B\",Master!AF39)","v":"B"},{"$f":"IF(Master!AQ39=\"\",\"B\",Master!AQ39)","v":"B"},{"$f":"IF(Master!BB39=\"\",\"B\",Master!BB39)","v":"B"},{"$f":"IF(Master!BM39=\"\",\"B\",Master!BM39)","v":"B"}]
[{"$f":"Master!A40","v":"SS"},{"$f":"Master!B40","v":"Microsoft Office 2016 Intermediate Excel: Working with Data "},{"$f":"Master!C40","v":"mo_inel_a03_dt_enus"},{"$f":"Master!D40","v":"OLT"},{"$f":"Master!E40","v":"Active"},{"$f":"Master!F40","v":0},{"$f":"Master!H40","v":0},{"$f":"IF(Master!J40=\"\",\"B\",Master!J40)","v":2},{"$f":"IF(Master!U40=\"\",\"B\",Master!U40)","v":2},{"$f":"IF(Master!AF40=\"\",\"B\",Master!AF40)","v":2},{"$f":"IF(Master!AQ40=\"\",\"B\",Master!AQ40)","v":"B"},{"$f":"IF(Master!BB40=\"\",\"B\",Master!BB40)","v":"B"},{"$f":"IF(Master!BM40=\"\",\"B\",Master!BM40)","v":"B"}]
[{"$f":"Master!A41","v":"SS"},{"$f":"Master!B41","v":"Microsoft Office 2016 Intermediate Excel: Share, Review, and Collaborate "},{"$f":"Master!C41","v":"mo_inel_a06_dt_enus"},{"$f":"Master!D41","v":"OLT"},{"$f":"Master!E41","v":"Active"},{"$f":"Master!F41","v":0},{"$f":"Master!H41","v":0},{"$f":"IF(Master!J41=\"\",\"B\",Master!J41)","v":2},{"$f":"IF(Master!U41=\"\",\"B\",Master!U41)","v":2},{"$f":"IF(Master!AF41=\"\",\"B\",Master!AF41)","v":2},{"$f":"IF(Master!AQ41=\"\",\"B\",Master!AQ41)","v":"B"},{"$f":"IF(Master!BB41=\"\",\"B\",Master!BB41)","v":"B"},{"$f":"IF(Master!BM41=\"\",\"B\",Master!BM41)","v":"B"}]
[{"$f":"Master!A42","v":"SS"},{"$f":"Master!B42","v":"Microsoft Office 2016 Intermediate Excel: Creating Custom Visual Effects "},{"$f":"Master!C42","v":"mo_inel_a02_dt_enus"},{"$f":"Master!D42","v":"OLT"},{"$f":"Master!E42","v":"Active"},{"$f":"Master!F42","v":0},{"$f":"Master!H42","v":0},{"$f":"IF(Master!J42=\"\",\"B\",Master!J42)","v":2},{"$f":"IF(Master!U42=\"\",\"B\",Master!U42)","v":2},{"$f":"IF(Master!AF42=\"\",\"B\",Master!AF42)","v":2},{"$f":"IF(Master!AQ42=\"\",\"B\",Master!AQ42)","v":"B"},{"$f":"IF(Master!BB42=\"\",\"B\",Master!BB42)","v":"B"},{"$f":"IF(Master!BM42=\"\",\"B\",Master!BM42)","v":"B"}]
[{"$f":"Master!A43","v":"SS"},{"$f":"Master!B43","v":"Working with the Interface and Performing Basic Tasks in Word 2016 "},{"$f":"Master!C43","v":"mo_bewo_a01_dt_enus"},{"$f":"Master!D43","v":"OLT"},{"$f":"Master!E43","v":"Active"},{"$f":"Master!F43","v":0},{"$f":"Master!H43","v":0},{"$f":"IF(Master!J43=\"\",\"B\",Master!J43)","v":"R"},{"$f":"IF(Master!U43=\"\",\"B\",Master!U43)","v":"R"},{"$f":"IF(Master!AF43=\"\",\"B\",Master!AF43)","v":"B"},{"$f":"IF(Master!AQ43=\"\",\"B\",Master!AQ43)","v":"B"},{"$f":"IF(Master!BB43=\"\",\"B\",Master!BB43)","v":"B"},{"$f":"IF(Master!BM43=\"\",\"B\",Master!BM43)","v":"B"}]
[{"$f":"Master!A44","v":"SS"},{"$f":"Master!B44","v":"Formatting Text in Word 2016 "},{"$f":"Master!C44","v":"mo_bewo_a02_dt_enus"},{"$f":"Master!D44","v":"OLT"},{"$f":"Master!E44","v":"Active"},{"$f":"Master!F44","v":0},{"$f":"Master!H44","v":0},{"$f":"IF(Master!J44=\"\",\"B\",Master!J44)","v":"R"},{"$f":"IF(Master!U44=\"\",\"B\",Master!U44)","v":"R"},{"$f":"IF(Master!AF44=\"\",\"B\",Master!AF44)","v":"B"},{"$f":"IF(Master!AQ44=\"\",\"B\",Master!AQ44)","v":"B"},{"$f":"IF(Master!BB44=\"\",\"B\",Master!BB44)","v":"B"},{"$f":"IF(Master!BM44=\"\",\"B\",Master!BM44)","v":"B"}]
[{"$f":"Master!A45","v":"SS"},{"$f":"Master!B45","v":"Headers, Footers, Page Numbering, and Layout in Word 2016 "},{"$f":"Master!C45","v":"mo_bewo_a05_dt_enus"},{"$f":"Master!D45","v":"OLT"},{"$f":"Master!E45","v":"Active"},{"$f":"Master!F45","v":0},{"$f":"Master!H45","v":0},{"$f":"IF(Master!J45=\"\",\"B\",Master!J45)","v":"R"},{"$f":"IF(Master!U45=\"\",\"B\",Master!U45)","v":"R"},{"$f":"IF(Master!AF45=\"\",\"B\",Master!AF45)","v":"B"},{"$f":"IF(Master!AQ45=\"\",\"B\",Master!AQ45)","v":"B"},{"$f":"IF(Master!BB45=\"\",\"B\",Master!BB45)","v":"B"},{"$f":"IF(Master!BM45=\"\",\"B\",Master!BM45)","v":"B"}]
[{"$f":"Master!A46","v":"SS"},{"$f":"Master!B46","v":"Using the Navigation Pane and Creating Lists in Word 2016 "},{"$f":"Master!C46","v":"mo_bewo_a06_dt_enus"},{"$f":"Master!D46","v":"OLT"},{"$f":"Master!E46","v":"Active"},{"$f":"Master!F46","v":0},{"$f":"Master!H46","v":0},{"$f":"IF(Master!J46=\"\",\"B\",Master!J46)","v":"R"},{"$f":"IF(Master!U46=\"\",\"B\",Master!U46)","v":"R"},{"$f":"IF(Master!AF46=\"\",\"B\",Master!AF46)","v":"B"},{"$f":"IF(Master!AQ46=\"\",\"B\",Master!AQ46)","v":"B"},{"$f":"IF(Master!BB46=\"\",\"B\",Master!BB46)","v":"B"},{"$f":"IF(Master!BM46=\"\",\"B\",Master!BM46)","v":"B"}]
[{"$f":"Master!A47","v":"SS"},{"$f":"Master!B47","v":"Customizing Options and Using Document Views in Word 2016 "},{"$f":"Master!C47","v":"mo_bewo_a03_dt_enus"},{"$f":"Master!D47","v":"OLT"},{"$f":"Master!E47","v":"Active"},{"$f":"Master!F47","v":0},{"$f":"Master!H47","v":0},{"$f":"IF(Master!J47=\"\",\"B\",Master!J47)","v":2},{"$f":"IF(Master!U47=\"\",\"B\",Master!U47)","v":2},{"$f":"IF(Master!AF47=\"\",\"B\",Master!AF47)","v":2},{"$f":"IF(Master!AQ47=\"\",\"B\",Master!AQ47)","v":"B"},{"$f":"IF(Master!BB47=\"\",\"B\",Master!BB47)","v":"B"},{"$f":"IF(Master!BM47=\"\",\"B\",Master!BM47)","v":"B"}]
[{"$f":"Master!A48","v":"SS"},{"$f":"Master!B48","v":"Creating and Formatting Tables in Word 2016 "},{"$f":"Master!C48","v":"mo_bewo_a04_dt_enus"},{"$f":"Master!D48","v":"OLT"},{"$f":"Master!E48","v":"Active"},{"$f":"Master!F48","v":0},{"$f":"Master!H48","v":0},{"$f":"IF(Master!J48=\"\",\"B\",Master!J48)","v":2},{"$f":"IF(Master!U48=\"\",\"B\",Master!U48)","v":2},{"$f":"IF(Master!AF48=\"\",\"B\",Master!AF48)","v":2},{"$f":"IF(Master!AQ48=\"\",\"B\",Master!AQ48)","v":"B"},{"$f":"IF(Master!BB48=\"\",\"B\",Master!BB48)","v":"B"},{"$f":"IF(Master!BM48=\"\",\"B\",Master!BM48)","v":"B"}]
[{"$f":"Master!A49","v":"Human Resource"},null,null,null,null,null,null,{"$f":"IF(Master!J49=\"\",\"B\",Master!J49)","v":"B"},{"$f":"IF(Master!U49=\"\",\"B\",Master!U49)","v":"B"},{"$f":"IF(Master!AF49=\"\",\"B\",Master!AF49)","v":"B"},{"$f":"IF(Master!AQ49=\"\",\"B\",Master!AQ49)","v":"B"},{"$f":"IF(Master!BB49=\"\",\"B\",Master!BB49)","v":"B"},{"$f":"IF(Master!BM49=\"\",\"B\",Master!BM49)","v":"B"}]
[{"$f":"Master!A50","v":"Conflict Management - The following two courses are available"},null,null,null,null,null,null,{"$f":"IF(Master!J50=\"\",\"B\",Master!J50)","v":"B"},{"$f":"IF(Master!U50=\"\",\"B\",Master!U50)","v":"B"},{"$f":"IF(Master!AF50=\"\",\"B\",Master!AF50)","v":"B"},{"$f":"IF(Master!AQ50=\"\",\"B\",Master!AQ50)","v":"B"},{"$f":"IF(Master!BB50=\"\",\"B\",Master!BB50)","v":"B"},{"$f":"IF(Master!BM50=\"\",\"B\",Master!BM50)","v":"B"}]
[{"$f":"Master!A51","v":"SS"},{"$f":"Master!B51","v":"Preparing for a Difficult Conversation"},{"$f":"Master!C51","v":"mgmt_36_a01_bs_enus"},{"$f":"Master!D51","v":"OLT"},{"$f":"Master!E51","v":"Active"},{"$f":"Master!F51","v":0},{"$f":"Master!H51","v":"Take this course first."},{"$f":"IF(Master!J51=\"\",\"B\",Master!J51)","v":2},{"$f":"IF(Master!U51=\"\",\"B\",Master!U51)","v":2},{"$f":"IF(Master!AF51=\"\",\"B\",Master!AF51)","v":2},{"$f":"IF(Master!AQ51=\"\",\"B\",Master!AQ51)","v":1},{"$f":"IF(Master!BB51=\"\",\"B\",Master!BB51)","v":1},{"$f":"IF(Master!BM51=\"\",\"B\",Master!BM51)","v":1}]
[{"$f":"Master!A52","v":"ES"},{"$f":"Master!B52","v":"Managing Emotions in the Workplace"},{"$f":"Master!C52","v":"Enterprise Services Course\n1/2 Day - $100"},{"$f":"Master!D52","v":"ILT"},{"$f":"Master!E52","v":"Active"},{"$f":"Master!F52","v":0},{"$f":"Master!H52","v":"To register for this course, \ncall the LMS Helpdesk at \n360-705-7060."},{"$f":"IF(Master!J52=\"\",\"B\",Master!J52)","v":2},{"$f":"IF(Master!U52=\"\",\"B\",Master!U52)","v":2},{"$f":"IF(Master!AF52=\"\",\"B\",Master!AF52)","v":2},{"$f":"IF(Master!AQ52=\"\",\"B\",Master!AQ52)","v":1},{"$f":"IF(Master!BB52=\"\",\"B\",Master!BB52)","v":1},{"$f":"IF(Master!BM52=\"\",\"B\",Master!BM52)","v":1}]
[{"$f":"Master!A53","v":"Interpersonal Communications - The following two courses are available"},null,null,null,null,null,null,{"$f":"IF(Master!J53=\"\",\"B\",Master!J53)","v":"B"},{"$f":"IF(Master!U53=\"\",\"B\",Master!U53)","v":"B"},{"$f":"IF(Master!AF53=\"\",\"B\",Master!AF53)","v":"B"},{"$f":"IF(Master!AQ53=\"\",\"B\",Master!AQ53)","v":"B"},{"$f":"IF(Master!BB53=\"\",\"B\",Master!BB53)","v":"B"},{"$f":"IF(Master!BM53=\"\",\"B\",Master!BM53)","v":"B"}]
[{"$f":"Master!A54","v":"SS"},{"$f":"Master!B54","v":"Difficult People: Strategies to Keep Everyone Working Together"},{"$f":"Master!C54","v":"comm_46_a03_bs_enus"},{"$f":"Master!D54","v":"OLT"},{"$f":"Master!E54","v":"Active"},{"$f":"Master!F54","v":0},{"$f":"Master!H54","v":"Take this course first."},{"$f":"IF(Master!J54=\"\",\"B\",Master!J54)","v":1},{"$f":"IF(Master!U54=\"\",\"B\",Master!U54)","v":1},{"$f":"IF(Master!AF54=\"\",\"B\",Master!AF54)","v":1},{"$f":"IF(Master!AQ54=\"\",\"B\",Master!AQ54)","v":1},{"$f":"IF(Master!BB54=\"\",\"B\",Master!BB54)","v":1},{"$f":"IF(Master!BM54=\"\",\"B\",Master!BM54)","v":1}]
[{"$f":"Master!A55","v":"ES"},{"$f":"Master!B55","v":"Interpersonal Communication Skills"},{"$f":"Master!C55","v":"Enterprise Services Course\nTwo Days - $195"},{"$f":"Master!D55","v":"ILT"},{"$f":"Master!E55","v":"Active"},{"$f":"Master!F55","v":0},{"$f":"Master!H55","v":"To register for this course, \ncall the LMS Helpdesk at \n360-705-7060."},{"$f":"IF(Master!J55=\"\",\"B\",Master!J55)","v":1},{"$f":"IF(Master!U55=\"\",\"B\",Master!U55)","v":1},{"$f":"IF(Master!AF55=\"\",\"B\",Master!AF55)","v":1},{"$f":"IF(Master!AQ55=\"\",\"B\",Master!AQ55)","v":1},{"$f":"IF(Master!BB55=\"\",\"B\",Master!BB55)","v":1},{"$f":"IF(Master!BM55=\"\",\"B\",Master!BM55)","v":1}]
[{"$f":"Master!A56","v":"Interpersonal Communications - The following two courses are available"},null,null,null,null,null,null,{"$f":"IF(Master!J56=\"\",\"B\",Master!J56)","v":"B"},{"$f":"IF(Master!U56=\"\",\"B\",Master!U56)","v":"B"},{"$f":"IF(Master!AF56=\"\",\"B\",Master!AF56)","v":"B"},{"$f":"IF(Master!AQ56=\"\",\"B\",Master!AQ56)","v":"B"},{"$f":"IF(Master!BB56=\"\",\"B\",Master!BB56)","v":"B"},{"$f":"IF(Master!BM56=\"\",\"B\",Master!BM56)","v":"B"}]
[{"$f":"Master!A57","v":"SS"},{"$f":"Master!B57","v":"Active Listening Skills for Professionals"},{"$f":"Master!C57","v":"comm_43_a03_bs_enus"},{"$f":"Master!D57","v":"OLT"},{"$f":"Master!E57","v":"Active"},{"$f":"Master!F57","v":0},{"$f":"Master!H57","v":"Take this course first."},{"$f":"IF(Master!J57=\"\",\"B\",Master!J57)","v":1},{"$f":"IF(Master!U57=\"\",\"B\",Master!U57)","v":1},{"$f":"IF(Master!AF57=\"\",\"B\",Master!AF57)","v":1},{"$f":"IF(Master!AQ57=\"\",\"B\",Master!AQ57)","v":1},{"$f":"IF(Master!BB57=\"\",\"B\",Master!BB57)","v":1},{"$f":"IF(Master!BM57=\"\",\"B\",Master!BM57)","v":1}]
[{"$f":"Master!A58","v":"ES"},{"$f":"Master!B58","v":"Crucial Conversations"},{"$f":"Master!C58","v":"Enterprise Services Course\nTwo Days - $450"},{"$f":"Master!D58","v":"ILT"},{"$f":"Master!E58","v":"Active"},{"$f":"Master!F58","v":0},{"$f":"Master!H58","v":"To register for this course, \ncall the LMS Helpdesk at \n360-705-7060."},{"$f":"IF(Master!J58=\"\",\"B\",Master!J58)","v":1},{"$f":"IF(Master!U58=\"\",\"B\",Master!U58)","v":1},{"$f":"IF(Master!AF58=\"\",\"B\",Master!AF58)","v":1},{"$f":"IF(Master!AQ58=\"\",\"B\",Master!AQ58)","v":1},{"$f":"IF(Master!BB58=\"\",\"B\",Master!BB58)","v":1},{"$f":"IF(Master!BM58=\"\",\"B\",Master!BM58)","v":1}]
[{"$f":"Master!A59","v":"Oral Presentation Techniques"},null,null,null,null,null,null,{"$f":"IF(Master!J59=\"\",\"B\",Master!J59)","v":"B"},{"$f":"IF(Master!U59=\"\",\"B\",Master!U59)","v":"B"},{"$f":"IF(Master!AF59=\"\",\"B\",Master!AF59)","v":"B"},{"$f":"IF(Master!AQ59=\"\",\"B\",Master!AQ59)","v":"B"},{"$f":"IF(Master!BB59=\"\",\"B\",Master!BB59)","v":"B"},{"$f":"IF(Master!BM59=\"\",\"B\",Master!BM59)","v":"B"}]
[{"$f":"Master!A60","v":"ES"},{"$f":"Master!B60","v":"Presentation & Training Design & Delivery "},{"$f":"Master!C60","v":"Enterprise Services Course \nTwo Days - $205"},{"$f":"Master!D60","v":"ILT"},{"$f":"Master!E60","v":"Active"},{"$f":"Master!F60","v":0},{"$f":"Master!H60","v":"To register for this course, \ncall the LMS Helpdesk at \n360-705-7060."},{"$f":"IF(Master!J60=\"\",\"B\",Master!J60)","v":"B"},{"$f":"IF(Master!U60=\"\",\"B\",Master!U60)","v":"B"},{"$f":"IF(Master!AF60=\"\",\"B\",Master!AF60)","v":"B"},{"$f":"IF(Master!AQ60=\"\",\"B\",Master!AQ60)","v":"B"},{"$f":"IF(Master!BB60=\"\",\"B\",Master!BB60)","v":2},{"$f":"IF(Master!BM60=\"\",\"B\",Master!BM60)","v":1}]
[{"$f":"Master!A61","v":"Stress Management -  The following two courses are available"},null,null,null,null,null,null,{"$f":"IF(Master!J61=\"\",\"B\",Master!J61)","v":"B"},{"$f":"IF(Master!U61=\"\",\"B\",Master!U61)","v":"B"},{"$f":"IF(Master!AF61=\"\",\"B\",Master!AF61)","v":"B"},{"$f":"IF(Master!AQ61=\"\",\"B\",Master!AQ61)","v":"B"},{"$f":"IF(Master!BB61=\"\",\"B\",Master!BB61)","v":"B"},{"$f":"IF(Master!BM61=\"\",\"B\",Master!BM61)","v":"B"}]
[{"$f":"Master!A62","v":"SS"},{"$f":"Master!B62","v":"Conflict, Stress, and Time Management"},{"$f":"Master!C62","v":"cust_07_a03_bs_enus"},{"$f":"Master!D62","v":"OLT"},{"$f":"Master!E62","v":"Active"},{"$f":"Master!F62","v":0},{"$f":"Master!H62","v":"Take this course first."},{"$f":"IF(Master!J62=\"\",\"B\",Master!J62)","v":1},{"$f":"IF(Master!U62=\"\",\"B\",Master!U62)","v":1},{"$f":"IF(Master!AF62=\"\",\"B\",Master!AF62)","v":1},{"$f":"IF(Master!AQ62=\"\",\"B\",Master!AQ62)","v":1},{"$f":"IF(Master!BB62=\"\",\"B\",Master!BB62)","v":1},{"$f":"IF(Master!BM62=\"\",\"B\",Master!BM62)","v":1}]
[{"$f":"Master!A63","v":"ES"},{"$f":"Master!B63","v":"Managing Job Stress"},{"$f":"Master!C63","v":"Enterprise Services Course\nOne Day - $135"},{"$f":"Master!D63","v":"ILT"},{"$f":"Master!E63","v":"Active"},{"$f":"Master!F63","v":0},{"$f":"Master!H63","v":"To register for this course, \ncall the LMS Helpdesk at \n360-705-7060."},{"$f":"IF(Master!J63=\"\",\"B\",Master!J63)","v":1},{"$f":"IF(Master!U63=\"\",\"B\",Master!U63)","v":1},{"$f":"IF(Master!AF63=\"\",\"B\",Master!AF63)","v":1},{"$f":"IF(Master!AQ63=\"\",\"B\",Master!AQ63)","v":1},{"$f":"IF(Master!BB63=\"\",\"B\",Master!BB63)","v":1},{"$f":"IF(Master!BM63=\"\",\"B\",Master!BM63)","v":1}]
[{"$f":"Master!A64","v":"Time Management -  The following six courses are available"},null,null,null,null,null,null,{"$f":"IF(Master!J64=\"\",\"B\",Master!J64)","v":"B"},{"$f":"IF(Master!U64=\"\",\"B\",Master!U64)","v":"B"},{"$f":"IF(Master!AF64=\"\",\"B\",Master!AF64)","v":"B"},{"$f":"IF(Master!AQ64=\"\",\"B\",Master!AQ64)","v":"B"},{"$f":"IF(Master!BB64=\"\",\"B\",Master!BB64)","v":"B"},{"$f":"IF(Master!BM64=\"\",\"B\",Master!BM64)","v":"B"}]
[{"$f":"Master!A65","v":"SS"},{"$f":"Master!B65","v":"Getting Time under Control"},{"$f":"Master!C65","v":"_pc_ch_pach021"},{"$f":"Master!D65","v":"OLT"},{"$f":"Master!E65","v":"Active"},{"$f":"Master!F65","v":0},{"$f":"Master!H65","v":"Take this course before the Enterprise Services course"},{"$f":"IF(Master!J65=\"\",\"B\",Master!J65)","v":1},{"$f":"IF(Master!U65=\"\",\"B\",Master!U65)","v":1},{"$f":"IF(Master!AF65=\"\",\"B\",Master!AF65)","v":1},{"$f":"IF(Master!AQ65=\"\",\"B\",Master!AQ65)","v":1},{"$f":"IF(Master!BB65=\"\",\"B\",Master!BB65)","v":1},{"$f":"IF(Master!BM65=\"\",\"B\",Master!BM65)","v":1}]
[{"$f":"Master!A66","v":"SS"},{"$f":"Master!B66","v":"Make the Time You Need: Get Organized"},{"$f":"Master!C66","v":"apd_08_a02_bs_enus"},{"$f":"Master!D66","v":"OLT"},{"$f":"Master!E66","v":"Active"},{"$f":"Master!F66","v":0},{"$f":"Master!H66","v":"Take this course before the Enterprise Services course"},{"$f":"IF(Master!J66=\"\",\"B\",Master!J66)","v":1},{"$f":"IF(Master!U66=\"\",\"B\",Master!U66)","v":1},{"$f":"IF(Master!AF66=\"\",\"B\",Master!AF66)","v":1},{"$f":"IF(Master!AQ66=\"\",\"B\",Master!AQ66)","v":1},{"$f":"IF(Master!BB66=\"\",\"B\",Master!BB66)","v":1},{"$f":"IF(Master!BM66=\"\",\"B\",Master!BM66)","v":1}]
[{"$f":"Master!A67","v":"SS"},{"$f":"Master!B67","v":"Time Management: Too Much to Do and Too Little Time"},{"$f":"Master!C67","v":"pd_20_a01_bs_enus"},{"$f":"Master!D67","v":"OLT"},{"$f":"Master!E67","v":"Active"},{"$f":"Master!F67","v":0},{"$f":"Master!H67","v":"Take this course before the Enterprise Services course"},{"$f":"IF(Master!J67=\"\",\"B\",Master!J67)","v":1},{"$f":"IF(Master!U67=\"\",\"B\",Master!U67)","v":1},{"$f":"IF(Master!AF67=\"\",\"B\",Master!AF67)","v":1},{"$f":"IF(Master!AQ67=\"\",\"B\",Master!AQ67)","v":1},{"$f":"IF(Master!BB67=\"\",\"B\",Master!BB67)","v":1},{"$f":"IF(Master!BM67=\"\",\"B\",Master!BM67)","v":1}]
[{"$f":"Master!A68","v":"SS"},{"$f":"Master!B68","v":"Time Management: Quit Making Excuses and Make Time Instead"},{"$f":"Master!C68","v":"pd_20_a02_bs_enus"},{"$f":"Master!D68","v":"OLT"},{"$f":"Master!E68","v":"Active"},{"$f":"Master!F68","v":0},{"$f":"Master!H68","v":"Take this course before the Enterprise Services course"},{"$f":"IF(Master!J68=\"\",\"B\",Master!J68)","v":1},{"$f":"IF(Master!U68=\"\",\"B\",Master!U68)","v":1},{"$f":"IF(Master!AF68=\"\",\"B\",Master!AF68)","v":1},{"$f":"IF(Master!AQ68=\"\",\"B\",Master!AQ68)","v":1},{"$f":"IF(Master!BB68=\"\",\"B\",Master!BB68)","v":1},{"$f":"IF(Master!BM68=\"\",\"B\",Master!BM68)","v":1}]
[{"$f":"Master!A69","v":"SS"},{"$f":"Master!B69","v":"Time Management: Ready, Set…Focus!"},{"$f":"Master!C69","v":"pd_20_a03_bs_enus"},{"$f":"Master!D69","v":"OLT"},{"$f":"Master!E69","v":"Active"},{"$f":"Master!F69","v":0},{"$f":"Master!H69","v":"Take this course before the Enterprise Services course"},{"$f":"IF(Master!J69=\"\",\"B\",Master!J69)","v":1},{"$f":"IF(Master!U69=\"\",\"B\",Master!U69)","v":1},{"$f":"IF(Master!AF69=\"\",\"B\",Master!AF69)","v":1},{"$f":"IF(Master!AQ69=\"\",\"B\",Master!AQ69)","v":1},{"$f":"IF(Master!BB69=\"\",\"B\",Master!BB69)","v":1},{"$f":"IF(Master!BM69=\"\",\"B\",Master!BM69)","v":1}]
[{"$f":"Master!A70","v":"ES"},{"$f":"Master!B70","v":"Time Management"},{"$f":"Master!C70","v":"Enterprise Services Course\nOne Day - $135"},{"$f":"Master!D70","v":"ILT"},{"$f":"Master!E70","v":"Active"},{"$f":"Master!F70","v":0},{"$f":"Master!H70","v":"To register for this course, \ncall the LMS Helpdesk at \n360-705-7060."},{"$f":"IF(Master!J70=\"\",\"B\",Master!J70)","v":1},{"$f":"IF(Master!U70=\"\",\"B\",Master!U70)","v":1},{"$f":"IF(Master!AF70=\"\",\"B\",Master!AF70)","v":1},{"$f":"IF(Master!AQ70=\"\",\"B\",Master!AQ70)","v":1},{"$f":"IF(Master!BB70=\"\",\"B\",Master!BB70)","v":1},{"$f":"IF(Master!BM70=\"\",\"B\",Master!BM70)","v":1}]
[{"$f":"Master!A71","v":"Technical Writing -  The following five courses are available"},null,null,null,null,null,null,{"$f":"IF(Master!J71=\"\",\"B\",Master!J71)","v":"B"},{"$f":"IF(Master!U71=\"\",\"B\",Master!U71)","v":"B"},{"$f":"IF(Master!AF71=\"\",\"B\",Master!AF71)","v":"B"},{"$f":"IF(Master!AQ71=\"\",\"B\",Master!AQ71)","v":"B"},{"$f":"IF(Master!BB71=\"\",\"B\",Master!BB71)","v":"B"},{"$f":"IF(Master!BM71=\"\",\"B\",Master!BM71)","v":"B"}]
[{"$f":"Master!A72","v":"SS"},{"$f":"Master!B72","v":"Improving Your Technical Writing Skills"},{"$f":"Master!C72","v":"acm_06_a01_it_enus"},{"$f":"Master!D72","v":"OLT"},{"$f":"Master!E72","v":"Active"},{"$f":"Master!F72","v":0},{"$f":"Master!H72","v":0},{"$f":"IF(Master!J72=\"\",\"B\",Master!J72)","v":"B"},{"$f":"IF(Master!U72=\"\",\"B\",Master!U72)","v":"B"},{"$f":"IF(Master!AF72=\"\",\"B\",Master!AF72)","v":"B"},{"$f":"IF(Master!AQ72=\"\",\"B\",Master!AQ72)","v":"B"},{"$f":"IF(Master!BB72=\"\",\"B\",Master!BB72)","v":"B"},{"$f":"IF(Master!BM72=\"\",\"B\",Master!BM72)","v":"B"}]
[{"$f":"Master!A73","v":"SS"},{"$f":"Master!B73","v":"Writing for Technical Professionals: Effective Writing Techniques"},{"$f":"Master!C73","v":"ib_wstp_a02_it_enus"},{"$f":"Master!D73","v":"OLT"},{"$f":"Master!E73","v":"Active"},{"$f":"Master!F73","v":0},{"$f":"Master!H73","v":0},{"$f":"IF(Master!J73=\"\",\"B\",Master!J73)","v":"B"},{"$f":"IF(Master!U73=\"\",\"B\",Master!U73)","v":"B"},{"$f":"IF(Master!AF73=\"\",\"B\",Master!AF73)","v":"B"},{"$f":"IF(Master!AQ73=\"\",\"B\",Master!AQ73)","v":"B"},{"$f":"IF(Master!BB73=\"\",\"B\",Master!BB73)","v":"B"},{"$f":"IF(Master!BM73=\"\",\"B\",Master!BM73)","v":"B"}]
[{"$f":"Master!A74","v":"SS"},{"$f":"Master!B74","v":"Writing for Technical Professionals: Preparation and Planning"},{"$f":"Master!C74","v":"ib_wstp_a01_it_enus"},{"$f":"Master!D74","v":"OLT"},{"$f":"Master!E74","v":"Active"},{"$f":"Master!F74","v":0},{"$f":"Master!H74","v":0},{"$f":"IF(Master!J74=\"\",\"B\",Master!J74)","v":"B"},{"$f":"IF(Master!U74=\"\",\"B\",Master!U74)","v":"B"},{"$f":"IF(Master!AF74=\"\",\"B\",Master!AF74)","v":"B"},{"$f":"IF(Master!AQ74=\"\",\"B\",Master!AQ74)","v":"B"},{"$f":"IF(Master!BB74=\"\",\"B\",Master!BB74)","v":"B"},{"$f":"IF(Master!BM74=\"\",\"B\",Master!BM74)","v":"B"}]
[{"$f":"Master!A75","v":"ES"},{"$f":"Master!B75","v":"Technical Writing: Tricks of the Trade"},{"$f":"Master!C75","v":"Enterprise Services Course\nTwo Day Course - $185"},{"$f":"Master!D75","v":"ILT"},{"$f":"Master!E75","v":"Active"},{"$f":"Master!F75","v":0},{"$f":"Master!H75","v":"To register for this course, call the LMS Helpdesk at \n360-705-7060."},{"$f":"IF(Master!J75=\"\",\"B\",Master!J75)","v":"B"},{"$f":"IF(Master!U75=\"\",\"B\",Master!U75)","v":"B"},{"$f":"IF(Master!AF75=\"\",\"B\",Master!AF75)","v":"B"},{"$f":"IF(Master!AQ75=\"\",\"B\",Master!AQ75)","v":"B"},{"$f":"IF(Master!BB75=\"\",\"B\",Master!BB75)","v":"B"},{"$f":"IF(Master!BM75=\"\",\"B\",Master!BM75)","v":"B"}]
[{"$f":"Master!A76","v":"ES"},{"$f":"Master!B76","v":"Writing Skills"},{"$f":"Master!C76","v":"Enterprise Services Course\nOne Day - $145"},{"$f":"Master!D76","v":"ILT"},{"$f":"Master!E76","v":"Active"},{"$f":"Master!F76","v":0},{"$f":"Master!H76","v":"To register for this course, \ncall the LMS Helpdesk at \n360-705-7060."},{"$f":"IF(Master!J76=\"\",\"B\",Master!J76)","v":"B"},{"$f":"IF(Master!U76=\"\",\"B\",Master!U76)","v":"B"},{"$f":"IF(Master!AF76=\"\",\"B\",Master!AF76)","v":"B"},{"$f":"IF(Master!AQ76=\"\",\"B\",Master!AQ76)","v":"B"},{"$f":"IF(Master!BB76=\"\",\"B\",Master!BB76)","v":"B"},{"$f":"IF(Master!BM76=\"\",\"B\",Master!BM76)","v":"B"}]
[{"$f":"Master!A77","v":"Effective Meeting Management -  The following six courses are available"},null,null,null,null,null,null,{"$f":"IF(Master!J77=\"\",\"B\",Master!J77)","v":"B"},{"$f":"IF(Master!U77=\"\",\"B\",Master!U77)","v":"B"},{"$f":"IF(Master!AF77=\"\",\"B\",Master!AF77)","v":"B"},{"$f":"IF(Master!AQ77=\"\",\"B\",Master!AQ77)","v":"B"},{"$f":"IF(Master!BB77=\"\",\"B\",Master!BB77)","v":"B"},{"$f":"IF(Master!BM77=\"\",\"B\",Master!BM77)","v":"B"}]
[{"$f":"Master!A78","v":"SS"},{"$f":"Master!B78","v":"Dealing with Common Meeting Problems"},{"$f":"Master!C78","v":"comm_32_a03_bs_enus"},{"$f":"Master!D78","v":"OLT"},{"$f":"Master!E78","v":"Active"},{"$f":"Master!F78","v":0},{"$f":"Master!H78","v":0},{"$f":"IF(Master!J78=\"\",\"B\",Master!J78)","v":"B"},{"$f":"IF(Master!U78=\"\",\"B\",Master!U78)","v":"B"},{"$f":"IF(Master!AF78=\"\",\"B\",Master!AF78)","v":"B"},{"$f":"IF(Master!AQ78=\"\",\"B\",Master!AQ78)","v":"B"},{"$f":"IF(Master!BB78=\"\",\"B\",Master!BB78)","v":"B"},{"$f":"IF(Master!BM78=\"\",\"B\",Master!BM78)","v":"B"}]
[{"$f":"Master!A79","v":"SS"},{"$f":"Master!B79","v":"Preparing for Effective Business Meetings"},{"$f":"Master!C79","v":"comm_32_a01_bs_enus"},{"$f":"Master!D79","v":"OLT"},{"$f":"Master!E79","v":"Active"},{"$f":"Master!F79","v":0},{"$f":"Master!H79","v":0},{"$f":"IF(Master!J79=\"\",\"B\",Master!J79)","v":"B"},{"$f":"IF(Master!U79=\"\",\"B\",Master!U79)","v":"B"},{"$f":"IF(Master!AF79=\"\",\"B\",Master!AF79)","v":"B"},{"$f":"IF(Master!AQ79=\"\",\"B\",Master!AQ79)","v":"B"},{"$f":"IF(Master!BB79=\"\",\"B\",Master!BB79)","v":"B"},{"$f":"IF(Master!BM79=\"\",\"B\",Master!BM79)","v":"B"}]
[{"$f":"Master!A80","v":"SS"},{"$f":"Master!B80","v":"Planning Meetings Fit for Purpose"},{"$f":"Master!C80","v":"comm_50_a01_bs_enus"},{"$f":"Master!D80","v":"OLT"},{"$f":"Master!E80","v":"Active"},{"$f":"Master!F80","v":0},{"$f":"Master!H80","v":0},{"$f":"IF(Master!J80=\"\",\"B\",Master!J80)","v":"B"},{"$f":"IF(Master!U80=\"\",\"B\",Master!U80)","v":"B"},{"$f":"IF(Master!AF80=\"\",\"B\",Master!AF80)","v":"B"},{"$f":"IF(Master!AQ80=\"\",\"B\",Master!AQ80)","v":"B"},{"$f":"IF(Master!BB80=\"\",\"B\",Master!BB80)","v":"B"},{"$f":"IF(Master!BM80=\"\",\"B\",Master!BM80)","v":"B"}]
[{"$f":"Master!A81","v":"SS"},{"$f":"Master!B81","v":"Managing Effective Business Meetings"},{"$f":"Master!C81","v":"comm_32_a02_bs_enus"},{"$f":"Master!D81","v":"OLT"},{"$f":"Master!E81","v":"Active"},{"$f":"Master!F81","v":0},{"$f":"Master!H81","v":0},{"$f":"IF(Master!J81=\"\",\"B\",Master!J81)","v":"B"},{"$f":"IF(Master!U81=\"\",\"B\",Master!U81)","v":"B"},{"$f":"IF(Master!AF81=\"\",\"B\",Master!AF81)","v":"B"},{"$f":"IF(Master!AQ81=\"\",\"B\",Master!AQ81)","v":"B"},{"$f":"IF(Master!BB81=\"\",\"B\",Master!BB81)","v":"B"},{"$f":"IF(Master!BM81=\"\",\"B\",Master!BM81)","v":"B"}]
[{"$f":"Master!A82","v":"SS"},{"$f":"Master!B82","v":"Running Meetings in Better Directions"},{"$f":"Master!C82","v":"comm_50_a02_bs_enus"},{"$f":"Master!D82","v":"OLT"},{"$f":"Master!E82","v":"Active"},{"$f":"Master!F82","v":0},{"$f":"Master!H82","v":0},{"$f":"IF(Master!J82=\"\",\"B\",Master!J82)","v":"B"},{"$f":"IF(Master!U82=\"\",\"B\",Master!U82)","v":"B"},{"$f":"IF(Master!AF82=\"\",\"B\",Master!AF82)","v":"B"},{"$f":"IF(Master!AQ82=\"\",\"B\",Master!AQ82)","v":"B"},{"$f":"IF(Master!BB82=\"\",\"B\",Master!BB82)","v":"B"},{"$f":"IF(Master!BM82=\"\",\"B\",Master!BM82)","v":"B"}]
[{"$f":"Master!A83","v":"ES"},{"$f":"Master!B83","v":"Effective Meeting Management  (or one of the following five SkillSoft)"},{"$f":"Master!C83","v":"Enterprise Services Course\nOne Day - $165"},{"$f":"Master!D83","v":"ILT"},{"$f":"Master!E83","v":"Active"},{"$f":"Master!F83","v":0},{"$f":"Master!H83","v":"To register for this course, call the LMS Helpdesk at \n360-705-7060."},{"$f":"IF(Master!J83=\"\",\"B\",Master!J83)","v":"B"},{"$f":"IF(Master!U83=\"\",\"B\",Master!U83)","v":"B"},{"$f":"IF(Master!AF83=\"\",\"B\",Master!AF83)","v":"B"},{"$f":"IF(Master!AQ83=\"\",\"B\",Master!AQ83)","v":"B"},{"$f":"IF(Master!BB83=\"\",\"B\",Master!BB83)","v":"B"},{"$f":"IF(Master!BM83=\"\",\"B\",Master!BM83)","v":"B"}]
[{"$f":"Master!A84","v":"Enhanced Leadership for WSDOT"},null,null,null,null,null,null,{"$f":"IF(Master!J84=\"\",\"B\",Master!J84)","v":"B"},{"$f":"IF(Master!U84=\"\",\"B\",Master!U84)","v":"B"},{"$f":"IF(Master!AF84=\"\",\"B\",Master!AF84)","v":"B"},{"$f":"IF(Master!AQ84=\"\",\"B\",Master!AQ84)","v":"B"},{"$f":"IF(Master!BB84=\"\",\"B\",Master!BB84)","v":"B"},{"$f":"IF(Master!BM84=\"\",\"B\",Master!BM84)","v":"B"}]
[{"$f":"Master!A85","v":"ES"},{"$f":"Master!B85","v":"Leading Teams"},{"$f":"Master!C85","v":"Enterprise Services Course\nThree Days - $500"},{"$f":"Master!D85","v":"ILT"},{"$f":"Master!E85","v":"Active"},{"$f":"Master!F85","v":0},{"$f":"Master!H85","v":"To register for this course, \ncall the LMS Helpdesk at \n360-705-7060."},{"$f":"IF(Master!J85=\"\",\"B\",Master!J85)","v":"B"},{"$f":"IF(Master!U85=\"\",\"B\",Master!U85)","v":"B"},{"$f":"IF(Master!AF85=\"\",\"B\",Master!AF85)","v":"B"},{"$f":"IF(Master!AQ85=\"\",\"B\",Master!AQ85)","v":"B"},{"$f":"IF(Master!BB85=\"\",\"B\",Master!BB85)","v":"B"},{"$f":"IF(Master!BM85=\"\",\"B\",Master!BM85)","v":2}]
[{"$f":"Master!A86","v":"Entry Management Development"},null,null,null,null,null,null,{"$f":"IF(Master!J86=\"\",\"B\",Master!J86)","v":"B"},{"$f":"IF(Master!U86=\"\",\"B\",Master!U86)","v":"B"},{"$f":"IF(Master!AF86=\"\",\"B\",Master!AF86)","v":"B"},{"$f":"IF(Master!AQ86=\"\",\"B\",Master!AQ86)","v":"B"},{"$f":"IF(Master!BB86=\"\",\"B\",Master!BB86)","v":"B"},{"$f":"IF(Master!BM86=\"\",\"B\",Master!BM86)","v":"B"}]
[{"$f":"Master!A87","v":"ES"},{"$f":"Master!B87","v":"Leading Others"},{"$f":"Master!C87","v":"Enterprise Services Course\nFour Days - $500"},{"$f":"Master!D87","v":"ILT"},{"$f":"Master!E87","v":"Active"},{"$f":"Master!F87","v":0},{"$f":"Master!H87","v":"To register for this course, \ncall the LMS Helpdesk at \n360-705-7060."},{"$f":"IF(Master!J87=\"\",\"B\",Master!J87)","v":"B"},{"$f":"IF(Master!U87=\"\",\"B\",Master!U87)","v":"B"},{"$f":"IF(Master!AF87=\"\",\"B\",Master!AF87)","v":"B"},{"$f":"IF(Master!AQ87=\"\",\"B\",Master!AQ87)","v":"B"},{"$f":"IF(Master!BB87=\"\",\"B\",Master!BB87)","v":2},{"$f":"IF(Master!BM87=\"\",\"B\",Master!BM87)","v":1}]
[{"$f":"Master!A88","v":"ES"},{"$f":"Master!B88","v":"Supervision Essentials-Phase II (Prerequisite is Leading Others)"},{"$f":"Master!C88","v":"Enterprise Services Course\nTwo Days - $285"},{"$f":"Master!D88","v":"ILT"},{"$f":"Master!E88","v":"Active"},{"$f":"Master!F88","v":0},{"$f":"Master!H88","v":"To register for this course, \ncall the LMS Helpdesk at \n360-705-7060."},{"$f":"IF(Master!J88=\"\",\"B\",Master!J88)","v":"B"},{"$f":"IF(Master!U88=\"\",\"B\",Master!U88)","v":"B"},{"$f":"IF(Master!AF88=\"\",\"B\",Master!AF88)","v":"B"},{"$f":"IF(Master!AQ88=\"\",\"B\",Master!AQ88)","v":"B"},{"$f":"IF(Master!BB88=\"\",\"B\",Master!BB88)","v":"B"},{"$f":"IF(Master!BM88=\"\",\"B\",Master!BM88)","v":2}]
[{"$f":"Master!A89","v":"Safety"},null,null,null,null,null,null,{"$f":"IF(Master!J89=\"\",\"B\",Master!J89)","v":"B"},{"$f":"IF(Master!U89=\"\",\"B\",Master!U89)","v":"B"},{"$f":"IF(Master!AF89=\"\",\"B\",Master!AF89)","v":"B"},{"$f":"IF(Master!AQ89=\"\",\"B\",Master!AQ89)","v":"B"},{"$f":"IF(Master!BB89=\"\",\"B\",Master!BB89)","v":"B"},{"$f":"IF(Master!BM89=\"\",\"B\",Master!BM89)","v":"B"}]
[{"$f":"Master!A90","v":"SAFE"},{"$f":"Master!B90","v":"WSDOT SAFE: FALL PROTECTION"},{"$f":"Master!C90","v":"WSDOT_BN9"},{"$f":"Master!D90","v":"ILT"},{"$f":"Master!E90","v":"Active"},{"$f":"Master!F90","v":0},{"$f":"Master!H90","v":0},{"$f":"IF(Master!J90=\"\",\"B\",Master!J90)","v":1},{"$f":"IF(Master!U90=\"\",\"B\",Master!U90)","v":1},{"$f":"IF(Master!AF90=\"\",\"B\",Master!AF90)","v":1},{"$f":"IF(Master!AQ90=\"\",\"B\",Master!AQ90)","v":1},{"$f":"IF(Master!BB90=\"\",\"B\",Master!BB90)","v":1},{"$f":"IF(Master!BM90=\"\",\"B\",Master!BM90)","v":1}]
[{"$f":"Master!A91","v":"SAFE"},{"$f":"Master!B91","v":"WSDOT SAFE: FIRST AID"},{"$f":"Master!C91","v":"WSDOT_APS"},{"$f":"Master!D91","v":"ILT"},{"$f":"Master!E91","v":"Active"},{"$f":"Master!F91","v":0},{"$f":"Master!H91","v":0},{"$f":"IF(Master!J91=\"\",\"B\",Master!J91)","v":"R"},{"$f":"IF(Master!U91=\"\",\"B\",Master!U91)","v":"R"},{"$f":"IF(Master!AF91=\"\",\"B\",Master!AF91)","v":1},{"$f":"IF(Master!AQ91=\"\",\"B\",Master!AQ91)","v":1},{"$f":"IF(Master!BB91=\"\",\"B\",Master!BB91)","v":1},{"$f":"IF(Master!BM91=\"\",\"B\",Master!BM91)","v":1}]
[{"$f":"Master!A92","v":"SAFE"},{"$f":"Master!B92","v":"WSDOT SAFE: FLAGGING, TRAFFIC CONTROL"},{"$f":"Master!C92","v":"WSDOT_AFZ"},{"$f":"Master!D92","v":"ILT"},{"$f":"Master!E92","v":"Active"},{"$f":"Master!F92","v":0},{"$f":"Master!H92","v":0},{"$f":"IF(Master!J92=\"\",\"B\",Master!J92)","v":"R"},{"$f":"IF(Master!U92=\"\",\"B\",Master!U92)","v":"R"},{"$f":"IF(Master!AF92=\"\",\"B\",Master!AF92)","v":1},{"$f":"IF(Master!AQ92=\"\",\"B\",Master!AQ92)","v":1},{"$f":"IF(Master!BB92=\"\",\"B\",Master!BB92)","v":1},{"$f":"IF(Master!BM92=\"\",\"B\",Master!BM92)","v":2}]
[{"$f":"Master!A93","v":"SAFE"},{"$f":"Master!B93","v":"WSDOT SAFE: HAZARD COMMUNICATION STANDARD (HCS)"},{"$f":"Master!C93","v":"WSDOT_AEX"},{"$f":"Master!D93","v":"ILT"},{"$f":"Master!E93","v":"Active"},{"$f":"Master!F93","v":0},{"$f":"Master!H93","v":0},{"$f":"IF(Master!J93=\"\",\"B\",Master!J93)","v":1},{"$f":"IF(Master!U93=\"\",\"B\",Master!U93)","v":1},{"$f":"IF(Master!AF93=\"\",\"B\",Master!AF93)","v":1},{"$f":"IF(Master!AQ93=\"\",\"B\",Master!AQ93)","v":1},{"$f":"IF(Master!BB93=\"\",\"B\",Master!BB93)","v":1},{"$f":"IF(Master!BM93=\"\",\"B\",Master!BM93)","v":1}]
[{"$f":"Master!A94","v":"SAFE"},{"$f":"Master!B94","v":"WSDOT SAFE: HEARING CONSERVATION (ILT, and/or Self-Study)"},{"$f":"Master!C94","v":"WSDOT_ATS"},{"$f":"Master!D94","v":"OLT/ILT"},{"$f":"Master!E94","v":"Active"},{"$f":"Master!F94","v":0},{"$f":"Master!H94","v":0},{"$f":"IF(Master!J94=\"\",\"B\",Master!J94)","v":"R"},{"$f":"IF(Master!U94=\"\",\"B\",Master!U94)","v":"R"},{"$f":"IF(Master!AF94=\"\",\"B\",Master!AF94)","v":1},{"$f":"IF(Master!AQ94=\"\",\"B\",Master!AQ94)","v":1},{"$f":"IF(Master!BB94=\"\",\"B\",Master!BB94)","v":1},{"$f":"IF(Master!BM94=\"\",\"B\",Master!BM94)","v":1}]
[{"$f":"Master!A95","v":"SAFE"},{"$f":"Master!B95","v":"WSDOT SAFE: RESPIRATOR PROTECTION TRAINING"},{"$f":"Master!C95","v":"WSDOT_ARZ"},{"$f":"Master!D95","v":"ILT"},{"$f":"Master!E95","v":"Active"},{"$f":"Master!F95","v":0},{"$f":"Master!H95","v":0},{"$f":"IF(Master!J95=\"\",\"B\",Master!J95)","v":2},{"$f":"IF(Master!U95=\"\",\"B\",Master!U95)","v":2},{"$f":"IF(Master!AF95=\"\",\"B\",Master!AF95)","v":2},{"$f":"IF(Master!AQ95=\"\",\"B\",Master!AQ95)","v":2},{"$f":"IF(Master!BB95=\"\",\"B\",Master!BB95)","v":2},{"$f":"IF(Master!BM95=\"\",\"B\",Master!BM95)","v":2}]
[{"$f":"Master!A96","v":"Construction Division"},null,null,null,null,null,null,{"$f":"IF(Master!J96=\"\",\"B\",Master!J96)","v":"B"},{"$f":"IF(Master!U96=\"\",\"B\",Master!U96)","v":"B"},{"$f":"IF(Master!AF96=\"\",\"B\",Master!AF96)","v":"B"},{"$f":"IF(Master!AQ96=\"\",\"B\",Master!AQ96)","v":"B"},{"$f":"IF(Master!BB96=\"\",\"B\",Master!BB96)","v":"B"},{"$f":"IF(Master!BM96=\"\",\"B\",Master!BM96)","v":"B"}]
[{"$f":"Master!A97","v":"CN"},{"$f":"Master!B97","v":"WSDOT CN: AGGREGATE PRODUCTION & TESTING INSPECTION"},{"$f":"Master!C97","v":"WSDOT_ACA"},{"$f":"Master!D97","v":"ILT"},{"$f":"Master!E97","v":"Active"},{"$f":"Master!F97","v":0},{"$f":"Master!G97","v":0},{"$f":"IF(Master!H97=\"\",\"B\",Master!H97)","v":"B"},{"$f":"IF(Master!I97=\"\",\"B\",Master!I97)","v":"B"},{"$f":"IF(Master!J97=\"\",\"B\",Master!J97)","v":"B"},{"$f":"IF(Master!K97=\"\",\"B\",Master!K97)","v":"B"},{"$f":"IF(Master!L97=\"\",\"B\",Master!L97)","v":"B"},{"$f":"IF(Master!M97=\"\",\"B\",Master!M97)","v":"B"}]
[{"$f":"Master!A98","v":"CN"},{"$f":"Master!B98","v":"WSDOT CN: BITUMINOUS SURFACE TREATMENT INSPECTION"},{"$f":"Master!C98","v":"WSDOT_CN_BST_ACC"},{"$f":"Master!D98","v":"ILT"},{"$f":"Master!E98","v":"Active"},{"$f":"Master!F98","v":0},{"$f":"Master!G98","v":0},{"$f":"IF(Master!H98=\"\",\"B\",Master!H98)","v":"B"},{"$f":"IF(Master!I98=\"\",\"B\",Master!I98)","v":"B"},{"$f":"IF(Master!J98=\"\",\"B\",Master!J98)","v":2},{"$f":"IF(Master!K98=\"\",\"B\",Master!K98)","v":"B"},{"$f":"IF(Master!L98=\"\",\"B\",Master!L98)","v":"B"},{"$f":"IF(Master!M98=\"\",\"B\",Master!M98)","v":"B"}]
[{"$f":"Master!A99","v":"CN"},{"$f":"Master!B99","v":"WSDOT CN: ACCEPTANCE AND APPROVAL OF MATERIAL"},{"$f":"Master!C99","v":"WSDOT_CN_Acceptance_Material_CX8_OLT"},{"$f":"Master!D99","v":"OLT"},{"$f":"Master!E99","v":"Active"},{"$f":"Master!F99","v":0},{"$f":"Master!G99","v":0},{"$f":"IF(Master!H99=\"\",\"B\",Master!H99)","v":"B"},{"$f":"IF(Master!I99=\"\",\"B\",Master!I99)","v":"B"},{"$f":"IF(Master!J99=\"\",\"B\",Master!J99)","v":1},{"$f":"IF(Master!K99=\"\",\"B\",Master!K99)","v":2},{"$f":"IF(Master!L99=\"\",\"B\",Master!L99)","v":"B"},{"$f":"IF(Master!M99=\"\",\"B\",Master!M99)","v":"B"}]
[{"$f":"Master!A100","v":"CN"},{"$f":"Master!B100","v":"WSDOT CN: COMPOSING AN INSPECTOR'S DAILY REPORT"},{"$f":"Master!C100","v":"WSDOT_CZ9_OLT"},{"$f":"Master!D100","v":"OLT"},{"$f":"Master!E100","v":"Active"},{"$f":"Master!F100","v":0},{"$f":"Master!G100","v":0},{"$f":"IF(Master!H100=\"\",\"B\",Master!H100)","v":"B"},{"$f":"IF(Master!I100=\"\",\"B\",Master!I100)","v":"B"},{"$f":"IF(Master!J100=\"\",\"B\",Master!J100)","v":1},{"$f":"IF(Master!K100=\"\",\"B\",Master!K100)","v":2},{"$f":"IF(Master!L100=\"\",\"B\",Master!L100)","v":"B"},{"$f":"IF(Master!M100=\"\",\"B\",Master!M100)","v":"B"}]
[{"$f":"Master!A101","v":"CN"},{"$f":"Master!B101","v":"WSDOT CN: INSPECTING BRIDGE CONSTRUCTION"},{"$f":"Master!C101","v":"WSDOT_ACM"},{"$f":"Master!D101","v":"ILT"},{"$f":"Master!E101","v":"Active"},{"$f":"Master!F101","v":0},{"$f":"Master!G101","v":0},{"$f":"IF(Master!H101=\"\",\"B\",Master!H101)","v":"B"},{"$f":"IF(Master!I101=\"\",\"B\",Master!I101)","v":"B"},{"$f":"IF(Master!J101=\"\",\"B\",Master!J101)","v":2},{"$f":"IF(Master!K101=\"\",\"B\",Master!K101)","v":"B"},{"$f":"IF(Master!L101=\"\",\"B\",Master!L101)","v":"B"},{"$f":"IF(Master!M101=\"\",\"B\",Master!M101)","v":"B"}]
[{"$f":"Master!A102","v":"CN"},{"$f":"Master!B102","v":"WSDOT CN: CONSTRUCTION INSPECTION DOCUMENTATION"},{"$f":"Master!C102","v":"WSDOT_ACY"},{"$f":"Master!D102","v":"ILT"},{"$f":"Master!E102","v":"Active"},{"$f":"Master!F102","v":0},{"$f":"Master!G102","v":0},{"$f":"IF(Master!H102=\"\",\"B\",Master!H102)","v":"B"},{"$f":"IF(Master!I102=\"\",\"B\",Master!I102)","v":"B"},{"$f":"IF(Master!J102=\"\",\"B\",Master!J102)","v":1},{"$f":"IF(Master!K102=\"\",\"B\",Master!K102)","v":2},{"$f":"IF(Master!L102=\"\",\"B\",Master!L102)","v":"B"},{"$f":"IF(Master!M102=\"\",\"B\",Master!M102)","v":"B"}]
[{"$f":"Master!A103","v":"CN"},{"$f":"Master!B103","v":"WSDOT CN:CONSTRUCTION MATERIALS, APPROVAL AND ACCEPTANCE"},{"$f":"Master!C103","v":"WSDOT_DAP"},{"$f":"Master!D103","v":"ILT"},{"$f":"Master!E103","v":"Active"},{"$f":"Master!F103","v":0},{"$f":"Master!G103","v":0},{"$f":"IF(Master!H103=\"\",\"B\",Master!H103)","v":"B"},{"$f":"IF(Master!I103=\"\",\"B\",Master!I103)","v":"B"},{"$f":"IF(Master!J103=\"\",\"B\",Master!J103)","v":1},{"$f":"IF(Master!K103=\"\",\"B\",Master!K103)","v":2},{"$f":"IF(Master!L103=\"\",\"B\",Master!L103)","v":"B"},{"$f":"IF(Master!M103=\"\",\"B\",Master!M103)","v":"B"}]
[{"$f":"Master!A104","v":"CN"},{"$f":"Master!B104","v":"WSDOT CN: DRAINAGE INSPECTION"},{"$f":"Master!C104","v":"WSDOT_ACF"},{"$f":"Master!D104","v":"ILT"},{"$f":"Master!E104","v":"Active"},{"$f":"Master!F104","v":0},{"$f":"Master!G104","v":0},{"$f":"IF(Master!H104=\"\",\"B\",Master!H104)","v":"B"},{"$f":"IF(Master!I104=\"\",\"B\",Master!I104)","v":"B"},{"$f":"IF(Master!J104=\"\",\"B\",Master!J104)","v":2},{"$f":"IF(Master!K104=\"\",\"B\",Master!K104)","v":"B"},{"$f":"IF(Master!L104=\"\",\"B\",Master!L104)","v":"B"},{"$f":"IF(Master!M104=\"\",\"B\",Master!M104)","v":"B"}]
[{"$f":"Master!A105","v":"CN"},{"$f":"Master!B105","v":"WSDOT CN: EARTHWORK INSPECTION"},{"$f":"Master!C105","v":"WSDOT_Earthwork_OLT"},{"$f":"Master!D105","v":"OLT"},{"$f":"Master!E105","v":"Active"},{"$f":"Master!F105","v":0},{"$f":"Master!G105","v":0},{"$f":"IF(Master!H105=\"\",\"B\",Master!H105)","v":"B"},{"$f":"IF(Master!I105=\"\",\"B\",Master!I105)","v":"B"},{"$f":"IF(Master!J105=\"\",\"B\",Master!J105)","v":2},{"$f":"IF(Master!K105=\"\",\"B\",Master!K105)","v":"B"},{"$f":"IF(Master!L105=\"\",\"B\",Master!L105)","v":"B"},{"$f":"IF(Master!M105=\"\",\"B\",Master!M105)","v":"B"}]
[{"$f":"Master!A106","v":"CN"},{"$f":"Master!B106","v":"WSDOT CN: ELECTRICAL CONDUCTORS AND FIBER for ICP"},{"$f":"Master!C106","v":"WSDOT_ICP_Electrical_Conductors_Fiber_OLT"},{"$f":"Master!D106","v":"OLT"},{"$f":"Master!E106","v":"Active"},{"$f":"Master!F106","v":0},{"$f":"Master!G106","v":0},{"$f":"IF(Master!H106=\"\",\"B\",Master!H106)","v":"B"},{"$f":"IF(Master!I106=\"\",\"B\",Master!I106)","v":"B"},{"$f":"IF(Master!J106=\"\",\"B\",Master!J106)","v":"B"},{"$f":"IF(Master!K106=\"\",\"B\",Master!K106)","v":2},{"$f":"IF(Master!L106=\"\",\"B\",Master!L106)","v":"B"},{"$f":"IF(Master!M106=\"\",\"B\",Master!M106)","v":"B"}]
[{"$f":"Master!A107","v":"CN"},{"$f":"Master!B107","v":"WSDOT CN: ELECTRICAL-ILLUMINATION-SIGNALS & ITS INSPECTION"},{"$f":"Master!C107","v":"WSDOT_API"},{"$f":"Master!D107","v":"ILT"},{"$f":"Master!E107","v":"Active"},{"$f":"Master!F107","v":0},{"$f":"Master!G107","v":0},{"$f":"IF(Master!H107=\"\",\"B\",Master!H107)","v":"B"},{"$f":"IF(Master!I107=\"\",\"B\",Master!I107)","v":"B"},{"$f":"IF(Master!J107=\"\",\"B\",Master!J107)","v":"B"},{"$f":"IF(Master!K107=\"\",\"B\",Master!K107)","v":2},{"$f":"IF(Master!L107=\"\",\"B\",Master!L107)","v":"B"},{"$f":"IF(Master!M107=\"\",\"B\",Master!M107)","v":"B"}]
[{"$f":"Master!A108","v":"CN"},{"$f":"Master!B108","v":"WSDOT CN: EXCAVATION & EMBANKMENTS INSPECTION"},{"$f":"Master!C108","v":"WSDOT_AC3"},{"$f":"Master!D108","v":"ILT"},{"$f":"Master!E108","v":"Active"},{"$f":"Master!F108","v":0},{"$f":"Master!G108","v":0},{"$f":"IF(Master!H108=\"\",\"B\",Master!H108)","v":"B"},{"$f":"IF(Master!I108=\"\",\"B\",Master!I108)","v":"B"},{"$f":"IF(Master!J108=\"\",\"B\",Master!J108)","v":1},{"$f":"IF(Master!K108=\"\",\"B\",Master!K108)","v":"B"},{"$f":"IF(Master!L108=\"\",\"B\",Master!L108)","v":"B"},{"$f":"IF(Master!M108=\"\",\"B\",Master!M108)","v":"B"}]
[{"$f":"Master!A109","v":"CN"},{"$f":"Master!B109","v":"WSDOT CN: FIELD PAINTING STRUCTURAL STEEL"},{"$f":"Master!C109","v":"WSDOT_CN_Field_Painting_OLT"},{"$f":"Master!D109","v":"OLT"},{"$f":"Master!E109","v":"Active"},{"$f":"Master!F109","v":0},{"$f":"Master!G109","v":0},{"$f":"IF(Master!H109=\"\",\"B\",Master!H109)","v":"B"},{"$f":"IF(Master!I109=\"\",\"B\",Master!I109)","v":"B"},{"$f":"IF(Master!J109=\"\",\"B\",Master!J109)","v":"B"},{"$f":"IF(Master!K109=\"\",\"B\",Master!K109)","v":"B"},{"$f":"IF(Master!L109=\"\",\"B\",Master!L109)","v":"B"},{"$f":"IF(Master!M109=\"\",\"B\",Master!M109)","v":"B"}]
[{"$f":"Master!A110","v":"CN"},{"$f":"Master!B110","v":"WSDOT CN: FORCE ACCOUNT DOCUMENTATION AND PAYMENT"},{"$f":"Master!C110","v":"WSDOT_CN_ForceAccount_DG2_OLT"},{"$f":"Master!D110","v":"OLT"},{"$f":"Master!E110","v":"Active"},{"$f":"Master!F110","v":0},{"$f":"Master!G110","v":0},{"$f":"IF(Master!H110=\"\",\"B\",Master!H110)","v":"B"},{"$f":"IF(Master!I110=\"\",\"B\",Master!I110)","v":"B"},{"$f":"IF(Master!J110=\"\",\"B\",Master!J110)","v":1},{"$f":"IF(Master!K110=\"\",\"B\",Master!K110)","v":2},{"$f":"IF(Master!L110=\"\",\"B\",Master!L110)","v":"B"},{"$f":"IF(Master!M110=\"\",\"B\",Master!M110)","v":"B"}]
[{"$f":"Master!A111","v":"CN"},{"$f":"Master!B111","v":"WSDOT CN: FORMS AND FALSEWORK for ICP"},{"$f":"Master!C111","v":"WSDOT_ICP_Forms and Falsework_OLT"},{"$f":"Master!D111","v":"OLT"},{"$f":"Master!E111","v":"Active"},{"$f":"Master!F111","v":0},{"$f":"Master!G111","v":0},{"$f":"IF(Master!H111=\"\",\"B\",Master!H111)","v":"B"},{"$f":"IF(Master!I111=\"\",\"B\",Master!I111)","v":"B"},{"$f":"IF(Master!J111=\"\",\"B\",Master!J111)","v":2},{"$f":"IF(Master!K111=\"\",\"B\",Master!K111)","v":"B"},{"$f":"IF(Master!L111=\"\",\"B\",Master!L111)","v":"B"},{"$f":"IF(Master!M111=\"\",\"B\",Master!M111)","v":"B"}]
[{"$f":"Master!A112","v":"CN"},{"$f":"Master!B112","v":"WSDOT CN: GUARDRAIL INSTALLATION FOR INSPECTORS"},{"$f":"Master!C112","v":"WSDOT_DD4"},{"$f":"Master!D112","v":"ILT"},{"$f":"Master!E112","v":"Active"},{"$f":"Master!F112","v":0},{"$f":"Master!G112","v":0},{"$f":"IF(Master!H112=\"\",\"B\",Master!H112)","v":"B"},{"$f":"IF(Master!I112=\"\",\"B\",Master!I112)","v":"B"},{"$f":"IF(Master!J112=\"\",\"B\",Master!J112)","v":2},{"$f":"IF(Master!K112=\"\",\"B\",Master!K112)","v":"B"},{"$f":"IF(Master!L112=\"\",\"B\",Master!L112)","v":"B"},{"$f":"IF(Master!M112=\"\",\"B\",Master!M112)","v":"B"}]
[{"$f":"Master!A113","v":"CN"},{"$f":"Master!B113","v":"WSDOT CN: HAZMAT FOR THE PORTABLE NUCLEAR GAUGE"},{"$f":"Master!C113","v":"WSDOT Hazmat_for_Transportation_of_the_Nuclear_Gauge_ORG"},{"$f":"Master!D113","v":"OLT"},{"$f":"Master!E113","v":"Active"},{"$f":"Master!F113","v":0},{"$f":"Master!G113","v":0},{"$f":"IF(Master!H113=\"\",\"B\",Master!H113)","v":"B"},{"$f":"IF(Master!I113=\"\",\"B\",Master!I113)","v":"B"},{"$f":"IF(Master!J113=\"\",\"B\",Master!J113)","v":2},{"$f":"IF(Master!K113=\"\",\"B\",Master!K113)","v":"B"},{"$f":"IF(Master!L113=\"\",\"B\",Master!L113)","v":"B"},{"$f":"IF(Master!M113=\"\",\"B\",Master!M113)","v":"B"}]
[{"$f":"Master!A114","v":"CN"},{"$f":"Master!B114","v":"WSDOT CN: HMA PLACEMENT INSPECTION"},{"$f":"Master!C114","v":"WSDOT_HMAPlacement_OLT"},{"$f":"Master!D114","v":"OLT"},{"$f":"Master!E114","v":"Active"},{"$f":"Master!F114","v":0},{"$f":"Master!G114","v":0},{"$f":"IF(Master!H114=\"\",\"B\",Master!H114)","v":"B"},{"$f":"IF(Master!I114=\"\",\"B\",Master!I114)","v":"B"},{"$f":"IF(Master!J114=\"\",\"B\",Master!J114)","v":2},{"$f":"IF(Master!K114=\"\",\"B\",Master!K114)","v":"B"},{"$f":"IF(Master!L114=\"\",\"B\",Master!L114)","v":"B"},{"$f":"IF(Master!M114=\"\",\"B\",Master!M114)","v":"B"}]
[{"$f":"Master!A115","v":"CN"},{"$f":"Master!B115","v":"WSDOT CN: HOT MIX ASPHALT PLACEMENT"},{"$f":"Master!C115","v":"WSDOT_ACB"},{"$f":"Master!D115","v":"ILT"},{"$f":"Master!E115","v":"Active"},{"$f":"Master!F115","v":0},{"$f":"Master!G115","v":0},{"$f":"IF(Master!H115=\"\",\"B\",Master!H115)","v":"B"},{"$f":"IF(Master!I115=\"\",\"B\",Master!I115)","v":"B"},{"$f":"IF(Master!J115=\"\",\"B\",Master!J115)","v":2},{"$f":"IF(Master!K115=\"\",\"B\",Master!K115)","v":"B"},{"$f":"IF(Master!L115=\"\",\"B\",Master!L115)","v":"B"},{"$f":"IF(Master!M115=\"\",\"B\",Master!M115)","v":"B"}]
[{"$f":"Master!A116","v":"CN"},{"$f":"Master!B116","v":"WSDOT CN: HOT MIX ASPHALT PRODUCTION & TESTING"},{"$f":"Master!C116","v":"WSDOT_BG9"},{"$f":"Master!D116","v":"ILT"},{"$f":"Master!E116","v":"Active"},{"$f":"Master!F116","v":0},{"$f":"Master!G116","v":0},{"$f":"IF(Master!H116=\"\",\"B\",Master!H116)","v":"B"},{"$f":"IF(Master!I116=\"\",\"B\",Master!I116)","v":"B"},{"$f":"IF(Master!J116=\"\",\"B\",Master!J116)","v":2},{"$f":"IF(Master!K116=\"\",\"B\",Master!K116)","v":"B"},{"$f":"IF(Master!L116=\"\",\"B\",Master!L116)","v":"B"},{"$f":"IF(Master!M116=\"\",\"B\",Master!M116)","v":"B"}]
[{"$f":"Master!A117","v":"CN"},{"$f":"Master!B117","v":"WSDOT CN: INSPECTING BRIDGE CONSTRUCTION"},{"$f":"Master!C117","v":"WSDOT_ACM"},{"$f":"Master!D117","v":"ILT"},{"$f":"Master!E117","v":"Active"},{"$f":"Master!F117","v":0},{"$f":"Master!G117","v":0},{"$f":"IF(Master!H117=\"\",\"B\",Master!H117)","v":"B"},{"$f":"IF(Master!I117=\"\",\"B\",Master!I117)","v":"B"},{"$f":"IF(Master!J117=\"\",\"B\",Master!J117)","v":2},{"$f":"IF(Master!K117=\"\",\"B\",Master!K117)","v":"B"},{"$f":"IF(Master!L117=\"\",\"B\",Master!L117)","v":"B"},{"$f":"IF(Master!M117=\"\",\"B\",Master!M117)","v":"B"}]
[{"$f":"Master!A118","v":"CN"},{"$f":"Master!B118","v":"WSDOT CN: INSPECTION OF PEDESTRIAN FACILITIES"},{"$f":"Master!C118","v":"WSDOT_IFP_OLT"},{"$f":"Master!D118","v":"OLT"},{"$f":"Master!E118","v":"Active"},{"$f":"Master!F118","v":0},{"$f":"Master!G118","v":0},{"$f":"IF(Master!H118=\"\",\"B\",Master!H118)","v":"B"},{"$f":"IF(Master!I118=\"\",\"B\",Master!I118)","v":2},{"$f":"IF(Master!J118=\"\",\"B\",Master!J118)","v":2},{"$f":"IF(Master!K118=\"\",\"B\",Master!K118)","v":2},{"$f":"IF(Master!L118=\"\",\"B\",Master!L118)","v":2},{"$f":"IF(Master!M118=\"\",\"B\",Master!M118)","v":"B"}]
[{"$f":"Master!A119","v":"CN"},{"$f":"Master!B119","v":"WSDOT CN: INSPECTOR'S ROLE FOR CHANGE ORDER WORK"},{"$f":"Master!C119","v":"WSDOT_DH9_OLT"},{"$f":"Master!D119","v":"OLT"},{"$f":"Master!E119","v":"Active"},{"$f":"Master!F119","v":0},{"$f":"Master!G119","v":0},{"$f":"IF(Master!H119=\"\",\"B\",Master!H119)","v":"B"},{"$f":"IF(Master!I119=\"\",\"B\",Master!I119)","v":"B"},{"$f":"IF(Master!J119=\"\",\"B\",Master!J119)","v":1},{"$f":"IF(Master!K119=\"\",\"B\",Master!K119)","v":2},{"$f":"IF(Master!L119=\"\",\"B\",Master!L119)","v":"B"},{"$f":"IF(Master!M119=\"\",\"B\",Master!M119)","v":"B"}]
[{"$f":"Master!A120","v":"CN"},{"$f":"Master!B120","v":"WSDOT CN:INSPECTOR’S USE OF CONTRACT RESOURCES"},{"$f":"Master!C120","v":"WSDOT_UR1_OLT"},{"$f":"Master!D120","v":"OLT"},{"$f":"Master!E120","v":"Active"},{"$f":"Master!F120","v":0},{"$f":"Master!G120","v":0},{"$f":"IF(Master!H120=\"\",\"B\",Master!H120)","v":"B"},{"$f":"IF(Master!I120=\"\",\"B\",Master!I120)","v":"B"},{"$f":"IF(Master!J120=\"\",\"B\",Master!J120)","v":1},{"$f":"IF(Master!K120=\"\",\"B\",Master!K120)","v":2},{"$f":"IF(Master!L120=\"\",\"B\",Master!L120)","v":"B"},{"$f":"IF(Master!M120=\"\",\"B\",Master!M120)","v":"B"}]
[{"$f":"Master!A121","v":"CN"},{"$f":"Master!B121","v":"WSDOT CN: NHI CONTRACT ADMINISTRATION CORE CURRICULUM"},{"$f":"Master!C121","v":"WSDOT_NHI CONTRACT ADM"},{"$f":"Master!D121","v":"ILT"},{"$f":"Master!E121","v":"Active"},{"$f":"Master!F121","v":0},{"$f":"Master!G121","v":0},{"$f":"IF(Master!H121=\"\",\"B\",Master!H121)","v":"B"},{"$f":"IF(Master!I121=\"\",\"B\",Master!I121)","v":"B"},{"$f":"IF(Master!J121=\"\",\"B\",Master!J121)","v":"B"},{"$f":"IF(Master!K121=\"\",\"B\",Master!K121)","v":"B"},{"$f":"IF(Master!L121=\"\",\"B\",Master!L121)","v":"B"},{"$f":"IF(Master!M121=\"\",\"B\",Master!M121)","v":"B"}]
[{"$f":"Master!A122","v":"CN"},{"$f":"Master!B122","v":"WSDOT CN:NUCLEAR GAUGE SAFETY AND OPERATION"},{"$f":"Master!C122","v":"WSDOT_DCX_OLT"},{"$f":"Master!D122","v":"ILT"},{"$f":"Master!E122","v":"Active"},{"$f":"Master!F122","v":0},{"$f":"Master!G122","v":0},{"$f":"IF(Master!H122=\"\",\"B\",Master!H122)","v":"B"},{"$f":"IF(Master!I122=\"\",\"B\",Master!I122)","v":"B"},{"$f":"IF(Master!J122=\"\",\"B\",Master!J122)","v":2},{"$f":"IF(Master!K122=\"\",\"B\",Master!K122)","v":"B"},{"$f":"IF(Master!L122=\"\",\"B\",Master!L122)","v":"B"},{"$f":"IF(Master!M122=\"\",\"B\",Master!M122)","v":"B"}]
[{"$f":"Master!A123","v":"CN"},{"$f":"Master!B123","v":"WSDOT CN: NUCLEAR GAUGE, EMBANKMENT/SURFACING/PAVEMENT APPLICATIONS"},{"$f":"Master!C123","v":"WSDOT_ANQ"},{"$f":"Master!D123","v":"ILT"},{"$f":"Master!E123","v":"Active"},{"$f":"Master!F123","v":0},{"$f":"Master!G123","v":0},{"$f":"IF(Master!H123=\"\",\"B\",Master!H123)","v":"B"},{"$f":"IF(Master!I123=\"\",\"B\",Master!I123)","v":"B"},{"$f":"IF(Master!J123=\"\",\"B\",Master!J123)","v":2},{"$f":"IF(Master!K123=\"\",\"B\",Master!K123)","v":"B"},{"$f":"IF(Master!L123=\"\",\"B\",Master!L123)","v":"B"},{"$f":"IF(Master!M123=\"\",\"B\",Master!M123)","v":"B"}]
[{"$f":"Master!A124","v":"CN"},{"$f":"Master!B124","v":"WSDOT CN: PAVEMENT REHABILITATION"},{"$f":"Master!C124","v":"WSDOT_BQL"},{"$f":"Master!D124","v":"ILT"},{"$f":"Master!E124","v":"Active"},{"$f":"Master!F124","v":0},{"$f":"Master!G124","v":0},{"$f":"IF(Master!H124=\"\",\"B\",Master!H124)","v":"B"},{"$f":"IF(Master!I124=\"\",\"B\",Master!I124)","v":"B"},{"$f":"IF(Master!J124=\"\",\"B\",Master!J124)","v":"B"},{"$f":"IF(Master!K124=\"\",\"B\",Master!K124)","v":"B"},{"$f":"IF(Master!L124=\"\",\"B\",Master!L124)","v":"B"},{"$f":"IF(Master!M124=\"\",\"B\",Master!M124)","v":"B"}]
[{"$f":"Master!A125","v":"CN"},{"$f":"Master!B125","v":"WSDOT CN: PCC FIELD TESTING PROCEDURES"},{"$f":"Master!C125","v":"WSDOT_ABT"},{"$f":"Master!D125","v":"ILT"},{"$f":"Master!E125","v":"Active"},{"$f":"Master!F125","v":0},{"$f":"Master!G125","v":0},{"$f":"IF(Master!H125=\"\",\"B\",Master!H125)","v":"B"},{"$f":"IF(Master!I125=\"\",\"B\",Master!I125)","v":"B"},{"$f":"IF(Master!J125=\"\",\"B\",Master!J125)","v":"B"},{"$f":"IF(Master!K125=\"\",\"B\",Master!K125)","v":"B"},{"$f":"IF(Master!L125=\"\",\"B\",Master!L125)","v":"B"},{"$f":"IF(Master!M125=\"\",\"B\",Master!M125)","v":"B"}]
[{"$f":"Master!A126","v":"CN"},{"$f":"Master!B126","v":"WSDOT CN: PILE DRIVING INSPECTION"},{"$f":"Master!C126","v":"Piling_OLT"},{"$f":"Master!D126","v":"OLT"},{"$f":"Master!E126","v":"Active"},{"$f":"Master!F126","v":0},{"$f":"Master!G126","v":0},{"$f":"IF(Master!H126=\"\",\"B\",Master!H126)","v":"B"},{"$f":"IF(Master!I126=\"\",\"B\",Master!I126)","v":"B"},{"$f":"IF(Master!J126=\"\",\"B\",Master!J126)","v":"B"},{"$f":"IF(Master!K126=\"\",\"B\",Master!K126)","v":"B"},{"$f":"IF(Master!L126=\"\",\"B\",Master!L126)","v":"B"},{"$f":"IF(Master!M126=\"\",\"B\",Master!M126)","v":"B"}]
[{"$f":"Master!A127","v":"CN"},{"$f":"Master!B127","v":"WSDOT CN: PORTLAND CEMENT CONCRETE INSPECTION"},{"$f":"Master!C127","v":"WSDOT_PCC_OLT"},{"$f":"Master!D127","v":"OLT"},{"$f":"Master!E127","v":"Active"},{"$f":"Master!F127","v":0},{"$f":"Master!G127","v":0},{"$f":"IF(Master!H127=\"\",\"B\",Master!H127)","v":"B"},{"$f":"IF(Master!I127=\"\",\"B\",Master!I127)","v":"B"},{"$f":"IF(Master!J127=\"\",\"B\",Master!J127)","v":2},{"$f":"IF(Master!K127=\"\",\"B\",Master!K127)","v":"B"},{"$f":"IF(Master!L127=\"\",\"B\",Master!L127)","v":"B"},{"$f":"IF(Master!M127=\"\",\"B\",Master!M127)","v":"B"}]
[{"$f":"Master!A128","v":"CN"},{"$f":"Master!B128","v":"WSDOT CN: PRODUCING SOURCE DOCUMENTS"},{"$f":"Master!C128","v":"WSDOT_C1H_OLT"},{"$f":"Master!D128","v":"OLT"},{"$f":"Master!E128","v":"Active"},{"$f":"Master!F128","v":0},{"$f":"Master!G128","v":0},{"$f":"IF(Master!H128=\"\",\"B\",Master!H128)","v":"B"},{"$f":"IF(Master!I128=\"\",\"B\",Master!I128)","v":"B"},{"$f":"IF(Master!J128=\"\",\"B\",Master!J128)","v":"B"},{"$f":"IF(Master!K128=\"\",\"B\",Master!K128)","v":"B"},{"$f":"IF(Master!L128=\"\",\"B\",Master!L128)","v":"B"},{"$f":"IF(Master!M128=\"\",\"B\",Master!M128)","v":"B"}]
[{"$f":"Master!A129","v":"CN"},{"$f":"Master!B129","v":"WSDOT CN: SIGN BRIDGES AND CANTILEVER SIGNS"},{"$f":"Master!C129","v":"WSDOT_SBI_OLT"},{"$f":"Master!D129","v":"OLT"},{"$f":"Master!E129","v":"Active"},{"$f":"Master!F129","v":0},{"$f":"Master!G129","v":0},{"$f":"IF(Master!H129=\"\",\"B\",Master!H129)","v":"B"},{"$f":"IF(Master!I129=\"\",\"B\",Master!I129)","v":"B"},{"$f":"IF(Master!J129=\"\",\"B\",Master!J129)","v":2},{"$f":"IF(Master!K129=\"\",\"B\",Master!K129)","v":2},{"$f":"IF(Master!L129=\"\",\"B\",Master!L129)","v":"B"},{"$f":"IF(Master!M129=\"\",\"B\",Master!M129)","v":"B"}]
[{"$f":"Master!A130","v":"CN"},{"$f":"Master!B130","v":"WSDOT CN: SIGN INSPECTOR DUTIES"},{"$f":"Master!C130","v":"WSDOT_SID_OLT"},{"$f":"Master!D130","v":"OLT"},{"$f":"Master!E130","v":"Active"},{"$f":"Master!F130","v":0},{"$f":"Master!G130","v":0},{"$f":"IF(Master!H130=\"\",\"B\",Master!H130)","v":"B"},{"$f":"IF(Master!I130=\"\",\"B\",Master!I130)","v":"B"},{"$f":"IF(Master!J130=\"\",\"B\",Master!J130)","v":"B"},{"$f":"IF(Master!K130=\"\",\"B\",Master!K130)","v":2},{"$f":"IF(Master!L130=\"\",\"B\",Master!L130)","v":"B"},{"$f":"IF(Master!M130=\"\",\"B\",Master!M130)","v":"B"}]
[{"$f":"Master!A131","v":"CN"},{"$f":"Master!B131","v":"WSDOT CN: SIGN INSTALLATION INSPECTION"},{"$f":"Master!C131","v":"WSDOT_DFV"},{"$f":"Master!D131","v":"ILT"},{"$f":"Master!E131","v":"Active"},{"$f":"Master!F131","v":0},{"$f":"Master!G131","v":0},{"$f":"IF(Master!H131=\"\",\"B\",Master!H131)","v":"B"},{"$f":"IF(Master!I131=\"\",\"B\",Master!I131)","v":"B"},{"$f":"IF(Master!J131=\"\",\"B\",Master!J131)","v":"B"},{"$f":"IF(Master!K131=\"\",\"B\",Master!K131)","v":2},{"$f":"IF(Master!L131=\"\",\"B\",Master!L131)","v":"B"},{"$f":"IF(Master!M131=\"\",\"B\",Master!M131)","v":"B"}]
[{"$f":"Master!A132","v":"CN"},{"$f":"Master!B132","v":"WSDOT CN: SMALL AND LARGE SIGN INSPECTION REVIEW"},{"$f":"Master!C132","v":"WSDOT_SLR_OLT"},{"$f":"Master!D132","v":"OLT"},{"$f":"Master!E132","v":"Active"},{"$f":"Master!F132","v":0},{"$f":"Master!G132","v":0},{"$f":"IF(Master!H132=\"\",\"B\",Master!H132)","v":"B"},{"$f":"IF(Master!I132=\"\",\"B\",Master!I132)","v":"B"},{"$f":"IF(Master!J132=\"\",\"B\",Master!J132)","v":2},{"$f":"IF(Master!K132=\"\",\"B\",Master!K132)","v":2},{"$f":"IF(Master!L132=\"\",\"B\",Master!L132)","v":"B"},{"$f":"IF(Master!M132=\"\",\"B\",Master!M132)","v":"B"}]
[{"$f":"Master!A133","v":"CN"},{"$f":"Master!B133","v":"WSDOT CN: WORK ZONE TRAFFIC CONTROL"},{"$f":"Master!C133","v":"WSDOT_WZTC_OLT"},{"$f":"Master!D133","v":"OLT"},{"$f":"Master!E133","v":"Active"},{"$f":"Master!F133","v":0},{"$f":"Master!G133","v":0},{"$f":"IF(Master!H133=\"\",\"B\",Master!H133)","v":"B"},{"$f":"IF(Master!I133=\"\",\"B\",Master!I133)","v":"B"},{"$f":"IF(Master!J133=\"\",\"B\",Master!J133)","v":1},{"$f":"IF(Master!K133=\"\",\"B\",Master!K133)","v":1},{"$f":"IF(Master!L133=\"\",\"B\",Master!L133)","v":"B"},{"$f":"IF(Master!M133=\"\",\"B\",Master!M133)","v":"B"}]
[{"$f":"Master!A134","v":"CN"},{"$f":"Master!B134","v":"WSDOT DB: ALTERNATIVE TECHNICAL CONCEPT (ATC) REVIEW PROCESS"},{"$f":"Master!C134","v":"WSDOT_DB_ATC"},{"$f":"Master!D134","v":"ILT"},{"$f":"Master!E134","v":"Active"},{"$f":"Master!F134","v":0},{"$f":"Master!G134","v":0},{"$f":"IF(Master!H134=\"\",\"B\",Master!H134)","v":"B"},{"$f":"IF(Master!I134=\"\",\"B\",Master!I134)","v":"B"},{"$f":"IF(Master!J134=\"\",\"B\",Master!J134)","v":"B"},{"$f":"IF(Master!K134=\"\",\"B\",Master!K134)","v":"B"},{"$f":"IF(Master!L134=\"\",\"B\",Master!L134)","v":"B"},{"$f":"IF(Master!M134=\"\",\"B\",Master!M134)","v":"B"}]
[{"$f":"Master!A135","v":"CN"},{"$f":"Master!B135","v":"WSDOT DB: INTRODUCTION TO DESIGN-BUILD"},{"$f":"Master!C135","v":"WSDOT_DB_IDB"},{"$f":"Master!D135","v":"ILT"},{"$f":"Master!E135","v":"Active"},{"$f":"Master!F135","v":0},{"$f":"Master!G135","v":0},{"$f":"IF(Master!H135=\"\",\"B\",Master!H135)","v":"B"},{"$f":"IF(Master!I135=\"\",\"B\",Master!I135)","v":"B"},{"$f":"IF(Master!J135=\"\",\"B\",Master!J135)","v":"B"},{"$f":"IF(Master!K135=\"\",\"B\",Master!K135)","v":"B"},{"$f":"IF(Master!L135=\"\",\"B\",Master!L135)","v":"B"},{"$f":"IF(Master!M135=\"\",\"B\",Master!M135)","v":"B"}]
[{"$f":"Master!A136","v":"CN"},{"$f":"Master!B136","v":"WSDOT DB: DESIGN-BUILD BEST PRACTICES IN TRANSPORTATION"},{"$f":"Master!C136","v":"WSDOT_DB_BPT"},{"$f":"Master!D136","v":"ILT"},{"$f":"Master!E136","v":"Active"},{"$f":"Master!F136","v":0},{"$f":"Master!G136","v":0},{"$f":"IF(Master!H136=\"\",\"B\",Master!H136)","v":"B"},{"$f":"IF(Master!I136=\"\",\"B\",Master!I136)","v":"B"},{"$f":"IF(Master!J136=\"\",\"B\",Master!J136)","v":"B"},{"$f":"IF(Master!K136=\"\",\"B\",Master!K136)","v":"B"},{"$f":"IF(Master!L136=\"\",\"B\",Master!L136)","v":"B"},{"$f":"IF(Master!M136=\"\",\"B\",Master!M136)","v":"B"}]
[{"$f":"Master!A137","v":"CN"},{"$f":"Master!B137","v":"WSDOT DB: DESIGN-BUILD CLOSEOUT"},{"$f":"Master!C137","v":"WSDOT_DB_CO"},{"$f":"Master!D137","v":"ILT"},{"$f":"Master!E137","v":"Active"},{"$f":"Master!F137","v":0},{"$f":"Master!G137","v":0},{"$f":"IF(Master!H137=\"\",\"B\",Master!H137)","v":"B"},{"$f":"IF(Master!I137=\"\",\"B\",Master!I137)","v":"B"},{"$f":"IF(Master!J137=\"\",\"B\",Master!J137)","v":"B"},{"$f":"IF(Master!K137=\"\",\"B\",Master!K137)","v":"B"},{"$f":"IF(Master!L137=\"\",\"B\",Master!L137)","v":"B"},{"$f":"IF(Master!M137=\"\",\"B\",Master!M137)","v":"B"}]
[{"$f":"Master!A138","v":"CN"},{"$f":"Master!B138","v":"WSDOT DB: DESIGN-BUILD INSTRUCTIONS TO PROPOSERS (ITP) AND REQUEST FOR PROPOSALS (RFP)"},{"$f":"Master!C138","v":"WSDOT_DB_ITP_RFP"},{"$f":"Master!D138","v":"ILT"},{"$f":"Master!E138","v":"Active"},{"$f":"Master!F138","v":0},{"$f":"Master!G138","v":0},{"$f":"IF(Master!H138=\"\",\"B\",Master!H138)","v":"B"},{"$f":"IF(Master!I138=\"\",\"B\",Master!I138)","v":"B"},{"$f":"IF(Master!J138=\"\",\"B\",Master!J138)","v":"B"},{"$f":"IF(Master!K138=\"\",\"B\",Master!K138)","v":"B"},{"$f":"IF(Master!L138=\"\",\"B\",Master!L138)","v":"B"},{"$f":"IF(Master!M138=\"\",\"B\",Master!M138)","v":"B"}]
[{"$f":"Master!A139","v":"CN"},{"$f":"Master!B139","v":"WSDOT DB: DESIGN-BUILD OFFICE MANAGEMENT AND CONTRACT ADMINISTRATION"},{"$f":"Master!C139","v":"WSDOT_DB_CA"},{"$f":"Master!D139","v":"ILT"},{"$f":"Master!E139","v":"Active"},{"$f":"Master!F139","v":0},{"$f":"Master!G139","v":0},{"$f":"IF(Master!H139=\"\",\"B\",Master!H139)","v":"B"},{"$f":"IF(Master!I139=\"\",\"B\",Master!I139)","v":"B"},{"$f":"IF(Master!J139=\"\",\"B\",Master!J139)","v":"B"},{"$f":"IF(Master!K139=\"\",\"B\",Master!K139)","v":"B"},{"$f":"IF(Master!L139=\"\",\"B\",Master!L139)","v":"B"},{"$f":"IF(Master!M139=\"\",\"B\",Master!M139)","v":"B"}]
[{"$f":"Master!A140","v":"CN"},{"$f":"Master!B140","v":"WSDOT DB: DESIGN-BUILD STARTUP AND REQUEST FOR QUALIFICATIONS (RFQ\") DEVELOPMENT"},{"$f":"Master!C140","v":"WSDOT_DB_RFQ"},{"$f":"Master!D140","v":"ILT"},{"$f":"Master!E140","v":"Active"},{"$f":"Master!F140","v":0},{"$f":"Master!G140","v":0},{"$f":"IF(Master!H140=\"\",\"B\",Master!H140)","v":"B"},{"$f":"IF(Master!I140=\"\",\"B\",Master!I140)","v":"B"},{"$f":"IF(Master!J140=\"\",\"B\",Master!J140)","v":"B"},{"$f":"IF(Master!K140=\"\",\"B\",Master!K140)","v":"B"},{"$f":"IF(Master!L140=\"\",\"B\",Master!L140)","v":"B"},{"$f":"IF(Master!M140=\"\",\"B\",Master!M140)","v":"B"}]
[{"$f":"Master!A141","v":"CN"},{"$f":"Master!B141","v":"WSDOT DB: ENVIRONMENTAL IN DESIGN-BUILD"},{"$f":"Master!C141","v":"WSDOT_DB_E"},{"$f":"Master!D141","v":"ILT"},{"$f":"Master!E141","v":"Active"},{"$f":"Master!F141","v":0},{"$f":"Master!G141","v":0},{"$f":"IF(Master!H141=\"\",\"B\",Master!H141)","v":"B"},{"$f":"IF(Master!I141=\"\",\"B\",Master!I141)","v":"B"},{"$f":"IF(Master!J141=\"\",\"B\",Master!J141)","v":"B"},{"$f":"IF(Master!K141=\"\",\"B\",Master!K141)","v":"B"},{"$f":"IF(Master!L141=\"\",\"B\",Master!L141)","v":"B"},{"$f":"IF(Master!M141=\"\",\"B\",Master!M141)","v":"B"}]
[{"$f":"Master!A142","v":"CN"},{"$f":"Master!B142","v":"WSDOT DB: LESSONS LEARNED"},{"$f":"Master!C142","v":"WSDOT_DB_LL"},{"$f":"Master!D142","v":"ILT"},{"$f":"Master!E142","v":"Active"},{"$f":"Master!F142","v":0},{"$f":"Master!G142","v":0},{"$f":"IF(Master!H142=\"\",\"B\",Master!H142)","v":"B"},{"$f":"IF(Master!I142=\"\",\"B\",Master!I142)","v":"B"},{"$f":"IF(Master!J142=\"\",\"B\",Master!J142)","v":"B"},{"$f":"IF(Master!K142=\"\",\"B\",Master!K142)","v":"B"},{"$f":"IF(Master!L142=\"\",\"B\",Master!L142)","v":"B"},{"$f":"IF(Master!M142=\"\",\"B\",Master!M142)","v":"B"}]
[{"$f":"Master!A143","v":"CN"},{"$f":"Master!B143","v":"WSDOT DB: PROPOSAL EVALUATION"},{"$f":"Master!C143","v":"WSDOT_DB_PE"},{"$f":"Master!D143","v":"ILT"},{"$f":"Master!E143","v":"Active"},{"$f":"Master!F143","v":0},{"$f":"Master!G143","v":0},{"$f":"IF(Master!H143=\"\",\"B\",Master!H143)","v":"B"},{"$f":"IF(Master!I143=\"\",\"B\",Master!I143)","v":"B"},{"$f":"IF(Master!J143=\"\",\"B\",Master!J143)","v":"B"},{"$f":"IF(Master!K143=\"\",\"B\",Master!K143)","v":"B"},{"$f":"IF(Master!L143=\"\",\"B\",Master!L143)","v":"B"},{"$f":"IF(Master!M143=\"\",\"B\",Master!M143)","v":"B"}]
[{"$f":"Master!A144","v":"CN"},{"$f":"Master!B144","v":"WSDOT DB: QUALITY IN DESIGN-BUILD"},{"$f":"Master!C144","v":"WSDOT_DB_Q"},{"$f":"Master!D144","v":"ILT"},{"$f":"Master!E144","v":"Active"},{"$f":"Master!F144","v":0},{"$f":"Master!G144","v":0},{"$f":"IF(Master!H144=\"\",\"B\",Master!H144)","v":"B"},{"$f":"IF(Master!I144=\"\",\"B\",Master!I144)","v":"B"},{"$f":"IF(Master!J144=\"\",\"B\",Master!J144)","v":"B"},{"$f":"IF(Master!K144=\"\",\"B\",Master!K144)","v":"B"},{"$f":"IF(Master!L144=\"\",\"B\",Master!L144)","v":"B"},{"$f":"IF(Master!M144=\"\",\"B\",Master!M144)","v":"B"}]
[{"$f":"Master!A145","v":"CN"},{"$f":"Master!B145","v":"WSDOT DB: STATEMENT OF QUALIFICATIONS (SOQ) EVALUATION"},{"$f":"Master!C145","v":"WSDOT_DB_SOQE"},{"$f":"Master!D145","v":"ILT"},{"$f":"Master!E145","v":"Active"},{"$f":"Master!F145","v":0},{"$f":"Master!G145","v":0},{"$f":"IF(Master!H145=\"\",\"B\",Master!H145)","v":"B"},{"$f":"IF(Master!I145=\"\",\"B\",Master!I145)","v":"B"},{"$f":"IF(Master!J145=\"\",\"B\",Master!J145)","v":"B"},{"$f":"IF(Master!K145=\"\",\"B\",Master!K145)","v":"B"},{"$f":"IF(Master!L145=\"\",\"B\",Master!L145)","v":"B"},{"$f":"IF(Master!M145=\"\",\"B\",Master!M145)","v":"B"}]
[{"$f":"Master!A146","v":"CN"},{"$f":"Master!B146","v":"**WSDOT DB: EVALUATION"},{"$f":"Master!C146","v":0},{"$f":"Master!D146","v":"ILT"},{"$f":"Master!E146","v":"Under Development"},{"$f":"Master!F146","v":"Q1 2019"},{"$f":"Master!G146","v":0},{"$f":"IF(Master!H146=\"\",\"B\",Master!H146)","v":"B"},{"$f":"IF(Master!I146=\"\",\"B\",Master!I146)","v":"B"},{"$f":"IF(Master!J146=\"\",\"B\",Master!J146)","v":"B"},{"$f":"IF(Master!K146=\"\",\"B\",Master!K146)","v":"B"},{"$f":"IF(Master!L146=\"\",\"B\",Master!L146)","v":"B"},{"$f":"IF(Master!M146=\"\",\"B\",Master!M146)","v":"B"}]
[{"$f":"Master!A147","v":"CN"},{"$f":"Master!B147","v":"WSDOT DB: DESIGN-BUILD INVOICE PROCESSING"},{"$f":"Master!C147","v":0},{"$f":"Master!D147","v":"ILT"},{"$f":"Master!E147","v":"Active"},{"$f":"Master!F147","v":0},{"$f":"Master!G147","v":0},{"$f":"IF(Master!H147=\"\",\"B\",Master!H147)","v":"B"},{"$f":"IF(Master!I147=\"\",\"B\",Master!I147)","v":"B"},{"$f":"IF(Master!J147=\"\",\"B\",Master!J147)","v":"B"},{"$f":"IF(Master!K147=\"\",\"B\",Master!K147)","v":"B"},{"$f":"IF(Master!L147=\"\",\"B\",Master!L147)","v":"B"},{"$f":"IF(Master!M147=\"\",\"B\",Master!M147)","v":"B"}]
[{"$f":"Master!A148","v":"CN"},{"$f":"Master!B148","v":"WSDOT DB: INTERNAL AND EXTERNAL DEBRIEFING"},{"$f":"Master!C148","v":0},{"$f":"Master!D148","v":"ILT"},{"$f":"Master!E148","v":"Active"},{"$f":"Master!F148","v":0},{"$f":"Master!G148","v":0},{"$f":"IF(Master!H148=\"\",\"B\",Master!H148)","v":"B"},{"$f":"IF(Master!I148=\"\",\"B\",Master!I148)","v":"B"},{"$f":"IF(Master!J148=\"\",\"B\",Master!J148)","v":"B"},{"$f":"IF(Master!K148=\"\",\"B\",Master!K148)","v":"B"},{"$f":"IF(Master!L148=\"\",\"B\",Master!L148)","v":"B"},{"$f":"IF(Master!M148=\"\",\"B\",Master!M148)","v":"B"}]
[{"$f":"Master!A149","v":"CN"},{"$f":"Master!B149","v":"WSDOT DB: DESIGN-BUILD QUALITY VERIFICATION"},{"$f":"Master!C149","v":0},{"$f":"Master!D149","v":"ILT"},{"$f":"Master!E149","v":"Active"},{"$f":"Master!F149","v":0},{"$f":"Master!G149","v":0},{"$f":"IF(Master!H149=\"\",\"B\",Master!H149)","v":"B"},{"$f":"IF(Master!I149=\"\",\"B\",Master!I149)","v":"B"},{"$f":"IF(Master!J149=\"\",\"B\",Master!J149)","v":"B"},{"$f":"IF(Master!K149=\"\",\"B\",Master!K149)","v":"B"},{"$f":"IF(Master!L149=\"\",\"B\",Master!L149)","v":"B"},{"$f":"IF(Master!M149=\"\",\"B\",Master!M149)","v":"B"}]
[{"$f":"Master!A150","v":"CN"},{"$f":"Master!B150","v":"**WSDOT DB: QV ADMINISTRATION"},{"$f":"Master!C150","v":0},{"$f":"Master!D150","v":"ILT"},{"$f":"Master!E150","v":"Under Development"},{"$f":"Master!F150","v":"Q1 2019"},{"$f":"Master!G150","v":0},{"$f":"IF(Master!H150=\"\",\"B\",Master!H150)","v":"B"},{"$f":"IF(Master!I150=\"\",\"B\",Master!I150)","v":"B"},{"$f":"IF(Master!J150=\"\",\"B\",Master!J150)","v":"B"},{"$f":"IF(Master!K150=\"\",\"B\",Master!K150)","v":"B"},{"$f":"IF(Master!L150=\"\",\"B\",Master!L150)","v":"B"},{"$f":"IF(Master!M150=\"\",\"B\",Master!M150)","v":"B"}]
[{"$f":"Master!A151","v":"CN"},{"$f":"Master!B151","v":"**WSDOT DB: RISK ANALYSIS AND ALLOCATION FOR DB CONTRACTS"},{"$f":"Master!C151","v":0},{"$f":"Master!D151","v":"ILT"},{"$f":"Master!E151","v":"Under Development"},{"$f":"Master!F151","v":"Q1 2019"},{"$f":"Master!G151","v":0},{"$f":"IF(Master!H151=\"\",\"B\",Master!H151)","v":"B"},{"$f":"IF(Master!I151=\"\",\"B\",Master!I151)","v":"B"},{"$f":"IF(Master!J151=\"\",\"B\",Master!J151)","v":"B"},{"$f":"IF(Master!K151=\"\",\"B\",Master!K151)","v":"B"},{"$f":"IF(Master!L151=\"\",\"B\",Master!L151)","v":"B"},{"$f":"IF(Master!M151=\"\",\"B\",Master!M151)","v":"B"}]
[{"$f":"Master!A152","v":"Development Division"},null,null,null,null,null,null,{"$f":"IF(Master!J152=\"\",\"B\",Master!J152)","v":"B"},{"$f":"IF(Master!U152=\"\",\"B\",Master!U152)","v":"B"},{"$f":"IF(Master!AF152=\"\",\"B\",Master!AF152)","v":"B"},{"$f":"IF(Master!AQ152=\"\",\"B\",Master!AQ152)","v":"B"},{"$f":"IF(Master!BB152=\"\",\"B\",Master!BB152)","v":"B"},{"$f":"IF(Master!BM152=\"\",\"B\",Master!BM152)","v":"B"}]
[{"$f":"Master!A153","v":"Design"},null,null,null,null,null,null,{"$f":"IF(Master!J153=\"\",\"B\",Master!J153)","v":"B"},{"$f":"IF(Master!U153=\"\",\"B\",Master!U153)","v":"B"},{"$f":"IF(Master!AF153=\"\",\"B\",Master!AF153)","v":"B"},{"$f":"IF(Master!AQ153=\"\",\"B\",Master!AQ153)","v":"B"},{"$f":"IF(Master!BB153=\"\",\"B\",Master!BB153)","v":"B"},{"$f":"IF(Master!BM153=\"\",\"B\",Master!BM153)","v":"B"}]
[{"$f":"Master!A154","v":"DES"},{"$f":"Master!B154","v":"CONTRACT PLANS REVIEW (SELF-STUDY)"},{"$f":"Master!C154","v":"Paper and Pencil"},{"$f":"Master!D154","v":"SS"},{"$f":"Master!E154","v":"Active"},{"$f":"Master!F154","v":0},{"$f":"Master!H154","v":"E-Learning option as well.  Updated in 2013."},{"$f":"IF(Master!J154=\"\",\"B\",Master!J154)","v":"R"},{"$f":"IF(Master!U154=\"\",\"B\",Master!U154)","v":"R"},{"$f":"IF(Master!AF154=\"\",\"B\",Master!AF154)","v":1},{"$f":"IF(Master!AQ154=\"\",\"B\",Master!AQ154)","v":1},{"$f":"IF(Master!BB154=\"\",\"B\",Master!BB154)","v":"B"},{"$f":"IF(Master!BM154=\"\",\"B\",Master!BM154)","v":"B"}]
[{"$f":"Master!A155","v":"DES"},{"$f":"Master!B155","v":"CONTRACT PLANS READING (SELF-STUDY)"},{"$f":"Master!C155","v":"Paper and Pencil"},{"$f":"Master!D155","v":"SS"},{"$f":"Master!E155","v":"Active"},{"$f":"Master!F155","v":0},{"$f":"Master!H155","v":"Obtain material through Staff Development."},{"$f":"IF(Master!J155=\"\",\"B\",Master!J155)","v":"R"},{"$f":"IF(Master!U155=\"\",\"B\",Master!U155)","v":"R"},{"$f":"IF(Master!AF155=\"\",\"B\",Master!AF155)","v":1},{"$f":"IF(Master!AQ155=\"\",\"B\",Master!AQ155)","v":1},{"$f":"IF(Master!BB155=\"\",\"B\",Master!BB155)","v":"B"},{"$f":"IF(Master!BM155=\"\",\"B\",Master!BM155)","v":"B"}]
[{"$f":"Master!A156","v":"DES"},{"$f":"Master!B156","v":"WSDOT DES: CONTRACT PLANS & ESTIMATE PREPARATION"},{"$f":"Master!C156","v":"WSDOT_A4J"},{"$f":"Master!D156","v":"ILT"},{"$f":"Master!E156","v":"Inactive"},{"$f":"Master!F156","v":"None"},{"$f":"Master!H156","v":0},{"$f":"IF(Master!J156=\"\",\"B\",Master!J156)","v":"B"},{"$f":"IF(Master!U156=\"\",\"B\",Master!U156)","v":"B"},{"$f":"IF(Master!AF156=\"\",\"B\",Master!AF156)","v":"B"},{"$f":"IF(Master!AQ156=\"\",\"B\",Master!AQ156)","v":"B"},{"$f":"IF(Master!BB156=\"\",\"B\",Master!BB156)","v":"B"},{"$f":"IF(Master!BM156=\"\",\"B\",Master!BM156)","v":"B"}]
[{"$f":"Master!A157","v":"DES"},{"$f":"Master!B157","v":"WSDOT DES: CONTRACT PROVISION PREPARATION"},{"$f":"Master!C157","v":"WSDOT_BGN"},{"$f":"Master!D157","v":"ILT"},{"$f":"Master!E157","v":"Inactive"},{"$f":"Master!F157","v":"None"},{"$f":"Master!H157","v":0},{"$f":"IF(Master!J157=\"\",\"B\",Master!J157)","v":"B"},{"$f":"IF(Master!U157=\"\",\"B\",Master!U157)","v":"B"},{"$f":"IF(Master!AF157=\"\",\"B\",Master!AF157)","v":"B"},{"$f":"IF(Master!AQ157=\"\",\"B\",Master!AQ157)","v":"B"},{"$f":"IF(Master!BB157=\"\",\"B\",Master!BB157)","v":"B"},{"$f":"IF(Master!BM157=\"\",\"B\",Master!BM157)","v":"B"}]
[{"$f":"Master!A158","v":"DES"},{"$f":"Master!B158","v":"WSDOT DESIGN DOCUMENTATION"},{"$f":"Master!C158","v":"WSDOT DES: Design Documentation"},{"$f":"Master!D158","v":"ILT"},{"$f":"Master!E158","v":"Active"},{"$f":"Master!F158","v":0},{"$f":"Master!H158","v":"Contact ASDE; course material is at https://www.wsdot.wa.gov/Design/Support.htm."},{"$f":"IF(Master!J158=\"\",\"B\",Master!J158)","v":"B"},{"$f":"IF(Master!U158=\"\",\"B\",Master!U158)","v":"B"},{"$f":"IF(Master!AF158=\"\",\"B\",Master!AF158)","v":"B"},{"$f":"IF(Master!AQ158=\"\",\"B\",Master!AQ158)","v":"B"},{"$f":"IF(Master!BB158=\"\",\"B\",Master!BB158)","v":"B"},{"$f":"IF(Master!BM158=\"\",\"B\",Master!BM158)","v":"B"}]
[{"$f":"Master!A159","v":"DES"},{"$f":"Master!B159","v":"WSDOT DES: INTERSECTION DESIGN"},{"$f":"Master!C159","v":"WSDOT_CBD"},{"$f":"Master!D159","v":"ILT"},{"$f":"Master!E159","v":"Active"},{"$f":"Master!F159","v":0},{"$f":"Master!H159","v":"Course  updated in 2019,  delivered to all regions; class delivered by request."},{"$f":"IF(Master!J159=\"\",\"B\",Master!J159)","v":"B"},{"$f":"IF(Master!U159=\"\",\"B\",Master!U159)","v":"B"},{"$f":"IF(Master!AF159=\"\",\"B\",Master!AF159)","v":"B"},{"$f":"IF(Master!AQ159=\"\",\"B\",Master!AQ159)","v":"B"},{"$f":"IF(Master!BB159=\"\",\"B\",Master!BB159)","v":"B"},{"$f":"IF(Master!BM159=\"\",\"B\",Master!BM159)","v":"B"}]
[{"$f":"Master!A160","v":"DES"},{"$f":"Master!B160","v":"WSDOT DES: PROJECT DEVELOPMENT PROCESS"},{"$f":"Master!C160","v":"WSDOT_CF4"},{"$f":"Master!D160","v":"ILT"},{"$f":"Master!E160","v":"Active"},{"$f":"Master!F160","v":"None"},{"$f":"Master!H160","v":"Updated January 2020; will deliver to regions by 6/30/2021"},{"$f":"IF(Master!J160=\"\",\"B\",Master!J160)","v":"B"},{"$f":"IF(Master!U160=\"\",\"B\",Master!U160)","v":"B"},{"$f":"IF(Master!AF160=\"\",\"B\",Master!AF160)","v":"B"},{"$f":"IF(Master!AQ160=\"\",\"B\",Master!AQ160)","v":"B"},{"$f":"IF(Master!BB160=\"\",\"B\",Master!BB160)","v":"B"},{"$f":"IF(Master!BM160=\"\",\"B\",Master!BM160)","v":"B"}]
[{"$f":"Master!A161","v":"DES"},{"$f":"Master!B161","v":"WSDOT PM: SCHEDULING BASICS"},{"$f":"Master!C161","v":"WSDOT_CB5"},{"$f":"Master!D161","v":"ILT"},{"$f":"Master!E161","v":"Inactive"},{"$f":"Master!F161","v":"None"},{"$f":"Master!H161","v":0},{"$f":"IF(Master!J161=\"\",\"B\",Master!J161)","v":"B"},{"$f":"IF(Master!U161=\"\",\"B\",Master!U161)","v":"B"},{"$f":"IF(Master!AF161=\"\",\"B\",Master!AF161)","v":"B"},{"$f":"IF(Master!AQ161=\"\",\"B\",Master!AQ161)","v":"B"},{"$f":"IF(Master!BB161=\"\",\"B\",Master!BB161)","v":"B"},{"$f":"IF(Master!BM161=\"\",\"B\",Master!BM161)","v":"B"}]
[{"$f":"Master!A162","v":"DES"},{"$f":"Master!B162","v":"AASHTO T3 CPM SCHEDULING"},{"$f":"Master!C162","v":"Resources:\nCPM Scheduling (2 PDHs)\nCPM Scheduling (3 PDHs)"},{"$f":"Master!D162","v":"OLT"},{"$f":"Master!E162","v":"Active"},{"$f":"Master!F162","v":0},{"$f":"Master!H162","v":"The online CPM training is free for WSDOT employees. To sign up, create an AASHTO account (use your WSDOT email address for the username) then navigate to the CPM training and add it to your cart. Follow the instructions that are emailed to you. There are a variety of other courses available to WSDOT employees at no cost."}]
[{"$f":"Master!A163","v":"DES"},{"$f":"Master!B163","v":"WSDOT DES: RIGHT OF WAY PLANS PREPARATION"},{"$f":"Master!C163","v":"WSDOT_BCN"},{"$f":"Master!D163","v":"ILT"},{"$f":"Master!E163","v":"Inactive"},{"$f":"Master!F163","v":"None"},{"$f":"Master!H163","v":0},{"$f":"IF(Master!J163=\"\",\"B\",Master!J163)","v":"B"},{"$f":"IF(Master!U163=\"\",\"B\",Master!U163)","v":"B"},{"$f":"IF(Master!AF163=\"\",\"B\",Master!AF163)","v":"B"},{"$f":"IF(Master!AQ163=\"\",\"B\",Master!AQ163)","v":"B"},{"$f":"IF(Master!BB163=\"\",\"B\",Master!BB163)","v":"B"},{"$f":"IF(Master!BM163=\"\",\"B\",Master!BM163)","v":"B"}]
[{"$f":"Master!A164","v":"DES"},{"$f":"Master!B164","v":"WSDOT DES: ROADSIDE SAFETY"},{"$f":"Master!C164","v":"WSDOT_B74"},{"$f":"Master!D164","v":"ILT"},{"$f":"Master!E164","v":"Inactive"},{"$f":"Master!F164","v":"None"},{"$f":"Master!H164","v":0},{"$f":"IF(Master!J164=\"\",\"B\",Master!J164)","v":2},{"$f":"IF(Master!U164=\"\",\"B\",Master!U164)","v":2},{"$f":"IF(Master!AF164=\"\",\"B\",Master!AF164)","v":2},{"$f":"IF(Master!AQ164=\"\",\"B\",Master!AQ164)","v":2},{"$f":"IF(Master!BB164=\"\",\"B\",Master!BB164)","v":2},{"$f":"IF(Master!BM164=\"\",\"B\",Master!BM164)","v":"B"}]
[{"$f":"Master!A165","v":"DES"},{"$f":"Master!B165","v":"WSDOT DES: ROADWAY GEOMETRIC DESIGN"},{"$f":"Master!C165","v":"WSDOT_BWE"},{"$f":"Master!D165","v":"ILT"},{"$f":"Master!E165","v":"Inactive"},{"$f":"Master!F165","v":"None"},{"$f":"Master!H165","v":0},{"$f":"IF(Master!J165=\"\",\"B\",Master!J165)","v":"B"},{"$f":"IF(Master!U165=\"\",\"B\",Master!U165)","v":"B"},{"$f":"IF(Master!AF165=\"\",\"B\",Master!AF165)","v":"B"},{"$f":"IF(Master!AQ165=\"\",\"B\",Master!AQ165)","v":"B"},{"$f":"IF(Master!BB165=\"\",\"B\",Master!BB165)","v":"B"},{"$f":"IF(Master!BM165=\"\",\"B\",Master!BM165)","v":"B"}]
[{"$f":"Master!A166","v":"DES"},{"$f":"Master!B166","v":"WSDOT DES: INTERCHANGE DESIGN"},{"$f":"Master!C166","v":"WSDOT_CFU"},{"$f":"Master!D166","v":"ILT"},{"$f":"Master!E166","v":"Inactive"},{"$f":"Master!F166","v":"None"},{"$f":"Master!H166","v":"FHWA delivered their interchange training at WSDOT in 2019; course delivery depends on demand."},{"$f":"IF(Master!J166=\"\",\"B\",Master!J166)","v":"B"},{"$f":"IF(Master!U166=\"\",\"B\",Master!U166)","v":"B"},{"$f":"IF(Master!AF166=\"\",\"B\",Master!AF166)","v":"B"},{"$f":"IF(Master!AQ166=\"\",\"B\",Master!AQ166)","v":"B"},{"$f":"IF(Master!BB166=\"\",\"B\",Master!BB166)","v":"B"},{"$f":"IF(Master!BM166=\"\",\"B\",Master!BM166)","v":"B"}]
[{"$f":"Master!A167","v":"DES"},{"$f":"Master!B167","v":"WSDOT DES: ACCESS MANAGEMENT"},{"$f":"Master!C167","v":"WSDOT_DAS"},{"$f":"Master!D167","v":"ILT"},{"$f":"Master!E167","v":"Active"},{"$f":"Master!F167","v":0},{"$f":"Master!H167","v":"Being updated, but current class can be given at any time"},{"$f":"IF(Master!J167=\"\",\"B\",Master!J167)","v":"B"},{"$f":"IF(Master!U167=\"\",\"B\",Master!U167)","v":"B"},{"$f":"IF(Master!AF167=\"\",\"B\",Master!AF167)","v":"B"},{"$f":"IF(Master!AQ167=\"\",\"B\",Master!AQ167)","v":"B"},{"$f":"IF(Master!BB167=\"\",\"B\",Master!BB167)","v":"B"},{"$f":"IF(Master!BM167=\"\",\"B\",Master!BM167)","v":"B"}]
[{"$f":"Master!A168","v":"DES"},{"$f":"Master!B168","v":"ALTERNATIVES COMPARISON WORKSHOP"},{"$f":"Master!C168","v":"None"},{"$f":"Master!D168","v":"ILT"},{"$f":"Master!E168","v":"Inactive"},{"$f":"Master!F168","v":"None"},{"$f":"Master!H168","v":0},{"$f":"IF(Master!J168=\"\",\"B\",Master!J168)","v":"B"},{"$f":"IF(Master!U168=\"\",\"B\",Master!U168)","v":"B"},{"$f":"IF(Master!AF168=\"\",\"B\",Master!AF168)","v":"B"},{"$f":"IF(Master!AQ168=\"\",\"B\",Master!AQ168)","v":"B"},{"$f":"IF(Master!BB168=\"\",\"B\",Master!BB168)","v":"B"},{"$f":"IF(Master!BM168=\"\",\"B\",Master!BM168)","v":"B"}]
[{"$f":"Master!A169","v":"DES"},{"$f":"Master!B169","v":"WSDOT DES: COST ESTIMATING"},{"$f":"Master!C169","v":"WSDOT_CZV"},{"$f":"Master!D169","v":"ILT"},{"$f":"Master!E169","v":"Active"},{"$f":"Master!F169","v":0},{"$f":"Master!H169","v":"This class was updated in 2019 and delivered to all regions 2019-2020; this class can be delivered by request."},{"$f":"IF(Master!J169=\"\",\"B\",Master!J169)","v":2},{"$f":"IF(Master!U169=\"\",\"B\",Master!U169)","v":2},{"$f":"IF(Master!AF169=\"\",\"B\",Master!AF169)","v":2},{"$f":"IF(Master!AQ169=\"\",\"B\",Master!AQ169)","v":2},{"$f":"IF(Master!BB169=\"\",\"B\",Master!BB169)","v":2},{"$f":"IF(Master!BM169=\"\",\"B\",Master!BM169)","v":"B"}]
[{"$f":"Master!A170","v":"DES"},{"$f":"Master!B170","v":"RISK MANAGEMENT"},{"$f":"Master!C170","v":"None"},{"$f":"Master!D170","v":"ILT"},{"$f":"Master!E170","v":"Inactive"},{"$f":"Master!F170","v":"None"},{"$f":"Master!H170","v":"Available by arrangement; contact Mark Gabel or Mark Suijka."},{"$f":"IF(Master!J170=\"\",\"B\",Master!J170)","v":"B"},{"$f":"IF(Master!U170=\"\",\"B\",Master!U170)","v":"B"},{"$f":"IF(Master!AF170=\"\",\"B\",Master!AF170)","v":"B"},{"$f":"IF(Master!AQ170=\"\",\"B\",Master!AQ170)","v":"B"},{"$f":"IF(Master!BB170=\"\",\"B\",Master!BB170)","v":"B"},{"$f":"IF(Master!BM170=\"\",\"B\",Master!BM170)","v":1}]
[{"$f":"Master!A171","v":"DES"},{"$f":"Master!B171","v":"MANAGING PROJECT DELIVERY"},{"$f":"Master!C171","v":"None"},{"$f":"Master!D171","v":0},{"$f":"Master!E171","v":"Inactive"},{"$f":"Master!F171","v":"None"},{"$f":"Master!H171","v":"PM courses abailable through SkillSoft:  https://wsdot.skillport.com/skillportfe/main.action#whatshappening"},{"$f":"IF(Master!J171=\"\",\"B\",Master!J171)","v":"B"},{"$f":"IF(Master!U171=\"\",\"B\",Master!U171)","v":"B"},{"$f":"IF(Master!AF171=\"\",\"B\",Master!AF171)","v":"B"},{"$f":"IF(Master!AQ171=\"\",\"B\",Master!AQ171)","v":"B"},{"$f":"IF(Master!BB171=\"\",\"B\",Master!BB171)","v":"B"},{"$f":"IF(Master!BM171=\"\",\"B\",Master!BM171)","v":"B"}]
[{"$f":"Master!A172","v":"DES"},{"$f":"Master!B172","v":"HUMAN FACTORS IN TRANSPORTATION DESIGN"},{"$f":"Master!C172","v":"None"},{"$f":"Master!D172","v":"ILT"},{"$f":"Master!E172","v":"Inactive"},{"$f":"Master!F172","v":"None"},{"$f":"Master!H172","v":"Partly covered in the HSM Training"},{"$f":"IF(Master!J172=\"\",\"B\",Master!J172)","v":"B"},{"$f":"IF(Master!U172=\"\",\"B\",Master!U172)","v":"B"},{"$f":"IF(Master!AF172=\"\",\"B\",Master!AF172)","v":"B"},{"$f":"IF(Master!AQ172=\"\",\"B\",Master!AQ172)","v":"B"},{"$f":"IF(Master!BB172=\"\",\"B\",Master!BB172)","v":"B"},{"$f":"IF(Master!BM172=\"\",\"B\",Master!BM172)","v":2}]
[{"$f":"Master!A173","v":"DES"},{"$f":"Master!B173","v":"WSDOT DES: [YYYY] DESIGN MANUAL TRAINING"},{"$f":"Master!C173","v":"WSDOT_DMUT01202016"},{"$f":"Master!D173","v":"ILT"},{"$f":"Master!E173","v":"Active"},{"$f":"Master!F173","v":0},{"$f":"Master!H173","v":0},{"$f":"IF(Master!J173=\"\",\"B\",Master!J173)","v":"B"},{"$f":"IF(Master!U173=\"\",\"B\",Master!U173)","v":"B"},{"$f":"IF(Master!AF173=\"\",\"B\",Master!AF173)","v":"B"},{"$f":"IF(Master!AQ173=\"\",\"B\",Master!AQ173)","v":"B"},{"$f":"IF(Master!BB173=\"\",\"B\",Master!BB173)","v":"B"},{"$f":"IF(Master!BM173=\"\",\"B\",Master!BM173)","v":"B"}]
[{"$f":"Master!A174","v":"DES"},{"$f":"Master!B174","v":"WSDOT DES: DESIGN MANUAL DIVISION 11 PRACTICAL DESIGN"},{"$f":"Master!C174","v":"DMUT_ORG"},{"$f":"Master!D174","v":"OLT"},{"$f":"Master!E174","v":"Active"},{"$f":"Master!F174","v":0},{"$f":"Master!H174","v":"Available in LMS for credit, also at https://www.wsdot.wa.gov/LocalPrograms/Training/eTraining.htm "},{"$f":"IF(Master!J174=\"\",\"B\",Master!J174)","v":"B"},{"$f":"IF(Master!U174=\"\",\"B\",Master!U174)","v":"B"},{"$f":"IF(Master!AF174=\"\",\"B\",Master!AF174)","v":"B"},{"$f":"IF(Master!AQ174=\"\",\"B\",Master!AQ174)","v":"B"},{"$f":"IF(Master!BB174=\"\",\"B\",Master!BB174)","v":"B"},{"$f":"IF(Master!BM174=\"\",\"B\",Master!BM174)","v":"B"}]
[{"$f":"Master!A175","v":"DES"},{"$f":"Master!B175","v":"WSDOT PS 201 MULTIMODAL MAKING THE CASE MODULE1 OLT"},{"$f":"Master!C175","v":"Module_1:_Why_Multimodal?_ORG"},{"$f":"Master!D175","v":"OLT"},{"$f":"Master!E175","v":"Active"},{"$f":"Master!F175","v":0},{"$f":"Master!H175","v":0},{"$f":"IF(Master!J175=\"\",\"B\",Master!J175)","v":"B"},{"$f":"IF(Master!U175=\"\",\"B\",Master!U175)","v":"B"},{"$f":"IF(Master!AF175=\"\",\"B\",Master!AF175)","v":"B"},{"$f":"IF(Master!AQ175=\"\",\"B\",Master!AQ175)","v":"B"},{"$f":"IF(Master!BB175=\"\",\"B\",Master!BB175)","v":"B"},{"$f":"IF(Master!BM175=\"\",\"B\",Master!BM175)","v":"B"}]
[{"$f":"Master!A176","v":"DES"},{"$f":"Master!B176","v":"WSDOT PS 201 MULTIMODAL LAND USE MODULE2 OLT"},{"$f":"Master!C176","v":"Module_2_Land_Use_&_Transportation_ORG"},{"$f":"Master!D176","v":"OLT"},{"$f":"Master!E176","v":"Active"},{"$f":"Master!F176","v":0},{"$f":"Master!H176","v":0},{"$f":"IF(Master!J176=\"\",\"B\",Master!J176)","v":"B"},{"$f":"IF(Master!U176=\"\",\"B\",Master!U176)","v":"B"},{"$f":"IF(Master!AF176=\"\",\"B\",Master!AF176)","v":"B"},{"$f":"IF(Master!AQ176=\"\",\"B\",Master!AQ176)","v":"B"},{"$f":"IF(Master!BB176=\"\",\"B\",Master!BB176)","v":"B"},{"$f":"IF(Master!BM176=\"\",\"B\",Master!BM176)","v":"B"}]
[{"$f":"Master!A177","v":"DES"},{"$f":"Master!B177","v":"WSDOT PS 201 MULTIMODAL PHASES AND NEEDS MODULE3 OLT"},{"$f":"Master!C177","v":"Module_3_Phases_and_Needs_ORG"},{"$f":"Master!D177","v":"OLT"},{"$f":"Master!E177","v":" Active"},{"$f":"Master!F177","v":0},{"$f":"Master!H177","v":0},{"$f":"IF(Master!J177=\"\",\"B\",Master!J177)","v":"B"},{"$f":"IF(Master!U177=\"\",\"B\",Master!U177)","v":"B"},{"$f":"IF(Master!AF177=\"\",\"B\",Master!AF177)","v":"B"},{"$f":"IF(Master!AQ177=\"\",\"B\",Master!AQ177)","v":"B"},{"$f":"IF(Master!BB177=\"\",\"B\",Master!BB177)","v":"B"},{"$f":"IF(Master!BM177=\"\",\"B\",Master!BM177)","v":"B"}]
[{"$f":"Master!A178","v":"DES"},{"$f":"Master!B178","v":"WSDOT PS 201 MULTIMODAL PERFORMANCE BASICS MODULE4 OLT"},{"$f":"Master!C178","v":"Module_4_Performance_Basics_ORG"},{"$f":"Master!D178","v":"OLT"},{"$f":"Master!E178","v":"Active"},{"$f":"Master!F178","v":0},{"$f":"Master!H178","v":0},{"$f":"IF(Master!J178=\"\",\"B\",Master!J178)","v":"B"},{"$f":"IF(Master!U178=\"\",\"B\",Master!U178)","v":"B"},{"$f":"IF(Master!AF178=\"\",\"B\",Master!AF178)","v":"B"},{"$f":"IF(Master!AQ178=\"\",\"B\",Master!AQ178)","v":"B"},{"$f":"IF(Master!BB178=\"\",\"B\",Master!BB178)","v":"B"},{"$f":"IF(Master!BM178=\"\",\"B\",Master!BM178)","v":"B"}]
[{"$f":"Master!A179","v":"DES"},{"$f":"Master!B179","v":"WSDOT PS 201 MULTIMODAL TRANSIT MODULE5 OLT"},{"$f":"Master!C179","v":"Module_5_Transit_ORG"},{"$f":"Master!D179","v":"OLT"},{"$f":"Master!E179","v":"Active"},{"$f":"Master!F179","v":0},{"$f":"Master!H179","v":0},{"$f":"IF(Master!J179=\"\",\"B\",Master!J179)","v":"B"},{"$f":"IF(Master!U179=\"\",\"B\",Master!U179)","v":"B"},{"$f":"IF(Master!AF179=\"\",\"B\",Master!AF179)","v":"B"},{"$f":"IF(Master!AQ179=\"\",\"B\",Master!AQ179)","v":"B"},{"$f":"IF(Master!BB179=\"\",\"B\",Master!BB179)","v":"B"},{"$f":"IF(Master!BM179=\"\",\"B\",Master!BM179)","v":"B"}]
[{"$f":"Master!A180","v":"DES"},{"$f":"Master!B180","v":"WSDOT PS 201 MULTIMODAL WALKING MODULE6 OLT"},{"$f":"Master!C180","v":"Module_6_People_Walking_ORG"},{"$f":"Master!D180","v":"OLT"},{"$f":"Master!E180","v":"Active"},{"$f":"Master!F180","v":0},{"$f":"Master!H180","v":0},{"$f":"IF(Master!J180=\"\",\"B\",Master!J180)","v":"B"},{"$f":"IF(Master!U180=\"\",\"B\",Master!U180)","v":"B"},{"$f":"IF(Master!AF180=\"\",\"B\",Master!AF180)","v":"B"},{"$f":"IF(Master!AQ180=\"\",\"B\",Master!AQ180)","v":"B"},{"$f":"IF(Master!BB180=\"\",\"B\",Master!BB180)","v":"B"},{"$f":"IF(Master!BM180=\"\",\"B\",Master!BM180)","v":"B"}]
[{"$f":"Master!A181","v":"DES"},{"$f":"Master!B181","v":"WSDOT PS 201 MULTIMODAL BIKING MODULE7 OLT"},{"$f":"Master!C181","v":"Module_7_People_Biking_ORG"},{"$f":"Master!D181","v":"OLT"},{"$f":"Master!E181","v":"Active"},{"$f":"Master!F181","v":0},{"$f":"Master!H181","v":0},{"$f":"IF(Master!J181=\"\",\"B\",Master!J181)","v":"B"},{"$f":"IF(Master!U181=\"\",\"B\",Master!U181)","v":"B"},{"$f":"IF(Master!AF181=\"\",\"B\",Master!AF181)","v":"B"},{"$f":"IF(Master!AQ181=\"\",\"B\",Master!AQ181)","v":"B"},{"$f":"IF(Master!BB181=\"\",\"B\",Master!BB181)","v":"B"},{"$f":"IF(Master!BM181=\"\",\"B\",Master!BM181)","v":"B"}]
[{"$f":"Master!A182","v":"DES"},{"$f":"Master!B182","v":"WSDOT PS 201 MULTIMODAL FREIGHT MODULE8 OLT"},{"$f":"Master!C182","v":"Module_8_Freight_Transportation_ORG"},{"$f":"Master!D182","v":"OLT"},{"$f":"Master!E182","v":"Active"},{"$f":"Master!F182","v":0},{"$f":"Master!H182","v":0},{"$f":"IF(Master!J182=\"\",\"B\",Master!J182)","v":"B"},{"$f":"IF(Master!U182=\"\",\"B\",Master!U182)","v":"B"},{"$f":"IF(Master!AF182=\"\",\"B\",Master!AF182)","v":"B"},{"$f":"IF(Master!AQ182=\"\",\"B\",Master!AQ182)","v":"B"},{"$f":"IF(Master!BB182=\"\",\"B\",Master!BB182)","v":"B"},{"$f":"IF(Master!BM182=\"\",\"B\",Master!BM182)","v":"B"}]
[{"$f":"Master!A183","v":"DES"},{"$f":"Master!B183","v":"WSDOT PS 201 MULTIMODAL CONFLICTS AND HUBS MODULE9 OLT"},{"$f":"Master!C183","v":"Module_9_Modal_Conflicts_and_Hubs_ORG"},{"$f":"Master!D183","v":"OLT"},{"$f":"Master!E183","v":"Active"},{"$f":"Master!F183","v":0},{"$f":"Master!H183","v":0},{"$f":"IF(Master!J183=\"\",\"B\",Master!J183)","v":"B"},{"$f":"IF(Master!U183=\"\",\"B\",Master!U183)","v":"B"},{"$f":"IF(Master!AF183=\"\",\"B\",Master!AF183)","v":"B"},{"$f":"IF(Master!AQ183=\"\",\"B\",Master!AQ183)","v":"B"},{"$f":"IF(Master!BB183=\"\",\"B\",Master!BB183)","v":"B"},{"$f":"IF(Master!BM183=\"\",\"B\",Master!BM183)","v":"B"}]
[{"$f":"Master!A184","v":"DES"},{"$f":"Master!B184","v":"WSDOT PRACTICAL SOLUTIONS OVERVIEW OLT"},{"$f":"Master!C184","v":"Practical_Solutions_Overview_ORG"},{"$f":"Master!D184","v":"OLT"},{"$f":"Master!E184","v":"Active"},{"$f":"Master!F184","v":0},{"$f":"Master!H184","v":0},{"$f":"IF(Master!J184=\"\",\"B\",Master!J184)","v":2},{"$f":"IF(Master!U184=\"\",\"B\",Master!U184)","v":2},{"$f":"IF(Master!AF184=\"\",\"B\",Master!AF184)","v":2},{"$f":"IF(Master!AQ184=\"\",\"B\",Master!AQ184)","v":2},{"$f":"IF(Master!BB184=\"\",\"B\",Master!BB184)","v":2},{"$f":"IF(Master!BM184=\"\",\"B\",Master!BM184)","v":2}]
[{"$f":"Master!A185","v":"DES"},{"$f":"Master!B185","v":"WSDOT PS 101: PRACTICAL SOLUTIONS APPROACH TO PROJECT DEVELOPMENT OVERVIEW"},{"$f":"Master!C185","v":"WSDOT_PS101"},{"$f":"Master!D185","v":"ILT"},{"$f":"Master!E185","v":"Inactive"},{"$f":"Master!F185","v":0},{"$f":"Master!H185","v":0},{"$f":"IF(Master!J185=\"\",\"B\",Master!J185)","v":2},{"$f":"IF(Master!U185=\"\",\"B\",Master!U185)","v":2},{"$f":"IF(Master!AF185=\"\",\"B\",Master!AF185)","v":2},{"$f":"IF(Master!AQ185=\"\",\"B\",Master!AQ185)","v":2},{"$f":"IF(Master!BB185=\"\",\"B\",Master!BB185)","v":2},{"$f":"IF(Master!BM185=\"\",\"B\",Master!BM185)","v":2}]
[{"$f":"Master!A186","v":"Hydraulics"},null,null,null,null,null,null,{"$f":"IF(Master!J186=\"\",\"B\",Master!J186)","v":"B"},{"$f":"IF(Master!U186=\"\",\"B\",Master!U186)","v":"B"},{"$f":"IF(Master!AF186=\"\",\"B\",Master!AF186)","v":"B"},{"$f":"IF(Master!AQ186=\"\",\"B\",Master!AQ186)","v":"B"},{"$f":"IF(Master!BB186=\"\",\"B\",Master!BB186)","v":"B"},{"$f":"IF(Master!BM186=\"\",\"B\",Master!BM186)","v":"B"}]
[{"$f":"Master!A187","v":"HYD"},{"$f":"Master!B187","v":"WSDOT DES: HYDRAULICS AND HYDROLOGY"},{"$f":"Master!C187","v":"WSDOT_DES_HYDRAULICS_AND_HYDROLOGY"},{"$f":"Master!D187","v":"ILT"},{"$f":"Master!E187","v":"Active"},{"$f":"Master!F187","v":0},{"$f":"Master!H187","v":0},{"$f":"IF(Master!J187=\"\",\"B\",Master!J187)","v":2},{"$f":"IF(Master!U187=\"\",\"B\",Master!U187)","v":2},{"$f":"IF(Master!AF187=\"\",\"B\",Master!AF187)","v":2},{"$f":"IF(Master!AQ187=\"\",\"B\",Master!AQ187)","v":2},{"$f":"IF(Master!BB187=\"\",\"B\",Master!BB187)","v":2},{"$f":"IF(Master!BM187=\"\",\"B\",Master!BM187)","v":2}]
[{"$f":"Master!A188","v":"HYD"},{"$f":"Master!B188","v":"WSDOT DES: 2014 HIGHWAY RUNOFF MANUAL TRAINING"},{"$f":"Master!C188","v":"WSDOT_DBI"},{"$f":"Master!D188","v":"ILT"},{"$f":"Master!E188","v":"Active"},{"$f":"Master!F188","v":0},{"$f":"Master!H188","v":0},{"$f":"IF(Master!J188=\"\",\"B\",Master!J188)","v":2},{"$f":"IF(Master!U188=\"\",\"B\",Master!U188)","v":2},{"$f":"IF(Master!AF188=\"\",\"B\",Master!AF188)","v":2},{"$f":"IF(Master!AQ188=\"\",\"B\",Master!AQ188)","v":2},{"$f":"IF(Master!BB188=\"\",\"B\",Master!BB188)","v":2},{"$f":"IF(Master!BM188=\"\",\"B\",Master!BM188)","v":2}]
[{"$f":"Master!A189","v":"HYD"},{"$f":"Master!B189","v":"WSDOT_MGSFLOOD_TRAINING"},{"$f":"Master!C189","v":"WSDOT_MGSFLOOD_TRAINING"},{"$f":"Master!D189","v":"ILT"},{"$f":"Master!E189","v":"Active"},{"$f":"Master!F189","v":0},{"$f":"Master!H189","v":0},{"$f":"IF(Master!J189=\"\",\"B\",Master!J189)","v":"B"},{"$f":"IF(Master!U189=\"\",\"B\",Master!U189)","v":"B"},{"$f":"IF(Master!AF189=\"\",\"B\",Master!AF189)","v":"B"},{"$f":"IF(Master!AQ189=\"\",\"B\",Master!AQ189)","v":"B"},{"$f":"IF(Master!BB189=\"\",\"B\",Master!BB189)","v":"B"},{"$f":"IF(Master!BM189=\"\",\"B\",Master!BM189)","v":"B"}]
[{"$f":"Master!A190","v":"HYD"},{"$f":"Master!B190","v":"WSDOT DES: STORMSHED BEGINNING"},{"$f":"Master!C190","v":"WSDOT_DES_STORMSHED_BEGINNING"},{"$f":"Master!D190","v":"ILT"},{"$f":"Master!E190","v":"Active"},{"$f":"Master!F190","v":0},{"$f":"Master!H190","v":0},{"$f":"IF(Master!J190=\"\",\"B\",Master!J190)","v":"B"},{"$f":"IF(Master!U190=\"\",\"B\",Master!U190)","v":"B"},{"$f":"IF(Master!AF190=\"\",\"B\",Master!AF190)","v":"B"},{"$f":"IF(Master!AQ190=\"\",\"B\",Master!AQ190)","v":"B"},{"$f":"IF(Master!BB190=\"\",\"B\",Master!BB190)","v":"B"},{"$f":"IF(Master!BM190=\"\",\"B\",Master!BM190)","v":"B"}]
[{"$f":"Master!A191","v":"HYD"},{"$f":"Master!B191","v":"WSDOT DES: STORMSHED INTERMEDIATE"},{"$f":"Master!C191","v":"WSDOT_DES_STORMSHED_INTERMEDIATE"},{"$f":"Master!D191","v":"ILT"},{"$f":"Master!E191","v":"Active"},{"$f":"Master!F191","v":0},{"$f":"Master!H191","v":0},{"$f":"IF(Master!J191=\"\",\"B\",Master!J191)","v":"B"},{"$f":"IF(Master!U191=\"\",\"B\",Master!U191)","v":"B"},{"$f":"IF(Master!AF191=\"\",\"B\",Master!AF191)","v":"B"},{"$f":"IF(Master!AQ191=\"\",\"B\",Master!AQ191)","v":"B"},{"$f":"IF(Master!BB191=\"\",\"B\",Master!BB191)","v":"B"},{"$f":"IF(Master!BM191=\"\",\"B\",Master!BM191)","v":"B"}]
[{"$f":"Master!A192","v":"Environmental"},null,null,null,null,null,null,{"$f":"IF(Master!J192=\"\",\"B\",Master!J192)","v":"B"},{"$f":"IF(Master!U192=\"\",\"B\",Master!U192)","v":"B"},{"$f":"IF(Master!AF192=\"\",\"B\",Master!AF192)","v":"B"},{"$f":"IF(Master!AQ192=\"\",\"B\",Master!AQ192)","v":"B"},{"$f":"IF(Master!BB192=\"\",\"B\",Master!BB192)","v":"B"},{"$f":"IF(Master!BM192=\"\",\"B\",Master!BM192)","v":"B"}]
[{"$f":"Master!A193","v":"ENV"},{"$f":"Master!B193","v":"WSDOT ENV: SPILL PLAN REVIEWER TRAINING (OLT)"},{"$f":"Master!C193","v":"WSDOT_BYZ_OLT"},{"$f":"Master!D193","v":"OLT"},{"$f":"Master!E193","v":"Active"},{"$f":"Master!F193","v":0},{"$f":"Master!G193","v":"NA"},{"$f":"IF(Master!J193=\"\",\"B\",Master!J193)","v":2},{"$f":"IF(Master!U193=\"\",\"B\",Master!U193)","v":2},{"$f":"IF(Master!AF193=\"\",\"B\",Master!AF193)","v":2},{"$f":"IF(Master!AQ193=\"\",\"B\",Master!AQ193)","v":2},{"$f":"IF(Master!BB193=\"\",\"B\",Master!BB193)","v":2},{"$f":"IF(Master!BM193=\"\",\"B\",Master!BM193)","v":2}]
[{"$f":"Master!A194","v":"ENV"},{"$f":"Master!B194","v":"WSDOT ENV: CONSTRUCTION SITE EROSION AND SEDIMENT CONTROL"},{"$f":"Master!C194","v":"WSDOT_BPW"},{"$f":"Master!D194","v":"ILT"},{"$f":"Master!E194","v":"Active"},{"$f":"Master!F194","v":0},{"$f":"Master!G194","v":"Once per year per Region or by request"},{"$f":"IF(Master!J194=\"\",\"B\",Master!J194)","v":1},{"$f":"IF(Master!U194=\"\",\"B\",Master!U194)","v":1},{"$f":"IF(Master!AF194=\"\",\"B\",Master!AF194)","v":1},{"$f":"IF(Master!AQ194=\"\",\"B\",Master!AQ194)","v":1},{"$f":"IF(Master!BB194=\"\",\"B\",Master!BB194)","v":1},{"$f":"IF(Master!BM194=\"\",\"B\",Master!BM194)","v":1}]
[{"$f":"Master!A195","v":"ENV"},{"$f":"Master!B195","v":"WSDOT ENV: CULTURAL RESOURCE TRAINING"},{"$f":"Master!C195","v":"WSDOT_B7T"},{"$f":"Master!D195","v":"ILT"},{"$f":"Master!E195","v":"Active"},{"$f":"Master!F195","v":0},{"$f":"Master!G195","v":"Offered 1-2 times per year"},{"$f":"IF(Master!J195=\"\",\"B\",Master!J195)","v":2},{"$f":"IF(Master!U195=\"\",\"B\",Master!U195)","v":2},{"$f":"IF(Master!AF195=\"\",\"B\",Master!AF195)","v":2},{"$f":"IF(Master!AQ195=\"\",\"B\",Master!AQ195)","v":2},{"$f":"IF(Master!BB195=\"\",\"B\",Master!BB195)","v":2},{"$f":"IF(Master!BM195=\"\",\"B\",Master!BM195)","v":2}]
[{"$f":"Master!A196","v":"ENV"},{"$f":"Master!B196","v":"WSDOT ENV: ENVIRONMENTAL JUSTICE INCLUSION TRAINING (OLT)"},{"$f":"Master!C196","v":"WSDOT_EJ1_OLT"},{"$f":"Master!D196","v":"OLT"},{"$f":"Master!E196","v":"Active"},{"$f":"Master!F196","v":0},{"$f":"Master!G196","v":"NA"},{"$f":"IF(Master!J196=\"\",\"B\",Master!J196)","v":1},{"$f":"IF(Master!U196=\"\",\"B\",Master!U196)","v":1},{"$f":"IF(Master!AF196=\"\",\"B\",Master!AF196)","v":1},{"$f":"IF(Master!AQ196=\"\",\"B\",Master!AQ196)","v":1},{"$f":"IF(Master!BB196=\"\",\"B\",Master!BB196)","v":1},{"$f":"IF(Master!BM196=\"\",\"B\",Master!BM196)","v":1}]
[{"$f":"Master!A197","v":"ENV"},{"$f":"Master!B197","v":"WSDOT ENV: ENVIRONMENTAL OVERVIEW - COMPLIANCE FOR CONSTRUCTION (OLT)"},{"$f":"Master!C197","v":"WSDOT_CR5_OLT"},{"$f":"Master!D197","v":"OLT"},{"$f":"Master!E197","v":"Active"},{"$f":"Master!F197","v":0},{"$f":"Master!G197","v":"NA"},{"$f":"IF(Master!J197=\"\",\"B\",Master!J197)","v":1},{"$f":"IF(Master!U197=\"\",\"B\",Master!U197)","v":1},{"$f":"IF(Master!AF197=\"\",\"B\",Master!AF197)","v":1},{"$f":"IF(Master!AQ197=\"\",\"B\",Master!AQ197)","v":1},{"$f":"IF(Master!BB197=\"\",\"B\",Master!BB197)","v":1},{"$f":"IF(Master!BM197=\"\",\"B\",Master!BM197)","v":1}]
[{"$f":"Master!A198","v":"ENV"},{"$f":"Master!B198","v":"WSDOT ENV: ESA (ENDANGERED SPECIES ACT) FOR NON-BIOLOGISTS (OLT)"},{"$f":"Master!C198","v":"WSDOT_EV9_OLT"},{"$f":"Master!D198","v":"OLT"},{"$f":"Master!E198","v":"Active"},{"$f":"Master!F198","v":0},{"$f":"Master!G198","v":"NA"},{"$f":"IF(Master!J198=\"\",\"B\",Master!J198)","v":2},{"$f":"IF(Master!U198=\"\",\"B\",Master!U198)","v":2},{"$f":"IF(Master!AF198=\"\",\"B\",Master!AF198)","v":2},{"$f":"IF(Master!AQ198=\"\",\"B\",Master!AQ198)","v":2},{"$f":"IF(Master!BB198=\"\",\"B\",Master!BB198)","v":"B"},{"$f":"IF(Master!BM198=\"\",\"B\",Master!BM198)","v":"B"}]
[{"$f":"Master!A199","v":"ENV"},{"$f":"Master!B199","v":"WSDOT ENV: NEPA/SEPA - MODULE 1 - OVERVIEW"},{"$f":"Master!C199","v":"WSDOT_DDV"},{"$f":"Master!D199","v":"ILT"},{"$f":"Master!E199","v":"Active"},{"$f":"Master!F199","v":0},{"$f":"Master!G199","v":"Once per year per Region or by request"},{"$f":"IF(Master!J199=\"\",\"B\",Master!J199)","v":"B"},{"$f":"IF(Master!U199=\"\",\"B\",Master!U199)","v":"B"},{"$f":"IF(Master!AF199=\"\",\"B\",Master!AF199)","v":"B"},{"$f":"IF(Master!AQ199=\"\",\"B\",Master!AQ199)","v":"B"},{"$f":"IF(Master!BB199=\"\",\"B\",Master!BB199)","v":"B"},{"$f":"IF(Master!BM199=\"\",\"B\",Master!BM199)","v":1}]
[{"$f":"Master!A200","v":"ENV"},{"$f":"Master!B200","v":"WSDOT ENV: NEPA/SEPA - MODULE 2 - DOCUMENTING CATEGORICAL EXCLUSIONS"},{"$f":"Master!C200","v":"WSDOT_ENV"},{"$f":"Master!D200","v":"ILT"},{"$f":"Master!E200","v":"Active"},{"$f":"Master!F200","v":0},{"$f":"Master!G200","v":"Once per year per Region or by request"},{"$f":"IF(Master!J200=\"\",\"B\",Master!J200)","v":"B"},{"$f":"IF(Master!U200=\"\",\"B\",Master!U200)","v":"B"},{"$f":"IF(Master!AF200=\"\",\"B\",Master!AF200)","v":"B"},{"$f":"IF(Master!AQ200=\"\",\"B\",Master!AQ200)","v":"B"},{"$f":"IF(Master!BB200=\"\",\"B\",Master!BB200)","v":"B"},{"$f":"IF(Master!BM200=\"\",\"B\",Master!BM200)","v":1}]
[{"$f":"Master!A201","v":"ENV"},{"$f":"Master!B201","v":"WSDOT ENV: NEPA/SEPA - MODULE 3 - DOCUMENTING EAs AND EISs"},{"$f":"Master!C201","v":"WSDOT_ENV_2"},{"$f":"Master!D201","v":"ILT"},{"$f":"Master!E201","v":"Active"},{"$f":"Master!F202","v":0},{"$f":"Master!G201","v":"Once per year per Region or by request"},{"$f":"IF(Master!J201=\"\",\"B\",Master!J201)","v":"B"},{"$f":"IF(Master!U202=\"\",\"B\",Master!U202)","v":"B"},{"$f":"IF(Master!AF202=\"\",\"B\",Master!AF202)","v":"B"},{"$f":"IF(Master!AQ202=\"\",\"B\",Master!AQ202)","v":"B"},{"$f":"IF(Master!BB202=\"\",\"B\",Master!BB202)","v":"B"},{"$f":"IF(Master!BM202=\"\",\"B\",Master!BM202)","v":"B"}]
[{"$f":"Master!A202","v":"ENV"},{"$f":"Master!B202","v":"WSDOT ENV: POISONOUS AND HARMFUL PLANTS IN WASHINGTON STATE"},{"$f":"Master!C202","v":"WSDOT_019_OLT"},{"$f":"Master!D202","v":"OLT"},{"$f":"Master!E202","v":"Active"},{"$f":"Master!F202","v":0},{"$f":"Master!G202","v":"NA"},{"$f":"IF(Master!J202=\"\",\"B\",Master!J202)","v":"B"},{"$f":"IF(Master!U203=\"\",\"B\",Master!U203)","v":"B"},{"$f":"IF(Master!AF203=\"\",\"B\",Master!AF203)","v":"B"},{"$f":"IF(Master!AQ203=\"\",\"B\",Master!AQ203)","v":"B"},{"$f":"IF(Master!BB203=\"\",\"B\",Master!BB203)","v":"B"},{"$f":"IF(Master!BM203=\"\",\"B\",Master!BM203)","v":"B"}]
[{"$f":"Master!A203","v":"Computer Aided Engineering"},null,null,null,null,null,null,{"$f":"IF(Master!J203=\"\",\"B\",Master!J203)","v":"B"},{"$f":"IF(Master!U203=\"\",\"B\",Master!U203)","v":"B"},{"$f":"IF(Master!AF203=\"\",\"B\",Master!AF203)","v":"B"},{"$f":"IF(Master!AQ203=\"\",\"B\",Master!AQ203)","v":"B"},{"$f":"IF(Master!BB203=\"\",\"B\",Master!BB203)","v":"B"},{"$f":"IF(Master!BM203=\"\",\"B\",Master!BM203)","v":"B"}]
[{"$f":"Master!A204","v":"CAE"},{"$f":"Master!B204","v":"WSDOT CAE: MICROSTATION - 101 ENTRY LEVEL"},{"$f":"Master!C204","v":"WSDOT_AX4"},{"$f":"Master!D204","v":"ILT"},{"$f":"Master!E204","v":"Active"},{"$f":"Master!F204","v":0},{"$f":"Master!H204","v":0},{"$f":"IF(Master!J204=\"\",\"B\",Master!J204)","v":2},{"$f":"IF(Master!U204=\"\",\"B\",Master!U204)","v":2},{"$f":"IF(Master!AF204=\"\",\"B\",Master!AF204)","v":2},{"$f":"IF(Master!AQ204=\"\",\"B\",Master!AQ204)","v":2},{"$f":"IF(Master!BB204=\"\",\"B\",Master!BB204)","v":2},{"$f":"IF(Master!BM204=\"\",\"B\",Master!BM204)","v":2}]
[{"$f":"Master!A205","v":"CAE"},{"$f":"Master!B205","v":"WSDOT CAE: MICROSTATION - 201 PRODUCTION LEVEL"},{"$f":"Master!C205","v":"WSDOT_AI6"},{"$f":"Master!D205","v":"ILT"},{"$f":"Master!E205","v":"Active"},{"$f":"Master!F205","v":0},{"$f":"Master!H205","v":0},{"$f":"IF(Master!J205=\"\",\"B\",Master!J205)","v":2},{"$f":"IF(Master!U205=\"\",\"B\",Master!U205)","v":2},{"$f":"IF(Master!AF205=\"\",\"B\",Master!AF205)","v":2},{"$f":"IF(Master!AQ205=\"\",\"B\",Master!AQ205)","v":2},{"$f":"IF(Master!BB205=\"\",\"B\",Master!BB205)","v":2},{"$f":"IF(Master!BM205=\"\",\"B\",Master!BM205)","v":2}]
[{"$f":"Master!A206","v":"CAE"},{"$f":"Master!B206","v":"WSDOT CAE: INROADS - 201 PRODUCTION LEVEL DESIGN"},{"$f":"Master!C206","v":"WSDOT_CRZ"},{"$f":"Master!D206","v":"ILT"},{"$f":"Master!E206","v":"Active"},{"$f":"Master!F206","v":0},{"$f":"Master!H206","v":0},{"$f":"IF(Master!J206=\"\",\"B\",Master!J206)","v":2},{"$f":"IF(Master!U206=\"\",\"B\",Master!U206)","v":2},{"$f":"IF(Master!AF206=\"\",\"B\",Master!AF206)","v":2},{"$f":"IF(Master!AQ206=\"\",\"B\",Master!AQ206)","v":2},{"$f":"IF(Master!BB206=\"\",\"B\",Master!BB206)","v":2},{"$f":"IF(Master!BM206=\"\",\"B\",Master!BM206)","v":2}]
[{"$f":"Master!A207","v":"CAE"},{"$f":"Master!B207","v":"WSDOT CAE: INROADS - 202 SURVEY DATA PROCESSING"},{"$f":"Master!C207","v":"WSDOT_CU1"},{"$f":"Master!D207","v":"ILT"},{"$f":"Master!E207","v":"Active"},{"$f":"Master!F207","v":0},{"$f":"Master!H207","v":0},{"$f":"IF(Master!J207=\"\",\"B\",Master!J207)","v":"B"},{"$f":"IF(Master!U207=\"\",\"B\",Master!U207)","v":"B"},{"$f":"IF(Master!AF207=\"\",\"B\",Master!AF207)","v":"B"},{"$f":"IF(Master!AQ207=\"\",\"B\",Master!AQ207)","v":"B"},{"$f":"IF(Master!BB207=\"\",\"B\",Master!BB207)","v":2},{"$f":"IF(Master!BM207=\"\",\"B\",Master!BM207)","v":2}]
[{"$f":"Master!A208","v":"CAE"},{"$f":"Master!B208","v":"WSDOT CAE: INROADS - 203 GEOMETRICS"},{"$f":"Master!C208","v":"WSDOT_DBF"},{"$f":"Master!D208","v":"ILT"},{"$f":"Master!E208","v":"Active"},{"$f":"Master!F208","v":0},{"$f":"Master!H208","v":0},{"$f":"IF(Master!J208=\"\",\"B\",Master!J208)","v":"B"},{"$f":"IF(Master!U208=\"\",\"B\",Master!U208)","v":"B"},{"$f":"IF(Master!AF208=\"\",\"B\",Master!AF208)","v":"B"},{"$f":"IF(Master!AQ208=\"\",\"B\",Master!AQ208)","v":"B"},{"$f":"IF(Master!BB208=\"\",\"B\",Master!BB208)","v":2},{"$f":"IF(Master!BM208=\"\",\"B\",Master!BM208)","v":2}]
[{"$f":"Master!A209","v":"CAE"},{"$f":"Master!B209","v":"WSDOT CAE: INROADS - 205 CONSTRUCTION PROCESSES"},{"$f":"Master!C209","v":"WSDOT_DH2"},{"$f":"Master!D209","v":"ILT"},{"$f":"Master!E209","v":"Active"},{"$f":"Master!F209","v":0},{"$f":"Master!H209","v":0},{"$f":"IF(Master!J209=\"\",\"B\",Master!J209)","v":2},{"$f":"IF(Master!U209=\"\",\"B\",Master!U209)","v":2},{"$f":"IF(Master!AF209=\"\",\"B\",Master!AF209)","v":2},{"$f":"IF(Master!AQ209=\"\",\"B\",Master!AQ209)","v":2},{"$f":"IF(Master!BB209=\"\",\"B\",Master!BB209)","v":1},{"$f":"IF(Master!BM209=\"\",\"B\",Master!BM209)","v":2}]
[{"$f":"Master!A210","v":"CAE"},{"$f":"Master!B210","v":"WSDOT CAE: INROADS - 251 INTERMEDIATE ROADWAY DESIGN"},{"$f":"Master!C210","v":"WSDOT_DDL"},{"$f":"Master!D210","v":"ILT"},{"$f":"Master!E210","v":"Active"},{"$f":"Master!F210","v":0},{"$f":"Master!H210","v":0},{"$f":"IF(Master!J210=\"\",\"B\",Master!J210)","v":"B"},{"$f":"IF(Master!U210=\"\",\"B\",Master!U210)","v":"B"},{"$f":"IF(Master!AF210=\"\",\"B\",Master!AF210)","v":"B"},{"$f":"IF(Master!AQ210=\"\",\"B\",Master!AQ210)","v":"B"},{"$f":"IF(Master!BB210=\"\",\"B\",Master!BB210)","v":"B"},{"$f":"IF(Master!BM210=\"\",\"B\",Master!BM210)","v":"B"}]
[{"$f":"Master!A211","v":"Survey"},null,null,null,null,null,null,{"$f":"IF(Master!J211=\"\",\"B\",Master!J211)","v":"B"},{"$f":"IF(Master!U211=\"\",\"B\",Master!U211)","v":"B"},{"$f":"IF(Master!AF211=\"\",\"B\",Master!AF211)","v":"B"},{"$f":"IF(Master!AQ211=\"\",\"B\",Master!AQ211)","v":"B"},{"$f":"IF(Master!BB211=\"\",\"B\",Master!BB211)","v":"B"},{"$f":"IF(Master!BM211=\"\",\"B\",Master!BM211)","v":"B"}]
[{"$f":"Master!A212","v":"SUR"},{"$f":"Master!B212","v":"WSDOT SUR: BASIC SURVEYING (SELF-STUDY)"},{"$f":"Master!C212","v":"WSDOT_APK"},{"$f":"Master!D212","v":"SS"},{"$f":"Master!E212","v":"Active"},{"$f":"Master!F212","v":0},{"$f":"Master!H212","v":0},{"$f":"IF(Master!J212=\"\",\"B\",Master!J212)","v":"R"},{"$f":"IF(Master!U212=\"\",\"B\",Master!U212)","v":"R"},{"$f":"IF(Master!AF212=\"\",\"B\",Master!AF212)","v":1},{"$f":"IF(Master!AQ212=\"\",\"B\",Master!AQ212)","v":1},{"$f":"IF(Master!BB212=\"\",\"B\",Master!BB212)","v":"B"},{"$f":"IF(Master!BM212=\"\",\"B\",Master!BM212)","v":"B"}]
[{"$f":"Master!A213","v":"SUR"},{"$f":"Master!B213","v":"WSDOT SUR: INTERMEDIATE SURVEYING"},{"$f":"Master!C213","v":"WSDOT A4U"},{"$f":"Master!D213","v":"ILT"},{"$f":"Master!E213","v":"Under Development"},{"$f":"Master!F213","v":"Q3 2019"},{"$f":"Master!H213","v":0},{"$f":"IF(Master!J213=\"\",\"B\",Master!J213)","v":"B"},{"$f":"IF(Master!U213=\"\",\"B\",Master!U213)","v":"B"},{"$f":"IF(Master!AF213=\"\",\"B\",Master!AF213)","v":"B"},{"$f":"IF(Master!AQ213=\"\",\"B\",Master!AQ213)","v":"B"},{"$f":"IF(Master!BB213=\"\",\"B\",Master!BB213)","v":2},{"$f":"IF(Master!BM213=\"\",\"B\",Master!BM213)","v":"B"}]
[{"$f":"Master!A214","v":"Traffic Operations Division"},null,null,null,null,null,null,{"$f":"IF(Master!J214=\"\",\"B\",Master!J214)","v":"B"},{"$f":"IF(Master!U214=\"\",\"B\",Master!U214)","v":"B"},{"$f":"IF(Master!AF214=\"\",\"B\",Master!AF214)","v":"B"},{"$f":"IF(Master!AQ214=\"\",\"B\",Master!AQ214)","v":"B"},{"$f":"IF(Master!BB214=\"\",\"B\",Master!BB214)","v":"B"},{"$f":"IF(Master!BM214=\"\",\"B\",Master!BM214)","v":"B"}]
[{"$f":"Master!A215","v":"TR"},{"$f":"Master!B215","v":"WSDOT TR: Work Zone Traffic Control Supervisor Re-Certification"},{"$f":"Master!C215","v":"WSDOT_BQD"},{"$f":"Master!D215","v":"OLT/ILT"},{"$f":"Master!E215","v":"Active"},{"$f":"Master!F215","v":0},{"$f":"Master!H215","v":0},{"$f":"IF(Master!J215=\"\",\"B\",Master!J215)","v":"B"},{"$f":"IF(Master!U215=\"\",\"B\",Master!U215)","v":"B"},{"$f":"IF(Master!AF215=\"\",\"B\",Master!AF215)","v":"B"},{"$f":"IF(Master!AQ215=\"\",\"B\",Master!AQ215)","v":"B"},{"$f":"IF(Master!BB215=\"\",\"B\",Master!BB215)","v":1},{"$f":"IF(Master!BM215=\"\",\"B\",Master!BM215)","v":1}]
[{"$f":"Master!A216","v":"TR"},{"$f":"Master!B216","v":"WSDOT TR: Work Zone Traffic Control Supervisor Certification"},{"$f":"Master!C216","v":"WSDOT_A42"},{"$f":"Master!D216","v":"OLT/ILT"},{"$f":"Master!E216","v":"Active"},{"$f":"Master!F216","v":0},{"$f":"Master!H216","v":0},{"$f":"IF(Master!J216=\"\",\"B\",Master!J216)","v":2},{"$f":"IF(Master!U216=\"\",\"B\",Master!U216)","v":2},{"$f":"IF(Master!AF216=\"\",\"B\",Master!AF216)","v":2},{"$f":"IF(Master!AQ216=\"\",\"B\",Master!AQ216)","v":2},{"$f":"IF(Master!BB216=\"\",\"B\",Master!BB216)","v":1},{"$f":"IF(Master!BM216=\"\",\"B\",Master!BM216)","v":1}]
[{"$f":"Master!A217","v":"TR"},{"$f":"Master!B217","v":"WSDOT TR: Work Zone Traffic Control Plan Design"},{"$f":"Master!C217","v":"WSDOT_DD7 (day one) and WSDOT_DBK (day two)"},{"$f":"Master!D217","v":"OLT/ILT"},{"$f":"Master!E217","v":"Active"},{"$f":"Master!F217","v":0},{"$f":"Master!H217","v":0},{"$f":"IF(Master!J217=\"\",\"B\",Master!J217)","v":"B"},{"$f":"IF(Master!U217=\"\",\"B\",Master!U217)","v":"B"},{"$f":"IF(Master!AF217=\"\",\"B\",Master!AF217)","v":"B"},{"$f":"IF(Master!AQ217=\"\",\"B\",Master!AQ217)","v":"B"},{"$f":"IF(Master!BB217=\"\",\"B\",Master!BB217)","v":"B"},{"$f":"IF(Master!BM217=\"\",\"B\",Master!BM217)","v":"B"}]
[{"$f":"Master!A218","v":"TR"},{"$f":"Master!B218","v":"**VISUM"},{"$f":"Master!C218","v":0},{"$f":"Master!D218","v":"OLT/ILT"},{"$f":"Master!E218","v":"Inactive"},{"$f":"Master!F218","v":"None"},{"$f":"Master!H218","v":"No technical lead within WSDOT available to teach"},{"$f":"IF(Master!J218=\"\",\"B\",Master!J218)","v":"B"},{"$f":"IF(Master!U218=\"\",\"B\",Master!U218)","v":"B"},{"$f":"IF(Master!AF218=\"\",\"B\",Master!AF218)","v":"B"},{"$f":"IF(Master!AQ218=\"\",\"B\",Master!AQ218)","v":"B"},{"$f":"IF(Master!BB218=\"\",\"B\",Master!BB218)","v":"B"},{"$f":"IF(Master!BM218=\"\",\"B\",Master!BM218)","v":"B"}]
[{"$f":"Master!A219","v":"TR"},{"$f":"Master!B219","v":"**VISSIM"},{"$f":"Master!C219","v":0},{"$f":"Master!D219","v":"OLT/ILT"},{"$f":"Master!E219","v":"Inactive"},{"$f":"Master!F219","v":"None"},{"$f":"Master!H219","v":"No technical lead within WSDOT available to teach"},{"$f":"IF(Master!J219=\"\",\"B\",Master!J219)","v":"B"},{"$f":"IF(Master!U219=\"\",\"B\",Master!U219)","v":"B"},{"$f":"IF(Master!AF219=\"\",\"B\",Master!AF219)","v":"B"},{"$f":"IF(Master!AQ219=\"\",\"B\",Master!AQ219)","v":"B"},{"$f":"IF(Master!BB219=\"\",\"B\",Master!BB219)","v":"B"},{"$f":"IF(Master!BM219=\"\",\"B\",Master!BM219)","v":"B"}]
[{"$f":"Master!A220","v":"TR"},{"$f":"Master!B220","v":"**SIDRA"},{"$f":"Master!C220","v":0},{"$f":"Master!D220","v":"OLT/ILT"},{"$f":"Master!E220","v":"Inactive"},{"$f":"Master!F220","v":"None"},{"$f":"Master!H220","v":"No technical lead within WSDOT available to teach"},{"$f":"IF(Master!J220=\"\",\"B\",Master!J220)","v":"B"},{"$f":"IF(Master!U220=\"\",\"B\",Master!U220)","v":"B"},{"$f":"IF(Master!AF220=\"\",\"B\",Master!AF220)","v":"B"},{"$f":"IF(Master!AQ220=\"\",\"B\",Master!AQ220)","v":"B"},{"$f":"IF(Master!BB220=\"\",\"B\",Master!BB220)","v":"B"},{"$f":"IF(Master!BM220=\"\",\"B\",Master!BM220)","v":"B"}]
[{"$f":"Master!A221","v":"TR"},{"$f":"Master!B221","v":"**SYNCHRO"},{"$f":"Master!C221","v":0},{"$f":"Master!D221","v":"OLT/ILT"},{"$f":"Master!E221","v":"Inactive"},{"$f":"Master!F221","v":"None"},{"$f":"Master!H221","v":"No technical lead within WSDOT available to teach"},{"$f":"IF(Master!J221=\"\",\"B\",Master!J221)","v":"B"},{"$f":"IF(Master!U221=\"\",\"B\",Master!U221)","v":"B"},{"$f":"IF(Master!AF221=\"\",\"B\",Master!AF221)","v":"B"},{"$f":"IF(Master!AQ221=\"\",\"B\",Master!AQ221)","v":"B"},{"$f":"IF(Master!BB221=\"\",\"B\",Master!BB221)","v":"B"},{"$f":"IF(Master!BM221=\"\",\"B\",Master!BM221)","v":"B"}]
[{"$f":"Master!A222","v":"TR"},{"$f":"Master!B222","v":"WSDOT PSHSM: Highway Safety Manual Level B"},{"$f":"Master!C222","v":"PSHSM_B01"},{"$f":"Master!D222","v":"OLT/ILT"},{"$f":"Master!E222","v":"Inactive"},{"$f":"Master!F222","v":"None"},{"$f":"Master!H222","v":"No technical lead within WSDOT available to teach"},{"$f":"IF(Master!J222=\"\",\"B\",Master!J222)","v":"B"},{"$f":"IF(Master!U222=\"\",\"B\",Master!U222)","v":"B"},{"$f":"IF(Master!AF222=\"\",\"B\",Master!AF222)","v":"B"},{"$f":"IF(Master!AQ222=\"\",\"B\",Master!AQ222)","v":"B"},{"$f":"IF(Master!BB222=\"\",\"B\",Master!BB222)","v":"B"},{"$f":"IF(Master!BM222=\"\",\"B\",Master!BM222)","v":"B"}]
[{"$f":"Master!A223","v":"TR"},{"$f":"Master!B223","v":"WSDOT PSHSM: Highway Safety Manual Level C1"},{"$f":"Master!C223","v":"PSHSM_C01"},{"$f":"Master!D223","v":"OLT/ILT"},{"$f":"Master!E223","v":"Inactive"},{"$f":"Master!F223","v":"None"},{"$f":"Master!H223","v":"No technical lead within WSDOT available to teach"},{"$f":"IF(Master!J223=\"\",\"B\",Master!J223)","v":"B"},{"$f":"IF(Master!U223=\"\",\"B\",Master!U223)","v":"B"},{"$f":"IF(Master!AF223=\"\",\"B\",Master!AF223)","v":"B"},{"$f":"IF(Master!AQ223=\"\",\"B\",Master!AQ223)","v":"B"},{"$f":"IF(Master!BB223=\"\",\"B\",Master!BB223)","v":"B"},{"$f":"IF(Master!BM223=\"\",\"B\",Master!BM223)","v":"B"}]
[{"$f":"Master!A224","v":"TR"},{"$f":"Master!B224","v":"WSDOT PSHSM: Highway Safety Manual Level C2"},{"$f":"Master!C224","v":"PSHSM C2"},{"$f":"Master!D224","v":"OLT/ILT"},{"$f":"Master!E224","v":"Inactive"},{"$f":"Master!F224","v":"None"},{"$f":"Master!H224","v":"No technical lead within WSDOT available to teach"},{"$f":"IF(Master!J224=\"\",\"B\",Master!J224)","v":"B"},{"$f":"IF(Master!U224=\"\",\"B\",Master!U224)","v":"B"},{"$f":"IF(Master!AF224=\"\",\"B\",Master!AF224)","v":"B"},{"$f":"IF(Master!AQ224=\"\",\"B\",Master!AQ224)","v":"B"},{"$f":"IF(Master!BB224=\"\",\"B\",Master!BB224)","v":"B"},{"$f":"IF(Master!BM224=\"\",\"B\",Master!BM224)","v":"B"}]
[{"$f":"Master!A225","v":"TR"},{"$f":"Master!B225","v":"WSDOT PSHSM: Highway Safety Manual Level C3"},{"$f":"Master!C225","v":"PSHSM C3"},{"$f":"Master!D225","v":"OLT/ILT"},{"$f":"Master!E225","v":"Inactive"},{"$f":"Master!F225","v":"None"},{"$f":"Master!H225","v":"No technical lead within WSDOT available to teach"},{"$f":"IF(Master!J225=\"\",\"B\",Master!J225)","v":"B"},{"$f":"IF(Master!U225=\"\",\"B\",Master!U225)","v":"B"},{"$f":"IF(Master!AF225=\"\",\"B\",Master!AF225)","v":"B"},{"$f":"IF(Master!AQ225=\"\",\"B\",Master!AQ225)","v":"B"},{"$f":"IF(Master!BB225=\"\",\"B\",Master!BB225)","v":"B"},{"$f":"IF(Master!BM225=\"\",\"B\",Master!BM225)","v":"B"}]
[{"$f":"Master!A226","v":"TR"},{"$f":"Master!B226","v":"WSDOT PSHSM: Highway Safety Manual Level D1"},{"$f":"Master!C226","v":"PSHSM D1"},{"$f":"Master!D226","v":"OLT/ILT"},{"$f":"Master!E226","v":"Inactive"},{"$f":"Master!F226","v":"None"},{"$f":"Master!H226","v":"No technical lead within WSDOT available to teach"},{"$f":"IF(Master!J226=\"\",\"B\",Master!J226)","v":"B"},{"$f":"IF(Master!U226=\"\",\"B\",Master!U226)","v":"B"},{"$f":"IF(Master!AF226=\"\",\"B\",Master!AF226)","v":"B"},{"$f":"IF(Master!AQ226=\"\",\"B\",Master!AQ226)","v":"B"},{"$f":"IF(Master!BB226=\"\",\"B\",Master!BB226)","v":"B"},{"$f":"IF(Master!BM226=\"\",\"B\",Master!BM226)","v":"B"}]
[{"$f":"Master!A227","v":"TR"},{"$f":"Master!B227","v":"**ILLUMINATION DESIGN FOR TRANSPORTATION APPLICATIONS"},{"$f":"Master!C227","v":0},{"$f":"Master!D227","v":"OLT/ILT"},{"$f":"Master!E227","v":"Under Development"},{"$f":"Master!F227","v":"Q2 2018"},{"$f":"Master!H227","v":0},{"$f":"IF(Master!J227=\"\",\"B\",Master!J227)","v":"B"},{"$f":"IF(Master!U227=\"\",\"B\",Master!U227)","v":"B"},{"$f":"IF(Master!AF227=\"\",\"B\",Master!AF227)","v":"B"},{"$f":"IF(Master!AQ227=\"\",\"B\",Master!AQ227)","v":"B"},{"$f":"IF(Master!BB227=\"\",\"B\",Master!BB227)","v":"B"},{"$f":"IF(Master!BM227=\"\",\"B\",Master!BM227)","v":"B"}]
[{"$f":"Master!A228","v":"TR"},{"$f":"Master!B228","v":"WSDOT TR: Power Supply Design for Transportation Applications"},{"$f":"Master!C228","v":"WSDOT_BZA"},{"$f":"Master!D228","v":"OLT/ILT"},{"$f":"Master!E228","v":"Active"},{"$f":"Master!F228","v":0},{"$f":"Master!H228","v":0},{"$f":"IF(Master!J228=\"\",\"B\",Master!J228)","v":"B"},{"$f":"IF(Master!U228=\"\",\"B\",Master!U228)","v":"B"},{"$f":"IF(Master!AF228=\"\",\"B\",Master!AF228)","v":"B"},{"$f":"IF(Master!AQ228=\"\",\"B\",Master!AQ228)","v":"B"},{"$f":"IF(Master!BB228=\"\",\"B\",Master!BB228)","v":"B"},{"$f":"IF(Master!BM228=\"\",\"B\",Master!BM228)","v":"B"}]
[{"$f":"Master!A229","v":"TR"},{"$f":"Master!B229","v":"**TRAFFIC SIGNAL LAYOUT AND CONDUCTOR TERMINATION"},{"$f":"Master!C229","v":0},{"$f":"Master!D229","v":"OLT/ILT"},{"$f":"Master!E229","v":"Inactive"},{"$f":"Master!F229","v":0},{"$f":"Master!H229","v":"No technical lead within WSDOT available to teach"},{"$f":"IF(Master!J229=\"\",\"B\",Master!J229)","v":"B"},{"$f":"IF(Master!U229=\"\",\"B\",Master!U229)","v":"B"},{"$f":"IF(Master!AF229=\"\",\"B\",Master!AF229)","v":"B"},{"$f":"IF(Master!AQ229=\"\",\"B\",Master!AQ229)","v":"B"},{"$f":"IF(Master!BB229=\"\",\"B\",Master!BB229)","v":"B"},{"$f":"IF(Master!BM229=\"\",\"B\",Master!BM229)","v":"B"}]
[{"$f":"Master!A230","v":"TR"},{"$f":"Master!B230","v":"**SIGN DESIGN"},{"$f":"Master!C230","v":0},{"$f":"Master!D230","v":"OLT/ILT"},{"$f":"Master!E230","v":"Inactive"},{"$f":"Master!F230","v":"None"},{"$f":"Master!H230","v":"No technical lead within WSDOT available to teach"},{"$f":"IF(Master!J230=\"\",\"B\",Master!J230)","v":"B"},{"$f":"IF(Master!U230=\"\",\"B\",Master!U230)","v":"B"},{"$f":"IF(Master!AF230=\"\",\"B\",Master!AF230)","v":"B"},{"$f":"IF(Master!AQ230=\"\",\"B\",Master!AQ230)","v":"B"},{"$f":"IF(Master!BB230=\"\",\"B\",Master!BB230)","v":"B"},{"$f":"IF(Master!BM230=\"\",\"B\",Master!BM230)","v":"B"}]
[{"$f":"Master!A231","v":"TR"},{"$f":"Master!B231","v":"WSDOT NHI: TR-Traffic Signal Design and Operations"},{"$f":"Master!C231","v":"WSDOT_TSD"},{"$f":"Master!D231","v":"OLT/ILT"},{"$f":"Master!E231","v":"Inactive"},{"$f":"Master!F231","v":"None"},{"$f":"Master!H231","v":"No technical lead within WSDOT available to teach"},{"$f":"IF(Master!J231=\"\",\"B\",Master!J231)","v":"B"},{"$f":"IF(Master!U231=\"\",\"B\",Master!U231)","v":"B"},{"$f":"IF(Master!AF231=\"\",\"B\",Master!AF231)","v":"B"},{"$f":"IF(Master!AQ231=\"\",\"B\",Master!AQ231)","v":"B"},{"$f":"IF(Master!BB231=\"\",\"B\",Master!BB231)","v":"B"},{"$f":"IF(Master!BM231=\"\",\"B\",Master!BM231)","v":"B"}]
[{"$f":"Master!A232","v":"TR"},{"$f":"Master!B232","v":"WSDOT NHI: TR-Traffic Signal Timing Concepts"},{"$f":"Master!C232","v":"WSDOT_STC"},{"$f":"Master!D232","v":"OLT/ILT"},{"$f":"Master!E232","v":"Inactive"},{"$f":"Master!F232","v":"None"},{"$f":"Master!H232","v":"No technical lead within WSDOT available to teach"},{"$f":"IF(Master!J232=\"\",\"B\",Master!J232)","v":"B"},{"$f":"IF(Master!U232=\"\",\"B\",Master!U232)","v":"B"},{"$f":"IF(Master!AF232=\"\",\"B\",Master!AF232)","v":"B"},{"$f":"IF(Master!AQ232=\"\",\"B\",Master!AQ232)","v":"B"},{"$f":"IF(Master!BB232=\"\",\"B\",Master!BB232)","v":"B"},{"$f":"IF(Master!BM232=\"\",\"B\",Master!BM232)","v":"B"}]
[{"$f":"Master!A233","v":"TR"},{"$f":"Master!B233","v":"**SYSTEMS ENGINEERING FOR SIGNAL SYSTEMS"},{"$f":"Master!C233","v":0},{"$f":"Master!D233","v":"OLT/ILT"},{"$f":"Master!E233","v":"Inactive"},{"$f":"Master!F233","v":"None"},{"$f":"Master!H233","v":"No technical lead within WSDOT available to teach"},{"$f":"IF(Master!J233=\"\",\"B\",Master!J233)","v":"B"},{"$f":"IF(Master!U233=\"\",\"B\",Master!U233)","v":"B"},{"$f":"IF(Master!AF233=\"\",\"B\",Master!AF233)","v":"B"},{"$f":"IF(Master!AQ233=\"\",\"B\",Master!AQ233)","v":"B"},{"$f":"IF(Master!BB233=\"\",\"B\",Master!BB233)","v":"B"},{"$f":"IF(Master!BM233=\"\",\"B\",Master!BM233)","v":"B"}]
[{"$f":"Master!A234","v":"TR"},{"$f":"Master!B234","v":"**TRAFFIC SIGNAL MANAGEMENT"},{"$f":"Master!C234","v":0},{"$f":"Master!D234","v":"OLT/ILT"},{"$f":"Master!E234","v":"Inactive"},{"$f":"Master!F234","v":"None"},{"$f":"Master!H234","v":"No technical lead within WSDOT available to teach"},{"$f":"IF(Master!J234=\"\",\"B\",Master!J234)","v":"B"},{"$f":"IF(Master!U234=\"\",\"B\",Master!U234)","v":"B"},{"$f":"IF(Master!AF234=\"\",\"B\",Master!AF234)","v":"B"},{"$f":"IF(Master!AQ234=\"\",\"B\",Master!AQ234)","v":"B"},{"$f":"IF(Master!BB234=\"\",\"B\",Master!BB234)","v":"B"},{"$f":"IF(Master!BM234=\"\",\"B\",Master!BM234)","v":"B"}]
[{"$f":"Master!A235","v":"TR"},{"$f":"Master!B235","v":"**ITS PROCUREMENT"},{"$f":"Master!C235","v":0},{"$f":"Master!D235","v":"OLT/ILT"},{"$f":"Master!E235","v":"Inactive"},{"$f":"Master!F235","v":"None"},{"$f":"Master!H235","v":"No technical lead within WSDOT available to teach"},{"$f":"IF(Master!J235=\"\",\"B\",Master!J235)","v":"B"},{"$f":"IF(Master!U235=\"\",\"B\",Master!U235)","v":"B"},{"$f":"IF(Master!AF235=\"\",\"B\",Master!AF235)","v":"B"},{"$f":"IF(Master!AQ235=\"\",\"B\",Master!AQ235)","v":"B"},{"$f":"IF(Master!BB235=\"\",\"B\",Master!BB235)","v":"B"},{"$f":"IF(Master!BM235=\"\",\"B\",Master!BM235)","v":"B"}]
[{"$f":"Master!A236","v":"TR"},{"$f":"Master!B236","v":"**BASICS OF TRANSPORTATION PLANNING"},{"$f":"Master!C236","v":0},{"$f":"Master!D236","v":"OLT/ILT"},{"$f":"Master!E236","v":"Inactive"},{"$f":"Master!F236","v":"None"},{"$f":"Master!H236","v":"No technical lead within WSDOT available to teach"},{"$f":"IF(Master!J236=\"\",\"B\",Master!J236)","v":"B"},{"$f":"IF(Master!U236=\"\",\"B\",Master!U236)","v":"B"},{"$f":"IF(Master!AF236=\"\",\"B\",Master!AF236)","v":"B"},{"$f":"IF(Master!AQ236=\"\",\"B\",Master!AQ236)","v":"B"},{"$f":"IF(Master!BB236=\"\",\"B\",Master!BB236)","v":"B"},{"$f":"IF(Master!BM236=\"\",\"B\",Master!BM236)","v":"B"}]
[{"$f":"Master!A237","v":"TR"},{"$f":"Master!B237","v":"**ADA/APS DESIGN"},{"$f":"Master!C237","v":0},{"$f":"Master!D237","v":"OLT/ILT"},{"$f":"Master!E237","v":"Inactive"},{"$f":"Master!F237","v":"None"},{"$f":"Master!H237","v":"No technical lead within WSDOT available to teach"},{"$f":"IF(Master!J237=\"\",\"B\",Master!J237)","v":"B"},{"$f":"IF(Master!U237=\"\",\"B\",Master!U237)","v":"B"},{"$f":"IF(Master!AF237=\"\",\"B\",Master!AF237)","v":"B"},{"$f":"IF(Master!AQ237=\"\",\"B\",Master!AQ237)","v":"B"},{"$f":"IF(Master!BB237=\"\",\"B\",Master!BB237)","v":"B"},{"$f":"IF(Master!BM237=\"\",\"B\",Master!BM237)","v":"B"}]
[{"$f":"Master!A238","v":"TR"},{"$f":"Master!B238","v":"**SIGNAL WARRANT ANALYSIS"},{"$f":"Master!C238","v":0},{"$f":"Master!D238","v":"OLT/ILT"},{"$f":"Master!E238","v":"Inactive"},{"$f":"Master!F238","v":"None"},{"$f":"Master!H238","v":"No technical lead within WSDOT available to teach"},{"$f":"IF(Master!J238=\"\",\"B\",Master!J238)","v":"B"},{"$f":"IF(Master!U238=\"\",\"B\",Master!U238)","v":"B"},{"$f":"IF(Master!AF238=\"\",\"B\",Master!AF238)","v":"B"},{"$f":"IF(Master!AQ238=\"\",\"B\",Master!AQ238)","v":"B"},{"$f":"IF(Master!BB238=\"\",\"B\",Master!BB238)","v":"B"},{"$f":"IF(Master!BM238=\"\",\"B\",Master!BM238)","v":"B"}]
[{"$f":"Master!A239","v":"TR"},{"$f":"Master!B239","v":"WSDOT TR: Introduction to ITS Design"},{"$f":"Master!C239","v":"WSDOT_DA6"},{"$f":"Master!D239","v":"OLT/ILT"},{"$f":"Master!E239","v":"Inactive"},{"$f":"Master!F239","v":"None"},{"$f":"Master!H239","v":"No technical lead within WSDOT available to teach"},{"$f":"IF(Master!J239=\"\",\"B\",Master!J239)","v":"B"},{"$f":"IF(Master!U239=\"\",\"B\",Master!U239)","v":"B"},{"$f":"IF(Master!AF239=\"\",\"B\",Master!AF239)","v":"B"},{"$f":"IF(Master!AQ239=\"\",\"B\",Master!AQ239)","v":"B"},{"$f":"IF(Master!BB239=\"\",\"B\",Master!BB239)","v":"B"},{"$f":"IF(Master!BM239=\"\",\"B\",Master!BM239)","v":"B"}]
[{"$f":"Master!A240","v":"TR"},{"$f":"Master!B240","v":"WSDOT TR: Intermediate/Advanced ITS Design"},{"$f":"Master!C240","v":"WSDOT_DA7"},{"$f":"Master!D240","v":"OLT/ILT"},{"$f":"Master!E240","v":"Inactive"},{"$f":"Master!F240","v":"None"},{"$f":"Master!H240","v":"No technical lead within WSDOT available to teach"},{"$f":"IF(Master!J240=\"\",\"B\",Master!J240)","v":"B"},{"$f":"IF(Master!U240=\"\",\"B\",Master!U240)","v":"B"},{"$f":"IF(Master!AF240=\"\",\"B\",Master!AF240)","v":"B"},{"$f":"IF(Master!AQ240=\"\",\"B\",Master!AQ240)","v":"B"},{"$f":"IF(Master!BB240=\"\",\"B\",Master!BB240)","v":"B"},{"$f":"IF(Master!BM240=\"\",\"B\",Master!BM240)","v":"B"}]
[{"$f":"Master!A241","v":"TR"},{"$f":"Master!B241","v":"**BASIC HIGHWAY CAPACITY FOR ENGINEERS AND PLANNERS"},{"$f":"Master!C241","v":0},{"$f":"Master!D241","v":"OLT/ILT"},{"$f":"Master!E241","v":"Inactive"},{"$f":"Master!F241","v":"None"},{"$f":"Master!H241","v":"No technical lead within WSDOT available to teach"},{"$f":"IF(Master!J241=\"\",\"B\",Master!J241)","v":"B"},{"$f":"IF(Master!U241=\"\",\"B\",Master!U241)","v":"B"},{"$f":"IF(Master!AF241=\"\",\"B\",Master!AF241)","v":"B"},{"$f":"IF(Master!AQ241=\"\",\"B\",Master!AQ241)","v":"B"},{"$f":"IF(Master!BB241=\"\",\"B\",Master!BB241)","v":"B"},{"$f":"IF(Master!BM241=\"\",\"B\",Master!BM241)","v":"B"}]
[{"$f":"Master!A242","v":"TR"},{"$f":"Master!B242","v":"WSDOT UW: Gen-Uniform Traffic Control Devices"},{"$f":"Master!C242","v":"WSDOT_BML"},{"$f":"Master!D242","v":"OLT/ILT"},{"$f":"Master!E242","v":"Inactive"},{"$f":"Master!F242","v":"None"},{"$f":"Master!H242","v":"No technical lead within WSDOT available to teach"},{"$f":"IF(Master!J242=\"\",\"B\",Master!J242)","v":"B"},{"$f":"IF(Master!U242=\"\",\"B\",Master!U242)","v":"B"},{"$f":"IF(Master!AF242=\"\",\"B\",Master!AF242)","v":"B"},{"$f":"IF(Master!AQ242=\"\",\"B\",Master!AQ242)","v":"B"},{"$f":"IF(Master!BB242=\"\",\"B\",Master!BB242)","v":"B"},{"$f":"IF(Master!BM242=\"\",\"B\",Master!BM242)","v":"B"}]
[{"$f":"Master!A243","v":"TR"},{"$f":"Master!B243","v":"WSDOT UW: TR-Advanced Highway Capacity Analysis"},{"$f":"Master!C243","v":"WSDOT_A3C"},{"$f":"Master!D243","v":"OLT/ILT"},{"$f":"Master!E243","v":"Inactive"},{"$f":"Master!F243","v":"None"},{"$f":"Master!H243","v":"No technical lead within WSDOT available to teach"},{"$f":"IF(Master!J243=\"\",\"B\",Master!J243)","v":"B"},{"$f":"IF(Master!U243=\"\",\"B\",Master!U243)","v":"B"},{"$f":"IF(Master!AF243=\"\",\"B\",Master!AF243)","v":"B"},{"$f":"IF(Master!AQ243=\"\",\"B\",Master!AQ243)","v":"B"},{"$f":"IF(Master!BB243=\"\",\"B\",Master!BB243)","v":"B"},{"$f":"IF(Master!BM243=\"\",\"B\",Master!BM243)","v":"B"}]
[{"$f":"Master!A244","v":"TR"},{"$f":"Master!B244","v":"WSDOT UW: TR-Fundamentals of Traffic Engineering"},{"$f":"Master!C244","v":"WSDOT_BS3"},{"$f":"Master!D244","v":"OLT/ILT"},{"$f":"Master!E244","v":"Inactive"},{"$f":"Master!F244","v":"None"},{"$f":"Master!H244","v":"No technical lead within WSDOT available to teach"},{"$f":"IF(Master!J244=\"\",\"B\",Master!J244)","v":"B"},{"$f":"IF(Master!U244=\"\",\"B\",Master!U244)","v":"B"},{"$f":"IF(Master!AF244=\"\",\"B\",Master!AF244)","v":"B"},{"$f":"IF(Master!AQ244=\"\",\"B\",Master!AQ244)","v":"B"},{"$f":"IF(Master!BB244=\"\",\"B\",Master!BB244)","v":"B"},{"$f":"IF(Master!BM244=\"\",\"B\",Master!BM244)","v":"B"}]
[{"$f":"Master!A245","v":"TR"},{"$f":"Master!B245","v":"WSDOT UW:TR-Traffic Engineering Operations"},{"$f":"Master!C245","v":"WSDOT_BS4"},{"$f":"Master!D245","v":"OLT/ILT"},{"$f":"Master!E245","v":"Inactive"},{"$f":"Master!F245","v":"None"},{"$f":"Master!H245","v":"No technical lead within WSDOT available to teach"},{"$f":"IF(Master!J245=\"\",\"B\",Master!J245)","v":"B"},{"$f":"IF(Master!U245=\"\",\"B\",Master!U245)","v":"B"},{"$f":"IF(Master!AF245=\"\",\"B\",Master!AF245)","v":"B"},{"$f":"IF(Master!AQ245=\"\",\"B\",Master!AQ245)","v":"B"},{"$f":"IF(Master!BB245=\"\",\"B\",Master!BB245)","v":"B"},{"$f":"IF(Master!BM245=\"\",\"B\",Master!BM245)","v":"B"}]
[{"$f":"Master!A246","v":0},{"$f":"Master!B246","v":"** no LMS course"},{"$f":"Master!C246","v":0},{"$f":"Master!D246","v":0},{"$f":"Master!E246","v":0},{"$f":"Master!F246","v":0},{"$f":"Master!H246","v":0}]
[{"$f":"Master!A247","v":0},{"$f":"Master!B247","v":"*** SS=Self Study, OLT=Online Training, ILT=Instructor Led Training"},{"$f":"Master!C247","v":0},{"$f":"Master!D247","v":0},{"$f":"Master!E247","v":0},{"$f":"Master!F247","v":0},{"$f":"Master!H247","v":0}]
[{"$f":"Master!A248","v":"ES"},{"$f":"Master!B248","v":"= Course offered by Department of Enterprise Services (DES). Contact LMS Helpdesk at 360-705-7060."},{"$f":"Master!C248","v":0},{"$f":"Master!D248","v":0},{"$f":"Master!E248","v":0},{"$f":"Master!F248","v":0},{"$f":"Master!H248","v":0}]
[{"$f":"Master!A249","v":"HR"},{"$f":"Master!B249","v":"= Course registration controlled by Human Resources. Contact LMS Helpdesk at 360-705-7060 to Register."},{"$f":"Master!C249","v":0},{"$f":"Master!D249","v":0},{"$f":"Master!E249","v":0},{"$f":"Master!F249","v":0},{"$f":"Master!H249","v":0}]
[{"$f":"Master!A250","v":0},{"$f":"Master!B250","v":0},{"$f":"Master!C250","v":0},{"$f":"Master!D250","v":0},{"$f":"Master!E250","v":0},{"$f":"Master!F250","v":0},{"$f":"Master!H250","v":0}]
[{"$f":"Master!A251","v":0},{"$f":"Master!B251","v":0},{"$f":"Master!C251","v":0},{"$f":"Master!D251","v":0},{"$f":"Master!E251","v":0},{"$f":"Master!F251","v":0},{"$f":"Master!H251","v":0}]
[{"$f":"Master!A252","v":0},{"$f":"Master!B252","v":0},{"$f":"Master!C252","v":0},{"$f":"Master!D252","v":0},{"$f":"Master!E252","v":0},{"$f":"Master!F252","v":0},{"$f":"Master!H252","v":0}]
[{"$f":"Master!A253","v":0},{"$f":"Master!B253","v":0},{"$f":"Master!C253","v":0},{"$f":"Master!D253","v":0},{"$f":"Master!E253","v":0},{"$f":"Master!F253","v":0},{"$f":"Master!H253","v":0}]
[{"$f":"Master!A254","v":0},{"$f":"Master!B254","v":0},{"$f":"Master!C254","v":0},{"$f":"Master!D254","v":0},{"$f":"Master!E254","v":0},{"$f":"Master!F254","v":0},{"$f":"Master!H254","v":0}]
[{"$f":"Master!A255","v":0},{"$f":"Master!B255","v":0},{"$f":"Master!C255","v":0},{"$f":"Master!D255","v":0},{"$f":"Master!E255","v":0},{"$f":"Master!F255","v":0},{"$f":"Master!H255","v":0}]
[{"$f":"Master!A256","v":0},{"$f":"Master!B256","v":0},{"$f":"Master!C256","v":0},{"$f":"Master!D256","v":0},{"$f":"Master!E256","v":0},{"$f":"Master!F256","v":0},{"$f":"Master!H256","v":0}]
[{"$f":"Master!A257","v":0},{"$f":"Master!B257","v":0},{"$f":"Master!C257","v":0},{"$f":"Master!D257","v":0},{"$f":"Master!E257","v":0},{"$f":"Master!F257","v":0},{"$f":"Master!H257","v":0}]
[{"$f":"Master!A258","v":0},{"$f":"Master!B258","v":0},{"$f":"Master!C258","v":0},{"$f":"Master!D258","v":0},{"$f":"Master!E258","v":0},{"$f":"Master!F258","v":0},{"$f":"Master!H258","v":0}]
[{"$f":"Master!A259","v":0},{"$f":"Master!B259","v":0},{"$f":"Master!C259","v":0},{"$f":"Master!D259","v":0},{"$f":"Master!E259","v":0},{"$f":"Master!F259","v":0},{"$f":"Master!H259","v":0}]
[{"$f":"Master!A260","v":0},{"$f":"Master!B260","v":0},{"$f":"Master!C260","v":0},{"$f":"Master!D260","v":0},{"$f":"Master!E260","v":0},{"$f":"Master!F260","v":0},{"$f":"Master!H260","v":0}]
[{"$f":"Master!A261","v":0},{"$f":"Master!B261","v":0},{"$f":"Master!C261","v":0},{"$f":"Master!D261","v":0},{"$f":"Master!E261","v":0},{"$f":"Master!F261","v":0},{"$f":"Master!H261","v":0}]
[{"$f":"Master!A262","v":0},{"$f":"Master!B262","v":0},{"$f":"Master!C262","v":0},{"$f":"Master!D262","v":0},{"$f":"Master!E262","v":0},{"$f":"Master!F262","v":0},{"$f":"Master!H262","v":0}]
[{"$f":"Master!A263","v":0},{"$f":"Master!B263","v":0},{"$f":"Master!C263","v":0},{"$f":"Master!D263","v":0},{"$f":"Master!E263","v":0},{"$f":"Master!F263","v":0},{"$f":"Master!H263","v":0}]
[{"$f":"Master!A264","v":0},{"$f":"Master!B264","v":0},{"$f":"Master!C264","v":0},{"$f":"Master!D264","v":0},{"$f":"Master!E264","v":0},{"$f":"Master!F264","v":0},{"$f":"Master!H264","v":0}]
[{"$f":"Master!A265","v":0},{"$f":"Master!B265","v":0},{"$f":"Master!C265","v":0},{"$f":"Master!D265","v":0},{"$f":"Master!E265","v":0},{"$f":"Master!F265","v":0},{"$f":"Master!H265","v":0}]
[{"$f":"Master!A266","v":0},{"$f":"Master!B266","v":0},{"$f":"Master!C266","v":0},{"$f":"Master!D266","v":0},{"$f":"Master!E266","v":0},{"$f":"Master!F266","v":0},{"$f":"Master!H266","v":0}]
[{"$f":"Master!A267","v":0},{"$f":"Master!B267","v":0},{"$f":"Master!C267","v":0},{"$f":"Master!D267","v":0},{"$f":"Master!E267","v":0},{"$f":"Master!F267","v":0},{"$f":"Master!H267","v":0}]
[{"$f":"Master!A268","v":0},{"$f":"Master!B268","v":0},{"$f":"Master!C268","v":0},{"$f":"Master!D268","v":0},{"$f":"Master!E268","v":0},{"$f":"Master!F268","v":0},{"$f":"Master!H268","v":0}]
[{"$f":"Master!A269","v":0},{"$f":"Master!B269","v":0},{"$f":"Master!C269","v":0},{"$f":"Master!D269","v":0},{"$f":"Master!E269","v":0},{"$f":"Master!F269","v":0},{"$f":"Master!H269","v":0}]
[{"$f":"Master!A270","v":0},{"$f":"Master!B270","v":0},{"$f":"Master!C270","v":0},{"$f":"Master!D270","v":0},{"$f":"Master!E270","v":0},{"$f":"Master!F270","v":0},{"$f":"Master!H270","v":0}]
[{"$f":"Master!A271","v":0},{"$f":"Master!B271","v":0},{"$f":"Master!C271","v":0},{"$f":"Master!D271","v":0},{"$f":"Master!E271","v":0},{"$f":"Master!F271","v":0},{"$f":"Master!H271","v":0}]
[{"$f":"Master!A272","v":0},{"$f":"Master!B272","v":0},{"$f":"Master!C272","v":0},{"$f":"Master!D272","v":0},{"$f":"Master!E272","v":0},{"$f":"Master!F272","v":0},{"$f":"Master!H272","v":0}]
[{"$f":"Master!A273","v":0},{"$f":"Master!B273","v":0},{"$f":"Master!C273","v":0},{"$f":"Master!D273","v":0},{"$f":"Master!E273","v":0},{"$f":"Master!F273","v":0},{"$f":"Master!H273","v":0}]
[{"$f":"Master!A274","v":0},{"$f":"Master!B274","v":0},{"$f":"Master!C274","v":0},{"$f":"Master!D274","v":0},{"$f":"Master!E274","v":0},{"$f":"Master!F274","v":0},{"$f":"Master!H274","v":0}]
[{"$f":"Master!A275","v":0},{"$f":"Master!B275","v":0},{"$f":"Master!C275","v":0},{"$f":"Master!D275","v":0},{"$f":"Master!E275","v":0},{"$f":"Master!F275","v":0},{"$f":"Master!H275","v":0}]
[{"$f":"Master!A276","v":0},{"$f":"Master!B276","v":0},{"$f":"Master!C276","v":0},{"$f":"Master!D276","v":0},{"$f":"Master!E276","v":0},{"$f":"Master!F276","v":0},{"$f":"Master!H276","v":0}]
[{"$f":"Master!A277","v":0},{"$f":"Master!B277","v":0},{"$f":"Master!C277","v":0},{"$f":"Master!D277","v":0},{"$f":"Master!E277","v":0},{"$f":"Master!F277","v":0},{"$f":"Master!H277","v":0}]
[{"$f":"Master!A278","v":0},{"$f":"Master!B278","v":0},{"$f":"Master!C278","v":0},{"$f":"Master!D278","v":0},{"$f":"Master!E278","v":0},{"$f":"Master!F278","v":0},{"$f":"Master!H278","v":0}]
[{"$f":"Master!A279","v":0},{"$f":"Master!B279","v":0},{"$f":"Master!C279","v":0},{"$f":"Master!D279","v":0},{"$f":"Master!E279","v":0},{"$f":"Master!F279","v":0},{"$f":"Master!H279","v":0}]
[{"$f":"Master!A280","v":0},{"$f":"Master!B280","v":0},{"$f":"Master!C280","v":0},{"$f":"Master!D280","v":0},{"$f":"Master!E280","v":0},{"$f":"Master!F280","v":0},{"$f":"Master!H280","v":0}]
[{"$f":"Master!A281","v":0},{"$f":"Master!B281","v":0},{"$f":"Master!C281","v":0},{"$f":"Master!D281","v":0},{"$f":"Master!E281","v":0},{"$f":"Master!F281","v":0},{"$f":"Master!H281","v":0}]
[{"$f":"Master!A282","v":0},{"$f":"Master!B282","v":0},{"$f":"Master!C282","v":0},{"$f":"Master!D282","v":0},{"$f":"Master!E282","v":0},{"$f":"Master!F282","v":0},{"$f":"Master!H282","v":0}]
[{"$f":"Master!A283","v":0},{"$f":"Master!B283","v":0},{"$f":"Master!C283","v":0},{"$f":"Master!D283","v":0},{"$f":"Master!E283","v":0},{"$f":"Master!F283","v":0},{"$f":"Master!H283","v":0}]

{"sheet":"TR","index":12,"n_rows":283,"n_cols":13,"rows_kept":283,"cut":false,"hidden":false,"merged":[[191,0,191,6],[202,0,202,6],[210,0,210,6],[213,0,213,6],[85,0,85,6],[88,0,88,6],[95,0,95,6],[151,0,151,6],[152,0,152,6],[185,0,185,6],[83,0,83,6],[2,0,2,6],[13,0,13,6],[48,0,48,6],[49,0,49,6],[52,0,52,6],[55,0,55,6],[58,0,58,6],[60,0,60,6],[63,0,63,6],[70,0,70,6],[76,0,76,6]]}
[null,null,null,7,6]
["Responsible Division","LMS COURSE NAME"," LMS COURSE CODE","Self Study (SS), \nOnline (OLT), or \nInstructor Led (ILT)","TRAINING\nSTATUS","If training status is \"inactive\", when will the course be developed?","NOTES","TT1","TT2","TT3","TE1","TE2","TE3"]
["Mandatory",null,null,null,null,null,null,{"$f":"IF(Master!K3=\"\",\"B\",Master!K3)","v":"B"},{"$f":"IF(Master!V3=\"\",\"B\",Master!V3)","v":"B"},{"$f":"IF(Master!AG3=\"\",\"B\",Master!AG3)","v":"B"},{"$f":"IF(Master!AR3=\"\",\"B\",Master!AR3)","v":"B"},{"$f":"IF(Master!BC3=\"\",\"B\",Master!BC3)","v":"B"},{"$f":"IF(Master!BN3=\"\",\"B\",Master!BN3)","v":"B"}]
[{"$f":"Master!A4","v":"HR"},{"$f":"Master!B4","v":"WA-State Ethics in State Government"},{"$f":"Master!C4","v":"WA-State Ethics 8-7-2014-V6"},{"$f":"Master!D4","v":"OLT"},{"$f":"Master!E4","v":"Active"},{"$f":"Master!F4","v":0},{"$f":"Master!H4","v":"To register for this course, \ncall the LMS Helpdesk at \n360-705-7060."},{"$f":"IF(Master!K4=\"\",\"B\",Master!K4)","v":"M"},{"$f":"IF(Master!V4=\"\",\"B\",Master!V4)","v":"M"},{"$f":"IF(Master!AG4=\"\",\"B\",Master!AG4)","v":"M"},{"$f":"IF(Master!AR4=\"\",\"B\",Master!AR4)","v":"M"},{"$f":"IF(Master!BC4=\"\",\"B\",Master!BC4)","v":"M"},{"$f":"IF(Master!BN4=\"\",\"B\",Master!BN4)","v":"M"}]
[{"$f":"Master!A5","v":"HR"},{"$f":"Master!B5","v":"WSDOT Mandatory: Ethical Standards WSDOT Specific Training"},{"$f":"Master!C5","v":"WSDOT_BKB Specific"},{"$f":"Master!D5","v":"OLT"},{"$f":"Master!E5","v":"Active"},{"$f":"Master!F5","v":0},{"$f":"Master!H5","v":"To register for this course, \ncall the LMS Helpdesk at \n360-705-7060."},{"$f":"IF(Master!K5=\"\",\"B\",Master!K5)","v":"M"},{"$f":"IF(Master!V5=\"\",\"B\",Master!V5)","v":"M"},{"$f":"IF(Master!AG5=\"\",\"B\",Master!AG5)","v":"M"},{"$f":"IF(Master!AR5=\"\",\"B\",Master!AR5)","v":"M"},{"$f":"IF(Master!BC5=\"\",\"B\",Master!BC5)","v":"M"},{"$f":"IF(Master!BN5=\"\",\"B\",Master!BN5)","v":"M"}]
[{"$f":"Master!A6","v":"HR"},{"$f":"Master!B6","v":"WSDOT Mandatory: System Security Awareness For Transportation Employees (Self Study)"},{"$f":"Master!C6","v":"WSDOT_CJJ_UDT"},{"$f":"Master!D6","v":"SS"},{"$f":"Master!E6","v":"Active"},{"$f":"Master!F6","v":0},{"$f":"Master!H6","v":"To register for this course, \ncall the LMS Helpdesk at \n360-705-7060."},{"$f":"IF(Master!K6=\"\",\"B\",Master!K6)","v":"M"},{"$f":"IF(Master!V6=\"\",\"B\",Master!V6)","v":"M"},{"$f":"IF(Master!AG6=\"\",\"B\",Master!AG6)","v":"M"},{"$f":"IF(Master!AR6=\"\",\"B\",Master!AR6)","v":"M"},{"$f":"IF(Master!BC6=\"\",\"B\",Master!BC6)","v":"M"},{"$f":"IF(Master!BN6=\"\",\"B\",Master!BN6)","v":"M"}]
[{"$f":"Master!A7","v":"HR"},{"$f":"Master!B7","v":"WSDOT Mandatory: Violence That Affects The Workplace (Self Study)"},{"$f":"Master!C7","v":"WSDOT_B9V"},{"$f":"Master!D7","v":"SS"},{"$f":"Master!E7","v":"Active"},{"$f":"Master!F7","v":0},{"$f":"Master!H7","v":"To register for this course, \ncall the LMS Helpdesk at \n360-705-7060."},{"$f":"IF(Master!K7=\"\",\"B\",Master!K7)","v":"M"},{"$f":"IF(Master!V7=\"\",\"B\",Master!V7)","v":"M"},{"$f":"IF(Master!AG7=\"\",\"B\",Master!AG7)","v":"M"},{"$f":"IF(Master!AR7=\"\",\"B\",Master!AR7)","v":"M"},{"$f":"IF(Master!BC7=\"\",\"B\",Master!BC7)","v":"M"},{"$f":"IF(Master!BN7=\"\",\"B\",Master!BN7)","v":"M"}]
[{"$f":"Master!A8","v":"HR"},{"$f":"Master!B8","v":"WA-State IT Security Awareness Training"},{"$f":"Master!C8","v":"WA-State IT Security Awareness Training - Initial Training-8/16/2013"},{"$f":"Master!D8","v":"OLT"},{"$f":"Master!E8","v":"Active"},{"$f":"Master!F8","v":0},{"$f":"Master!H8","v":"To register for this course, \ncall the LMS Helpdesk at \n360-705-7060."},{"$f":"IF(Master!K8=\"\",\"B\",Master!K8)","v":"M"},{"$f":"IF(Master!V8=\"\",\"B\",Master!V8)","v":"M"},{"$f":"IF(Master!AG8=\"\",\"B\",Master!AG8)","v":"M"},{"$f":"IF(Master!AR8=\"\",\"B\",Master!AR8)","v":"M"},{"$f":"IF(Master!BC8=\"\",\"B\",Master!BC8)","v":"M"},{"$f":"IF(Master!BN8=\"\",\"B\",Master!BN8)","v":"M"}]
[{"$f":"Master!A9","v":"HR"},{"$f":"Master!B9","v":"WA-State Sexual Harassment Awareness and Prevention"},{"$f":"Master!C9","v":"DES_shap_2013_Updated_9-3-2014"},{"$f":"Master!D9","v":"OLT"},{"$f":"Master!E9","v":"Active"},{"$f":"Master!F9","v":0},{"$f":"Master!H9","v":"To register for this course, \ncall the LMS Helpdesk at \n360-705-7060."},{"$f":"IF(Master!K9=\"\",\"B\",Master!K9)","v":"M"},{"$f":"IF(Master!V9=\"\",\"B\",Master!V9)","v":"M"},{"$f":"IF(Master!AG9=\"\",\"B\",Master!AG9)","v":"M"},{"$f":"IF(Master!AR9=\"\",\"B\",Master!AR9)","v":"M"},{"$f":"IF(Master!BC9=\"\",\"B\",Master!BC9)","v":"M"},{"$f":"IF(Master!BN9=\"\",\"B\",Master!BN9)","v":"M"}]
[{"$f":"Master!A10","v":"HR"},{"$f":"Master!B10","v":"WSDOT Mandatory: Disability Awareness Step 1, Understanding the Americans with Disabilities Act (ADA)  "},{"$f":"Master!C10","v":"lchr_01_a15_lc_enus"},{"$f":"Master!D10","v":"OLT"},{"$f":"Master!E10","v":"Active"},{"$f":"Master!F10","v":0},{"$f":"Master!H10","v":"To register for this course, \ncall the LMS Helpdesk at \n360-705-7060."},{"$f":"IF(Master!K10=\"\",\"B\",Master!K10)","v":"M"},{"$f":"IF(Master!V10=\"\",\"B\",Master!V10)","v":"M"},{"$f":"IF(Master!AG10=\"\",\"B\",Master!AG10)","v":"M"},{"$f":"IF(Master!AR10=\"\",\"B\",Master!AR10)","v":"M"},{"$f":"IF(Master!BC10=\"\",\"B\",Master!BC10)","v":"M"},{"$f":"IF(Master!BN10=\"\",\"B\",Master!BN10)","v":"M"}]
[{"$f":"Master!A11","v":"HR"},{"$f":"Master!B11","v":"WSDOT Mandatory: Disability Awareness Step 2 of Learning Plan"},{"$f":"Master!C11","v":"WSDOT_CD8_UDT2"},{"$f":"Master!D11","v":"OLT"},{"$f":"Master!E11","v":"Active"},{"$f":"Master!F11","v":0},{"$f":"Master!H11","v":"To register for this course, \ncall the LMS Helpdesk at \n360-705-7060."},{"$f":"IF(Master!K11=\"\",\"B\",Master!K11)","v":"M"},{"$f":"IF(Master!V11=\"\",\"B\",Master!V11)","v":"M"},{"$f":"IF(Master!AG11=\"\",\"B\",Master!AG11)","v":"M"},{"$f":"IF(Master!AR11=\"\",\"B\",Master!AR11)","v":"M"},{"$f":"IF(Master!BC11=\"\",\"B\",Master!BC11)","v":"M"},{"$f":"IF(Master!BN11=\"\",\"B\",Master!BN11)","v":"M"}]
[{"$f":"Master!A12","v":"HR"},{"$f":"Master!B12","v":"WSDOT Mandatory: Discrimination In The Workplace (Self Study)"},{"$f":"Master!C12","v":"WSDOT_DIS"},{"$f":"Master!D12","v":"SS"},{"$f":"Master!E12","v":"Active"},{"$f":"Master!F12","v":0},{"$f":"Master!H12","v":"To register for this course, \ncall the LMS Helpdesk at \n360-705-7060."},{"$f":"IF(Master!K12=\"\",\"B\",Master!K12)","v":"M"},{"$f":"IF(Master!V12=\"\",\"B\",Master!V12)","v":"M"},{"$f":"IF(Master!AG12=\"\",\"B\",Master!AG12)","v":"M"},{"$f":"IF(Master!AR12=\"\",\"B\",Master!AR12)","v":"M"},{"$f":"IF(Master!BC12=\"\",\"B\",Master!BC12)","v":"M"},{"$f":"IF(Master!BN12=\"\",\"B\",Master!BN12)","v":"M"}]
[{"$f":"Master!A13","v":"HR"},{"$f":"Master!B13","v":"WSDOT Mandatory: Valuing Diversity Step 2, Promoting Respect in the Global Workplace – Employee Edition"},{"$f":"Master!C13","v":"WSDOT_lch_01_a09_lc_enus"},{"$f":"Master!D13","v":"OLT"},{"$f":"Master!E13","v":"Active"},{"$f":"Master!F13","v":0},{"$f":"Master!H13","v":"To register for this course, \ncall the LMS Helpdesk at \n360-705-7060."},{"$f":"IF(Master!K13=\"\",\"B\",Master!K13)","v":"M"},{"$f":"IF(Master!V13=\"\",\"B\",Master!V13)","v":"M"},{"$f":"IF(Master!AG13=\"\",\"B\",Master!AG13)","v":"M"},{"$f":"IF(Master!AR13=\"\",\"B\",Master!AR13)","v":"M"},{"$f":"IF(Master!BC13=\"\",\"B\",Master!BC13)","v":"M"},{"$f":"IF(Master!BN13=\"\",\"B\",Master!BN13)","v":"M"}]
[{"$f":"Master!A14","v":"General Knowledge"},null,null,null,null,null,null,{"$f":"IF(Master!K14=\"\",\"B\",Master!K14)","v":"B"},{"$f":"IF(Master!V14=\"\",\"B\",Master!V14)","v":"B"},{"$f":"IF(Master!AG14=\"\",\"B\",Master!AG14)","v":"B"},{"$f":"IF(Master!AR14=\"\",\"B\",Master!AR14)","v":"B"},{"$f":"IF(Master!BC14=\"\",\"B\",Master!BC14)","v":"B"},{"$f":"IF(Master!BN14=\"\",\"B\",Master!BN14)","v":"B"}]
[{"$f":"Master!A15","v":"GEN"},{"$f":"Master!B15","v":"**Legal Liability for Transportation Professionals - Entry"},{"$f":"Master!C15","v":0},{"$f":"Master!D15","v":"ILT"},{"$f":"Master!E15","v":"Inactive"},{"$f":"Master!F15","v":0},{"$f":"Master!H15","v":0},{"$f":"IF(Master!K15=\"\",\"B\",Master!K15)","v":1},{"$f":"IF(Master!V15=\"\",\"B\",Master!V15)","v":1},{"$f":"IF(Master!AG15=\"\",\"B\",Master!AG15)","v":1},{"$f":"IF(Master!AR15=\"\",\"B\",Master!AR15)","v":1},{"$f":"IF(Master!BC15=\"\",\"B\",Master!BC15)","v":1},{"$f":"IF(Master!BN15=\"\",\"B\",Master!BN15)","v":"B"}]
[{"$f":"Master!A16","v":"GEN"},{"$f":"Master!B16","v":"**Legal Liability for Transportation Professionals - In-Depth"},{"$f":"Master!C16","v":0},{"$f":"Master!D16","v":"ILT"},{"$f":"Master!E16","v":"Inactive"},{"$f":"Master!F16","v":0},{"$f":"Master!H16","v":0},{"$f":"IF(Master!K16=\"\",\"B\",Master!K16)","v":"B"},{"$f":"IF(Master!V16=\"\",\"B\",Master!V16)","v":"B"},{"$f":"IF(Master!AG16=\"\",\"B\",Master!AG16)","v":"B"},{"$f":"IF(Master!AR16=\"\",\"B\",Master!AR16)","v":"B"},{"$f":"IF(Master!BC16=\"\",\"B\",Master!BC16)","v":"B"},{"$f":"IF(Master!BN16=\"\",\"B\",Master!BN16)","v":1}]
[{"$f":"Master!A17","v":"GEN"},{"$f":"Master!B17","v":"WSDOT GEN: TECHNICAL MATHEMATICS I (SELF-STUDY)"},{"$f":"Master!C17","v":"WSDOT_AFN"},{"$f":"Master!D17","v":"SS"},{"$f":"Master!E17","v":"Active"},{"$f":"Master!F17","v":0},{"$f":"Master!H17","v":0},{"$f":"IF(Master!K17=\"\",\"B\",Master!K17)","v":"R"},{"$f":"IF(Master!V17=\"\",\"B\",Master!V17)","v":"R"},{"$f":"IF(Master!AG17=\"\",\"B\",Master!AG17)","v":"B"},{"$f":"IF(Master!AR17=\"\",\"B\",Master!AR17)","v":"B"},{"$f":"IF(Master!BC17=\"\",\"B\",Master!BC17)","v":"B"},{"$f":"IF(Master!BN17=\"\",\"B\",Master!BN17)","v":"B"}]
[{"$f":"Master!A18","v":"GEN"},{"$f":"Master!B18","v":"WSDOT GEN: TECHNICAL MATHEMATICS II (SELF-STUDY)"},{"$f":"Master!C18","v":"WSDOT_A7J"},{"$f":"Master!D18","v":"SS"},{"$f":"Master!E18","v":"Active"},{"$f":"Master!F18","v":0},{"$f":"Master!H18","v":0},{"$f":"IF(Master!K18=\"\",\"B\",Master!K18)","v":"R"},{"$f":"IF(Master!V18=\"\",\"B\",Master!V18)","v":"R"},{"$f":"IF(Master!AG18=\"\",\"B\",Master!AG18)","v":"B"},{"$f":"IF(Master!AR18=\"\",\"B\",Master!AR18)","v":"B"},{"$f":"IF(Master!BC18=\"\",\"B\",Master!BC18)","v":"B"},{"$f":"IF(Master!BN18=\"\",\"B\",Master!BN18)","v":"B"}]
[{"$f":"Master!A19","v":"SS"},{"$f":"Master!B19","v":"Finding Your Bearings as a Project Manager"},{"$f":"Master!C19","v":"apj_151_a01_bs_enus"},{"$f":"Master!D19","v":"OLT"},{"$f":"Master!E19","v":"Active"},{"$f":"Master!F19","v":0},{"$f":"Master!H19","v":0},{"$f":"IF(Master!K19=\"\",\"B\",Master!K19)","v":"R"},{"$f":"IF(Master!V19=\"\",\"B\",Master!V19)","v":"R"},{"$f":"IF(Master!AG19=\"\",\"B\",Master!AG19)","v":"B"},{"$f":"IF(Master!AR19=\"\",\"B\",Master!AR19)","v":"B"},{"$f":"IF(Master!BC19=\"\",\"B\",Master!BC19)","v":"B"},{"$f":"IF(Master!BN19=\"\",\"B\",Master!BN19)","v":"B"}]
[{"$f":"Master!A20","v":"SS"},{"$f":"Master!B20","v":"Getting to the Root of a Problem"},{"$f":"Master!C20","v":"apj_15_a01_bs_enus"},{"$f":"Master!D20","v":"OLT"},{"$f":"Master!E20","v":"Active"},{"$f":"Master!F20","v":0},{"$f":"Master!H20","v":0},{"$f":"IF(Master!K20=\"\",\"B\",Master!K20)","v":"R"},{"$f":"IF(Master!V20=\"\",\"B\",Master!V20)","v":"R"},{"$f":"IF(Master!AG20=\"\",\"B\",Master!AG20)","v":"B"},{"$f":"IF(Master!AR20=\"\",\"B\",Master!AR20)","v":"B"},{"$f":"IF(Master!BC20=\"\",\"B\",Master!BC20)","v":"B"},{"$f":"IF(Master!BN20=\"\",\"B\",Master!BN20)","v":"B"}]
[{"$f":"Master!A21","v":"SS"},{"$f":"Master!B21","v":"The Process Groups (PMBOK® Guide Fifth Edition)"},{"$f":"Master!C21","v":"apj_01_a03_bs_enus"},{"$f":"Master!D21","v":"OLT"},{"$f":"Master!E21","v":"Active"},{"$f":"Master!F21","v":0},{"$f":"Master!H21","v":0},{"$f":"IF(Master!K21=\"\",\"B\",Master!K21)","v":"R"},{"$f":"IF(Master!V21=\"\",\"B\",Master!V21)","v":"R"},{"$f":"IF(Master!AG21=\"\",\"B\",Master!AG21)","v":"B"},{"$f":"IF(Master!AR21=\"\",\"B\",Master!AR21)","v":"B"},{"$f":"IF(Master!BC21=\"\",\"B\",Master!BC21)","v":"B"},{"$f":"IF(Master!BN21=\"\",\"B\",Master!BN21)","v":"B"}]
[{"$f":"Master!A22","v":"SS"},{"$f":"Master!B22","v":"Solving Problems: Generating and Evaluating Alternatives"},{"$f":"Master!C22","v":"pd_29_a02_bs_enus"},{"$f":"Master!D22","v":"OLT"},{"$f":"Master!E22","v":"Active"},{"$f":"Master!F22","v":0},{"$f":"Master!H22","v":0},{"$f":"IF(Master!K22=\"\",\"B\",Master!K22)","v":"R"},{"$f":"IF(Master!V22=\"\",\"B\",Master!V22)","v":"R"},{"$f":"IF(Master!AG22=\"\",\"B\",Master!AG22)","v":"B"},{"$f":"IF(Master!AR22=\"\",\"B\",Master!AR22)","v":"B"},{"$f":"IF(Master!BC22=\"\",\"B\",Master!BC22)","v":"B"},{"$f":"IF(Master!BN22=\"\",\"B\",Master!BN22)","v":"B"}]
[{"$f":"Master!A23","v":"SS"},{"$f":"Master!B23","v":"Making and Carrying Out Tough Decisions"},{"$f":"Master!C23","v":"pd_29_a03_bs_enus"},{"$f":"Master!D23","v":"OLT"},{"$f":"Master!E23","v":"Active"},{"$f":"Master!F23","v":0},{"$f":"Master!H23","v":0},{"$f":"IF(Master!K23=\"\",\"B\",Master!K23)","v":"R"},{"$f":"IF(Master!V23=\"\",\"B\",Master!V23)","v":"R"},{"$f":"IF(Master!AG23=\"\",\"B\",Master!AG23)","v":"B"},{"$f":"IF(Master!AR23=\"\",\"B\",Master!AR23)","v":"B"},{"$f":"IF(Master!BC23=\"\",\"B\",Master!BC23)","v":"B"},{"$f":"IF(Master!BN23=\"\",\"B\",Master!BN23)","v":"B"}]
[{"$f":"Master!A24","v":"SS"},{"$f":"Master!B24","v":"Solving Problems: Framing the Problem"},{"$f":"Master!C24","v":"pd_29_a01_bs_enus"},{"$f":"Master!D24","v":"OLT"},{"$f":"Master!E24","v":"Active"},{"$f":"Master!F24","v":0},{"$f":"Master!H24","v":0},{"$f":"IF(Master!K24=\"\",\"B\",Master!K24)","v":"R"},{"$f":"IF(Master!V24=\"\",\"B\",Master!V24)","v":"R"},{"$f":"IF(Master!AG24=\"\",\"B\",Master!AG24)","v":"B"},{"$f":"IF(Master!AR24=\"\",\"B\",Master!AR24)","v":"B"},{"$f":"IF(Master!BC24=\"\",\"B\",Master!BC24)","v":"B"},{"$f":"IF(Master!BN24=\"\",\"B\",Master!BN24)","v":"B"}]
[{"$f":"Master!A25","v":"SS"},{"$f":"Master!B25","v":"Problem-Solving and Process Management Tools"},{"$f":"Master!C25","v":"oper_04_a07_bs_enus"},{"$f":"Master!D25","v":"OLT"},{"$f":"Master!E25","v":"Active"},{"$f":"Master!F25","v":0},{"$f":"Master!H25","v":0},{"$f":"IF(Master!K25=\"\",\"B\",Master!K25)","v":"R"},{"$f":"IF(Master!V25=\"\",\"B\",Master!V25)","v":"R"},{"$f":"IF(Master!AG25=\"\",\"B\",Master!AG25)","v":"B"},{"$f":"IF(Master!AR25=\"\",\"B\",Master!AR25)","v":"B"},{"$f":"IF(Master!BC25=\"\",\"B\",Master!BC25)","v":"B"},{"$f":"IF(Master!BN25=\"\",\"B\",Master!BN25)","v":"B"}]
[{"$f":"Master!A26","v":"SS"},{"$f":"Master!B26","v":"Basic Presentation Skills: Delivering a Presentation"},{"$f":"Master!C26","v":"comm_33_a03_bs_enus"},{"$f":"Master!D26","v":"OLT"},{"$f":"Master!E26","v":"Active"},{"$f":"Master!F26","v":0},{"$f":"Master!H26","v":0},{"$f":"IF(Master!K26=\"\",\"B\",Master!K26)","v":"R"},{"$f":"IF(Master!V26=\"\",\"B\",Master!V26)","v":"R"},{"$f":"IF(Master!AG26=\"\",\"B\",Master!AG26)","v":"B"},{"$f":"IF(Master!AR26=\"\",\"B\",Master!AR26)","v":"B"},{"$f":"IF(Master!BC26=\"\",\"B\",Master!BC26)","v":"B"},{"$f":"IF(Master!BN26=\"\",\"B\",Master!BN26)","v":"B"}]
[{"$f":"Master!A27","v":"SS"},{"$f":"Master!B27","v":"Basic Presentation Skills: Creating a Presentation"},{"$f":"Master!C27","v":"comm_33_a02_bs_enus"},{"$f":"Master!D27","v":"OLT"},{"$f":"Master!E27","v":"Active"},{"$f":"Master!F27","v":0},{"$f":"Master!H27","v":0},{"$f":"IF(Master!K27=\"\",\"B\",Master!K27)","v":"R"},{"$f":"IF(Master!V27=\"\",\"B\",Master!V27)","v":"R"},{"$f":"IF(Master!AG27=\"\",\"B\",Master!AG27)","v":"B"},{"$f":"IF(Master!AR27=\"\",\"B\",Master!AR27)","v":"B"},{"$f":"IF(Master!BC27=\"\",\"B\",Master!BC27)","v":"B"},{"$f":"IF(Master!BN27=\"\",\"B\",Master!BN27)","v":"B"}]
[{"$f":"Master!A28","v":"SS"},{"$f":"Master!B28","v":"Building the Foundation for an Effective Team"},{"$f":"Master!C28","v":"atm_01_a01_bs_enus"},{"$f":"Master!D28","v":"OLT"},{"$f":"Master!E28","v":"Active"},{"$f":"Master!F28","v":0},{"$f":"Master!H28","v":0},{"$f":"IF(Master!K28=\"\",\"B\",Master!K28)","v":"R"},{"$f":"IF(Master!V28=\"\",\"B\",Master!V28)","v":"R"},{"$f":"IF(Master!AG28=\"\",\"B\",Master!AG28)","v":"B"},{"$f":"IF(Master!AR28=\"\",\"B\",Master!AR28)","v":"B"},{"$f":"IF(Master!BC28=\"\",\"B\",Master!BC28)","v":"B"},{"$f":"IF(Master!BN28=\"\",\"B\",Master!BN28)","v":"B"}]
[{"$f":"Master!A29","v":"SS"},{"$f":"Master!B29","v":"Developing a Successful Team"},{"$f":"Master!C29","v":"atm_01_a02_bs_enus"},{"$f":"Master!D29","v":"OLT"},{"$f":"Master!E29","v":"Active"},{"$f":"Master!F29","v":0},{"$f":"Master!H29","v":0},{"$f":"IF(Master!K29=\"\",\"B\",Master!K29)","v":"R"},{"$f":"IF(Master!V29=\"\",\"B\",Master!V29)","v":"R"},{"$f":"IF(Master!AG29=\"\",\"B\",Master!AG29)","v":"B"},{"$f":"IF(Master!AR29=\"\",\"B\",Master!AR29)","v":"B"},{"$f":"IF(Master!BC29=\"\",\"B\",Master!BC29)","v":"B"},{"$f":"IF(Master!BN29=\"\",\"B\",Master!BN29)","v":"B"}]
[{"$f":"Master!A30","v":"SS"},{"$f":"Master!B30","v":"Encouraging Team Communication and Collaboration"},{"$f":"Master!C30","v":"atm_01_a03_bs_enus"},{"$f":"Master!D30","v":"OLT"},{"$f":"Master!E30","v":"Active"},{"$f":"Master!F30","v":0},{"$f":"Master!H30","v":0},{"$f":"IF(Master!K30=\"\",\"B\",Master!K30)","v":"R"},{"$f":"IF(Master!V30=\"\",\"B\",Master!V30)","v":"R"},{"$f":"IF(Master!AG30=\"\",\"B\",Master!AG30)","v":"B"},{"$f":"IF(Master!AR30=\"\",\"B\",Master!AR30)","v":"B"},{"$f":"IF(Master!BC30=\"\",\"B\",Master!BC30)","v":"B"},{"$f":"IF(Master!BN30=\"\",\"B\",Master!BN30)","v":"B"}]
[{"$f":"Master!A31","v":"SS"},{"$f":"Master!B31","v":"Handling Team Conflict"},{"$f":"Master!C31","v":"atm_01_a04_bs_enus"},{"$f":"Master!D31","v":"OLT"},{"$f":"Master!E31","v":"Active"},{"$f":"Master!F31","v":0},{"$f":"Master!H31","v":0},{"$f":"IF(Master!K31=\"\",\"B\",Master!K31)","v":"R"},{"$f":"IF(Master!V31=\"\",\"B\",Master!V31)","v":"R"},{"$f":"IF(Master!AG31=\"\",\"B\",Master!AG31)","v":"B"},{"$f":"IF(Master!AR31=\"\",\"B\",Master!AR31)","v":"B"},{"$f":"IF(Master!BC31=\"\",\"B\",Master!BC31)","v":"B"},{"$f":"IF(Master!BN31=\"\",\"B\",Master!BN31)","v":"B"}]
[{"$f":"Master!A32","v":"SS"},{"$f":"Master!B32","v":"Thinking Critically: Coming to Terms with Assumptions"},{"$f":"Master!C32","v":"pe_01_a01_bs_enus"},{"$f":"Master!D32","v":"OLT"},{"$f":"Master!E32","v":"Active"},{"$f":"Master!F32","v":0},{"$f":"Master!H32","v":0},{"$f":"IF(Master!K32=\"\",\"B\",Master!K32)","v":"R"},{"$f":"IF(Master!V32=\"\",\"B\",Master!V32)","v":"R"},{"$f":"IF(Master!AG32=\"\",\"B\",Master!AG32)","v":"B"},{"$f":"IF(Master!AR32=\"\",\"B\",Master!AR32)","v":"B"},{"$f":"IF(Master!BC32=\"\",\"B\",Master!BC32)","v":"B"},{"$f":"IF(Master!BN32=\"\",\"B\",Master!BN32)","v":"B"}]
[{"$f":"Master!A33","v":"SS"},{"$f":"Master!B33","v":"Thinking Critically: Getting Your Arms around Arguments"},{"$f":"Master!C33","v":"pe_01_a02_bs_enus"},{"$f":"Master!D33","v":"OLT"},{"$f":"Master!E33","v":"Active"},{"$f":"Master!F33","v":0},{"$f":"Master!H33","v":0},{"$f":"IF(Master!K33=\"\",\"B\",Master!K33)","v":"R"},{"$f":"IF(Master!V33=\"\",\"B\",Master!V33)","v":"R"},{"$f":"IF(Master!AG33=\"\",\"B\",Master!AG33)","v":"B"},{"$f":"IF(Master!AR33=\"\",\"B\",Master!AR33)","v":"B"},{"$f":"IF(Master!BC33=\"\",\"B\",Master!BC33)","v":"B"},{"$f":"IF(Master!BN33=\"\",\"B\",Master!BN33)","v":"B"}]
[{"$f":"Master!A34","v":"SS"},{"$f":"Master!B34","v":"Thinking Critically: Drawing Conclusions with Confidence"},{"$f":"Master!C34","v":"pe_01_a03_bs_enus"},{"$f":"Master!D34","v":"OLT"},{"$f":"Master!E34","v":"Active"},{"$f":"Master!F34","v":0},{"$f":"Master!H34","v":0},{"$f":"IF(Master!K34=\"\",\"B\",Master!K34)","v":"R"},{"$f":"IF(Master!V34=\"\",\"B\",Master!V34)","v":"R"},{"$f":"IF(Master!AG34=\"\",\"B\",Master!AG34)","v":"B"},{"$f":"IF(Master!AR34=\"\",\"B\",Master!AR34)","v":"B"},{"$f":"IF(Master!BC34=\"\",\"B\",Master!BC34)","v":"B"},{"$f":"IF(Master!BN34=\"\",\"B\",Master!BN34)","v":"B"}]
[{"$f":"Master!A35","v":"SS"},{"$f":"Master!B35","v":"Microsoft Excel 2016 Essentials: Creating, Editing, and Saving Workbooks"},{"$f":"Master!C35","v":"mo_beel_a01_dt_enus"},{"$f":"Master!D35","v":"OLT"},{"$f":"Master!E35","v":"Active"},{"$f":"Master!F35","v":0},{"$f":"Master!H35","v":0},{"$f":"IF(Master!K35=\"\",\"B\",Master!K35)","v":"R"},{"$f":"IF(Master!V35=\"\",\"B\",Master!V35)","v":"R"},{"$f":"IF(Master!AG35=\"\",\"B\",Master!AG35)","v":"B"},{"$f":"IF(Master!AR35=\"\",\"B\",Master!AR35)","v":"B"},{"$f":"IF(Master!BC35=\"\",\"B\",Master!BC35)","v":"B"},{"$f":"IF(Master!BN35=\"\",\"B\",Master!BN35)","v":"B"}]
[{"$f":"Master!A36","v":"SS"},{"$f":"Master!B36","v":"Microsoft Excel 2016 Essentials: Formulas and Functions"},{"$f":"Master!C36","v":"mo_beel_a04_dt_enus"},{"$f":"Master!D36","v":"OLT"},{"$f":"Master!E36","v":"Active"},{"$f":"Master!F36","v":0},{"$f":"Master!H36","v":0},{"$f":"IF(Master!K36=\"\",\"B\",Master!K36)","v":"R"},{"$f":"IF(Master!V36=\"\",\"B\",Master!V36)","v":"R"},{"$f":"IF(Master!AG36=\"\",\"B\",Master!AG36)","v":"B"},{"$f":"IF(Master!AR36=\"\",\"B\",Master!AR36)","v":"B"},{"$f":"IF(Master!BC36=\"\",\"B\",Master!BC36)","v":"B"},{"$f":"IF(Master!BN36=\"\",\"B\",Master!BN36)","v":"B"}]
[{"$f":"Master!A37","v":"SS"},{"$f":"Master!B37","v":"Microsoft Excel 2016 Essentials: Formatting Data"},{"$f":"Master!C37","v":"mo_beel_a02_dt_enus"},{"$f":"Master!D37","v":"OLT"},{"$f":"Master!E37","v":"Active"},{"$f":"Master!F37","v":0},{"$f":"Master!H37","v":0},{"$f":"IF(Master!K37=\"\",\"B\",Master!K37)","v":"R"},{"$f":"IF(Master!V37=\"\",\"B\",Master!V37)","v":"R"},{"$f":"IF(Master!AG37=\"\",\"B\",Master!AG37)","v":"B"},{"$f":"IF(Master!AR37=\"\",\"B\",Master!AR37)","v":"B"},{"$f":"IF(Master!BC37=\"\",\"B\",Master!BC37)","v":"B"},{"$f":"IF(Master!BN37=\"\",\"B\",Master!BN37)","v":"B"}]
[{"$f":"Master!A38","v":"SS"},{"$f":"Master!B38","v":"Microsoft Excel 2016 Essentials: Data Presentation Strategies"},{"$f":"Master!C38","v":"mo_beel_a03_dt_enus"},{"$f":"Master!D38","v":"OLT"},{"$f":"Master!E38","v":"Active"},{"$f":"Master!F38","v":0},{"$f":"Master!H38","v":0},{"$f":"IF(Master!K38=\"\",\"B\",Master!K38)","v":"R"},{"$f":"IF(Master!V38=\"\",\"B\",Master!V38)","v":"R"},{"$f":"IF(Master!AG38=\"\",\"B\",Master!AG38)","v":"B"},{"$f":"IF(Master!AR38=\"\",\"B\",Master!AR38)","v":"B"},{"$f":"IF(Master!BC38=\"\",\"B\",Master!BC38)","v":"B"},{"$f":"IF(Master!BN38=\"\",\"B\",Master!BN38)","v":"B"}]
[{"$f":"Master!A39","v":"SS"},{"$f":"Master!B39","v":"Microsoft Excel 2016 Essentials: Charts, Tables, and Images"},{"$f":"Master!C39","v":"mo_beel_a05_dt_enus"},{"$f":"Master!D39","v":"OLT"},{"$f":"Master!E39","v":"Active"},{"$f":"Master!F39","v":0},{"$f":"Master!H39","v":0},{"$f":"IF(Master!K39=\"\",\"B\",Master!K39)","v":"R"},{"$f":"IF(Master!V39=\"\",\"B\",Master!V39)","v":"R"},{"$f":"IF(Master!AG39=\"\",\"B\",Master!AG39)","v":"B"},{"$f":"IF(Master!AR39=\"\",\"B\",Master!AR39)","v":"B"},{"$f":"IF(Master!BC39=\"\",\"B\",Master!BC39)","v":"B"},{"$f":"IF(Master!BN39=\"\",\"B\",Master!BN39)","v":"B"}]
[{"$f":"Master!A40","v":"SS"},{"$f":"Master!B40","v":"Microsoft Office 2016 Intermediate Excel: Working with Data "},{"$f":"Master!C40","v":"mo_inel_a03_dt_enus"},{"$f":"Master!D40","v":"OLT"},{"$f":"Master!E40","v":"Active"},{"$f":"Master!F40","v":0},{"$f":"Master!H40","v":0},{"$f":"IF(Master!K40=\"\",\"B\",Master!K40)","v":2},{"$f":"IF(Master!V40=\"\",\"B\",Master!V40)","v":2},{"$f":"IF(Master!AG40=\"\",\"B\",Master!AG40)","v":2},{"$f":"IF(Master!AR40=\"\",\"B\",Master!AR40)","v":"B"},{"$f":"IF(Master!BC40=\"\",\"B\",Master!BC40)","v":"B"},{"$f":"IF(Master!BN40=\"\",\"B\",Master!BN40)","v":"B"}]
[{"$f":"Master!A41","v":"SS"},{"$f":"Master!B41","v":"Microsoft Office 2016 Intermediate Excel: Share, Review, and Collaborate "},{"$f":"Master!C41","v":"mo_inel_a06_dt_enus"},{"$f":"Master!D41","v":"OLT"},{"$f":"Master!E41","v":"Active"},{"$f":"Master!F41","v":0},{"$f":"Master!H41","v":0},{"$f":"IF(Master!K41=\"\",\"B\",Master!K41)","v":2},{"$f":"IF(Master!V41=\"\",\"B\",Master!V41)","v":2},{"$f":"IF(Master!AG41=\"\",\"B\",Master!AG41)","v":2},{"$f":"IF(Master!AR41=\"\",\"B\",Master!AR41)","v":"B"},{"$f":"IF(Master!BC41=\"\",\"B\",Master!BC41)","v":"B"},{"$f":"IF(Master!BN41=\"\",\"B\",Master!BN41)","v":"B"}]
[{"$f":"Master!A42","v":"SS"},{"$f":"Master!B42","v":"Microsoft Office 2016 Intermediate Excel: Creating Custom Visual Effects "},{"$f":"Master!C42","v":"mo_inel_a02_dt_enus"},{"$f":"Master!D42","v":"OLT"},{"$f":"Master!E42","v":"Active"},{"$f":"Master!F42","v":0},{"$f":"Master!H42","v":0},{"$f":"IF(Master!K42=\"\",\"B\",Master!K42)","v":2},{"$f":"IF(Master!V42=\"\",\"B\",Master!V42)","v":2},{"$f":"IF(Master!AG42=\"\",\"B\",Master!AG42)","v":2},{"$f":"IF(Master!AR42=\"\",\"B\",Master!AR42)","v":"B"},{"$f":"IF(Master!BC42=\"\",\"B\",Master!BC42)","v":"B"},{"$f":"IF(Master!BN42=\"\",\"B\",Master!BN42)","v":"B"}]
[{"$f":"Master!A43","v":"SS"},{"$f":"Master!B43","v":"Working with the Interface and Performing Basic Tasks in Word 2016 "},{"$f":"Master!C43","v":"mo_bewo_a01_dt_enus"},{"$f":"Master!D43","v":"OLT"},{"$f":"Master!E43","v":"Active"},{"$f":"Master!F43","v":0},{"$f":"Master!H43","v":0},{"$f":"IF(Master!K43=\"\",\"B\",Master!K43)","v":"R"},{"$f":"IF(Master!V43=\"\",\"B\",Master!V43)","v":"R"},{"$f":"IF(Master!AG43=\"\",\"B\",Master!AG43)","v":"B"},{"$f":"IF(Master!AR43=\"\",\"B\",Master!AR43)","v":"B"},{"$f":"IF(Master!BC43=\"\",\"B\",Master!BC43)","v":"B"},{"$f":"IF(Master!BN43=\"\",\"B\",Master!BN43)","v":"B"}]
[{"$f":"Master!A44","v":"SS"},{"$f":"Master!B44","v":"Formatting Text in Word 2016 "},{"$f":"Master!C44","v":"mo_bewo_a02_dt_enus"},{"$f":"Master!D44","v":"OLT"},{"$f":"Master!E44","v":"Active"},{"$f":"Master!F44","v":0},{"$f":"Master!H44","v":0},{"$f":"IF(Master!K44=\"\",\"B\",Master!K44)","v":"R"},{"$f":"IF(Master!V44=\"\",\"B\",Master!V44)","v":"R"},{"$f":"IF(Master!AG44=\"\",\"B\",Master!AG44)","v":"B"},{"$f":"IF(Master!AR44=\"\",\"B\",Master!AR44)","v":"B"},{"$f":"IF(Master!BC44=\"\",\"B\",Master!BC44)","v":"B"},{"$f":"IF(Master!BN44=\"\",\"B\",Master!BN44)","v":"B"}]
[{"$f":"Master!A45","v":"SS"},{"$f":"Master!B45","v":"Headers, Footers, Page Numbering, and Layout in Word 2016 "},{"$f":"Master!C45","v":"mo_bewo_a05_dt_enus"},{"$f":"Master!D45","v":"OLT"},{"$f":"Master!E45","v":"Active"},{"$f":"Master!F45","v":0},{"$f":"Master!H45","v":0},{"$f":"IF(Master!K45=\"\",\"B\",Master!K45)","v":"R"},{"$f":"IF(Master!V45=\"\",\"B\",Master!V45)","v":"R"},{"$f":"IF(Master!AG45=\"\",\"B\",Master!AG45)","v":"B"},{"$f":"IF(Master!AR45=\"\",\"B\",Master!AR45)","v":"B"},{"$f":"IF(Master!BC45=\"\",\"B\",Master!BC45)","v":"B"},{"$f":"IF(Master!BN45=\"\",\"B\",Master!BN45)","v":"B"}]
[{"$f":"Master!A46","v":"SS"},{"$f":"Master!B46","v":"Using the Navigation Pane and Creating Lists in Word 2016 "},{"$f":"Master!C46","v":"mo_bewo_a06_dt_enus"},{"$f":"Master!D46","v":"OLT"},{"$f":"Master!E46","v":"Active"},{"$f":"Master!F46","v":0},{"$f":"Master!H46","v":0},{"$f":"IF(Master!K46=\"\",\"B\",Master!K46)","v":"R"},{"$f":"IF(Master!V46=\"\",\"B\",Master!V46)","v":"R"},{"$f":"IF(Master!AG46=\"\",\"B\",Master!AG46)","v":"B"},{"$f":"IF(Master!AR46=\"\",\"B\",Master!AR46)","v":"B"},{"$f":"IF(Master!BC46=\"\",\"B\",Master!BC46)","v":"B"},{"$f":"IF(Master!BN46=\"\",\"B\",Master!BN46)","v":"B"}]
[{"$f":"Master!A47","v":"SS"},{"$f":"Master!B47","v":"Customizing Options and Using Document Views in Word 2016 "},{"$f":"Master!C47","v":"mo_bewo_a03_dt_enus"},{"$f":"Master!D47","v":"OLT"},{"$f":"Master!E47","v":"Active"},{"$f":"Master!F47","v":0},{"$f":"Master!H47","v":0},{"$f":"IF(Master!K47=\"\",\"B\",Master!K47)","v":2},{"$f":"IF(Master!V47=\"\",\"B\",Master!V47)","v":2},{"$f":"IF(Master!AG47=\"\",\"B\",Master!AG47)","v":2},{"$f":"IF(Master!AR47=\"\",\"B\",Master!AR47)","v":"B"},{"$f":"IF(Master!BC47=\"\",\"B\",Master!BC47)","v":"B"},{"$f":"IF(Master!BN47=\"\",\"B\",Master!BN47)","v":"B"}]
[{"$f":"Master!A48","v":"SS"},{"$f":"Master!B48","v":"Creating and Formatting Tables in Word 2016 "},{"$f":"Master!C48","v":"mo_bewo_a04_dt_enus"},{"$f":"Master!D48","v":"OLT"},{"$f":"Master!E48","v":"Active"},{"$f":"Master!F48","v":0},{"$f":"Master!H48","v":0},{"$f":"IF(Master!K48=\"\",\"B\",Master!K48)","v":2},{"$f":"IF(Master!V48=\"\",\"B\",Master!V48)","v":2},{"$f":"IF(Master!AG48=\"\",\"B\",Master!AG48)","v":2},{"$f":"IF(Master!AR48=\"\",\"B\",Master!AR48)","v":"B"},{"$f":"IF(Master!BC48=\"\",\"B\",Master!BC48)","v":"B"},{"$f":"IF(Master!BN48=\"\",\"B\",Master!BN48)","v":"B"}]
[{"$f":"Master!A49","v":"Human Resource"},null,null,null,null,null,null,{"$f":"IF(Master!K49=\"\",\"B\",Master!K49)","v":"B"},{"$f":"IF(Master!V49=\"\",\"B\",Master!V49)","v":"B"},{"$f":"IF(Master!AG49=\"\",\"B\",Master!AG49)","v":"B"},{"$f":"IF(Master!AR49=\"\",\"B\",Master!AR49)","v":"B"},{"$f":"IF(Master!BC49=\"\",\"B\",Master!BC49)","v":"B"},{"$f":"IF(Master!BN49=\"\",\"B\",Master!BN49)","v":"B"}]
[{"$f":"Master!A50","v":"Conflict Management - The following two courses are available"},null,null,null,null,null,null,{"$f":"IF(Master!K50=\"\",\"B\",Master!K50)","v":"B"},{"$f":"IF(Master!V50=\"\",\"B\",Master!V50)","v":"B"},{"$f":"IF(Master!AG50=\"\",\"B\",Master!AG50)","v":"B"},{"$f":"IF(Master!AR50=\"\",\"B\",Master!AR50)","v":"B"},{"$f":"IF(Master!BC50=\"\",\"B\",Master!BC50)","v":"B"},{"$f":"IF(Master!BN50=\"\",\"B\",Master!BN50)","v":"B"}]
[{"$f":"Master!A51","v":"SS"},{"$f":"Master!B51","v":"Preparing for a Difficult Conversation"},{"$f":"Master!C51","v":"mgmt_36_a01_bs_enus"},{"$f":"Master!D51","v":"OLT"},{"$f":"Master!E51","v":"Active"},{"$f":"Master!F51","v":0},{"$f":"Master!H51","v":"Take this course first."},{"$f":"IF(Master!K51=\"\",\"B\",Master!K51)","v":2},{"$f":"IF(Master!V51=\"\",\"B\",Master!V51)","v":2},{"$f":"IF(Master!AG51=\"\",\"B\",Master!AG51)","v":2},{"$f":"IF(Master!AR51=\"\",\"B\",Master!AR51)","v":1},{"$f":"IF(Master!BC51=\"\",\"B\",Master!BC51)","v":1},{"$f":"IF(Master!BN51=\"\",\"B\",Master!BN51)","v":1}]
[{"$f":"Master!A52","v":"ES"},{"$f":"Master!B52","v":"Managing Emotions in the Workplace"},{"$f":"Master!C52","v":"Enterprise Services Course\n1/2 Day - $100"},{"$f":"Master!D52","v":"ILT"},{"$f":"Master!E52","v":"Active"},{"$f":"Master!F52","v":0},{"$f":"Master!H52","v":"To register for this course, \ncall the LMS Helpdesk at \n360-705-7060."},{"$f":"IF(Master!K52=\"\",\"B\",Master!K52)","v":2},{"$f":"IF(Master!V52=\"\",\"B\",Master!V52)","v":2},{"$f":"IF(Master!AG52=\"\",\"B\",Master!AG52)","v":2},{"$f":"IF(Master!AR52=\"\",\"B\",Master!AR52)","v":1},{"$f":"IF(Master!BC52=\"\",\"B\",Master!BC52)","v":1},{"$f":"IF(Master!BN52=\"\",\"B\",Master!BN52)","v":1}]
[{"$f":"Master!A53","v":"Interpersonal Communications - The following two courses are available"},null,null,null,null,null,null,{"$f":"IF(Master!K53=\"\",\"B\",Master!K53)","v":"B"},{"$f":"IF(Master!V53=\"\",\"B\",Master!V53)","v":"B"},{"$f":"IF(Master!AG53=\"\",\"B\",Master!AG53)","v":"B"},{"$f":"IF(Master!AR53=\"\",\"B\",Master!AR53)","v":"B"},{"$f":"IF(Master!BC53=\"\",\"B\",Master!BC53)","v":"B"},{"$f":"IF(Master!BN53=\"\",\"B\",Master!BN53)","v":"B"}]
[{"$f":"Master!A54","v":"SS"},{"$f":"Master!B54","v":"Difficult People: Strategies to Keep Everyone Working Together"},{"$f":"Master!C54","v":"comm_46_a03_bs_enus"},{"$f":"Master!D54","v":"OLT"},{"$f":"Master!E54","v":"Active"},{"$f":"Master!F54","v":0},{"$f":"Master!H54","v":"Take this course first."},{"$f":"IF(Master!K54=\"\",\"B\",Master!K54)","v":1},{"$f":"IF(Master!V54=\"\",\"B\",Master!V54)","v":1},{"$f":"IF(Master!AG54=\"\",\"B\",Master!AG54)","v":1},{"$f":"IF(Master!AR54=\"\",\"B\",Master!AR54)","v":1},{"$f":"IF(Master!BC54=\"\",\"B\",Master!BC54)","v":1},{"$f":"IF(Master!BN54=\"\",\"B\",Master!BN54)","v":1}]
[{"$f":"Master!A55","v":"ES"},{"$f":"Master!B55","v":"Interpersonal Communication Skills"},{"$f":"Master!C55","v":"Enterprise Services Course\nTwo Days - $195"},{"$f":"Master!D55","v":"ILT"},{"$f":"Master!E55","v":"Active"},{"$f":"Master!F55","v":0},{"$f":"Master!H55","v":"To register for this course, \ncall the LMS Helpdesk at \n360-705-7060."},{"$f":"IF(Master!K55=\"\",\"B\",Master!K55)","v":1},{"$f":"IF(Master!V55=\"\",\"B\",Master!V55)","v":1},{"$f":"IF(Master!AG55=\"\",\"B\",Master!AG55)","v":1},{"$f":"IF(Master!AR55=\"\",\"B\",Master!AR55)","v":1},{"$f":"IF(Master!BC55=\"\",\"B\",Master!BC55)","v":1},{"$f":"IF(Master!BN55=\"\",\"B\",Master!BN55)","v":1}]
[{"$f":"Master!A56","v":"Interpersonal Communications - The following two courses are available"},null,null,null,null,null,null,{"$f":"IF(Master!K56=\"\",\"B\",Master!K56)","v":"B"},{"$f":"IF(Master!V56=\"\",\"B\",Master!V56)","v":"B"},{"$f":"IF(Master!AG56=\"\",\"B\",Master!AG56)","v":"B"},{"$f":"IF(Master!AR56=\"\",\"B\",Master!AR56)","v":"B"},{"$f":"IF(Master!BC56=\"\",\"B\",Master!BC56)","v":"B"},{"$f":"IF(Master!BN56=\"\",\"B\",Master!BN56)","v":"B"}]
[{"$f":"Master!A57","v":"SS"},{"$f":"Master!B57","v":"Active Listening Skills for Professionals"},{"$f":"Master!C57","v":"comm_43_a03_bs_enus"},{"$f":"Master!D57","v":"OLT"},{"$f":"Master!E57","v":"Active"},{"$f":"Master!F57","v":0},{"$f":"Master!H57","v":"Take this course first."},{"$f":"IF(Master!K57=\"\",\"B\",Master!K57)","v":1},{"$f":"IF(Master!V57=\"\",\"B\",Master!V57)","v":1},{"$f":"IF(Master!AG57=\"\",\"B\",Master!AG57)","v":1},{"$f":"IF(Master!AR57=\"\",\"B\",Master!AR57)","v":1},{"$f":"IF(Master!BC57=\"\",\"B\",Master!BC57)","v":1},{"$f":"IF(Master!BN57=\"\",\"B\",Master!BN57)","v":1}]
[{"$f":"Master!A58","v":"ES"},{"$f":"Master!B58","v":"Crucial Conversations"},{"$f":"Master!C58","v":"Enterprise Services Course\nTwo Days - $450"},{"$f":"Master!D58","v":"ILT"},{"$f":"Master!E58","v":"Active"},{"$f":"Master!F58","v":0},{"$f":"Master!H58","v":"To register for this course, \ncall the LMS Helpdesk at \n360-705-7060."},{"$f":"IF(Master!K58=\"\",\"B\",Master!K58)","v":1},{"$f":"IF(Master!V58=\"\",\"B\",Master!V58)","v":1},{"$f":"IF(Master!AG58=\"\",\"B\",Master!AG58)","v":1},{"$f":"IF(Master!AR58=\"\",\"B\",Master!AR58)","v":1},{"$f":"IF(Master!BC58=\"\",\"B\",Master!BC58)","v":1},{"$f":"IF(Master!BN58=\"\",\"B\",Master!BN58)","v":1}]
[{"$f":"Master!A59","v":"Oral Presentation Techniques"},null,null,null,null,null,null,{"$f":"IF(Master!K59=\"\",\"B\",Master!K59)","v":"B"},{"$f":"IF(Master!V59=\"\",\"B\",Master!V59)","v":"B"},{"$f":"IF(Master!AG59=\"\",\"B\",Master!AG59)","v":"B"},{"$f":"IF(Master!AR59=\"\",\"B\",Master!AR59)","v":"B"},{"$f":"IF(Master!BC59=\"\",\"B\",Master!BC59)","v":"B"},{"$f":"IF(Master!BN59=\"\",\"B\",Master!BN59)","v":"B"}]
[{"$f":"Master!A60","v":"ES"},{"$f":"Master!B60","v":"Presentation & Training Design & Delivery "},{"$f":"Master!C60","v":"Enterprise Services Course \nTwo Days - $205"},{"$f":"Master!D60","v":"ILT"},{"$f":"Master!E60","v":"Active"},{"$f":"Master!F60","v":0},{"$f":"Master!H60","v":"To register for this course, \ncall the LMS Helpdesk at \n360-705-7060."},{"$f":"IF(Master!K60=\"\",\"B\",Master!K60)","v":"B"},{"$f":"IF(Master!V60=\"\",\"B\",Master!V60)","v":"B"},{"$f":"IF(Master!AG60=\"\",\"B\",Master!AG60)","v":"B"},{"$f":"IF(Master!AR60=\"\",\"B\",Master!AR60)","v":"B"},{"$f":"IF(Master!BC60=\"\",\"B\",Master!BC60)","v":2},{"$f":"IF(Master!BN60=\"\",\"B\",Master!BN60)","v":1}]
[{"$f":"Master!A61","v":"Stress Management -  The following two courses are available"},null,null,null,null,null,null,{"$f":"IF(Master!K61=\"\",\"B\",Master!K61)","v":"B"},{"$f":"IF(Master!V61=\"\",\"B\",Master!V61)","v":"B"},{"$f":"IF(Master!AG61=\"\",\"B\",Master!AG61)","v":"B"},{"$f":"IF(Master!AR61=\"\",\"B\",Master!AR61)","v":"B"},{"$f":"IF(Master!BC61=\"\",\"B\",Master!BC61)","v":"B"},{"$f":"IF(Master!BN61=\"\",\"B\",Master!BN61)","v":"B"}]
[{"$f":"Master!A62","v":"SS"},{"$f":"Master!B62","v":"Conflict, Stress, and Time Management"},{"$f":"Master!C62","v":"cust_07_a03_bs_enus"},{"$f":"Master!D62","v":"OLT"},{"$f":"Master!E62","v":"Active"},{"$f":"Master!F62","v":0},{"$f":"Master!H62","v":"Take this course first."},{"$f":"IF(Master!K62=\"\",\"B\",Master!K62)","v":1},{"$f":"IF(Master!V62=\"\",\"B\",Master!V62)","v":1},{"$f":"IF(Master!AG62=\"\",\"B\",Master!AG62)","v":1},{"$f":"IF(Master!AR62=\"\",\"B\",Master!AR62)","v":1},{"$f":"IF(Master!BC62=\"\",\"B\",Master!BC62)","v":1},{"$f":"IF(Master!BN62=\"\",\"B\",Master!BN62)","v":1}]
[{"$f":"Master!A63","v":"ES"},{"$f":"Master!B63","v":"Managing Job Stress"},{"$f":"Master!C63","v":"Enterprise Services Course\nOne Day - $135"},{"$f":"Master!D63","v":"ILT"},{"$f":"Master!E63","v":"Active"},{"$f":"Master!F63","v":0},{"$f":"Master!H63","v":"To register for this course, \ncall the LMS Helpdesk at \n360-705-7060."},{"$f":"IF(Master!K63=\"\",\"B\",Master!K63)","v":1},{"$f":"IF(Master!V63=\"\",\"B\",Master!V63)","v":1},{"$f":"IF(Master!AG63=\"\",\"B\",Master!AG63)","v":1},{"$f":"IF(Master!AR63=\"\",\"B\",Master!AR63)","v":1},{"$f":"IF(Master!BC63=\"\",\"B\",Master!BC63)","v":1},{"$f":"IF(Master!BN63=\"\",\"B\",Master!BN63)","v":1}]
[{"$f":"Master!A64","v":"Time Management -  The following six courses are available"},null,null,null,null,null,null,{"$f":"IF(Master!K64=\"\",\"B\",Master!K64)","v":"B"},{"$f":"IF(Master!V64=\"\",\"B\",Master!V64)","v":"B"},{"$f":"IF(Master!AG64=\"\",\"B\",Master!AG64)","v":"B"},{"$f":"IF(Master!AR64=\"\",\"B\",Master!AR64)","v":"B"},{"$f":"IF(Master!BC64=\"\",\"B\",Master!BC64)","v":"B"},{"$f":"IF(Master!BN64=\"\",\"B\",Master!BN64)","v":"B"}]
[{"$f":"Master!A65","v":"SS"},{"$f":"Master!B65","v":"Getting Time under Control"},{"$f":"Master!C65","v":"_pc_ch_pach021"},{"$f":"Master!D65","v":"OLT"},{"$f":"Master!E65","v":"Active"},{"$f":"Master!F65","v":0},{"$f":"Master!H65","v":"Take this course before the Enterprise Services course"},{"$f":"IF(Master!K65=\"\",\"B\",Master!K65)","v":1},{"$f":"IF(Master!V65=\"\",\"B\",Master!V65)","v":1},{"$f":"IF(Master!AG65=\"\",\"B\",Master!AG65)","v":1},{"$f":"IF(Master!AR65=\"\",\"B\",Master!AR65)","v":1},{"$f":"IF(Master!BC65=\"\",\"B\",Master!BC65)","v":1},{"$f":"IF(Master!BN65=\"\",\"B\",Master!BN65)","v":1}]
[{"$f":"Master!A66","v":"SS"},{"$f":"Master!B66","v":"Make the Time You Need: Get Organized"},{"$f":"Master!C66","v":"apd_08_a02_bs_enus"},{"$f":"Master!D66","v":"OLT"},{"$f":"Master!E66","v":"Active"},{"$f":"Master!F66","v":0},{"$f":"Master!H66","v":"Take this course before the Enterprise Services course"},{"$f":"IF(Master!K66=\"\",\"B\",Master!K66)","v":1},{"$f":"IF(Master!V66=\"\",\"B\",Master!V66)","v":1},{"$f":"IF(Master!AG66=\"\",\"B\",Master!AG66)","v":1},{"$f":"IF(Master!AR66=\"\",\"B\",Master!AR66)","v":1},{"$f":"IF(Master!BC66=\"\",\"B\",Master!BC66)","v":1},{"$f":"IF(Master!BN66=\"\",\"B\",Master!BN66)","v":1}]
[{"$f":"Master!A67","v":"SS"},{"$f":"Master!B67","v":"Time Management: Too Much to Do and Too Little Time"},{"$f":"Master!C67","v":"pd_20_a01_bs_enus"},{"$f":"Master!D67","v":"OLT"},{"$f":"Master!E67","v":"Active"},{"$f":"Master!F67","v":0},{"$f":"Master!H67","v":"Take this course before the Enterprise Services course"},{"$f":"IF(Master!K67=\"\",\"B\",Master!K67)","v":1},{"$f":"IF(Master!V67=\"\",\"B\",Master!V67)","v":1},{"$f":"IF(Master!AG67=\"\",\"B\",Master!AG67)","v":1},{"$f":"IF(Master!AR67=\"\",\"B\",Master!AR67)","v":1},{"$f":"IF(Master!BC67=\"\",\"B\",Master!BC67)","v":1},{"$f":"IF(Master!BN67=\"\",\"B\",Master!BN67)","v":1}]
[{"$f":"Master!A68","v":"SS"},{"$f":"Master!B68","v":"Time Management: Quit Making Excuses and Make Time Instead"},{"$f":"Master!C68","v":"pd_20_a02_bs_enus"},{"$f":"Master!D68","v":"OLT"},{"$f":"Master!E68","v":"Active"},{"$f":"Master!F68","v":0},{"$f":"Master!H68","v":"Take this course before the Enterprise Services course"},{"$f":"IF(Master!K68=\"\",\"B\",Master!K68)","v":1},{"$f":"IF(Master!V68=\"\",\"B\",Master!V68)","v":1},{"$f":"IF(Master!AG68=\"\",\"B\",Master!AG68)","v":1},{"$f":"IF(Master!AR68=\"\",\"B\",Master!AR68)","v":1},{"$f":"IF(Master!BC68=\"\",\"B\",Master!BC68)","v":1},{"$f":"IF(Master!BN68=\"\",\"B\",Master!BN68)","v":1}]
[{"$f":"Master!A69","v":"SS"},{"$f":"Master!B69","v":"Time Management: Ready, Set…Focus!"},{"$f":"Master!C69","v":"pd_20_a03_bs_enus"},{"$f":"Master!D69","v":"OLT"},{"$f":"Master!E69","v":"Active"},{"$f":"Master!F69","v":0},{"$f":"Master!H69","v":"Take this course before the Enterprise Services course"},{"$f":"IF(Master!K69=\"\",\"B\",Master!K69)","v":1},{"$f":"IF(Master!V69=\"\",\"B\",Master!V69)","v":1},{"$f":"IF(Master!AG69=\"\",\"B\",Master!AG69)","v":1},{"$f":"IF(Master!AR69=\"\",\"B\",Master!AR69)","v":1},{"$f":"IF(Master!BC69=\"\",\"B\",Master!BC69)","v":1},{"$f":"IF(Master!BN69=\"\",\"B\",Master!BN69)","v":1}]
[{"$f":"Master!A70","v":"ES"},{"$f":"Master!B70","v":"Time Management"},{"$f":"Master!C70","v":"Enterprise Services Course\nOne Day - $135"},{"$f":"Master!D70","v":"ILT"},{"$f":"Master!E70","v":"Active"},{"$f":"Master!F70","v":0},{"$f":"Master!H70","v":"To register for this course, \ncall the LMS Helpdesk at \n360-705-7060."},{"$f":"IF(Master!K70=\"\",\"B\",Master!K70)","v":1},{"$f":"IF(Master!V70=\"\",\"B\",Master!V70)","v":1},{"$f":"IF(Master!AG70=\"\",\"B\",Master!AG70)","v":1},{"$f":"IF(Master!AR70=\"\",\"B\",Master!AR70)","v":1},{"$f":"IF(Master!BC70=\"\",\"B\",Master!BC70)","v":1},{"$f":"IF(Master!BN70=\"\",\"B\",Master!BN70)","v":1}]
[{"$f":"Master!A71","v":"Technical Writing -  The following five courses are available"},null,null,null,null,null,null,{"$f":"IF(Master!K71=\"\",\"B\",Master!K71)","v":"B"},{"$f":"IF(Master!V71=\"\",\"B\",Master!V71)","v":"B"},{"$f":"IF(Master!AG71=\"\",\"B\",Master!AG71)","v":"B"},{"$f":"IF(Master!AR71=\"\",\"B\",Master!AR71)","v":"B"},{"$f":"IF(Master!BC71=\"\",\"B\",Master!BC71)","v":"B"},{"$f":"IF(Master!BN71=\"\",\"B\",Master!BN71)","v":"B"}]
[{"$f":"Master!A72","v":"SS"},{"$f":"Master!B72","v":"Improving Your Technical Writing Skills"},{"$f":"Master!C72","v":"acm_06_a01_it_enus"},{"$f":"Master!D72","v":"OLT"},{"$f":"Master!E72","v":"Active"},{"$f":"Master!F72","v":0},{"$f":"Master!H72","v":0},{"$f":"IF(Master!K72=\"\",\"B\",Master!K72)","v":2},{"$f":"IF(Master!V72=\"\",\"B\",Master!V72)","v":2},{"$f":"IF(Master!AG72=\"\",\"B\",Master!AG72)","v":2},{"$f":"IF(Master!AR72=\"\",\"B\",Master!AR72)","v":2},{"$f":"IF(Master!BC72=\"\",\"B\",Master!BC72)","v":1},{"$f":"IF(Master!BN72=\"\",\"B\",Master!BN72)","v":1}]
[{"$f":"Master!A73","v":"SS"},{"$f":"Master!B73","v":"Writing for Technical Professionals: Effective Writing Techniques"},{"$f":"Master!C73","v":"ib_wstp_a02_it_enus"},{"$f":"Master!D73","v":"OLT"},{"$f":"Master!E73","v":"Active"},{"$f":"Master!F73","v":0},{"$f":"Master!H73","v":0},{"$f":"IF(Master!K73=\"\",\"B\",Master!K73)","v":2},{"$f":"IF(Master!V73=\"\",\"B\",Master!V73)","v":2},{"$f":"IF(Master!AG73=\"\",\"B\",Master!AG73)","v":2},{"$f":"IF(Master!AR73=\"\",\"B\",Master!AR73)","v":2},{"$f":"IF(Master!BC73=\"\",\"B\",Master!BC73)","v":1},{"$f":"IF(Master!BN73=\"\",\"B\",Master!BN73)","v":1}]
[{"$f":"Master!A74","v":"SS"},{"$f":"Master!B74","v":"Writing for Technical Professionals: Preparation and Planning"},{"$f":"Master!C74","v":"ib_wstp_a01_it_enus"},{"$f":"Master!D74","v":"OLT"},{"$f":"Master!E74","v":"Active"},{"$f":"Master!F74","v":0},{"$f":"Master!H74","v":0},{"$f":"IF(Master!K74=\"\",\"B\",Master!K74)","v":2},{"$f":"IF(Master!V74=\"\",\"B\",Master!V74)","v":2},{"$f":"IF(Master!AG74=\"\",\"B\",Master!AG74)","v":2},{"$f":"IF(Master!AR74=\"\",\"B\",Master!AR74)","v":2},{"$f":"IF(Master!BC74=\"\",\"B\",Master!BC74)","v":1},{"$f":"IF(Master!BN74=\"\",\"B\",Master!BN74)","v":1}]
[{"$f":"Master!A75","v":"ES"},{"$f":"Master!B75","v":"Technical Writing: Tricks of the Trade"},{"$f":"Master!C75","v":"Enterprise Services Course\nTwo Day Course - $185"},{"$f":"Master!D75","v":"ILT"},{"$f":"Master!E75","v":"Active"},{"$f":"Master!F75","v":0},{"$f":"Master!H75","v":"To register for this course, call the LMS Helpdesk at \n360-705-7060."},{"$f":"IF(Master!K75=\"\",\"B\",Master!K75)","v":2},{"$f":"IF(Master!V75=\"\",\"B\",Master!V75)","v":2},{"$f":"IF(Master!AG75=\"\",\"B\",Master!AG75)","v":2},{"$f":"IF(Master!AR75=\"\",\"B\",Master!AR75)","v":2},{"$f":"IF(Master!BC75=\"\",\"B\",Master!BC75)","v":1},{"$f":"IF(Master!BN75=\"\",\"B\",Master!BN75)","v":1}]
[{"$f":"Master!A76","v":"ES"},{"$f":"Master!B76","v":"Writing Skills"},{"$f":"Master!C76","v":"Enterprise Services Course\nOne Day - $145"},{"$f":"Master!D76","v":"ILT"},{"$f":"Master!E76","v":"Active"},{"$f":"Master!F76","v":0},{"$f":"Master!H76","v":"To register for this course, \ncall the LMS Helpdesk at \n360-705-7060."},{"$f":"IF(Master!K76=\"\",\"B\",Master!K76)","v":2},{"$f":"IF(Master!V76=\"\",\"B\",Master!V76)","v":2},{"$f":"IF(Master!AG76=\"\",\"B\",Master!AG76)","v":2},{"$f":"IF(Master!AR76=\"\",\"B\",Master!AR76)","v":2},{"$f":"IF(Master!BC76=\"\",\"B\",Master!BC76)","v":1},{"$f":"IF(Master!BN76=\"\",\"B\",Master!BN76)","v":1}]
[{"$f":"Master!A77","v":"Effective Meeting Management -  The following six courses are available"},null,null,null,null,null,null,{"$f":"IF(Master!K77=\"\",\"B\",Master!K77)","v":"B"},{"$f":"IF(Master!V77=\"\",\"B\",Master!V77)","v":"B"},{"$f":"IF(Master!AG77=\"\",\"B\",Master!AG77)","v":"B"},{"$f":"IF(Master!AR77=\"\",\"B\",Master!AR77)","v":"B"},{"$f":"IF(Master!BC77=\"\",\"B\",Master!BC77)","v":"B"},{"$f":"IF(Master!BN77=\"\",\"B\",Master!BN77)","v":"B"}]
[{"$f":"Master!A78","v":"SS"},{"$f":"Master!B78","v":"Dealing with Common Meeting Problems"},{"$f":"Master!C78","v":"comm_32_a03_bs_enus"},{"$f":"Master!D78","v":"OLT"},{"$f":"Master!E78","v":"Active"},{"$f":"Master!F78","v":0},{"$f":"Master!H78","v":0},{"$f":"IF(Master!K78=\"\",\"B\",Master!K78)","v":"B"},{"$f":"IF(Master!V78=\"\",\"B\",Master!V78)","v":"B"},{"$f":"IF(Master!AG78=\"\",\"B\",Master!AG78)","v":"B"},{"$f":"IF(Master!AR78=\"\",\"B\",Master!AR78)","v":"B"},{"$f":"IF(Master!BC78=\"\",\"B\",Master!BC78)","v":2},{"$f":"IF(Master!BN78=\"\",\"B\",Master!BN78)","v":1}]
[{"$f":"Master!A79","v":"SS"},{"$f":"Master!B79","v":"Preparing for Effective Business Meetings"},{"$f":"Master!C79","v":"comm_32_a01_bs_enus"},{"$f":"Master!D79","v":"OLT"},{"$f":"Master!E79","v":"Active"},{"$f":"Master!F79","v":0},{"$f":"Master!H79","v":0},{"$f":"IF(Master!K79=\"\",\"B\",Master!K79)","v":"B"},{"$f":"IF(Master!V79=\"\",\"B\",Master!V79)","v":"B"},{"$f":"IF(Master!AG79=\"\",\"B\",Master!AG79)","v":"B"},{"$f":"IF(Master!AR79=\"\",\"B\",Master!AR79)","v":"B"},{"$f":"IF(Master!BC79=\"\",\"B\",Master!BC79)","v":2},{"$f":"IF(Master!BN79=\"\",\"B\",Master!BN79)","v":1}]
[{"$f":"Master!A80","v":"SS"},{"$f":"Master!B80","v":"Planning Meetings Fit for Purpose"},{"$f":"Master!C80","v":"comm_50_a01_bs_enus"},{"$f":"Master!D80","v":"OLT"},{"$f":"Master!E80","v":"Active"},{"$f":"Master!F80","v":0},{"$f":"Master!H80","v":0},{"$f":"IF(Master!K80=\"\",\"B\",Master!K80)","v":"B"},{"$f":"IF(Master!V80=\"\",\"B\",Master!V80)","v":"B"},{"$f":"IF(Master!AG80=\"\",\"B\",Master!AG80)","v":"B"},{"$f":"IF(Master!AR80=\"\",\"B\",Master!AR80)","v":"B"},{"$f":"IF(Master!BC80=\"\",\"B\",Master!BC80)","v":2},{"$f":"IF(Master!BN80=\"\",\"B\",Master!BN80)","v":1}]
[{"$f":"Master!A81","v":"SS"},{"$f":"Master!B81","v":"Managing Effective Business Meetings"},{"$f":"Master!C81","v":"comm_32_a02_bs_enus"},{"$f":"Master!D81","v":"OLT"},{"$f":"Master!E81","v":"Active"},{"$f":"Master!F81","v":0},{"$f":"Master!H81","v":0},{"$f":"IF(Master!K81=\"\",\"B\",Master!K81)","v":"B"},{"$f":"IF(Master!V81=\"\",\"B\",Master!V81)","v":"B"},{"$f":"IF(Master!AG81=\"\",\"B\",Master!AG81)","v":"B"},{"$f":"IF(Master!AR81=\"\",\"B\",Master!AR81)","v":"B"},{"$f":"IF(Master!BC81=\"\",\"B\",Master!BC81)","v":2},{"$f":"IF(Master!BN81=\"\",\"B\",Master!BN81)","v":1}]
[{"$f":"Master!A82","v":"SS"},{"$f":"Master!B82","v":"Running Meetings in Better Directions"},{"$f":"Master!C82","v":"comm_50_a02_bs_enus"},{"$f":"Master!D82","v":"OLT"},{"$f":"Master!E82","v":"Active"},{"$f":"Master!F82","v":0},{"$f":"Master!H82","v":0},{"$f":"IF(Master!K82=\"\",\"B\",Master!K82)","v":"B"},{"$f":"IF(Master!V82=\"\",\"B\",Master!V82)","v":"B"},{"$f":"IF(Master!AG82=\"\",\"B\",Master!AG82)","v":"B"},{"$f":"IF(Master!AR82=\"\",\"B\",Master!AR82)","v":"B"},{"$f":"IF(Master!BC82=\"\",\"B\",Master!BC82)","v":2},{"$f":"IF(Master!BN82=\"\",\"B\",Master!BN82)","v":1}]
[{"$f":"Master!A83","v":"ES"},{"$f":"Master!B83","v":"Effective Meeting Management  (or one of the following five SkillSoft)"},{"$f":"Master!C83","v":"Enterprise Services Course\nOne Day - $165"},{"$f":"Master!D83","v":"ILT"},{"$f":"Master!E83","v":"Active"},{"$f":"Master!F83","v":0},{"$f":"Master!H83","v":"To register for this course, call the LMS Helpdesk at \n360-705-7060."},{"$f":"IF(Master!K83=\"\",\"B\",Master!K83)","v":"B"},{"$f":"IF(Master!V83=\"\",\"B\",Master!V83)","v":"B"},{"$f":"IF(Master!AG83=\"\",\"B\",Master!AG83)","v":"B"},{"$f":"IF(Master!AR83=\"\",\"B\",Master!AR83)","v":"B"},{"$f":"IF(Master!BC83=\"\",\"B\",Master!BC83)","v":2},{"$f":"IF(Master!BN83=\"\",\"B\",Master!BN83)","v":1}]
[{"$f":"Master!A84","v":"Enhanced Leadership for WSDOT"},null,null,null,null,null,null,{"$f":"IF(Master!K84=\"\",\"B\",Master!K84)","v":"B"},{"$f":"IF(Master!V84=\"\",\"B\",Master!V84)","v":"B"},{"$f":"IF(Master!AG84=\"\",\"B\",Master!AG84)","v":"B"},{"$f":"IF(Master!AR84=\"\",\"B\",Master!AR84)","v":"B"},{"$f":"IF(Master!BC84=\"\",\"B\",Master!BC84)","v":"B"},{"$f":"IF(Master!BN84=\"\",\"B\",Master!BN84)","v":"B"}]
[{"$f":"Master!A85","v":"ES"},{"$f":"Master!B85","v":"Leading Teams"},{"$f":"Master!C85","v":"Enterprise Services Course\nThree Days - $500"},{"$f":"Master!D85","v":"ILT"},{"$f":"Master!E85","v":"Active"},{"$f":"Master!F85","v":0},{"$f":"Master!H85","v":"To register for this course, \ncall the LMS Helpdesk at \n360-705-7060."},{"$f":"IF(Master!K85=\"\",\"B\",Master!K85)","v":"B"},{"$f":"IF(Master!V85=\"\",\"B\",Master!V85)","v":"B"},{"$f":"IF(Master!AG85=\"\",\"B\",Master!AG85)","v":"B"},{"$f":"IF(Master!AR85=\"\",\"B\",Master!AR85)","v":"B"},{"$f":"IF(Master!BC85=\"\",\"B\",Master!BC85)","v":"B"},{"$f":"IF(Master!BN85=\"\",\"B\",Master!BN85)","v":2}]
[{"$f":"Master!A86","v":"Entry Management Development"},null,null,null,null,null,null,{"$f":"IF(Master!K86=\"\",\"B\",Master!K86)","v":"B"},{"$f":"IF(Master!V86=\"\",\"B\",Master!V86)","v":"B"},{"$f":"IF(Master!AG86=\"\",\"B\",Master!AG86)","v":"B"},{"$f":"IF(Master!AR86=\"\",\"B\",Master!AR86)","v":"B"},{"$f":"IF(Master!BC86=\"\",\"B\",Master!BC86)","v":"B"},{"$f":"IF(Master!BN86=\"\",\"B\",Master!BN86)","v":"B"}]
[{"$f":"Master!A87","v":"ES"},{"$f":"Master!B87","v":"Leading Others"},{"$f":"Master!C87","v":"Enterprise Services Course\nFour Days - $500"},{"$f":"Master!D87","v":"ILT"},{"$f":"Master!E87","v":"Active"},{"$f":"Master!F87","v":0},{"$f":"Master!H87","v":"To register for this course, \ncall the LMS Helpdesk at \n360-705-7060."},{"$f":"IF(Master!K87=\"\",\"B\",Master!K87)","v":"B"},{"$f":"IF(Master!V87=\"\",\"B\",Master!V87)","v":"B"},{"$f":"IF(Master!AG87=\"\",\"B\",Master!AG87)","v":"B"},{"$f":"IF(Master!AR87=\"\",\"B\",Master!AR87)","v":"B"},{"$f":"IF(Master!BC87=\"\",\"B\",Master!BC87)","v":2},{"$f":"IF(Master!BN87=\"\",\"B\",Master!BN87)","v":1}]
[{"$f":"Master!A88","v":"ES"},{"$f":"Master!B88","v":"Supervision Essentials-Phase II (Prerequisite is Leading Others)"},{"$f":"Master!C88","v":"Enterprise Services Course\nTwo Days - $285"},{"$f":"Master!D88","v":"ILT"},{"$f":"Master!E88","v":"Active"},{"$f":"Master!F88","v":0},{"$f":"Master!H88","v":"To register for this course, \ncall the LMS Helpdesk at \n360-705-7060."},{"$f":"IF(Master!K88=\"\",\"B\",Master!K88)","v":"B"},{"$f":"IF(Master!V88=\"\",\"B\",Master!V88)","v":"B"},{"$f":"IF(Master!AG88=\"\",\"B\",Master!AG88)","v":"B"},{"$f":"IF(Master!AR88=\"\",\"B\",Master!AR88)","v":"B"},{"$f":"IF(Master!BC88=\"\",\"B\",Master!BC88)","v":"B"},{"$f":"IF(Master!BN88=\"\",\"B\",Master!BN88)","v":2}]
[{"$f":"Master!A89","v":"Safety"},null,null,null,null,null,null,{"$f":"IF(Master!K89=\"\",\"B\",Master!K89)","v":"B"},{"$f":"IF(Master!V89=\"\",\"B\",Master!V89)","v":"B"},{"$f":"IF(Master!AG89=\"\",\"B\",Master!AG89)","v":"B"},{"$f":"IF(Master!AR89=\"\",\"B\",Master!AR89)","v":"B"},{"$f":"IF(Master!BC89=\"\",\"B\",Master!BC89)","v":"B"},{"$f":"IF(Master!BN89=\"\",\"B\",Master!BN89)","v":"B"}]
[{"$f":"Master!A90","v":"SAFE"},{"$f":"Master!B90","v":"WSDOT SAFE: FALL PROTECTION"},{"$f":"Master!C90","v":"WSDOT_BN9"},{"$f":"Master!D90","v":"ILT"},{"$f":"Master!E90","v":"Active"},{"$f":"Master!F90","v":0},{"$f":"Master!H90","v":0},{"$f":"IF(Master!K90=\"\",\"B\",Master!K90)","v":2},{"$f":"IF(Master!V90=\"\",\"B\",Master!V90)","v":2},{"$f":"IF(Master!AG90=\"\",\"B\",Master!AG90)","v":2},{"$f":"IF(Master!AR90=\"\",\"B\",Master!AR90)","v":2},{"$f":"IF(Master!BC90=\"\",\"B\",Master!BC90)","v":2},{"$f":"IF(Master!BN90=\"\",\"B\",Master!BN90)","v":2}]
[{"$f":"Master!A91","v":"SAFE"},{"$f":"Master!B91","v":"WSDOT SAFE: FIRST AID"},{"$f":"Master!C91","v":"WSDOT_APS"},{"$f":"Master!D91","v":"ILT"},{"$f":"Master!E91","v":"Active"},{"$f":"Master!F91","v":0},{"$f":"Master!H91","v":0},{"$f":"IF(Master!K91=\"\",\"B\",Master!K91)","v":"R"},{"$f":"IF(Master!V91=\"\",\"B\",Master!V91)","v":"R"},{"$f":"IF(Master!AG91=\"\",\"B\",Master!AG91)","v":1},{"$f":"IF(Master!AR91=\"\",\"B\",Master!AR91)","v":1},{"$f":"IF(Master!BC91=\"\",\"B\",Master!BC91)","v":1},{"$f":"IF(Master!BN91=\"\",\"B\",Master!BN91)","v":1}]
[{"$f":"Master!A92","v":"SAFE"},{"$f":"Master!B92","v":"WSDOT SAFE: FLAGGING, TRAFFIC CONTROL"},{"$f":"Master!C92","v":"WSDOT_AFZ"},{"$f":"Master!D92","v":"ILT"},{"$f":"Master!E92","v":"Active"},{"$f":"Master!F92","v":0},{"$f":"Master!H92","v":0},{"$f":"IF(Master!K92=\"\",\"B\",Master!K92)","v":"R"},{"$f":"IF(Master!V92=\"\",\"B\",Master!V92)","v":"R"},{"$f":"IF(Master!AG92=\"\",\"B\",Master!AG92)","v":1},{"$f":"IF(Master!AR92=\"\",\"B\",Master!AR92)","v":1},{"$f":"IF(Master!BC92=\"\",\"B\",Master!BC92)","v":1},{"$f":"IF(Master!BN92=\"\",\"B\",Master!BN92)","v":2}]
[{"$f":"Master!A93","v":"SAFE"},{"$f":"Master!B93","v":"WSDOT SAFE: HAZARD COMMUNICATION STANDARD (HCS)"},{"$f":"Master!C93","v":"WSDOT_AEX"},{"$f":"Master!D93","v":"ILT"},{"$f":"Master!E93","v":"Active"},{"$f":"Master!F93","v":0},{"$f":"Master!H93","v":0},{"$f":"IF(Master!K93=\"\",\"B\",Master!K93)","v":2},{"$f":"IF(Master!V93=\"\",\"B\",Master!V93)","v":2},{"$f":"IF(Master!AG93=\"\",\"B\",Master!AG93)","v":2},{"$f":"IF(Master!AR93=\"\",\"B\",Master!AR93)","v":2},{"$f":"IF(Master!BC93=\"\",\"B\",Master!BC93)","v":2},{"$f":"IF(Master!BN93=\"\",\"B\",Master!BN93)","v":2}]
[{"$f":"Master!A94","v":"SAFE"},{"$f":"Master!B94","v":"WSDOT SAFE: HEARING CONSERVATION (ILT, and/or Self-Study)"},{"$f":"Master!C94","v":"WSDOT_ATS"},{"$f":"Master!D94","v":"OLT/ILT"},{"$f":"Master!E94","v":"Active"},{"$f":"Master!F94","v":0},{"$f":"Master!H94","v":0},{"$f":"IF(Master!K94=\"\",\"B\",Master!K94)","v":"R"},{"$f":"IF(Master!V94=\"\",\"B\",Master!V94)","v":"R"},{"$f":"IF(Master!AG94=\"\",\"B\",Master!AG94)","v":2},{"$f":"IF(Master!AR94=\"\",\"B\",Master!AR94)","v":2},{"$f":"IF(Master!BC94=\"\",\"B\",Master!BC94)","v":2},{"$f":"IF(Master!BN94=\"\",\"B\",Master!BN94)","v":2}]
[{"$f":"Master!A95","v":"SAFE"},{"$f":"Master!B95","v":"WSDOT SAFE: RESPIRATOR PROTECTION TRAINING"},{"$f":"Master!C95","v":"WSDOT_ARZ"},{"$f":"Master!D95","v":"ILT"},{"$f":"Master!E95","v":"Active"},{"$f":"Master!F95","v":0},{"$f":"Master!H95","v":0},{"$f":"IF(Master!K95=\"\",\"B\",Master!K95)","v":"B"},{"$f":"IF(Master!V95=\"\",\"B\",Master!V95)","v":"B"},{"$f":"IF(Master!AG95=\"\",\"B\",Master!AG95)","v":"B"},{"$f":"IF(Master!AR95=\"\",\"B\",Master!AR95)","v":"B"},{"$f":"IF(Master!BC95=\"\",\"B\",Master!BC95)","v":"B"},{"$f":"IF(Master!BN95=\"\",\"B\",Master!BN95)","v":"B"}]
[{"$f":"Master!A96","v":"Construction Division"},null,null,null,null,null,null,{"$f":"IF(Master!K96=\"\",\"B\",Master!K96)","v":"B"},{"$f":"IF(Master!V96=\"\",\"B\",Master!V96)","v":"B"},{"$f":"IF(Master!AG96=\"\",\"B\",Master!AG96)","v":"B"},{"$f":"IF(Master!AR96=\"\",\"B\",Master!AR96)","v":"B"},{"$f":"IF(Master!BC96=\"\",\"B\",Master!BC96)","v":"B"},{"$f":"IF(Master!BN96=\"\",\"B\",Master!BN96)","v":"B"}]
[{"$f":"Master!A97","v":"CN"},{"$f":"Master!B97","v":"WSDOT CN: AGGREGATE PRODUCTION & TESTING INSPECTION"},{"$f":"Master!C97","v":"WSDOT_ACA"},{"$f":"Master!D97","v":"ILT"},{"$f":"Master!E97","v":"Active"},{"$f":"Master!F97","v":0},{"$f":"Master!G97","v":0},{"$f":"IF(Master!H97=\"\",\"B\",Master!H97)","v":"B"},{"$f":"IF(Master!I97=\"\",\"B\",Master!I97)","v":"B"},{"$f":"IF(Master!J97=\"\",\"B\",Master!J97)","v":"B"},{"$f":"IF(Master!K97=\"\",\"B\",Master!K97)","v":"B"},{"$f":"IF(Master!L97=\"\",\"B\",Master!L97)","v":"B"},{"$f":"IF(Master!M97=\"\",\"B\",Master!M97)","v":"B"}]
[{"$f":"Master!A98","v":"CN"},{"$f":"Master!B98","v":"WSDOT CN: BITUMINOUS SURFACE TREATMENT INSPECTION"},{"$f":"Master!C98","v":"WSDOT_CN_BST_ACC"},{"$f":"Master!D98","v":"ILT"},{"$f":"Master!E98","v":"Active"},{"$f":"Master!F98","v":0},{"$f":"Master!G98","v":0},{"$f":"IF(Master!H98=\"\",\"B\",Master!H98)","v":"B"},{"$f":"IF(Master!I98=\"\",\"B\",Master!I98)","v":"B"},{"$f":"IF(Master!J98=\"\",\"B\",Master!J98)","v":2},{"$f":"IF(Master!K98=\"\",\"B\",Master!K98)","v":"B"},{"$f":"IF(Master!L98=\"\",\"B\",Master!L98)","v":"B"},{"$f":"IF(Master!M98=\"\",\"B\",Master!M98)","v":"B"}]
[{"$f":"Master!A99","v":"CN"},{"$f":"Master!B99","v":"WSDOT CN: ACCEPTANCE AND APPROVAL OF MATERIAL"},{"$f":"Master!C99","v":"WSDOT_CN_Acceptance_Material_CX8_OLT"},{"$f":"Master!D99","v":"OLT"},{"$f":"Master!E99","v":"Active"},{"$f":"Master!F99","v":0},{"$f":"Master!G99","v":0},{"$f":"IF(Master!H99=\"\",\"B\",Master!H99)","v":"B"},{"$f":"IF(Master!I99=\"\",\"B\",Master!I99)","v":"B"},{"$f":"IF(Master!J99=\"\",\"B\",Master!J99)","v":1},{"$f":"IF(Master!K99=\"\",\"B\",Master!K99)","v":2},{"$f":"IF(Master!L99=\"\",\"B\",Master!L99)","v":"B"},{"$f":"IF(Master!M99=\"\",\"B\",Master!M99)","v":"B"}]
[{"$f":"Master!A100","v":"CN"},{"$f":"Master!B100","v":"WSDOT CN: COMPOSING AN INSPECTOR'S DAILY REPORT"},{"$f":"Master!C100","v":"WSDOT_CZ9_OLT"},{"$f":"Master!D100","v":"OLT"},{"$f":"Master!E100","v":"Active"},{"$f":"Master!F100","v":0},{"$f":"Master!G100","v":0},{"$f":"IF(Master!H100=\"\",\"B\",Master!H100)","v":"B"},{"$f":"IF(Master!I100=\"\",\"B\",Master!I100)","v":"B"},{"$f":"IF(Master!J100=\"\",\"B\",Master!J100)","v":1},{"$f":"IF(Master!K100=\"\",\"B\",Master!K100)","v":2},{"$f":"IF(Master!L100=\"\",\"B\",Master!L100)","v":"B"},{"$f":"IF(Master!M100=\"\",\"B\",Master!M100)","v":"B"}]
[{"$f":"Master!A101","v":"CN"},{"$f":"Master!B101","v":"WSDOT CN: INSPECTING BRIDGE CONSTRUCTION"},{"$f":"Master!C101","v":"WSDOT_ACM"},{"$f":"Master!D101","v":"ILT"},{"$f":"Master!E101","v":"Active"},{"$f":"Master!F101","v":0},{"$f":"Master!G101","v":0},{"$f":"IF(Master!H101=\"\",\"B\",Master!H101)","v":"B"},{"$f":"IF(Master!I101=\"\",\"B\",Master!I101)","v":"B"},{"$f":"IF(Master!J101=\"\",\"B\",Master!J101)","v":2},{"$f":"IF(Master!K101=\"\",\"B\",Master!K101)","v":"B"},{"$f":"IF(Master!L101=\"\",\"B\",Master!L101)","v":"B"},{"$f":"IF(Master!M101=\"\",\"B\",Master!M101)","v":"B"}]
[{"$f":"Master!A102","v":"CN"},{"$f":"Master!B102","v":"WSDOT CN: CONSTRUCTION INSPECTION DOCUMENTATION"},{"$f":"Master!C102","v":"WSDOT_ACY"},{"$f":"Master!D102","v":"ILT"},{"$f":"Master!E102","v":"Active"},{"$f":"Master!F102","v":0},{"$f":"Master!G102","v":0},{"$f":"IF(Master!H102=\"\",\"B\",Master!H102)","v":"B"},{"$f":"IF(Master!I102=\"\",\"B\",Master!I102)","v":"B"},{"$f":"IF(Master!J102=\"\",\"B\",Master!J102)","v":1},{"$f":"IF(Master!K102=\"\",\"B\",Master!K102)","v":2},{"$f":"IF(Master!L102=\"\",\"B\",Master!L102)","v":"B"},{"$f":"IF(Master!M102=\"\",\"B\",Master!M102)","v":"B"}]
[{"$f":"Master!A103","v":"CN"},{"$f":"Master!B103","v":"WSDOT CN:CONSTRUCTION MATERIALS, APPROVAL AND ACCEPTANCE"},{"$f":"Master!C103","v":"WSDOT_DAP"},{"$f":"Master!D103","v":"ILT"},{"$f":"Master!E103","v":"Active"},{"$f":"Master!F103","v":0},{"$f":"Master!G103","v":0},{"$f":"IF(Master!H103=\"\",\"B\",Master!H103)","v":"B"},{"$f":"IF(Master!I103=\"\",\"B\",Master!I103)","v":"B"},{"$f":"IF(Master!J103=\"\",\"B\",Master!J103)","v":1},{"$f":"IF(Master!K103=\"\",\"B\",Master!K103)","v":2},{"$f":"IF(Master!L103=\"\",\"B\",Master!L103)","v":"B"},{"$f":"IF(Master!M103=\"\",\"B\",Master!M103)","v":"B"}]
[{"$f":"Master!A104","v":"CN"},{"$f":"Master!B104","v":"WSDOT CN: DRAINAGE INSPECTION"},{"$f":"Master!C104","v":"WSDOT_ACF"},{"$f":"Master!D104","v":"ILT"},{"$f":"Master!E104","v":"Active"},{"$f":"Master!F104","v":0},{"$f":"Master!G104","v":0},{"$f":"IF(Master!H104=\"\",\"B\",Master!H104)","v":"B"},{"$f":"IF(Master!I104=\"\",\"B\",Master!I104)","v":"B"},{"$f":"IF(Master!J104=\"\",\"B\",Master!J104)","v":2},{"$f":"IF(Master!K104=\"\",\"B\",Master!K104)","v":"B"},{"$f":"IF(Master!L104=\"\",\"B\",Master!L104)","v":"B"},{"$f":"IF(Master!M104=\"\",\"B\",Master!M104)","v":"B"}]
[{"$f":"Master!A105","v":"CN"},{"$f":"Master!B105","v":"WSDOT CN: EARTHWORK INSPECTION"},{"$f":"Master!C105","v":"WSDOT_Earthwork_OLT"},{"$f":"Master!D105","v":"OLT"},{"$f":"Master!E105","v":"Active"},{"$f":"Master!F105","v":0},{"$f":"Master!G105","v":0},{"$f":"IF(Master!H105=\"\",\"B\",Master!H105)","v":"B"},{"$f":"IF(Master!I105=\"\",\"B\",Master!I105)","v":"B"},{"$f":"IF(Master!J105=\"\",\"B\",Master!J105)","v":2},{"$f":"IF(Master!K105=\"\",\"B\",Master!K105)","v":"B"},{"$f":"IF(Master!L105=\"\",\"B\",Master!L105)","v":"B"},{"$f":"IF(Master!M105=\"\",\"B\",Master!M105)","v":"B"}]
[{"$f":"Master!A106","v":"CN"},{"$f":"Master!B106","v":"WSDOT CN: ELECTRICAL CONDUCTORS AND FIBER for ICP"},{"$f":"Master!C106","v":"WSDOT_ICP_Electrical_Conductors_Fiber_OLT"},{"$f":"Master!D106","v":"OLT"},{"$f":"Master!E106","v":"Active"},{"$f":"Master!F106","v":0},{"$f":"Master!G106","v":0},{"$f":"IF(Master!H106=\"\",\"B\",Master!H106)","v":"B"},{"$f":"IF(Master!I106=\"\",\"B\",Master!I106)","v":"B"},{"$f":"IF(Master!J106=\"\",\"B\",Master!J106)","v":"B"},{"$f":"IF(Master!K106=\"\",\"B\",Master!K106)","v":2},{"$f":"IF(Master!L106=\"\",\"B\",Master!L106)","v":"B"},{"$f":"IF(Master!M106=\"\",\"B\",Master!M106)","v":"B"}]
[{"$f":"Master!A107","v":"CN"},{"$f":"Master!B107","v":"WSDOT CN: ELECTRICAL-ILLUMINATION-SIGNALS & ITS INSPECTION"},{"$f":"Master!C107","v":"WSDOT_API"},{"$f":"Master!D107","v":"ILT"},{"$f":"Master!E107","v":"Active"},{"$f":"Master!F107","v":0},{"$f":"Master!G107","v":0},{"$f":"IF(Master!H107=\"\",\"B\",Master!H107)","v":"B"},{"$f":"IF(Master!I107=\"\",\"B\",Master!I107)","v":"B"},{"$f":"IF(Master!J107=\"\",\"B\",Master!J107)","v":"B"},{"$f":"IF(Master!K107=\"\",\"B\",Master!K107)","v":2},{"$f":"IF(Master!L107=\"\",\"B\",Master!L107)","v":"B"},{"$f":"IF(Master!M107=\"\",\"B\",Master!M107)","v":"B"}]
[{"$f":"Master!A108","v":"CN"},{"$f":"Master!B108","v":"WSDOT CN: EXCAVATION & EMBANKMENTS INSPECTION"},{"$f":"Master!C108","v":"WSDOT_AC3"},{"$f":"Master!D108","v":"ILT"},{"$f":"Master!E108","v":"Active"},{"$f":"Master!F108","v":0},{"$f":"Master!G108","v":0},{"$f":"IF(Master!H108=\"\",\"B\",Master!H108)","v":"B"},{"$f":"IF(Master!I108=\"\",\"B\",Master!I108)","v":"B"},{"$f":"IF(Master!J108=\"\",\"B\",Master!J108)","v":1},{"$f":"IF(Master!K108=\"\",\"B\",Master!K108)","v":"B"},{"$f":"IF(Master!L108=\"\",\"B\",Master!L108)","v":"B"},{"$f":"IF(Master!M108=\"\",\"B\",Master!M108)","v":"B"}]
[{"$f":"Master!A109","v":"CN"},{"$f":"Master!B109","v":"WSDOT CN: FIELD PAINTING STRUCTURAL STEEL"},{"$f":"Master!C109","v":"WSDOT_CN_Field_Painting_OLT"},{"$f":"Master!D109","v":"OLT"},{"$f":"Master!E109","v":"Active"},{"$f":"Master!F109","v":0},{"$f":"Master!G109","v":0},{"$f":"IF(Master!H109=\"\",\"B\",Master!H109)","v":"B"},{"$f":"IF(Master!I109=\"\",\"B\",Master!I109)","v":"B"},{"$f":"IF(Master!J109=\"\",\"B\",Master!J109)","v":"B"},{"$f":"IF(Master!K109=\"\",\"B\",Master!K109)","v":"B"},{"$f":"IF(Master!L109=\"\",\"B\",Master!L109)","v":"B"},{"$f":"IF(Master!M109=\"\",\"B\",Master!M109)","v":"B"}]
[{"$f":"Master!A110","v":"CN"},{"$f":"Master!B110","v":"WSDOT CN: FORCE ACCOUNT DOCUMENTATION AND PAYMENT"},{"$f":"Master!C110","v":"WSDOT_CN_ForceAccount_DG2_OLT"},{"$f":"Master!D110","v":"OLT"},{"$f":"Master!E110","v":"Active"},{"$f":"Master!F110","v":0},{"$f":"Master!G110","v":0},{"$f":"IF(Master!H110=\"\",\"B\",Master!H110)","v":"B"},{"$f":"IF(Master!I110=\"\",\"B\",Master!I110)","v":"B"},{"$f":"IF(Master!J110=\"\",\"B\",Master!J110)","v":1},{"$f":"IF(Master!K110=\"\",\"B\",Master!K110)","v":2},{"$f":"IF(Master!L110=\"\",\"B\",Master!L110)","v":"B"},{"$f":"IF(Master!M110=\"\",\"B\",Master!M110)","v":"B"}]
[{"$f":"Master!A111","v":"CN"},{"$f":"Master!B111","v":"WSDOT CN: FORMS AND FALSEWORK for ICP"},{"$f":"Master!C111","v":"WSDOT_ICP_Forms and Falsework_OLT"},{"$f":"Master!D111","v":"OLT"},{"$f":"Master!E111","v":"Active"},{"$f":"Master!F111","v":0},{"$f":"Master!G111","v":0},{"$f":"IF(Master!H111=\"\",\"B\",Master!H111)","v":"B"},{"$f":"IF(Master!I111=\"\",\"B\",Master!I111)","v":"B"},{"$f":"IF(Master!J111=\"\",\"B\",Master!J111)","v":2},{"$f":"IF(Master!K111=\"\",\"B\",Master!K111)","v":"B"},{"$f":"IF(Master!L111=\"\",\"B\",Master!L111)","v":"B"},{"$f":"IF(Master!M111=\"\",\"B\",Master!M111)","v":"B"}]
[{"$f":"Master!A112","v":"CN"},{"$f":"Master!B112","v":"WSDOT CN: GUARDRAIL INSTALLATION FOR INSPECTORS"},{"$f":"Master!C112","v":"WSDOT_DD4"},{"$f":"Master!D112","v":"ILT"},{"$f":"Master!E112","v":"Active"},{"$f":"Master!F112","v":0},{"$f":"Master!G112","v":0},{"$f":"IF(Master!H112=\"\",\"B\",Master!H112)","v":"B"},{"$f":"IF(Master!I112=\"\",\"B\",Master!I112)","v":"B"},{"$f":"IF(Master!J112=\"\",\"B\",Master!J112)","v":2},{"$f":"IF(Master!K112=\"\",\"B\",Master!K112)","v":"B"},{"$f":"IF(Master!L112=\"\",\"B\",Master!L112)","v":"B"},{"$f":"IF(Master!M112=\"\",\"B\",Master!M112)","v":"B"}]
[{"$f":"Master!A113","v":"CN"},{"$f":"Master!B113","v":"WSDOT CN: HAZMAT FOR THE PORTABLE NUCLEAR GAUGE"},{"$f":"Master!C113","v":"WSDOT Hazmat_for_Transportation_of_the_Nuclear_Gauge_ORG"},{"$f":"Master!D113","v":"OLT"},{"$f":"Master!E113","v":"Active"},{"$f":"Master!F113","v":0},{"$f":"Master!G113","v":0},{"$f":"IF(Master!H113=\"\",\"B\",Master!H113)","v":"B"},{"$f":"IF(Master!I113=\"\",\"B\",Master!I113)","v":"B"},{"$f":"IF(Master!J113=\"\",\"B\",Master!J113)","v":2},{"$f":"IF(Master!K113=\"\",\"B\",Master!K113)","v":"B"},{"$f":"IF(Master!L113=\"\",\"B\",Master!L113)","v":"B"},{"$f":"IF(Master!M113=\"\",\"B\",Master!M113)","v":"B"}]
[{"$f":"Master!A114","v":"CN"},{"$f":"Master!B114","v":"WSDOT CN: HMA PLACEMENT INSPECTION"},{"$f":"Master!C114","v":"WSDOT_HMAPlacement_OLT"},{"$f":"Master!D114","v":"OLT"},{"$f":"Master!E114","v":"Active"},{"$f":"Master!F114","v":0},{"$f":"Master!G114","v":0},{"$f":"IF(Master!H114=\"\",\"B\",Master!H114)","v":"B"},{"$f":"IF(Master!I114=\"\",\"B\",Master!I114)","v":"B"},{"$f":"IF(Master!J114=\"\",\"B\",Master!J114)","v":2},{"$f":"IF(Master!K114=\"\",\"B\",Master!K114)","v":"B"},{"$f":"IF(Master!L114=\"\",\"B\",Master!L114)","v":"B"},{"$f":"IF(Master!M114=\"\",\"B\",Master!M114)","v":"B"}]
[{"$f":"Master!A115","v":"CN"},{"$f":"Master!B115","v":"WSDOT CN: HOT MIX ASPHALT PLACEMENT"},{"$f":"Master!C115","v":"WSDOT_ACB"},{"$f":"Master!D115","v":"ILT"},{"$f":"Master!E115","v":"Active"},{"$f":"Master!F115","v":0},{"$f":"Master!G115","v":0},{"$f":"IF(Master!H115=\"\",\"B\",Master!H115)","v":"B"},{"$f":"IF(Master!I115=\"\",\"B\",Master!I115)","v":"B"},{"$f":"IF(Master!J115=\"\",\"B\",Master!J115)","v":2},{"$f":"IF(Master!K115=\"\",\"B\",Master!K115)","v":"B"},{"$f":"IF(Master!L115=\"\",\"B\",Master!L115)","v":"B"},{"$f":"IF(Master!M115=\"\",\"B\",Master!M115)","v":"B"}]
[{"$f":"Master!A116","v":"CN"},{"$f":"Master!B116","v":"WSDOT CN: HOT MIX ASPHALT PRODUCTION & TESTING"},{"$f":"Master!C116","v":"WSDOT_BG9"},{"$f":"Master!D116","v":"ILT"},{"$f":"Master!E116","v":"Active"},{"$f":"Master!F116","v":0},{"$f":"Master!G116","v":0},{"$f":"IF(Master!H116=\"\",\"B\",Master!H116)","v":"B"},{"$f":"IF(Master!I116=\"\",\"B\",Master!I116)","v":"B"},{"$f":"IF(Master!J116=\"\",\"B\",Master!J116)","v":2},{"$f":"IF(Master!K116=\"\",\"B\",Master!K116)","v":"B"},{"$f":"IF(Master!L116=\"\",\"B\",Master!L116)","v":"B"},{"$f":"IF(Master!M116=\"\",\"B\",Master!M116)","v":"B"}]
[{"$f":"Master!A117","v":"CN"},{"$f":"Master!B117","v":"WSDOT CN: INSPECTING BRIDGE CONSTRUCTION"},{"$f":"Master!C117","v":"WSDOT_ACM"},{"$f":"Master!D117","v":"ILT"},{"$f":"Master!E117","v":"Active"},{"$f":"Master!F117","v":0},{"$f":"Master!G117","v":0},{"$f":"IF(Master!H117=\"\",\"B\",Master!H117)","v":"B"},{"$f":"IF(Master!I117=\"\",\"B\",Master!I117)","v":"B"},{"$f":"IF(Master!J117=\"\",\"B\",Master!J117)","v":2},{"$f":"IF(Master!K117=\"\",\"B\",Master!K117)","v":"B"},{"$f":"IF(Master!L117=\"\",\"B\",Master!L117)","v":"B"},{"$f":"IF(Master!M117=\"\",\"B\",Master!M117)","v":"B"}]
[{"$f":"Master!A118","v":"CN"},{"$f":"Master!B118","v":"WSDOT CN: INSPECTION OF PEDESTRIAN FACILITIES"},{"$f":"Master!C118","v":"WSDOT_IFP_OLT"},{"$f":"Master!D118","v":"OLT"},{"$f":"Master!E118","v":"Active"},{"$f":"Master!F118","v":0},{"$f":"Master!G118","v":0},{"$f":"IF(Master!H118=\"\",\"B\",Master!H118)","v":"B"},{"$f":"IF(Master!I118=\"\",\"B\",Master!I118)","v":2},{"$f":"IF(Master!J118=\"\",\"B\",Master!J118)","v":2},{"$f":"IF(Master!K118=\"\",\"B\",Master!K118)","v":2},{"$f":"IF(Master!L118=\"\",\"B\",Master!L118)","v":2},{"$f":"IF(Master!M118=\"\",\"B\",Master!M118)","v":"B"}]
[{"$f":"Master!A119","v":"CN"},{"$f":"Master!B119","v":"WSDOT CN: INSPECTOR'S ROLE FOR CHANGE ORDER WORK"},{"$f":"Master!C119","v":"WSDOT_DH9_OLT"},{"$f":"Master!D119","v":"OLT"},{"$f":"Master!E119","v":"Active"},{"$f":"Master!F119","v":0},{"$f":"Master!G119","v":0},{"$f":"IF(Master!H119=\"\",\"B\",Master!H119)","v":"B"},{"$f":"IF(Master!I119=\"\",\"B\",Master!I119)","v":"B"},{"$f":"IF(Master!J119=\"\",\"B\",Master!J119)","v":1},{"$f":"IF(Master!K119=\"\",\"B\",Master!K119)","v":2},{"$f":"IF(Master!L119=\"\",\"B\",Master!L119)","v":"B"},{"$f":"IF(Master!M119=\"\",\"B\",Master!M119)","v":"B"}]
[{"$f":"Master!A120","v":"CN"},{"$f":"Master!B120","v":"WSDOT CN:INSPECTOR’S USE OF CONTRACT RESOURCES"},{"$f":"Master!C120","v":"WSDOT_UR1_OLT"},{"$f":"Master!D120","v":"OLT"},{"$f":"Master!E120","v":"Active"},{"$f":"Master!F120","v":0},{"$f":"Master!G120","v":0},{"$f":"IF(Master!H120=\"\",\"B\",Master!H120)","v":"B"},{"$f":"IF(Master!I120=\"\",\"B\",Master!I120)","v":"B"},{"$f":"IF(Master!J120=\"\",\"B\",Master!J120)","v":1},{"$f":"IF(Master!K120=\"\",\"B\",Master!K120)","v":2},{"$f":"IF(Master!L120=\"\",\"B\",Master!L120)","v":"B"},{"$f":"IF(Master!M120=\"\",\"B\",Master!M120)","v":"B"}]
[{"$f":"Master!A121","v":"CN"},{"$f":"Master!B121","v":"WSDOT CN: NHI CONTRACT ADMINISTRATION CORE CURRICULUM"},{"$f":"Master!C121","v":"WSDOT_NHI CONTRACT ADM"},{"$f":"Master!D121","v":"ILT"},{"$f":"Master!E121","v":"Active"},{"$f":"Master!F121","v":0},{"$f":"Master!G121","v":0},{"$f":"IF(Master!H121=\"\",\"B\",Master!H121)","v":"B"},{"$f":"IF(Master!I121=\"\",\"B\",Master!I121)","v":"B"},{"$f":"IF(Master!J121=\"\",\"B\",Master!J121)","v":"B"},{"$f":"IF(Master!K121=\"\",\"B\",Master!K121)","v":"B"},{"$f":"IF(Master!L121=\"\",\"B\",Master!L121)","v":"B"},{"$f":"IF(Master!M121=\"\",\"B\",Master!M121)","v":"B"}]
[{"$f":"Master!A122","v":"CN"},{"$f":"Master!B122","v":"WSDOT CN:NUCLEAR GAUGE SAFETY AND OPERATION"},{"$f":"Master!C122","v":"WSDOT_DCX_OLT"},{"$f":"Master!D122","v":"ILT"},{"$f":"Master!E122","v":"Active"},{"$f":"Master!F122","v":0},{"$f":"Master!G122","v":0},{"$f":"IF(Master!H122=\"\",\"B\",Master!H122)","v":"B"},{"$f":"IF(Master!I122=\"\",\"B\",Master!I122)","v":"B"},{"$f":"IF(Master!J122=\"\",\"B\",Master!J122)","v":2},{"$f":"IF(Master!K122=\"\",\"B\",Master!K122)","v":"B"},{"$f":"IF(Master!L122=\"\",\"B\",Master!L122)","v":"B"},{"$f":"IF(Master!M122=\"\",\"B\",Master!M122)","v":"B"}]
[{"$f":"Master!A123","v":"CN"},{"$f":"Master!B123","v":"WSDOT CN: NUCLEAR GAUGE, EMBANKMENT/SURFACING/PAVEMENT APPLICATIONS"},{"$f":"Master!C123","v":"WSDOT_ANQ"},{"$f":"Master!D123","v":"ILT"},{"$f":"Master!E123","v":"Active"},{"$f":"Master!F123","v":0},{"$f":"Master!G123","v":0},{"$f":"IF(Master!H123=\"\",\"B\",Master!H123)","v":"B"},{"$f":"IF(Master!I123=\"\",\"B\",Master!I123)","v":"B"},{"$f":"IF(Master!J123=\"\",\"B\",Master!J123)","v":2},{"$f":"IF(Master!K123=\"\",\"B\",Master!K123)","v":"B"},{"$f":"IF(Master!L123=\"\",\"B\",Master!L123)","v":"B"},{"$f":"IF(Master!M123=\"\",\"B\",Master!M123)","v":"B"}]
[{"$f":"Master!A124","v":"CN"},{"$f":"Master!B124","v":"WSDOT CN: PAVEMENT REHABILITATION"},{"$f":"Master!C124","v":"WSDOT_BQL"},{"$f":"Master!D124","v":"ILT"},{"$f":"Master!E124","v":"Active"},{"$f":"Master!F124","v":0},{"$f":"Master!G124","v":0},{"$f":"IF(Master!H124=\"\",\"B\",Master!H124)","v":"B"},{"$f":"IF(Master!I124=\"\",\"B\",Master!I124)","v":"B"},{"$f":"IF(Master!J124=\"\",\"B\",Master!J124)","v":"B"},{"$f":"IF(Master!K124=\"\",\"B\",Master!K124)","v":"B"},{"$f":"IF(Master!L124=\"\",\"B\",Master!L124)","v":"B"},{"$f":"IF(Master!M124=\"\",\"B\",Master!M124)","v":"B"}]
[{"$f":"Master!A125","v":"CN"},{"$f":"Master!B125","v":"WSDOT CN: PCC FIELD TESTING PROCEDURES"},{"$f":"Master!C125","v":"WSDOT_ABT"},{"$f":"Master!D125","v":"ILT"},{"$f":"Master!E125","v":"Active"},{"$f":"Master!F125","v":0},{"$f":"Master!G125","v":0},{"$f":"IF(Master!H125=\"\",\"B\",Master!H125)","v":"B"},{"$f":"IF(Master!I125=\"\",\"B\",Master!I125)","v":"B"},{"$f":"IF(Master!J125=\"\",\"B\",Master!J125)","v":"B"},{"$f":"IF(Master!K125=\"\",\"B\",Master!K125)","v":"B"},{"$f":"IF(Master!L125=\"\",\"B\",Master!L125)","v":"B"},{"$f":"IF(Master!M125=\"\",\"B\",Master!M125)","v":"B"}]
[{"$f":"Master!A126","v":"CN"},{"$f":"Master!B126","v":"WSDOT CN: PILE DRIVING INSPECTION"},{"$f":"Master!C126","v":"Piling_OLT"},{"$f":"Master!D126","v":"OLT"},{"$f":"Master!E126","v":"Active"},{"$f":"Master!F126","v":0},{"$f":"Master!G126","v":0},{"$f":"IF(Master!H126=\"\",\"B\",Master!H126)","v":"B"},{"$f":"IF(Master!I126=\"\",\"B\",Master!I126)","v":"B"},{"$f":"IF(Master!J126=\"\",\"B\",Master!J126)","v":"B"},{"$f":"IF(Master!K126=\"\",\"B\",Master!K126)","v":"B"},{"$f":"IF(Master!L126=\"\",\"B\",Master!L126)","v":"B"},{"$f":"IF(Master!M126=\"\",\"B\",Master!M126)","v":"B"}]
[{"$f":"Master!A127","v":"CN"},{"$f":"Master!B127","v":"WSDOT CN: PORTLAND CEMENT CONCRETE INSPECTION"},{"$f":"Master!C127","v":"WSDOT_PCC_OLT"},{"$f":"Master!D127","v":"OLT"},{"$f":"Master!E127","v":"Active"},{"$f":"Master!F127","v":0},{"$f":"Master!G127","v":0},{"$f":"IF(Master!H127=\"\",\"B\",Master!H127)","v":"B"},{"$f":"IF(Master!I127=\"\",\"B\",Master!I127)","v":"B"},{"$f":"IF(Master!J127=\"\",\"B\",Master!J127)","v":2},{"$f":"IF(Master!K127=\"\",\"B\",Master!K127)","v":"B"},{"$f":"IF(Master!L127=\"\",\"B\",Master!L127)","v":"B"},{"$f":"IF(Master!M127=\"\",\"B\",Master!M127)","v":"B"}]
[{"$f":"Master!A128","v":"CN"},{"$f":"Master!B128","v":"WSDOT CN: PRODUCING SOURCE DOCUMENTS"},{"$f":"Master!C128","v":"WSDOT_C1H_OLT"},{"$f":"Master!D128","v":"OLT"},{"$f":"Master!E128","v":"Active"},{"$f":"Master!F128","v":0},{"$f":"Master!G128","v":0},{"$f":"IF(Master!H128=\"\",\"B\",Master!H128)","v":"B"},{"$f":"IF(Master!I128=\"\",\"B\",Master!I128)","v":"B"},{"$f":"IF(Master!J128=\"\",\"B\",Master!J128)","v":"B"},{"$f":"IF(Master!K128=\"\",\"B\",Master!K128)","v":"B"},{"$f":"IF(Master!L128=\"\",\"B\",Master!L128)","v":"B"},{"$f":"IF(Master!M128=\"\",\"B\",Master!M128)","v":"B"}]
[{"$f":"Master!A129","v":"CN"},{"$f":"Master!B129","v":"WSDOT CN: SIGN BRIDGES AND CANTILEVER SIGNS"},{"$f":"Master!C129","v":"WSDOT_SBI_OLT"},{"$f":"Master!D129","v":"OLT"},{"$f":"Master!E129","v":"Active"},{"$f":"Master!F129","v":0},{"$f":"Master!G129","v":0},{"$f":"IF(Master!H129=\"\",\"B\",Master!H129)","v":"B"},{"$f":"IF(Master!I129=\"\",\"B\",Master!I129)","v":"B"},{"$f":"IF(Master!J129=\"\",\"B\",Master!J129)","v":2},{"$f":"IF(Master!K129=\"\",\"B\",Master!K129)","v":2},{"$f":"IF(Master!L129=\"\",\"B\",Master!L129)","v":"B"},{"$f":"IF(Master!M129=\"\",\"B\",Master!M129)","v":"B"}]
[{"$f":"Master!A130","v":"CN"},{"$f":"Master!B130","v":"WSDOT CN: SIGN INSPECTOR DUTIES"},{"$f":"Master!C130","v":"WSDOT_SID_OLT"},{"$f":"Master!D130","v":"OLT"},{"$f":"Master!E130","v":"Active"},{"$f":"Master!F130","v":0},{"$f":"Master!G130","v":0},{"$f":"IF(Master!H130=\"\",\"B\",Master!H130)","v":"B"},{"$f":"IF(Master!I130=\"\",\"B\",Master!I130)","v":"B"},{"$f":"IF(Master!J130=\"\",\"B\",Master!J130)","v":"B"},{"$f":"IF(Master!K130=\"\",\"B\",Master!K130)","v":2},{"$f":"IF(Master!L130=\"\",\"B\",Master!L130)","v":"B"},{"$f":"IF(Master!M130=\"\",\"B\",Master!M130)","v":"B"}]
[{"$f":"Master!A131","v":"CN"},{"$f":"Master!B131","v":"WSDOT CN: SIGN INSTALLATION INSPECTION"},{"$f":"Master!C131","v":"WSDOT_DFV"},{"$f":"Master!D131","v":"ILT"},{"$f":"Master!E131","v":"Active"},{"$f":"Master!F131","v":0},{"$f":"Master!G131","v":0},{"$f":"IF(Master!H131=\"\",\"B\",Master!H131)","v":"B"},{"$f":"IF(Master!I131=\"\",\"B\",Master!I131)","v":"B"},{"$f":"IF(Master!J131=\"\",\"B\",Master!J131)","v":"B"},{"$f":"IF(Master!K131=\"\",\"B\",Master!K131)","v":2},{"$f":"IF(Master!L131=\"\",\"B\",Master!L131)","v":"B"},{"$f":"IF(Master!M131=\"\",\"B\",Master!M131)","v":"B"}]
[{"$f":"Master!A132","v":"CN"},{"$f":"Master!B132","v":"WSDOT CN: SMALL AND LARGE SIGN INSPECTION REVIEW"},{"$f":"Master!C132","v":"WSDOT_SLR_OLT"},{"$f":"Master!D132","v":"OLT"},{"$f":"Master!E132","v":"Active"},{"$f":"Master!F132","v":0},{"$f":"Master!G132","v":0},{"$f":"IF(Master!H132=\"\",\"B\",Master!H132)","v":"B"},{"$f":"IF(Master!I132=\"\",\"B\",Master!I132)","v":"B"},{"$f":"IF(Master!J132=\"\",\"B\",Master!J132)","v":2},{"$f":"IF(Master!K132=\"\",\"B\",Master!K132)","v":2},{"$f":"IF(Master!L132=\"\",\"B\",Master!L132)","v":"B"},{"$f":"IF(Master!M132=\"\",\"B\",Master!M132)","v":"B"}]
[{"$f":"Master!A133","v":"CN"},{"$f":"Master!B133","v":"WSDOT CN: WORK ZONE TRAFFIC CONTROL"},{"$f":"Master!C133","v":"WSDOT_WZTC_OLT"},{"$f":"Master!D133","v":"OLT"},{"$f":"Master!E133","v":"Active"},{"$f":"Master!F133","v":0},{"$f":"Master!G133","v":0},{"$f":"IF(Master!H133=\"\",\"B\",Master!H133)","v":"B"},{"$f":"IF(Master!I133=\"\",\"B\",Master!I133)","v":"B"},{"$f":"IF(Master!J133=\"\",\"B\",Master!J133)","v":1},{"$f":"IF(Master!K133=\"\",\"B\",Master!K133)","v":1},{"$f":"IF(Master!L133=\"\",\"B\",Master!L133)","v":"B"},{"$f":"IF(Master!M133=\"\",\"B\",Master!M133)","v":"B"}]
[{"$f":"Master!A134","v":"CN"},{"$f":"Master!B134","v":"WSDOT DB: ALTERNATIVE TECHNICAL CONCEPT (ATC) REVIEW PROCESS"},{"$f":"Master!C134","v":"WSDOT_DB_ATC"},{"$f":"Master!D134","v":"ILT"},{"$f":"Master!E134","v":"Active"},{"$f":"Master!F134","v":0},{"$f":"Master!G134","v":0},{"$f":"IF(Master!H134=\"\",\"B\",Master!H134)","v":"B"},{"$f":"IF(Master!I134=\"\",\"B\",Master!I134)","v":"B"},{"$f":"IF(Master!J134=\"\",\"B\",Master!J134)","v":"B"},{"$f":"IF(Master!K134=\"\",\"B\",Master!K134)","v":"B"},{"$f":"IF(Master!L134=\"\",\"B\",Master!L134)","v":"B"},{"$f":"IF(Master!M134=\"\",\"B\",Master!M134)","v":"B"}]
[{"$f":"Master!A135","v":"CN"},{"$f":"Master!B135","v":"WSDOT DB: INTRODUCTION TO DESIGN-BUILD"},{"$f":"Master!C135","v":"WSDOT_DB_IDB"},{"$f":"Master!D135","v":"ILT"},{"$f":"Master!E135","v":"Active"},{"$f":"Master!F135","v":0},{"$f":"Master!G135","v":0},{"$f":"IF(Master!H135=\"\",\"B\",Master!H135)","v":"B"},{"$f":"IF(Master!I135=\"\",\"B\",Master!I135)","v":"B"},{"$f":"IF(Master!J135=\"\",\"B\",Master!J135)","v":"B"},{"$f":"IF(Master!K135=\"\",\"B\",Master!K135)","v":"B"},{"$f":"IF(Master!L135=\"\",\"B\",Master!L135)","v":"B"},{"$f":"IF(Master!M135=\"\",\"B\",Master!M135)","v":"B"}]
[{"$f":"Master!A136","v":"CN"},{"$f":"Master!B136","v":"WSDOT DB: DESIGN-BUILD BEST PRACTICES IN TRANSPORTATION"},{"$f":"Master!C136","v":"WSDOT_DB_BPT"},{"$f":"Master!D136","v":"ILT"},{"$f":"Master!E136","v":"Active"},{"$f":"Master!F136","v":0},{"$f":"Master!G136","v":0},{"$f":"IF(Master!H136=\"\",\"B\",Master!H136)","v":"B"},{"$f":"IF(Master!I136=\"\",\"B\",Master!I136)","v":"B"},{"$f":"IF(Master!J136=\"\",\"B\",Master!J136)","v":"B"},{"$f":"IF(Master!K136=\"\",\"B\",Master!K136)","v":"B"},{"$f":"IF(Master!L136=\"\",\"B\",Master!L136)","v":"B"},{"$f":"IF(Master!M136=\"\",\"B\",Master!M136)","v":"B"}]
[{"$f":"Master!A137","v":"CN"},{"$f":"Master!B137","v":"WSDOT DB: DESIGN-BUILD CLOSEOUT"},{"$f":"Master!C137","v":"WSDOT_DB_CO"},{"$f":"Master!D137","v":"ILT"},{"$f":"Master!E137","v":"Active"},{"$f":"Master!F137","v":0},{"$f":"Master!G137","v":0},{"$f":"IF(Master!H137=\"\",\"B\",Master!H137)","v":"B"},{"$f":"IF(Master!I137=\"\",\"B\",Master!I137)","v":"B"},{"$f":"IF(Master!J137=\"\",\"B\",Master!J137)","v":"B"},{"$f":"IF(Master!K137=\"\",\"B\",Master!K137)","v":"B"},{"$f":"IF(Master!L137=\"\",\"B\",Master!L137)","v":"B"},{"$f":"IF(Master!M137=\"\",\"B\",Master!M137)","v":"B"}]
[{"$f":"Master!A138","v":"CN"},{"$f":"Master!B138","v":"WSDOT DB: DESIGN-BUILD INSTRUCTIONS TO PROPOSERS (ITP) AND REQUEST FOR PROPOSALS (RFP)"},{"$f":"Master!C138","v":"WSDOT_DB_ITP_RFP"},{"$f":"Master!D138","v":"ILT"},{"$f":"Master!E138","v":"Active"},{"$f":"Master!F138","v":0},{"$f":"Master!G138","v":0},{"$f":"IF(Master!H138=\"\",\"B\",Master!H138)","v":"B"},{"$f":"IF(Master!I138=\"\",\"B\",Master!I138)","v":"B"},{"$f":"IF(Master!J138=\"\",\"B\",Master!J138)","v":"B"},{"$f":"IF(Master!K138=\"\",\"B\",Master!K138)","v":"B"},{"$f":"IF(Master!L138=\"\",\"B\",Master!L138)","v":"B"},{"$f":"IF(Master!M138=\"\",\"B\",Master!M138)","v":"B"}]
[{"$f":"Master!A139","v":"CN"},{"$f":"Master!B139","v":"WSDOT DB: DESIGN-BUILD OFFICE MANAGEMENT AND CONTRACT ADMINISTRATION"},{"$f":"Master!C139","v":"WSDOT_DB_CA"},{"$f":"Master!D139","v":"ILT"},{"$f":"Master!E139","v":"Active"},{"$f":"Master!F139","v":0},{"$f":"Master!G139","v":0},{"$f":"IF(Master!H139=\"\",\"B\",Master!H139)","v":"B"},{"$f":"IF(Master!I139=\"\",\"B\",Master!I139)","v":"B"},{"$f":"IF(Master!J139=\"\",\"B\",Master!J139)","v":"B"},{"$f":"IF(Master!K139=\"\",\"B\",Master!K139)","v":"B"},{"$f":"IF(Master!L139=\"\",\"B\",Master!L139)","v":"B"},{"$f":"IF(Master!M139=\"\",\"B\",Master!M139)","v":"B"}]
[{"$f":"Master!A140","v":"CN"},{"$f":"Master!B140","v":"WSDOT DB: DESIGN-BUILD STARTUP AND REQUEST FOR QUALIFICATIONS (RFQ\") DEVELOPMENT"},{"$f":"Master!C140","v":"WSDOT_DB_RFQ"},{"$f":"Master!D140","v":"ILT"},{"$f":"Master!E140","v":"Active"},{"$f":"Master!F140","v":0},{"$f":"Master!G140","v":0},{"$f":"IF(Master!H140=\"\",\"B\",Master!H140)","v":"B"},{"$f":"IF(Master!I140=\"\",\"B\",Master!I140)","v":"B"},{"$f":"IF(Master!J140=\"\",\"B\",Master!J140)","v":"B"},{"$f":"IF(Master!K140=\"\",\"B\",Master!K140)","v":"B"},{"$f":"IF(Master!L140=\"\",\"B\",Master!L140)","v":"B"},{"$f":"IF(Master!M140=\"\",\"B\",Master!M140)","v":"B"}]
[{"$f":"Master!A141","v":"CN"},{"$f":"Master!B141","v":"WSDOT DB: ENVIRONMENTAL IN DESIGN-BUILD"},{"$f":"Master!C141","v":"WSDOT_DB_E"},{"$f":"Master!D141","v":"ILT"},{"$f":"Master!E141","v":"Active"},{"$f":"Master!F141","v":0},{"$f":"Master!G141","v":0},{"$f":"IF(Master!H141=\"\",\"B\",Master!H141)","v":"B"},{"$f":"IF(Master!I141=\"\",\"B\",Master!I141)","v":"B"},{"$f":"IF(Master!J141=\"\",\"B\",Master!J141)","v":"B"},{"$f":"IF(Master!K141=\"\",\"B\",Master!K141)","v":"B"},{"$f":"IF(Master!L141=\"\",\"B\",Master!L141)","v":"B"},{"$f":"IF(Master!M141=\"\",\"B\",Master!M141)","v":"B"}]
[{"$f":"Master!A142","v":"CN"},{"$f":"Master!B142","v":"WSDOT DB: LESSONS LEARNED"},{"$f":"Master!C142","v":"WSDOT_DB_LL"},{"$f":"Master!D142","v":"ILT"},{"$f":"Master!E142","v":"Active"},{"$f":"Master!F142","v":0},{"$f":"Master!G142","v":0},{"$f":"IF(Master!H142=\"\",\"B\",Master!H142)","v":"B"},{"$f":"IF(Master!I142=\"\",\"B\",Master!I142)","v":"B"},{"$f":"IF(Master!J142=\"\",\"B\",Master!J142)","v":"B"},{"$f":"IF(Master!K142=\"\",\"B\",Master!K142)","v":"B"},{"$f":"IF(Master!L142=\"\",\"B\",Master!L142)","v":"B"},{"$f":"IF(Master!M142=\"\",\"B\",Master!M142)","v":"B"}]
[{"$f":"Master!A143","v":"CN"},{"$f":"Master!B143","v":"WSDOT DB: PROPOSAL EVALUATION"},{"$f":"Master!C143","v":"WSDOT_DB_PE"},{"$f":"Master!D143","v":"ILT"},{"$f":"Master!E143","v":"Active"},{"$f":"Master!F143","v":0},{"$f":"Master!G143","v":0},{"$f":"IF(Master!H143=\"\",\"B\",Master!H143)","v":"B"},{"$f":"IF(Master!I143=\"\",\"B\",Master!I143)","v":"B"},{"$f":"IF(Master!J143=\"\",\"B\",Master!J143)","v":"B"},{"$f":"IF(Master!K143=\"\",\"B\",Master!K143)","v":"B"},{"$f":"IF(Master!L143=\"\",\"B\",Master!L143)","v":"B"},{"$f":"IF(Master!M143=\"\",\"B\",Master!M143)","v":"B"}]
[{"$f":"Master!A144","v":"CN"},{"$f":"Master!B144","v":"WSDOT DB: QUALITY IN DESIGN-BUILD"},{"$f":"Master!C144","v":"WSDOT_DB_Q"},{"$f":"Master!D144","v":"ILT"},{"$f":"Master!E144","v":"Active"},{"$f":"Master!F144","v":0},{"$f":"Master!G144","v":0},{"$f":"IF(Master!H144=\"\",\"B\",Master!H144)","v":"B"},{"$f":"IF(Master!I144=\"\",\"B\",Master!I144)","v":"B"},{"$f":"IF(Master!J144=\"\",\"B\",Master!J144)","v":"B"},{"$f":"IF(Master!K144=\"\",\"B\",Master!K144)","v":"B"},{"$f":"IF(Master!L144=\"\",\"B\",Master!L144)","v":"B"},{"$f":"IF(Master!M144=\"\",\"B\",Master!M144)","v":"B"}]
[{"$f":"Master!A145","v":"CN"},{"$f":"Master!B145","v":"WSDOT DB: STATEMENT OF QUALIFICATIONS (SOQ) EVALUATION"},{"$f":"Master!C145","v":"WSDOT_DB_SOQE"},{"$f":"Master!D145","v":"ILT"},{"$f":"Master!E145","v":"Active"},{"$f":"Master!F145","v":0},{"$f":"Master!G145","v":0},{"$f":"IF(Master!H145=\"\",\"B\",Master!H145)","v":"B"},{"$f":"IF(Master!I145=\"\",\"B\",Master!I145)","v":"B"},{"$f":"IF(Master!J145=\"\",\"B\",Master!J145)","v":"B"},{"$f":"IF(Master!K145=\"\",\"B\",Master!K145)","v":"B"},{"$f":"IF(Master!L145=\"\",\"B\",Master!L145)","v":"B"},{"$f":"IF(Master!M145=\"\",\"B\",Master!M145)","v":"B"}]
[{"$f":"Master!A146","v":"CN"},{"$f":"Master!B146","v":"**WSDOT DB: EVALUATION"},{"$f":"Master!C146","v":0},{"$f":"Master!D146","v":"ILT"},{"$f":"Master!E146","v":"Under Development"},{"$f":"Master!F146","v":"Q1 2019"},{"$f":"Master!G146","v":0},{"$f":"IF(Master!H146=\"\",\"B\",Master!H146)","v":"B"},{"$f":"IF(Master!I146=\"\",\"B\",Master!I146)","v":"B"},{"$f":"IF(Master!J146=\"\",\"B\",Master!J146)","v":"B"},{"$f":"IF(Master!K146=\"\",\"B\",Master!K146)","v":"B"},{"$f":"IF(Master!L146=\"\",\"B\",Master!L146)","v":"B"},{"$f":"IF(Master!M146=\"\",\"B\",Master!M146)","v":"B"}]
[{"$f":"Master!A147","v":"CN"},{"$f":"Master!B147","v":"WSDOT DB: DESIGN-BUILD INVOICE PROCESSING"},{"$f":"Master!C147","v":0},{"$f":"Master!D147","v":"ILT"},{"$f":"Master!E147","v":"Active"},{"$f":"Master!F147","v":0},{"$f":"Master!G147","v":0},{"$f":"IF(Master!H147=\"\",\"B\",Master!H147)","v":"B"},{"$f":"IF(Master!I147=\"\",\"B\",Master!I147)","v":"B"},{"$f":"IF(Master!J147=\"\",\"B\",Master!J147)","v":"B"},{"$f":"IF(Master!K147=\"\",\"B\",Master!K147)","v":"B"},{"$f":"IF(Master!L147=\"\",\"B\",Master!L147)","v":"B"},{"$f":"IF(Master!M147=\"\",\"B\",Master!M147)","v":"B"}]
[{"$f":"Master!A148","v":"CN"},{"$f":"Master!B148","v":"WSDOT DB: INTERNAL AND EXTERNAL DEBRIEFING"},{"$f":"Master!C148","v":0},{"$f":"Master!D148","v":"ILT"},{"$f":"Master!E148","v":"Active"},{"$f":"Master!F148","v":0},{"$f":"Master!G148","v":0},{"$f":"IF(Master!H148=\"\",\"B\",Master!H148)","v":"B"},{"$f":"IF(Master!I148=\"\",\"B\",Master!I148)","v":"B"},{"$f":"IF(Master!J148=\"\",\"B\",Master!J148)","v":"B"},{"$f":"IF(Master!K148=\"\",\"B\",Master!K148)","v":"B"},{"$f":"IF(Master!L148=\"\",\"B\",Master!L148)","v":"B"},{"$f":"IF(Master!M148=\"\",\"B\",Master!M148)","v":"B"}]
[{"$f":"Master!A149","v":"CN"},{"$f":"Master!B149","v":"WSDOT DB: DESIGN-BUILD QUALITY VERIFICATION"},{"$f":"Master!C149","v":0},{"$f":"Master!D149","v":"ILT"},{"$f":"Master!E149","v":"Active"},{"$f":"Master!F149","v":0},{"$f":"Master!G149","v":0},{"$f":"IF(Master!H149=\"\",\"B\",Master!H149)","v":"B"},{"$f":"IF(Master!I149=\"\",\"B\",Master!I149)","v":"B"},{"$f":"IF(Master!J149=\"\",\"B\",Master!J149)","v":"B"},{"$f":"IF(Master!K149=\"\",\"B\",Master!K149)","v":"B"},{"$f":"IF(Master!L149=\"\",\"B\",Master!L149)","v":"B"},{"$f":"IF(Master!M149=\"\",\"B\",Master!M149)","v":"B"}]
[{"$f":"Master!A150","v":"CN"},{"$f":"Master!B150","v":"**WSDOT DB: QV ADMINISTRATION"},{"$f":"Master!C150","v":0},{"$f":"Master!D150","v":"ILT"},{"$f":"Master!E150","v":"Under Development"},{"$f":"Master!F150","v":"Q1 2019"},{"$f":"Master!G150","v":0},{"$f":"IF(Master!H150=\"\",\"B\",Master!H150)","v":"B"},{"$f":"IF(Master!I150=\"\",\"B\",Master!I150)","v":"B"},{"$f":"IF(Master!J150=\"\",\"B\",Master!J150)","v":"B"},{"$f":"IF(Master!K150=\"\",\"B\",Master!K150)","v":"B"},{"$f":"IF(Master!L150=\"\",\"B\",Master!L150)","v":"B"},{"$f":"IF(Master!M150=\"\",\"B\",Master!M150)","v":"B"}]
[{"$f":"Master!A151","v":"CN"},{"$f":"Master!B151","v":"**WSDOT DB: RISK ANALYSIS AND ALLOCATION FOR DB CONTRACTS"},{"$f":"Master!C151","v":0},{"$f":"Master!D151","v":"ILT"},{"$f":"Master!E151","v":"Under Development"},{"$f":"Master!F151","v":"Q1 2019"},{"$f":"Master!G151","v":0},{"$f":"IF(Master!H151=\"\",\"B\",Master!H151)","v":"B"},{"$f":"IF(Master!I151=\"\",\"B\",Master!I151)","v":"B"},{"$f":"IF(Master!J151=\"\",\"B\",Master!J151)","v":"B"},{"$f":"IF(Master!K151=\"\",\"B\",Master!K151)","v":"B"},{"$f":"IF(Master!L151=\"\",\"B\",Master!L151)","v":"B"},{"$f":"IF(Master!M151=\"\",\"B\",Master!M151)","v":"B"}]
[{"$f":"Master!A152","v":"Development Division"},null,null,null,null,null,null,{"$f":"IF(Master!K152=\"\",\"B\",Master!K152)","v":"B"},{"$f":"IF(Master!V152=\"\",\"B\",Master!V152)","v":"B"},{"$f":"IF(Master!AG152=\"\",\"B\",Master!AG152)","v":"B"},{"$f":"IF(Master!AR152=\"\",\"B\",Master!AR152)","v":"B"},{"$f":"IF(Master!BC152=\"\",\"B\",Master!BC152)","v":"B"},{"$f":"IF(Master!BN152=\"\",\"B\",Master!BN152)","v":"B"}]
[{"$f":"Master!A153","v":"Design"},null,null,null,null,null,null,{"$f":"IF(Master!K153=\"\",\"B\",Master!K153)","v":"B"},{"$f":"IF(Master!V153=\"\",\"B\",Master!V153)","v":"B"},{"$f":"IF(Master!AG153=\"\",\"B\",Master!AG153)","v":"B"},{"$f":"IF(Master!AR153=\"\",\"B\",Master!AR153)","v":"B"},{"$f":"IF(Master!BC153=\"\",\"B\",Master!BC153)","v":"B"},{"$f":"IF(Master!BN153=\"\",\"B\",Master!BN153)","v":"B"}]
[{"$f":"Master!A154","v":"DES"},{"$f":"Master!B154","v":"CONTRACT PLANS REVIEW (SELF-STUDY)"},{"$f":"Master!C154","v":"Paper and Pencil"},{"$f":"Master!D154","v":"SS"},{"$f":"Master!E154","v":"Active"},{"$f":"Master!F154","v":0},{"$f":"Master!H154","v":"E-Learning option as well.  Updated in 2013."},{"$f":"IF(Master!K154=\"\",\"B\",Master!K154)","v":"R"},{"$f":"IF(Master!V154=\"\",\"B\",Master!V154)","v":"R"},{"$f":"IF(Master!AG154=\"\",\"B\",Master!AG154)","v":1},{"$f":"IF(Master!AR154=\"\",\"B\",Master!AR154)","v":1},{"$f":"IF(Master!BC154=\"\",\"B\",Master!BC154)","v":"B"},{"$f":"IF(Master!BN154=\"\",\"B\",Master!BN154)","v":"B"}]
[{"$f":"Master!A155","v":"DES"},{"$f":"Master!B155","v":"CONTRACT PLANS READING (SELF-STUDY)"},{"$f":"Master!C155","v":"Paper and Pencil"},{"$f":"Master!D155","v":"SS"},{"$f":"Master!E155","v":"Active"},{"$f":"Master!F155","v":0},{"$f":"Master!H155","v":"Obtain material through Staff Development."},{"$f":"IF(Master!K155=\"\",\"B\",Master!K155)","v":"R"},{"$f":"IF(Master!V155=\"\",\"B\",Master!V155)","v":"R"},{"$f":"IF(Master!AG155=\"\",\"B\",Master!AG155)","v":1},{"$f":"IF(Master!AR155=\"\",\"B\",Master!AR155)","v":1},{"$f":"IF(Master!BC155=\"\",\"B\",Master!BC155)","v":"B"},{"$f":"IF(Master!BN155=\"\",\"B\",Master!BN155)","v":"B"}]
[{"$f":"Master!A156","v":"DES"},{"$f":"Master!B156","v":"WSDOT DES: CONTRACT PLANS & ESTIMATE PREPARATION"},{"$f":"Master!C156","v":"WSDOT_A4J"},{"$f":"Master!D156","v":"ILT"},{"$f":"Master!E156","v":"Inactive"},{"$f":"Master!F156","v":"None"},{"$f":"Master!H156","v":0},{"$f":"IF(Master!K156=\"\",\"B\",Master!K156)","v":2},{"$f":"IF(Master!V156=\"\",\"B\",Master!V156)","v":2},{"$f":"IF(Master!AG156=\"\",\"B\",Master!AG156)","v":2},{"$f":"IF(Master!AR156=\"\",\"B\",Master!AR156)","v":2},{"$f":"IF(Master!BC156=\"\",\"B\",Master!BC156)","v":2},{"$f":"IF(Master!BN156=\"\",\"B\",Master!BN156)","v":2}]
[{"$f":"Master!A157","v":"DES"},{"$f":"Master!B157","v":"WSDOT DES: CONTRACT PROVISION PREPARATION"},{"$f":"Master!C157","v":"WSDOT_BGN"},{"$f":"Master!D157","v":"ILT"},{"$f":"Master!E157","v":"Inactive"},{"$f":"Master!F157","v":"None"},{"$f":"Master!H157","v":0},{"$f":"IF(Master!K157=\"\",\"B\",Master!K157)","v":2},{"$f":"IF(Master!V157=\"\",\"B\",Master!V157)","v":2},{"$f":"IF(Master!AG157=\"\",\"B\",Master!AG157)","v":2},{"$f":"IF(Master!AR157=\"\",\"B\",Master!AR157)","v":2},{"$f":"IF(Master!BC157=\"\",\"B\",Master!BC157)","v":2},{"$f":"IF(Master!BN157=\"\",\"B\",Master!BN157)","v":2}]
[{"$f":"Master!A158","v":"DES"},{"$f":"Master!B158","v":"WSDOT DESIGN DOCUMENTATION"},{"$f":"Master!C158","v":"WSDOT DES: Design Documentation"},{"$f":"Master!D158","v":"ILT"},{"$f":"Master!E158","v":"Active"},{"$f":"Master!F158","v":0},{"$f":"Master!H158","v":"Contact ASDE; course material is at https://www.wsdot.wa.gov/Design/Support.htm."},{"$f":"IF(Master!K158=\"\",\"B\",Master!K158)","v":2},{"$f":"IF(Master!V158=\"\",\"B\",Master!V158)","v":2},{"$f":"IF(Master!AG158=\"\",\"B\",Master!AG158)","v":2},{"$f":"IF(Master!AR158=\"\",\"B\",Master!AR158)","v":2},{"$f":"IF(Master!BC158=\"\",\"B\",Master!BC158)","v":2},{"$f":"IF(Master!BN158=\"\",\"B\",Master!BN158)","v":2}]
[{"$f":"Master!A159","v":"DES"},{"$f":"Master!B159","v":"WSDOT DES: INTERSECTION DESIGN"},{"$f":"Master!C159","v":"WSDOT_CBD"},{"$f":"Master!D159","v":"ILT"},{"$f":"Master!E159","v":"Active"},{"$f":"Master!F159","v":0},{"$f":"Master!H159","v":"Course  updated in 2019,  delivered to all regions; class delivered by request."},{"$f":"IF(Master!K159=\"\",\"B\",Master!K159)","v":2},{"$f":"IF(Master!V159=\"\",\"B\",Master!V159)","v":2},{"$f":"IF(Master!AG159=\"\",\"B\",Master!AG159)","v":2},{"$f":"IF(Master!AR159=\"\",\"B\",Master!AR159)","v":2},{"$f":"IF(Master!BC159=\"\",\"B\",Master!BC159)","v":2},{"$f":"IF(Master!BN159=\"\",\"B\",Master!BN159)","v":1}]
[{"$f":"Master!A160","v":"DES"},{"$f":"Master!B160","v":"WSDOT DES: PROJECT DEVELOPMENT PROCESS"},{"$f":"Master!C160","v":"WSDOT_CF4"},{"$f":"Master!D160","v":"ILT"},{"$f":"Master!E160","v":"Active"},{"$f":"Master!F160","v":"None"},{"$f":"Master!H160","v":"Updated January 2020; will deliver to regions by 6/30/2021"},{"$f":"IF(Master!K160=\"\",\"B\",Master!K160)","v":2},{"$f":"IF(Master!V160=\"\",\"B\",Master!V160)","v":2},{"$f":"IF(Master!AG160=\"\",\"B\",Master!AG160)","v":2},{"$f":"IF(Master!AR160=\"\",\"B\",Master!AR160)","v":1},{"$f":"IF(Master!BC160=\"\",\"B\",Master!BC160)","v":2},{"$f":"IF(Master!BN160=\"\",\"B\",Master!BN160)","v":"B"}]
[{"$f":"Master!A161","v":"DES"},{"$f":"Master!B161","v":"WSDOT PM: SCHEDULING BASICS"},{"$f":"Master!C161","v":"WSDOT_CB5"},{"$f":"Master!D161","v":"ILT"},{"$f":"Master!E161","v":"Inactive"},{"$f":"Master!F161","v":"None"},{"$f":"Master!H161","v":0},{"$f":"IF(Master!K161=\"\",\"B\",Master!K161)","v":2},{"$f":"IF(Master!V161=\"\",\"B\",Master!V161)","v":2},{"$f":"IF(Master!AG161=\"\",\"B\",Master!AG161)","v":2},{"$f":"IF(Master!AR161=\"\",\"B\",Master!AR161)","v":2},{"$f":"IF(Master!BC161=\"\",\"B\",Master!BC161)","v":2},{"$f":"IF(Master!BN161=\"\",\"B\",Master!BN161)","v":1}]
[{"$f":"Master!A162","v":"DES"},{"$f":"Master!B162","v":"AASHTO T3 CPM SCHEDULING"},{"$f":"Master!C162","v":"Resources:\nCPM Scheduling (2 PDHs)\nCPM Scheduling (3 PDHs)"},{"$f":"Master!D162","v":"OLT"},{"$f":"Master!E162","v":"Active"},{"$f":"Master!F162","v":0},{"$f":"Master!H162","v":"The online CPM training is free for WSDOT employees. To sign up, create an AASHTO account (use your WSDOT email address for the username) then navigate to the CPM training and add it to your cart. Follow the instructions that are emailed to you. There are a variety of other courses available to WSDOT employees at no cost."}]
[{"$f":"Master!A163","v":"DES"},{"$f":"Master!B163","v":"WSDOT DES: RIGHT OF WAY PLANS PREPARATION"},{"$f":"Master!C163","v":"WSDOT_BCN"},{"$f":"Master!D163","v":"ILT"},{"$f":"Master!E163","v":"Inactive"},{"$f":"Master!F163","v":"None"},{"$f":"Master!H163","v":0},{"$f":"IF(Master!K163=\"\",\"B\",Master!K163)","v":"B"},{"$f":"IF(Master!V163=\"\",\"B\",Master!V163)","v":"B"},{"$f":"IF(Master!AG163=\"\",\"B\",Master!AG163)","v":"B"},{"$f":"IF(Master!AR163=\"\",\"B\",Master!AR163)","v":"B"},{"$f":"IF(Master!BC163=\"\",\"B\",Master!BC163)","v":"B"},{"$f":"IF(Master!BN163=\"\",\"B\",Master!BN163)","v":"B"}]
[{"$f":"Master!A164","v":"DES"},{"$f":"Master!B164","v":"WSDOT DES: ROADSIDE SAFETY"},{"$f":"Master!C164","v":"WSDOT_B74"},{"$f":"Master!D164","v":"ILT"},{"$f":"Master!E164","v":"Inactive"},{"$f":"Master!F164","v":"None"},{"$f":"Master!H164","v":0},{"$f":"IF(Master!K164=\"\",\"B\",Master!K164)","v":2},{"$f":"IF(Master!V164=\"\",\"B\",Master!V164)","v":2},{"$f":"IF(Master!AG164=\"\",\"B\",Master!AG164)","v":2},{"$f":"IF(Master!AR164=\"\",\"B\",Master!AR164)","v":2},{"$f":"IF(Master!BC164=\"\",\"B\",Master!BC164)","v":2},{"$f":"IF(Master!BN164=\"\",\"B\",Master!BN164)","v":1}]
[{"$f":"Master!A165","v":"DES"},{"$f":"Master!B165","v":"WSDOT DES: ROADWAY GEOMETRIC DESIGN"},{"$f":"Master!C165","v":"WSDOT_BWE"},{"$f":"Master!D165","v":"ILT"},{"$f":"Master!E165","v":"Inactive"},{"$f":"Master!F165","v":"None"},{"$f":"Master!H165","v":0},{"$f":"IF(Master!K165=\"\",\"B\",Master!K165)","v":2},{"$f":"IF(Master!V165=\"\",\"B\",Master!V165)","v":2},{"$f":"IF(Master!AG165=\"\",\"B\",Master!AG165)","v":2},{"$f":"IF(Master!AR165=\"\",\"B\",Master!AR165)","v":2},{"$f":"IF(Master!BC165=\"\",\"B\",Master!BC165)","v":2},{"$f":"IF(Master!BN165=\"\",\"B\",Master!BN165)","v":1}]
[{"$f":"Master!A166","v":"DES"},{"$f":"Master!B166","v":"WSDOT DES: INTERCHANGE DESIGN"},{"$f":"Master!C166","v":"WSDOT_CFU"},{"$f":"Master!D166","v":"ILT"},{"$f":"Master!E166","v":"Inactive"},{"$f":"Master!F166","v":"None"},{"$f":"Master!H166","v":"FHWA delivered their interchange training at WSDOT in 2019; course delivery depends on demand."},{"$f":"IF(Master!K166=\"\",\"B\",Master!K166)","v":2},{"$f":"IF(Master!V166=\"\",\"B\",Master!V166)","v":2},{"$f":"IF(Master!AG166=\"\",\"B\",Master!AG166)","v":2},{"$f":"IF(Master!AR166=\"\",\"B\",Master!AR166)","v":2},{"$f":"IF(Master!BC166=\"\",\"B\",Master!BC166)","v":2},{"$f":"IF(Master!BN166=\"\",\"B\",Master!BN166)","v":2}]
[{"$f":"Master!A167","v":"DES"},{"$f":"Master!B167","v":"WSDOT DES: ACCESS MANAGEMENT"},{"$f":"Master!C167","v":"WSDOT_DAS"},{"$f":"Master!D167","v":"ILT"},{"$f":"Master!E167","v":"Active"},{"$f":"Master!F167","v":0},{"$f":"Master!H167","v":"Being updated, but current class can be given at any time"},{"$f":"IF(Master!K167=\"\",\"B\",Master!K167)","v":"B"},{"$f":"IF(Master!V167=\"\",\"B\",Master!V167)","v":"B"},{"$f":"IF(Master!AG167=\"\",\"B\",Master!AG167)","v":"B"},{"$f":"IF(Master!AR167=\"\",\"B\",Master!AR167)","v":"B"},{"$f":"IF(Master!BC167=\"\",\"B\",Master!BC167)","v":2},{"$f":"IF(Master!BN167=\"\",\"B\",Master!BN167)","v":1}]
[{"$f":"Master!A168","v":"DES"},{"$f":"Master!B168","v":"ALTERNATIVES COMPARISON WORKSHOP"},{"$f":"Master!C168","v":"None"},{"$f":"Master!D168","v":"ILT"},{"$f":"Master!E168","v":"Inactive"},{"$f":"Master!F168","v":"None"},{"$f":"Master!H168","v":0},{"$f":"IF(Master!K168=\"\",\"B\",Master!K168)","v":2},{"$f":"IF(Master!V168=\"\",\"B\",Master!V168)","v":2},{"$f":"IF(Master!AG168=\"\",\"B\",Master!AG168)","v":2},{"$f":"IF(Master!AR168=\"\",\"B\",Master!AR168)","v":2},{"$f":"IF(Master!BC168=\"\",\"B\",Master!BC168)","v":1},{"$f":"IF(Master!BN168=\"\",\"B\",Master!BN168)","v":1}]
[{"$f":"Master!A169","v":"DES"},{"$f":"Master!B169","v":"WSDOT DES: COST ESTIMATING"},{"$f":"Master!C169","v":"WSDOT_CZV"},{"$f":"Master!D169","v":"ILT"},{"$f":"Master!E169","v":"Active"},{"$f":"Master!F169","v":0},{"$f":"Master!H169","v":"This class was updated in 2019 and delivered to all regions 2019-2020; this class can be delivered by request."},{"$f":"IF(Master!K169=\"\",\"B\",Master!K169)","v":2},{"$f":"IF(Master!V169=\"\",\"B\",Master!V169)","v":2},{"$f":"IF(Master!AG169=\"\",\"B\",Master!AG169)","v":2},{"$f":"IF(Master!AR169=\"\",\"B\",Master!AR169)","v":2},{"$f":"IF(Master!BC169=\"\",\"B\",Master!BC169)","v":1},{"$f":"IF(Master!BN169=\"\",\"B\",Master!BN169)","v":1}]
[{"$f":"Master!A170","v":"DES"},{"$f":"Master!B170","v":"RISK MANAGEMENT"},{"$f":"Master!C170","v":"None"},{"$f":"Master!D170","v":"ILT"},{"$f":"Master!E170","v":"Inactive"},{"$f":"Master!F170","v":"None"},{"$f":"Master!H170","v":"Available by arrangement; contact Mark Gabel or Mark Suijka."},{"$f":"IF(Master!K170=\"\",\"B\",Master!K170)","v":"B"},{"$f":"IF(Master!V170=\"\",\"B\",Master!V170)","v":"B"},{"$f":"IF(Master!AG170=\"\",\"B\",Master!AG170)","v":"B"},{"$f":"IF(Master!AR170=\"\",\"B\",Master!AR170)","v":"B"},{"$f":"IF(Master!BC170=\"\",\"B\",Master!BC170)","v":2},{"$f":"IF(Master!BN170=\"\",\"B\",Master!BN170)","v":1}]
[{"$f":"Master!A171","v":"DES"},{"$f":"Master!B171","v":"MANAGING PROJECT DELIVERY"},{"$f":"Master!C171","v":"None"},{"$f":"Master!D171","v":0},{"$f":"Master!E171","v":"Inactive"},{"$f":"Master!F171","v":"None"},{"$f":"Master!H171","v":"PM courses abailable through SkillSoft:  https://wsdot.skillport.com/skillportfe/main.action#whatshappening"},{"$f":"IF(Master!K171=\"\",\"B\",Master!K171)","v":2},{"$f":"IF(Master!V171=\"\",\"B\",Master!V171)","v":2},{"$f":"IF(Master!AG171=\"\",\"B\",Master!AG171)","v":2},{"$f":"IF(Master!AR171=\"\",\"B\",Master!AR171)","v":2},{"$f":"IF(Master!BC171=\"\",\"B\",Master!BC171)","v":1},{"$f":"IF(Master!BN171=\"\",\"B\",Master!BN171)","v":1}]
[{"$f":"Master!A172","v":"DES"},{"$f":"Master!B172","v":"HUMAN FACTORS IN TRANSPORTATION DESIGN"},{"$f":"Master!C172","v":"None"},{"$f":"Master!D172","v":"ILT"},{"$f":"Master!E172","v":"Inactive"},{"$f":"Master!F172","v":"None"},{"$f":"Master!H172","v":"Partly covered in the HSM Training"},{"$f":"IF(Master!K172=\"\",\"B\",Master!K172)","v":2},{"$f":"IF(Master!V172=\"\",\"B\",Master!V172)","v":2},{"$f":"IF(Master!AG172=\"\",\"B\",Master!AG172)","v":2},{"$f":"IF(Master!AR172=\"\",\"B\",Master!AR172)","v":2},{"$f":"IF(Master!BC172=\"\",\"B\",Master!BC172)","v":1},{"$f":"IF(Master!BN172=\"\",\"B\",Master!BN172)","v":1}]
[{"$f":"Master!A173","v":"DES"},{"$f":"Master!B173","v":"WSDOT DES: [YYYY] DESIGN MANUAL TRAINING"},{"$f":"Master!C173","v":"WSDOT_DMUT01202016"},{"$f":"Master!D173","v":"ILT"},{"$f":"Master!E173","v":"Active"},{"$f":"Master!F173","v":0},{"$f":"Master!H173","v":0},{"$f":"IF(Master!K173=\"\",\"B\",Master!K173)","v":2},{"$f":"IF(Master!V173=\"\",\"B\",Master!V173)","v":2},{"$f":"IF(Master!AG173=\"\",\"B\",Master!AG173)","v":2},{"$f":"IF(Master!AR173=\"\",\"B\",Master!AR173)","v":2},{"$f":"IF(Master!BC173=\"\",\"B\",Master!BC173)","v":1},{"$f":"IF(Master!BN173=\"\",\"B\",Master!BN173)","v":1}]
[{"$f":"Master!A174","v":"DES"},{"$f":"Master!B174","v":"WSDOT DES: DESIGN MANUAL DIVISION 11 PRACTICAL DESIGN"},{"$f":"Master!C174","v":"DMUT_ORG"},{"$f":"Master!D174","v":"OLT"},{"$f":"Master!E174","v":"Active"},{"$f":"Master!F174","v":0},{"$f":"Master!H174","v":"Available in LMS for credit, also at https://www.wsdot.wa.gov/LocalPrograms/Training/eTraining.htm "},{"$f":"IF(Master!K174=\"\",\"B\",Master!K174)","v":2},{"$f":"IF(Master!V174=\"\",\"B\",Master!V174)","v":2},{"$f":"IF(Master!AG174=\"\",\"B\",Master!AG174)","v":2},{"$f":"IF(Master!AR174=\"\",\"B\",Master!AR174)","v":2},{"$f":"IF(Master!BC174=\"\",\"B\",Master!BC174)","v":1},{"$f":"IF(Master!BN174=\"\",\"B\",Master!BN174)","v":1}]
[{"$f":"Master!A175","v":"DES"},{"$f":"Master!B175","v":"WSDOT PS 201 MULTIMODAL MAKING THE CASE MODULE1 OLT"},{"$f":"Master!C175","v":"Module_1:_Why_Multimodal?_ORG"},{"$f":"Master!D175","v":"OLT"},{"$f":"Master!E175","v":"Active"},{"$f":"Master!F175","v":0},{"$f":"Master!H175","v":0},{"$f":"IF(Master!K175=\"\",\"B\",Master!K175)","v":"B"},{"$f":"IF(Master!V175=\"\",\"B\",Master!V175)","v":"B"},{"$f":"IF(Master!AG175=\"\",\"B\",Master!AG175)","v":"B"},{"$f":"IF(Master!AR175=\"\",\"B\",Master!AR175)","v":"B"},{"$f":"IF(Master!BC175=\"\",\"B\",Master!BC175)","v":"B"},{"$f":"IF(Master!BN175=\"\",\"B\",Master!BN175)","v":"B"}]
[{"$f":"Master!A176","v":"DES"},{"$f":"Master!B176","v":"WSDOT PS 201 MULTIMODAL LAND USE MODULE2 OLT"},{"$f":"Master!C176","v":"Module_2_Land_Use_&_Transportation_ORG"},{"$f":"Master!D176","v":"OLT"},{"$f":"Master!E176","v":"Active"},{"$f":"Master!F176","v":0},{"$f":"Master!H176","v":0},{"$f":"IF(Master!K176=\"\",\"B\",Master!K176)","v":"B"},{"$f":"IF(Master!V176=\"\",\"B\",Master!V176)","v":"B"},{"$f":"IF(Master!AG176=\"\",\"B\",Master!AG176)","v":"B"},{"$f":"IF(Master!AR176=\"\",\"B\",Master!AR176)","v":"B"},{"$f":"IF(Master!BC176=\"\",\"B\",Master!BC176)","v":"B"},{"$f":"IF(Master!BN176=\"\",\"B\",Master!BN176)","v":"B"}]
[{"$f":"Master!A177","v":"DES"},{"$f":"Master!B177","v":"WSDOT PS 201 MULTIMODAL PHASES AND NEEDS MODULE3 OLT"},{"$f":"Master!C177","v":"Module_3_Phases_and_Needs_ORG"},{"$f":"Master!D177","v":"OLT"},{"$f":"Master!E177","v":" Active"},{"$f":"Master!F177","v":0},{"$f":"Master!H177","v":0},{"$f":"IF(Master!K177=\"\",\"B\",Master!K177)","v":"B"},{"$f":"IF(Master!V177=\"\",\"B\",Master!V177)","v":"B"},{"$f":"IF(Master!AG177=\"\",\"B\",Master!AG177)","v":"B"},{"$f":"IF(Master!AR177=\"\",\"B\",Master!AR177)","v":"B"},{"$f":"IF(Master!BC177=\"\",\"B\",Master!BC177)","v":"B"},{"$f":"IF(Master!BN177=\"\",\"B\",Master!BN177)","v":"B"}]
[{"$f":"Master!A178","v":"DES"},{"$f":"Master!B178","v":"WSDOT PS 201 MULTIMODAL PERFORMANCE BASICS MODULE4 OLT"},{"$f":"Master!C178","v":"Module_4_Performance_Basics_ORG"},{"$f":"Master!D178","v":"OLT"},{"$f":"Master!E178","v":"Active"},{"$f":"Master!F178","v":0},{"$f":"Master!H178","v":0},{"$f":"IF(Master!K178=\"\",\"B\",Master!K178)","v":"B"},{"$f":"IF(Master!V178=\"\",\"B\",Master!V178)","v":"B"},{"$f":"IF(Master!AG178=\"\",\"B\",Master!AG178)","v":"B"},{"$f":"IF(Master!AR178=\"\",\"B\",Master!AR178)","v":"B"},{"$f":"IF(Master!BC178=\"\",\"B\",Master!BC178)","v":"B"},{"$f":"IF(Master!BN178=\"\",\"B\",Master!BN178)","v":"B"}]
[{"$f":"Master!A179","v":"DES"},{"$f":"Master!B179","v":"WSDOT PS 201 MULTIMODAL TRANSIT MODULE5 OLT"},{"$f":"Master!C179","v":"Module_5_Transit_ORG"},{"$f":"Master!D179","v":"OLT"},{"$f":"Master!E179","v":"Active"},{"$f":"Master!F179","v":0},{"$f":"Master!H179","v":0},{"$f":"IF(Master!K179=\"\",\"B\",Master!K179)","v":"B"},{"$f":"IF(Master!V179=\"\",\"B\",Master!V179)","v":"B"},{"$f":"IF(Master!AG179=\"\",\"B\",Master!AG179)","v":"B"},{"$f":"IF(Master!AR179=\"\",\"B\",Master!AR179)","v":"B"},{"$f":"IF(Master!BC179=\"\",\"B\",Master!BC179)","v":"B"},{"$f":"IF(Master!BN179=\"\",\"B\",Master!BN179)","v":"B"}]
[{"$f":"Master!A180","v":"DES"},{"$f":"Master!B180","v":"WSDOT PS 201 MULTIMODAL WALKING MODULE6 OLT"},{"$f":"Master!C180","v":"Module_6_People_Walking_ORG"},{"$f":"Master!D180","v":"OLT"},{"$f":"Master!E180","v":"Active"},{"$f":"Master!F180","v":0},{"$f":"Master!H180","v":0},{"$f":"IF(Master!K180=\"\",\"B\",Master!K180)","v":"B"},{"$f":"IF(Master!V180=\"\",\"B\",Master!V180)","v":"B"},{"$f":"IF(Master!AG180=\"\",\"B\",Master!AG180)","v":"B"},{"$f":"IF(Master!AR180=\"\",\"B\",Master!AR180)","v":"B"},{"$f":"IF(Master!BC180=\"\",\"B\",Master!BC180)","v":"B"},{"$f":"IF(Master!BN180=\"\",\"B\",Master!BN180)","v":"B"}]
[{"$f":"Master!A181","v":"DES"},{"$f":"Master!B181","v":"WSDOT PS 201 MULTIMODAL BIKING MODULE7 OLT"},{"$f":"Master!C181","v":"Module_7_People_Biking_ORG"},{"$f":"Master!D181","v":"OLT"},{"$f":"Master!E181","v":"Active"},{"$f":"Master!F181","v":0},{"$f":"Master!H181","v":0},{"$f":"IF(Master!K181=\"\",\"B\",Master!K181)","v":"B"},{"$f":"IF(Master!V181=\"\",\"B\",Master!V181)","v":"B"},{"$f":"IF(Master!AG181=\"\",\"B\",Master!AG181)","v":"B"},{"$f":"IF(Master!AR181=\"\",\"B\",Master!AR181)","v":"B"},{"$f":"IF(Master!BC181=\"\",\"B\",Master!BC181)","v":"B"},{"$f":"IF(Master!BN181=\"\",\"B\",Master!BN181)","v":"B"}]
[{"$f":"Master!A182","v":"DES"},{"$f":"Master!B182","v":"WSDOT PS 201 MULTIMODAL FREIGHT MODULE8 OLT"},{"$f":"Master!C182","v":"Module_8_Freight_Transportation_ORG"},{"$f":"Master!D182","v":"OLT"},{"$f":"Master!E182","v":"Active"},{"$f":"Master!F182","v":0},{"$f":"Master!H182","v":0},{"$f":"IF(Master!K182=\"\",\"B\",Master!K182)","v":"B"},{"$f":"IF(Master!V182=\"\",\"B\",Master!V182)","v":"B"},{"$f":"IF(Master!AG182=\"\",\"B\",Master!AG182)","v":"B"},{"$f":"IF(Master!AR182=\"\",\"B\",Master!AR182)","v":"B"},{"$f":"IF(Master!BC182=\"\",\"B\",Master!BC182)","v":"B"},{"$f":"IF(Master!BN182=\"\",\"B\",Master!BN182)","v":"B"}]
[{"$f":"Master!A183","v":"DES"},{"$f":"Master!B183","v":"WSDOT PS 201 MULTIMODAL CONFLICTS AND HUBS MODULE9 OLT"},{"$f":"Master!C183","v":"Module_9_Modal_Conflicts_and_Hubs_ORG"},{"$f":"Master!D183","v":"OLT"},{"$f":"Master!E183","v":"Active"},{"$f":"Master!F183","v":0},{"$f":"Master!H183","v":0},{"$f":"IF(Master!K183=\"\",\"B\",Master!K183)","v":"B"},{"$f":"IF(Master!V183=\"\",\"B\",Master!V183)","v":"B"},{"$f":"IF(Master!AG183=\"\",\"B\",Master!AG183)","v":"B"},{"$f":"IF(Master!AR183=\"\",\"B\",Master!AR183)","v":"B"},{"$f":"IF(Master!BC183=\"\",\"B\",Master!BC183)","v":"B"},{"$f":"IF(Master!BN183=\"\",\"B\",Master!BN183)","v":"B"}]
[{"$f":"Master!A184","v":"DES"},{"$f":"Master!B184","v":"WSDOT PRACTICAL SOLUTIONS OVERVIEW OLT"},{"$f":"Master!C184","v":"Practical_Solutions_Overview_ORG"},{"$f":"Master!D184","v":"OLT"},{"$f":"Master!E184","v":"Active"},{"$f":"Master!F184","v":0},{"$f":"Master!H184","v":0},{"$f":"IF(Master!K184=\"\",\"B\",Master!K184)","v":2},{"$f":"IF(Master!V184=\"\",\"B\",Master!V184)","v":2},{"$f":"IF(Master!AG184=\"\",\"B\",Master!AG184)","v":2},{"$f":"IF(Master!AR184=\"\",\"B\",Master!AR184)","v":2},{"$f":"IF(Master!BC184=\"\",\"B\",Master!BC184)","v":2},{"$f":"IF(Master!BN184=\"\",\"B\",Master!BN184)","v":2}]
[{"$f":"Master!A185","v":"DES"},{"$f":"Master!B185","v":"WSDOT PS 101: PRACTICAL SOLUTIONS APPROACH TO PROJECT DEVELOPMENT OVERVIEW"},{"$f":"Master!C185","v":"WSDOT_PS101"},{"$f":"Master!D185","v":"ILT"},{"$f":"Master!E185","v":"Inactive"},{"$f":"Master!F185","v":0},{"$f":"Master!H185","v":0},{"$f":"IF(Master!K185=\"\",\"B\",Master!K185)","v":2},{"$f":"IF(Master!V185=\"\",\"B\",Master!V185)","v":2},{"$f":"IF(Master!AG185=\"\",\"B\",Master!AG185)","v":2},{"$f":"IF(Master!AR185=\"\",\"B\",Master!AR185)","v":2},{"$f":"IF(Master!BC185=\"\",\"B\",Master!BC185)","v":2},{"$f":"IF(Master!BN185=\"\",\"B\",Master!BN185)","v":2}]
[{"$f":"Master!A186","v":"Hydraulics"},null,null,null,null,null,null,{"$f":"IF(Master!K186=\"\",\"B\",Master!K186)","v":"B"},{"$f":"IF(Master!V186=\"\",\"B\",Master!V186)","v":"B"},{"$f":"IF(Master!AG186=\"\",\"B\",Master!AG186)","v":"B"},{"$f":"IF(Master!AR186=\"\",\"B\",Master!AR186)","v":"B"},{"$f":"IF(Master!BC186=\"\",\"B\",Master!BC186)","v":"B"},{"$f":"IF(Master!BN186=\"\",\"B\",Master!BN186)","v":"B"}]
[{"$f":"Master!A187","v":"HYD"},{"$f":"Master!B187","v":"WSDOT DES: HYDRAULICS AND HYDROLOGY"},{"$f":"Master!C187","v":"WSDOT_DES_HYDRAULICS_AND_HYDROLOGY"},{"$f":"Master!D187","v":"ILT"},{"$f":"Master!E187","v":"Active"},{"$f":"Master!F187","v":0},{"$f":"Master!H187","v":0},{"$f":"IF(Master!K187=\"\",\"B\",Master!K187)","v":"B"},{"$f":"IF(Master!V187=\"\",\"B\",Master!V187)","v":"B"},{"$f":"IF(Master!AG187=\"\",\"B\",Master!AG187)","v":"B"},{"$f":"IF(Master!AR187=\"\",\"B\",Master!AR187)","v":"B"},{"$f":"IF(Master!BC187=\"\",\"B\",Master!BC187)","v":2},{"$f":"IF(Master!BN187=\"\",\"B\",Master!BN187)","v":"B"}]
[{"$f":"Master!A188","v":"HYD"},{"$f":"Master!B188","v":"WSDOT DES: 2014 HIGHWAY RUNOFF MANUAL TRAINING"},{"$f":"Master!C188","v":"WSDOT_DBI"},{"$f":"Master!D188","v":"ILT"},{"$f":"Master!E188","v":"Active"},{"$f":"Master!F188","v":0},{"$f":"Master!H188","v":0},{"$f":"IF(Master!K188=\"\",\"B\",Master!K188)","v":"B"},{"$f":"IF(Master!V188=\"\",\"B\",Master!V188)","v":"B"},{"$f":"IF(Master!AG188=\"\",\"B\",Master!AG188)","v":"B"},{"$f":"IF(Master!AR188=\"\",\"B\",Master!AR188)","v":"B"},{"$f":"IF(Master!BC188=\"\",\"B\",Master!BC188)","v":"B"},{"$f":"IF(Master!BN188=\"\",\"B\",Master!BN188)","v":"B"}]
[{"$f":"Master!A189","v":"HYD"},{"$f":"Master!B189","v":"WSDOT_MGSFLOOD_TRAINING"},{"$f":"Master!C189","v":"WSDOT_MGSFLOOD_TRAINING"},{"$f":"Master!D189","v":"ILT"},{"$f":"Master!E189","v":"Active"},{"$f":"Master!F189","v":0},{"$f":"Master!H189","v":0},{"$f":"IF(Master!K189=\"\",\"B\",Master!K189)","v":"B"},{"$f":"IF(Master!V189=\"\",\"B\",Master!V189)","v":"B"},{"$f":"IF(Master!AG189=\"\",\"B\",Master!AG189)","v":"B"},{"$f":"IF(Master!AR189=\"\",\"B\",Master!AR189)","v":"B"},{"$f":"IF(Master!BC189=\"\",\"B\",Master!BC189)","v":"B"},{"$f":"IF(Master!BN189=\"\",\"B\",Master!BN189)","v":"B"}]
[{"$f":"Master!A190","v":"HYD"},{"$f":"Master!B190","v":"WSDOT DES: STORMSHED BEGINNING"},{"$f":"Master!C190","v":"WSDOT_DES_STORMSHED_BEGINNING"},{"$f":"Master!D190","v":"ILT"},{"$f":"Master!E190","v":"Active"},{"$f":"Master!F190","v":0},{"$f":"Master!H190","v":0},{"$f":"IF(Master!K190=\"\",\"B\",Master!K190)","v":"B"},{"$f":"IF(Master!V190=\"\",\"B\",Master!V190)","v":"B"},{"$f":"IF(Master!AG190=\"\",\"B\",Master!AG190)","v":"B"},{"$f":"IF(Master!AR190=\"\",\"B\",Master!AR190)","v":"B"},{"$f":"IF(Master!BC190=\"\",\"B\",Master!BC190)","v":"B"},{"$f":"IF(Master!BN190=\"\",\"B\",Master!BN190)","v":"B"}]
[{"$f":"Master!A191","v":"HYD"},{"$f":"Master!B191","v":"WSDOT DES: STORMSHED INTERMEDIATE"},{"$f":"Master!C191","v":"WSDOT_DES_STORMSHED_INTERMEDIATE"},{"$f":"Master!D191","v":"ILT"},{"$f":"Master!E191","v":"Active"},{"$f":"Master!F191","v":0},{"$f":"Master!H191","v":0},{"$f":"IF(Master!K191=\"\",\"B\",Master!K191)","v":"B"},{"$f":"IF(Master!V191=\"\",\"B\",Master!V191)","v":"B"},{"$f":"IF(Master!AG191=\"\",\"B\",Master!AG191)","v":"B"},{"$f":"IF(Master!AR191=\"\",\"B\",Master!AR191)","v":"B"},{"$f":"IF(Master!BC191=\"\",\"B\",Master!BC191)","v":"B"},{"$f":"IF(Master!BN191=\"\",\"B\",Master!BN191)","v":"B"}]
[{"$f":"Master!A192","v":"Environmental"},null,null,null,null,null,null,{"$f":"IF(Master!K192=\"\",\"B\",Master!K192)","v":"B"},{"$f":"IF(Master!V192=\"\",\"B\",Master!V192)","v":"B"},{"$f":"IF(Master!AG192=\"\",\"B\",Master!AG192)","v":"B"},{"$f":"IF(Master!AR192=\"\",\"B\",Master!AR192)","v":"B"},{"$f":"IF(Master!BC192=\"\",\"B\",Master!BC192)","v":"B"},{"$f":"IF(Master!BN192=\"\",\"B\",Master!BN192)","v":"B"}]
[{"$f":"Master!A193","v":"ENV"},{"$f":"Master!B193","v":"WSDOT ENV: SPILL PLAN REVIEWER TRAINING (OLT)"},{"$f":"Master!C193","v":"WSDOT_BYZ_OLT"},{"$f":"Master!D193","v":"OLT"},{"$f":"Master!E193","v":"Active"},{"$f":"Master!F193","v":0},{"$f":"Master!G193","v":"NA"},{"$f":"IF(Master!K193=\"\",\"B\",Master!K193)","v":"B"},{"$f":"IF(Master!V193=\"\",\"B\",Master!V193)","v":"B"},{"$f":"IF(Master!AG193=\"\",\"B\",Master!AG193)","v":"B"},{"$f":"IF(Master!AR193=\"\",\"B\",Master!AR193)","v":"B"},{"$f":"IF(Master!BC193=\"\",\"B\",Master!BC193)","v":"B"},{"$f":"IF(Master!BN193=\"\",\"B\",Master!BN193)","v":"B"}]
[{"$f":"Master!A194","v":"ENV"},{"$f":"Master!B194","v":"WSDOT ENV: CONSTRUCTION SITE EROSION AND SEDIMENT CONTROL"},{"$f":"Master!C194","v":"WSDOT_BPW"},{"$f":"Master!D194","v":"ILT"},{"$f":"Master!E194","v":"Active"},{"$f":"Master!F194","v":0},{"$f":"Master!G194","v":"Once per year per Region or by request"},{"$f":"IF(Master!K194=\"\",\"B\",Master!K194)","v":"B"},{"$f":"IF(Master!V194=\"\",\"B\",Master!V194)","v":"B"},{"$f":"IF(Master!AG194=\"\",\"B\",Master!AG194)","v":"B"},{"$f":"IF(Master!AR194=\"\",\"B\",Master!AR194)","v":"B"},{"$f":"IF(Master!BC194=\"\",\"B\",Master!BC194)","v":"B"},{"$f":"IF(Master!BN194=\"\",\"B\",Master!BN194)","v":"B"}]
[{"$f":"Master!A195","v":"ENV"},{"$f":"Master!B195","v":"WSDOT ENV: CULTURAL RESOURCE TRAINING"},{"$f":"Master!C195","v":"WSDOT_B7T"},{"$f":"Master!D195","v":"ILT"},{"$f":"Master!E195","v":"Active"},{"$f":"Master!F195","v":0},{"$f":"Master!G195","v":"Offered 1-2 times per year"},{"$f":"IF(Master!K195=\"\",\"B\",Master!K195)","v":2},{"$f":"IF(Master!V195=\"\",\"B\",Master!V195)","v":2},{"$f":"IF(Master!AG195=\"\",\"B\",Master!AG195)","v":2},{"$f":"IF(Master!AR195=\"\",\"B\",Master!AR195)","v":2},{"$f":"IF(Master!BC195=\"\",\"B\",Master!BC195)","v":2},{"$f":"IF(Master!BN195=\"\",\"B\",Master!BN195)","v":2}]
[{"$f":"Master!A196","v":"ENV"},{"$f":"Master!B196","v":"WSDOT ENV: ENVIRONMENTAL JUSTICE INCLUSION TRAINING (OLT)"},{"$f":"Master!C196","v":"WSDOT_EJ1_OLT"},{"$f":"Master!D196","v":"OLT"},{"$f":"Master!E196","v":"Active"},{"$f":"Master!F196","v":0},{"$f":"Master!G196","v":"NA"},{"$f":"IF(Master!K196=\"\",\"B\",Master!K196)","v":1},{"$f":"IF(Master!V196=\"\",\"B\",Master!V196)","v":1},{"$f":"IF(Master!AG196=\"\",\"B\",Master!AG196)","v":1},{"$f":"IF(Master!AR196=\"\",\"B\",Master!AR196)","v":1},{"$f":"IF(Master!BC196=\"\",\"B\",Master!BC196)","v":1},{"$f":"IF(Master!BN196=\"\",\"B\",Master!BN196)","v":1}]
[{"$f":"Master!A197","v":"ENV"},{"$f":"Master!B197","v":"WSDOT ENV: ENVIRONMENTAL OVERVIEW - COMPLIANCE FOR CONSTRUCTION (OLT)"},{"$f":"Master!C197","v":"WSDOT_CR5_OLT"},{"$f":"Master!D197","v":"OLT"},{"$f":"Master!E197","v":"Active"},{"$f":"Master!F197","v":0},{"$f":"Master!G197","v":"NA"},{"$f":"IF(Master!K197=\"\",\"B\",Master!K197)","v":1},{"$f":"IF(Master!V197=\"\",\"B\",Master!V197)","v":1},{"$f":"IF(Master!AG197=\"\",\"B\",Master!AG197)","v":1},{"$f":"IF(Master!AR197=\"\",\"B\",Master!AR197)","v":1},{"$f":"IF(Master!BC197=\"\",\"B\",Master!BC197)","v":2},{"$f":"IF(Master!BN197=\"\",\"B\",Master!BN197)","v":2}]
[{"$f":"Master!A198","v":"ENV"},{"$f":"Master!B198","v":"WSDOT ENV: ESA (ENDANGERED SPECIES ACT) FOR NON-BIOLOGISTS (OLT)"},{"$f":"Master!C198","v":"WSDOT_EV9_OLT"},{"$f":"Master!D198","v":"OLT"},{"$f":"Master!E198","v":"Active"},{"$f":"Master!F198","v":0},{"$f":"Master!G198","v":"NA"},{"$f":"IF(Master!K198=\"\",\"B\",Master!K198)","v":"B"},{"$f":"IF(Master!V198=\"\",\"B\",Master!V198)","v":"B"},{"$f":"IF(Master!AG198=\"\",\"B\",Master!AG198)","v":"B"},{"$f":"IF(Master!AR198=\"\",\"B\",Master!AR198)","v":"B"},{"$f":"IF(Master!BC198=\"\",\"B\",Master!BC198)","v":"B"},{"$f":"IF(Master!BN198=\"\",\"B\",Master!BN198)","v":"B"}]
[{"$f":"Master!A199","v":"ENV"},{"$f":"Master!B199","v":"WSDOT ENV: NEPA/SEPA - MODULE 1 - OVERVIEW"},{"$f":"Master!C199","v":"WSDOT_DDV"},{"$f":"Master!D199","v":"ILT"},{"$f":"Master!E199","v":"Active"},{"$f":"Master!F199","v":0},{"$f":"Master!G199","v":"Once per year per Region or by request"},{"$f":"IF(Master!K199=\"\",\"B\",Master!K199)","v":"B"},{"$f":"IF(Master!V199=\"\",\"B\",Master!V199)","v":"B"},{"$f":"IF(Master!AG199=\"\",\"B\",Master!AG199)","v":"B"},{"$f":"IF(Master!AR199=\"\",\"B\",Master!AR199)","v":"B"},{"$f":"IF(Master!BC199=\"\",\"B\",Master!BC199)","v":2},{"$f":"IF(Master!BN199=\"\",\"B\",Master!BN199)","v":1}]
[{"$f":"Master!A200","v":"ENV"},{"$f":"Master!B200","v":"WSDOT ENV: NEPA/SEPA - MODULE 2 - DOCUMENTING CATEGORICAL EXCLUSIONS"},{"$f":"Master!C200","v":"WSDOT_ENV"},{"$f":"Master!D200","v":"ILT"},{"$f":"Master!E200","v":"Active"},{"$f":"Master!F200","v":0},{"$f":"Master!G200","v":"Once per year per Region or by request"},{"$f":"IF(Master!K200=\"\",\"B\",Master!K200)","v":"B"},{"$f":"IF(Master!V200=\"\",\"B\",Master!V200)","v":"B"},{"$f":"IF(Master!AG200=\"\",\"B\",Master!AG200)","v":"B"},{"$f":"IF(Master!AR200=\"\",\"B\",Master!AR200)","v":"B"},{"$f":"IF(Master!BC200=\"\",\"B\",Master!BC200)","v":2},{"$f":"IF(Master!BN200=\"\",\"B\",Master!BN200)","v":1}]
[{"$f":"Master!A201","v":"ENV"},{"$f":"Master!B201","v":"WSDOT ENV: NEPA/SEPA - MODULE 3 - DOCUMENTING EAs AND EISs"},{"$f":"Master!C201","v":"WSDOT_ENV_2"},{"$f":"Master!D201","v":"ILT"},{"$f":"Master!E201","v":"Active"},{"$f":"Master!F202","v":0},{"$f":"Master!G201","v":"Once per year per Region or by request"},{"$f":"IF(Master!K201=\"\",\"B\",Master!K201)","v":"B"},{"$f":"IF(Master!V201=\"\",\"B\",Master!V201)","v":"B"},{"$f":"IF(Master!AG201=\"\",\"B\",Master!AG201)","v":"B"},{"$f":"IF(Master!AR201=\"\",\"B\",Master!AR201)","v":"B"},{"$f":"IF(Master!BC201=\"\",\"B\",Master!BC201)","v":2},{"$f":"IF(Master!BN201=\"\",\"B\",Master!BN201)","v":1}]
[{"$f":"Master!A202","v":"ENV"},{"$f":"Master!B202","v":"WSDOT ENV: POISONOUS AND HARMFUL PLANTS IN WASHINGTON STATE"},{"$f":"Master!C202","v":"WSDOT_019_OLT"},{"$f":"Master!D202","v":"OLT"},{"$f":"Master!E202","v":"Active"},{"$f":"Master!F203","v":0},{"$f":"Master!G202","v":"NA"},{"$f":"IF(Master!K202=\"\",\"B\",Master!K202)","v":"B"},{"$f":"IF(Master!V202=\"\",\"B\",Master!V202)","v":"B"},{"$f":"IF(Master!AG202=\"\",\"B\",Master!AG202)","v":"B"},{"$f":"IF(Master!AR202=\"\",\"B\",Master!AR202)","v":"B"},{"$f":"IF(Master!BC202=\"\",\"B\",Master!BC202)","v":2},{"$f":"IF(Master!BN202=\"\",\"B\",Master!BN202)","v":2}]
[{"$f":"Master!A203","v":"Computer Aided Engineering"},null,null,null,null,null,null,{"$f":"IF(Master!K203=\"\",\"B\",Master!K203)","v":"B"},{"$f":"IF(Master!V203=\"\",\"B\",Master!V203)","v":"B"},{"$f":"IF(Master!AG203=\"\",\"B\",Master!AG203)","v":"B"},{"$f":"IF(Master!AR203=\"\",\"B\",Master!AR203)","v":"B"},{"$f":"IF(Master!BC203=\"\",\"B\",Master!BC203)","v":"B"},{"$f":"IF(Master!BN203=\"\",\"B\",Master!BN203)","v":"B"}]
[{"$f":"Master!A204","v":"CAE"},{"$f":"Master!B204","v":"WSDOT CAE: MICROSTATION - 101 ENTRY LEVEL"},{"$f":"Master!C204","v":"WSDOT_AX4"},{"$f":"Master!D204","v":"ILT"},{"$f":"Master!E204","v":"Active"},{"$f":"Master!F204","v":0},{"$f":"Master!H204","v":0},{"$f":"IF(Master!K204=\"\",\"B\",Master!K204)","v":1},{"$f":"IF(Master!V204=\"\",\"B\",Master!V204)","v":1},{"$f":"IF(Master!AG204=\"\",\"B\",Master!AG204)","v":1},{"$f":"IF(Master!AR204=\"\",\"B\",Master!AR204)","v":1},{"$f":"IF(Master!BC204=\"\",\"B\",Master!BC204)","v":1},{"$f":"IF(Master!BN204=\"\",\"B\",Master!BN204)","v":2}]
[{"$f":"Master!A205","v":"CAE"},{"$f":"Master!B205","v":"WSDOT CAE: MICROSTATION - 201 PRODUCTION LEVEL"},{"$f":"Master!C205","v":"WSDOT_AI6"},{"$f":"Master!D205","v":"ILT"},{"$f":"Master!E205","v":"Active"},{"$f":"Master!F205","v":0},{"$f":"Master!H205","v":0},{"$f":"IF(Master!K205=\"\",\"B\",Master!K205)","v":1},{"$f":"IF(Master!V205=\"\",\"B\",Master!V205)","v":1},{"$f":"IF(Master!AG205=\"\",\"B\",Master!AG205)","v":1},{"$f":"IF(Master!AR205=\"\",\"B\",Master!AR205)","v":2},{"$f":"IF(Master!BC205=\"\",\"B\",Master!BC205)","v":1},{"$f":"IF(Master!BN205=\"\",\"B\",Master!BN205)","v":2}]
[{"$f":"Master!A206","v":"CAE"},{"$f":"Master!B206","v":"WSDOT CAE: INROADS - 201 PRODUCTION LEVEL DESIGN"},{"$f":"Master!C206","v":"WSDOT_CRZ"},{"$f":"Master!D206","v":"ILT"},{"$f":"Master!E206","v":"Active"},{"$f":"Master!F206","v":0},{"$f":"Master!H206","v":0},{"$f":"IF(Master!K206=\"\",\"B\",Master!K206)","v":"B"},{"$f":"IF(Master!V206=\"\",\"B\",Master!V206)","v":"B"},{"$f":"IF(Master!AG206=\"\",\"B\",Master!AG206)","v":"B"},{"$f":"IF(Master!AR206=\"\",\"B\",Master!AR206)","v":"B"},{"$f":"IF(Master!BC206=\"\",\"B\",Master!BC206)","v":"B"},{"$f":"IF(Master!BN206=\"\",\"B\",Master!BN206)","v":"B"}]
[{"$f":"Master!A207","v":"CAE"},{"$f":"Master!B207","v":"WSDOT CAE: INROADS - 202 SURVEY DATA PROCESSING"},{"$f":"Master!C207","v":"WSDOT_CU1"},{"$f":"Master!D207","v":"ILT"},{"$f":"Master!E207","v":"Active"},{"$f":"Master!F207","v":0},{"$f":"Master!H207","v":0},{"$f":"IF(Master!K207=\"\",\"B\",Master!K207)","v":"B"},{"$f":"IF(Master!V207=\"\",\"B\",Master!V207)","v":"B"},{"$f":"IF(Master!AG207=\"\",\"B\",Master!AG207)","v":"B"},{"$f":"IF(Master!AR207=\"\",\"B\",Master!AR207)","v":"B"},{"$f":"IF(Master!BC207=\"\",\"B\",Master!BC207)","v":"B"},{"$f":"IF(Master!BN207=\"\",\"B\",Master!BN207)","v":"B"}]
[{"$f":"Master!A208","v":"CAE"},{"$f":"Master!B208","v":"WSDOT CAE: INROADS - 203 GEOMETRICS"},{"$f":"Master!C208","v":"WSDOT_DBF"},{"$f":"Master!D208","v":"ILT"},{"$f":"Master!E208","v":"Active"},{"$f":"Master!F208","v":0},{"$f":"Master!H208","v":0},{"$f":"IF(Master!K208=\"\",\"B\",Master!K208)","v":2},{"$f":"IF(Master!V208=\"\",\"B\",Master!V208)","v":2},{"$f":"IF(Master!AG208=\"\",\"B\",Master!AG208)","v":2},{"$f":"IF(Master!AR208=\"\",\"B\",Master!AR208)","v":2},{"$f":"IF(Master!BC208=\"\",\"B\",Master!BC208)","v":2},{"$f":"IF(Master!BN208=\"\",\"B\",Master!BN208)","v":2}]
[{"$f":"Master!A209","v":"CAE"},{"$f":"Master!B209","v":"WSDOT CAE: INROADS - 205 CONSTRUCTION PROCESSES"},{"$f":"Master!C209","v":"WSDOT_DH2"},{"$f":"Master!D209","v":"ILT"},{"$f":"Master!E209","v":"Active"},{"$f":"Master!F209","v":0},{"$f":"Master!H209","v":0},{"$f":"IF(Master!K209=\"\",\"B\",Master!K209)","v":"B"},{"$f":"IF(Master!V209=\"\",\"B\",Master!V209)","v":"B"},{"$f":"IF(Master!AG209=\"\",\"B\",Master!AG209)","v":"B"},{"$f":"IF(Master!AR209=\"\",\"B\",Master!AR209)","v":"B"},{"$f":"IF(Master!BC209=\"\",\"B\",Master!BC209)","v":"B"},{"$f":"IF(Master!BN209=\"\",\"B\",Master!BN209)","v":"B"}]
[{"$f":"Master!A210","v":"CAE"},{"$f":"Master!B210","v":"WSDOT CAE: INROADS - 251 INTERMEDIATE ROADWAY DESIGN"},{"$f":"Master!C210","v":"WSDOT_DDL"},{"$f":"Master!D210","v":"ILT"},{"$f":"Master!E210","v":"Active"},{"$f":"Master!F210","v":0},{"$f":"Master!H210","v":0},{"$f":"IF(Master!K210=\"\",\"B\",Master!K210)","v":"B"},{"$f":"IF(Master!V210=\"\",\"B\",Master!V210)","v":"B"},{"$f":"IF(Master!AG210=\"\",\"B\",Master!AG210)","v":"B"},{"$f":"IF(Master!AR210=\"\",\"B\",Master!AR210)","v":"B"},{"$f":"IF(Master!BC210=\"\",\"B\",Master!BC210)","v":"B"},{"$f":"IF(Master!BN210=\"\",\"B\",Master!BN210)","v":"B"}]
[{"$f":"Master!A211","v":"Survey"},null,null,null,null,null,null,{"$f":"IF(Master!K211=\"\",\"B\",Master!K211)","v":"B"},{"$f":"IF(Master!V211=\"\",\"B\",Master!V211)","v":"B"},{"$f":"IF(Master!AG211=\"\",\"B\",Master!AG211)","v":"B"},{"$f":"IF(Master!AR211=\"\",\"B\",Master!AR211)","v":"B"},{"$f":"IF(Master!BC211=\"\",\"B\",Master!BC211)","v":"B"},{"$f":"IF(Master!BN211=\"\",\"B\",Master!BN211)","v":"B"}]
[{"$f":"Master!A212","v":"SUR"},{"$f":"Master!B212","v":"WSDOT SUR: BASIC SURVEYING (SELF-STUDY)"},{"$f":"Master!C212","v":"WSDOT_APK"},{"$f":"Master!D212","v":"SS"},{"$f":"Master!E212","v":"Active"},{"$f":"Master!F212","v":0},{"$f":"Master!H212","v":0},{"$f":"IF(Master!K212=\"\",\"B\",Master!K212)","v":"R"},{"$f":"IF(Master!V212=\"\",\"B\",Master!V212)","v":"R"},{"$f":"IF(Master!AG212=\"\",\"B\",Master!AG212)","v":1},{"$f":"IF(Master!AR212=\"\",\"B\",Master!AR212)","v":1},{"$f":"IF(Master!BC212=\"\",\"B\",Master!BC212)","v":"B"},{"$f":"IF(Master!BN212=\"\",\"B\",Master!BN212)","v":"B"}]
[{"$f":"Master!A213","v":"SUR"},{"$f":"Master!B213","v":"WSDOT SUR: INTERMEDIATE SURVEYING"},{"$f":"Master!C213","v":"WSDOT A4U"},{"$f":"Master!D213","v":"ILT"},{"$f":"Master!E213","v":"Under Development"},{"$f":"Master!F213","v":"Q3 2019"},{"$f":"Master!H213","v":0},{"$f":"IF(Master!K213=\"\",\"B\",Master!K213)","v":"B"},{"$f":"IF(Master!V213=\"\",\"B\",Master!V213)","v":"B"},{"$f":"IF(Master!AG213=\"\",\"B\",Master!AG213)","v":"B"},{"$f":"IF(Master!AR213=\"\",\"B\",Master!AR213)","v":"B"},{"$f":"IF(Master!BC213=\"\",\"B\",Master!BC213)","v":"B"},{"$f":"IF(Master!BN213=\"\",\"B\",Master!BN213)","v":"B"}]
[{"$f":"Master!A214","v":"Traffic Operations Division"},null,null,null,null,null,null,{"$f":"IF(Master!K214=\"\",\"B\",Master!K214)","v":"B"},{"$f":"IF(Master!V214=\"\",\"B\",Master!V214)","v":"B"},{"$f":"IF(Master!AG214=\"\",\"B\",Master!AG214)","v":"B"},{"$f":"IF(Master!AR214=\"\",\"B\",Master!AR214)","v":"B"},{"$f":"IF(Master!BC214=\"\",\"B\",Master!BC214)","v":"B"},{"$f":"IF(Master!BN214=\"\",\"B\",Master!BN214)","v":"B"}]
[{"$f":"Master!A215","v":"TR"},{"$f":"Master!B215","v":"WSDOT TR: Work Zone Traffic Control Supervisor Re-Certification"},{"$f":"Master!C215","v":"WSDOT_BQD"},{"$f":"Master!D215","v":"OLT/ILT"},{"$f":"Master!E215","v":"Active"},{"$f":"Master!F215","v":0},{"$f":"Master!H215","v":0},{"$f":"IF(Master!K215=\"\",\"B\",Master!K215)","v":"B"},{"$f":"IF(Master!V215=\"\",\"B\",Master!V215)","v":"B"},{"$f":"IF(Master!AG215=\"\",\"B\",Master!AG215)","v":"B"},{"$f":"IF(Master!AR215=\"\",\"B\",Master!AR215)","v":"B"},{"$f":"IF(Master!BC215=\"\",\"B\",Master!BC215)","v":2},{"$f":"IF(Master!BN215=\"\",\"B\",Master!BN215)","v":2}]
[{"$f":"Master!A216","v":"TR"},{"$f":"Master!B216","v":"WSDOT TR: Work Zone Traffic Control Supervisor Certification"},{"$f":"Master!C216","v":"WSDOT_A42"},{"$f":"Master!D216","v":"OLT/ILT"},{"$f":"Master!E216","v":"Active"},{"$f":"Master!F216","v":0},{"$f":"Master!H216","v":0},{"$f":"IF(Master!K216=\"\",\"B\",Master!K216)","v":2},{"$f":"IF(Master!V216=\"\",\"B\",Master!V216)","v":2},{"$f":"IF(Master!AG216=\"\",\"B\",Master!AG216)","v":2},{"$f":"IF(Master!AR216=\"\",\"B\",Master!AR216)","v":2},{"$f":"IF(Master!BC216=\"\",\"B\",Master!BC216)","v":2},{"$f":"IF(Master!BN216=\"\",\"B\",Master!BN216)","v":2}]
[{"$f":"Master!A217","v":"TR"},{"$f":"Master!B217","v":"WSDOT TR: Work Zone Traffic Control Plan Design"},{"$f":"Master!C217","v":"WSDOT_DD7 (day one) and WSDOT_DBK (day two)"},{"$f":"Master!D217","v":"OLT/ILT"},{"$f":"Master!E217","v":"Active"},{"$f":"Master!F217","v":0},{"$f":"Master!H217","v":0},{"$f":"IF(Master!K217=\"\",\"B\",Master!K217)","v":1},{"$f":"IF(Master!V217=\"\",\"B\",Master!V217)","v":1},{"$f":"IF(Master!AG217=\"\",\"B\",Master!AG217)","v":1},{"$f":"IF(Master!AR217=\"\",\"B\",Master!AR217)","v":1},{"$f":"IF(Master!BC217=\"\",\"B\",Master!BC217)","v":1},{"$f":"IF(Master!BN217=\"\",\"B\",Master!BN217)","v":1}]
[{"$f":"Master!A218","v":"TR"},{"$f":"Master!B218","v":"**VISUM"},{"$f":"Master!C218","v":0},{"$f":"Master!D218","v":"OLT/ILT"},{"$f":"Master!E218","v":"Inactive"},{"$f":"Master!F218","v":"None"},{"$f":"Master!H218","v":"No technical lead within WSDOT available to teach"},{"$f":"IF(Master!K218=\"\",\"B\",Master!K218)","v":"B"},{"$f":"IF(Master!V218=\"\",\"B\",Master!V218)","v":"B"},{"$f":"IF(Master!AG218=\"\",\"B\",Master!AG218)","v":"B"},{"$f":"IF(Master!AR218=\"\",\"B\",Master!AR218)","v":"B"},{"$f":"IF(Master!BC218=\"\",\"B\",Master!BC218)","v":2},{"$f":"IF(Master!BN218=\"\",\"B\",Master!BN218)","v":2}]
[{"$f":"Master!A219","v":"TR"},{"$f":"Master!B219","v":"**VISSIM"},{"$f":"Master!C219","v":0},{"$f":"Master!D219","v":"OLT/ILT"},{"$f":"Master!E219","v":"Inactive"},{"$f":"Master!F219","v":"None"},{"$f":"Master!H219","v":"No technical lead within WSDOT available to teach"},{"$f":"IF(Master!K219=\"\",\"B\",Master!K219)","v":"B"},{"$f":"IF(Master!V219=\"\",\"B\",Master!V219)","v":"B"},{"$f":"IF(Master!AG219=\"\",\"B\",Master!AG219)","v":"B"},{"$f":"IF(Master!AR219=\"\",\"B\",Master!AR219)","v":"B"},{"$f":"IF(Master!BC219=\"\",\"B\",Master!BC219)","v":2},{"$f":"IF(Master!BN219=\"\",\"B\",Master!BN219)","v":2}]
[{"$f":"Master!A220","v":"TR"},{"$f":"Master!B220","v":"**SIDRA"},{"$f":"Master!C220","v":0},{"$f":"Master!D220","v":"OLT/ILT"},{"$f":"Master!E220","v":"Inactive"},{"$f":"Master!F220","v":"None"},{"$f":"Master!H220","v":"No technical lead within WSDOT available to teach"},{"$f":"IF(Master!K220=\"\",\"B\",Master!K220)","v":"B"},{"$f":"IF(Master!V220=\"\",\"B\",Master!V220)","v":"B"},{"$f":"IF(Master!AG220=\"\",\"B\",Master!AG220)","v":"B"},{"$f":"IF(Master!AR220=\"\",\"B\",Master!AR220)","v":"B"},{"$f":"IF(Master!BC220=\"\",\"B\",Master!BC220)","v":1},{"$f":"IF(Master!BN220=\"\",\"B\",Master!BN220)","v":1}]
[{"$f":"Master!A221","v":"TR"},{"$f":"Master!B221","v":"**SYNCHRO"},{"$f":"Master!C221","v":0},{"$f":"Master!D221","v":"OLT/ILT"},{"$f":"Master!E221","v":"Inactive"},{"$f":"Master!F221","v":"None"},{"$f":"Master!H221","v":"No technical lead within WSDOT available to teach"},{"$f":"IF(Master!K221=\"\",\"B\",Master!K221)","v":"B"},{"$f":"IF(Master!V221=\"\",\"B\",Master!V221)","v":"B"},{"$f":"IF(Master!AG221=\"\",\"B\",Master!AG221)","v":"B"},{"$f":"IF(Master!AR221=\"\",\"B\",Master!AR221)","v":"B"},{"$f":"IF(Master!BC221=\"\",\"B\",Master!BC221)","v":1},{"$f":"IF(Master!BN221=\"\",\"B\",Master!BN221)","v":1}]
[{"$f":"Master!A222","v":"TR"},{"$f":"Master!B222","v":"WSDOT PSHSM: Highway Safety Manual Level B"},{"$f":"Master!C222","v":"PSHSM_B01"},{"$f":"Master!D222","v":"OLT/ILT"},{"$f":"Master!E222","v":"Inactive"},{"$f":"Master!F222","v":"None"},{"$f":"Master!H222","v":"No technical lead within WSDOT available to teach"},{"$f":"IF(Master!K222=\"\",\"B\",Master!K222)","v":1},{"$f":"IF(Master!V222=\"\",\"B\",Master!V222)","v":1},{"$f":"IF(Master!AG222=\"\",\"B\",Master!AG222)","v":1},{"$f":"IF(Master!AR222=\"\",\"B\",Master!AR222)","v":1},{"$f":"IF(Master!BC222=\"\",\"B\",Master!BC222)","v":2},{"$f":"IF(Master!BN222=\"\",\"B\",Master!BN222)","v":2}]
[{"$f":"Master!A223","v":"TR"},{"$f":"Master!B223","v":"WSDOT PSHSM: Highway Safety Manual Level C1"},{"$f":"Master!C223","v":"PSHSM_C01"},{"$f":"Master!D223","v":"OLT/ILT"},{"$f":"Master!E223","v":"Inactive"},{"$f":"Master!F223","v":"None"},{"$f":"Master!H223","v":"No technical lead within WSDOT available to teach"},{"$f":"IF(Master!K223=\"\",\"B\",Master!K223)","v":2},{"$f":"IF(Master!V223=\"\",\"B\",Master!V223)","v":2},{"$f":"IF(Master!AG223=\"\",\"B\",Master!AG223)","v":2},{"$f":"IF(Master!AR223=\"\",\"B\",Master!AR223)","v":2},{"$f":"IF(Master!BC223=\"\",\"B\",Master!BC223)","v":1},{"$f":"IF(Master!BN223=\"\",\"B\",Master!BN223)","v":1}]
[{"$f":"Master!A224","v":"TR"},{"$f":"Master!B224","v":"WSDOT PSHSM: Highway Safety Manual Level C2"},{"$f":"Master!C224","v":"PSHSM C2"},{"$f":"Master!D224","v":"OLT/ILT"},{"$f":"Master!E224","v":"Inactive"},{"$f":"Master!F224","v":"None"},{"$f":"Master!H224","v":"No technical lead within WSDOT available to teach"},{"$f":"IF(Master!K224=\"\",\"B\",Master!K224)","v":"B"},{"$f":"IF(Master!V224=\"\",\"B\",Master!V224)","v":"B"},{"$f":"IF(Master!AG224=\"\",\"B\",Master!AG224)","v":"B"},{"$f":"IF(Master!AR224=\"\",\"B\",Master!AR224)","v":"B"},{"$f":"IF(Master!BC224=\"\",\"B\",Master!BC224)","v":1},{"$f":"IF(Master!BN224=\"\",\"B\",Master!BN224)","v":1}]
[{"$f":"Master!A225","v":"TR"},{"$f":"Master!B225","v":"WSDOT PSHSM: Highway Safety Manual Level C3"},{"$f":"Master!C225","v":"PSHSM C3"},{"$f":"Master!D225","v":"OLT/ILT"},{"$f":"Master!E225","v":"Inactive"},{"$f":"Master!F225","v":"None"},{"$f":"Master!H225","v":"No technical lead within WSDOT available to teach"},{"$f":"IF(Master!K225=\"\",\"B\",Master!K225)","v":"B"},{"$f":"IF(Master!V225=\"\",\"B\",Master!V225)","v":"B"},{"$f":"IF(Master!AG225=\"\",\"B\",Master!AG225)","v":"B"},{"$f":"IF(Master!AR225=\"\",\"B\",Master!AR225)","v":"B"},{"$f":"IF(Master!BC225=\"\",\"B\",Master!BC225)","v":2},{"$f":"IF(Master!BN225=\"\",\"B\",Master!BN225)","v":2}]
[{"$f":"Master!A226","v":"TR"},{"$f":"Master!B226","v":"WSDOT PSHSM: Highway Safety Manual Level D1"},{"$f":"Master!C226","v":"PSHSM D1"},{"$f":"Master!D226","v":"OLT/ILT"},{"$f":"Master!E226","v":"Inactive"},{"$f":"Master!F226","v":"None"},{"$f":"Master!H226","v":"No technical lead within WSDOT available to teach"},{"$f":"IF(Master!K226=\"\",\"B\",Master!K226)","v":"B"},{"$f":"IF(Master!V226=\"\",\"B\",Master!V226)","v":"B"},{"$f":"IF(Master!AG226=\"\",\"B\",Master!AG226)","v":"B"},{"$f":"IF(Master!AR226=\"\",\"B\",Master!AR226)","v":"B"},{"$f":"IF(Master!BC226=\"\",\"B\",Master!BC226)","v":2},{"$f":"IF(Master!BN226=\"\",\"B\",Master!BN226)","v":2}]
[{"$f":"Master!A227","v":"TR"},{"$f":"Master!B227","v":"**ILLUMINATION DESIGN FOR TRANSPORTATION APPLICATIONS"},{"$f":"Master!C227","v":0},{"$f":"Master!D227","v":"OLT/ILT"},{"$f":"Master!E227","v":"Under Development"},{"$f":"Master!F227","v":"Q2 2018"},{"$f":"Master!H227","v":0},{"$f":"IF(Master!K227=\"\",\"B\",Master!K227)","v":2},{"$f":"IF(Master!V227=\"\",\"B\",Master!V227)","v":2},{"$f":"IF(Master!AG227=\"\",\"B\",Master!AG227)","v":2},{"$f":"IF(Master!AR227=\"\",\"B\",Master!AR227)","v":2},{"$f":"IF(Master!BC227=\"\",\"B\",Master!BC227)","v":2},{"$f":"IF(Master!BN227=\"\",\"B\",Master!BN227)","v":2}]
[{"$f":"Master!A228","v":"TR"},{"$f":"Master!B228","v":"WSDOT TR: Power Supply Design for Transportation Applications"},{"$f":"Master!C228","v":"WSDOT_BZA"},{"$f":"Master!D228","v":"OLT/ILT"},{"$f":"Master!E228","v":"Active"},{"$f":"Master!F228","v":0},{"$f":"Master!H228","v":0},{"$f":"IF(Master!K228=\"\",\"B\",Master!K228)","v":2},{"$f":"IF(Master!V228=\"\",\"B\",Master!V228)","v":2},{"$f":"IF(Master!AG228=\"\",\"B\",Master!AG228)","v":2},{"$f":"IF(Master!AR228=\"\",\"B\",Master!AR228)","v":2},{"$f":"IF(Master!BC228=\"\",\"B\",Master!BC228)","v":2},{"$f":"IF(Master!BN228=\"\",\"B\",Master!BN228)","v":2}]
[{"$f":"Master!A229","v":"TR"},{"$f":"Master!B229","v":"**TRAFFIC SIGNAL LAYOUT AND CONDUCTOR TERMINATION"},{"$f":"Master!C229","v":0},{"$f":"Master!D229","v":"OLT/ILT"},{"$f":"Master!E229","v":"Inactive"},{"$f":"Master!F229","v":0},{"$f":"Master!H229","v":"No technical lead within WSDOT available to teach"},{"$f":"IF(Master!K229=\"\",\"B\",Master!K229)","v":2},{"$f":"IF(Master!V229=\"\",\"B\",Master!V229)","v":2},{"$f":"IF(Master!AG229=\"\",\"B\",Master!AG229)","v":2},{"$f":"IF(Master!AR229=\"\",\"B\",Master!AR229)","v":2},{"$f":"IF(Master!BC229=\"\",\"B\",Master!BC229)","v":2},{"$f":"IF(Master!BN229=\"\",\"B\",Master!BN229)","v":2}]
[{"$f":"Master!A230","v":"TR"},{"$f":"Master!B230","v":"**SIGN DESIGN"},{"$f":"Master!C230","v":0},{"$f":"Master!D230","v":"OLT/ILT"},{"$f":"Master!E230","v":"Inactive"},{"$f":"Master!F230","v":"None"},{"$f":"Master!H230","v":"No technical lead within WSDOT available to teach"},{"$f":"IF(Master!K230=\"\",\"B\",Master!K230)","v":1},{"$f":"IF(Master!V230=\"\",\"B\",Master!V230)","v":1},{"$f":"IF(Master!AG230=\"\",\"B\",Master!AG230)","v":1},{"$f":"IF(Master!AR230=\"\",\"B\",Master!AR230)","v":1},{"$f":"IF(Master!BC230=\"\",\"B\",Master!BC230)","v":1},{"$f":"IF(Master!BN230=\"\",\"B\",Master!BN230)","v":1}]
[{"$f":"Master!A231","v":"TR"},{"$f":"Master!B231","v":"WSDOT NHI: TR-Traffic Signal Design and Operations"},{"$f":"Master!C231","v":"WSDOT_TSD"},{"$f":"Master!D231","v":"OLT/ILT"},{"$f":"Master!E231","v":"Inactive"},{"$f":"Master!F231","v":"None"},{"$f":"Master!H231","v":"No technical lead within WSDOT available to teach"},{"$f":"IF(Master!K231=\"\",\"B\",Master!K231)","v":1},{"$f":"IF(Master!V231=\"\",\"B\",Master!V231)","v":1},{"$f":"IF(Master!AG231=\"\",\"B\",Master!AG231)","v":1},{"$f":"IF(Master!AR231=\"\",\"B\",Master!AR231)","v":1},{"$f":"IF(Master!BC231=\"\",\"B\",Master!BC231)","v":2},{"$f":"IF(Master!BN231=\"\",\"B\",Master!BN231)","v":2}]
[{"$f":"Master!A232","v":"TR"},{"$f":"Master!B232","v":"WSDOT NHI: TR-Traffic Signal Timing Concepts"},{"$f":"Master!C232","v":"WSDOT_STC"},{"$f":"Master!D232","v":"OLT/ILT"},{"$f":"Master!E232","v":"Inactive"},{"$f":"Master!F232","v":"None"},{"$f":"Master!H232","v":"No technical lead within WSDOT available to teach"},{"$f":"IF(Master!K232=\"\",\"B\",Master!K232)","v":2},{"$f":"IF(Master!V232=\"\",\"B\",Master!V232)","v":2},{"$f":"IF(Master!AG232=\"\",\"B\",Master!AG232)","v":2},{"$f":"IF(Master!AR232=\"\",\"B\",Master!AR232)","v":2},{"$f":"IF(Master!BC232=\"\",\"B\",Master!BC232)","v":2},{"$f":"IF(Master!BN232=\"\",\"B\",Master!BN232)","v":2}]
[{"$f":"Master!A233","v":"TR"},{"$f":"Master!B233","v":"**SYSTEMS ENGINEERING FOR SIGNAL SYSTEMS"},{"$f":"Master!C233","v":0},{"$f":"Master!D233","v":"OLT/ILT"},{"$f":"Master!E233","v":"Inactive"},{"$f":"Master!F233","v":"None"},{"$f":"Master!H233","v":"No technical lead within WSDOT available to teach"},{"$f":"IF(Master!K233=\"\",\"B\",Master!K233)","v":2},{"$f":"IF(Master!V233=\"\",\"B\",Master!V233)","v":2},{"$f":"IF(Master!AG233=\"\",\"B\",Master!AG233)","v":2},{"$f":"IF(Master!AR233=\"\",\"B\",Master!AR233)","v":2},{"$f":"IF(Master!BC233=\"\",\"B\",Master!BC233)","v":2},{"$f":"IF(Master!BN233=\"\",\"B\",Master!BN233)","v":2}]
[{"$f":"Master!A234","v":"TR"},{"$f":"Master!B234","v":"**TRAFFIC SIGNAL MANAGEMENT"},{"$f":"Master!C234","v":0},{"$f":"Master!D234","v":"OLT/ILT"},{"$f":"Master!E234","v":"Inactive"},{"$f":"Master!F234","v":"None"},{"$f":"Master!H234","v":"No technical lead within WSDOT available to teach"},{"$f":"IF(Master!K234=\"\",\"B\",Master!K234)","v":2},{"$f":"IF(Master!V234=\"\",\"B\",Master!V234)","v":2},{"$f":"IF(Master!AG234=\"\",\"B\",Master!AG234)","v":2},{"$f":"IF(Master!AR234=\"\",\"B\",Master!AR234)","v":2},{"$f":"IF(Master!BC234=\"\",\"B\",Master!BC234)","v":2},{"$f":"IF(Master!BN234=\"\",\"B\",Master!BN234)","v":2}]
[{"$f":"Master!A235","v":"TR"},{"$f":"Master!B235","v":"**ITS PROCUREMENT"},{"$f":"Master!C235","v":0},{"$f":"Master!D235","v":"OLT/ILT"},{"$f":"Master!E235","v":"Inactive"},{"$f":"Master!F235","v":"None"},{"$f":"Master!H235","v":"No technical lead within WSDOT available to teach"},{"$f":"IF(Master!K235=\"\",\"B\",Master!K235)","v":"B"},{"$f":"IF(Master!V235=\"\",\"B\",Master!V235)","v":"B"},{"$f":"IF(Master!AG235=\"\",\"B\",Master!AG235)","v":"B"},{"$f":"IF(Master!AR235=\"\",\"B\",Master!AR235)","v":"B"},{"$f":"IF(Master!BC235=\"\",\"B\",Master!BC235)","v":2},{"$f":"IF(Master!BN235=\"\",\"B\",Master!BN235)","v":2}]
[{"$f":"Master!A236","v":"TR"},{"$f":"Master!B236","v":"**BASICS OF TRANSPORTATION PLANNING"},{"$f":"Master!C236","v":0},{"$f":"Master!D236","v":"OLT/ILT"},{"$f":"Master!E236","v":"Inactive"},{"$f":"Master!F236","v":"None"},{"$f":"Master!H236","v":"No technical lead within WSDOT available to teach"},{"$f":"IF(Master!K236=\"\",\"B\",Master!K236)","v":2},{"$f":"IF(Master!V236=\"\",\"B\",Master!V236)","v":2},{"$f":"IF(Master!AG236=\"\",\"B\",Master!AG236)","v":2},{"$f":"IF(Master!AR236=\"\",\"B\",Master!AR236)","v":2},{"$f":"IF(Master!BC236=\"\",\"B\",Master!BC236)","v":1},{"$f":"IF(Master!BN236=\"\",\"B\",Master!BN236)","v":1}]
[{"$f":"Master!A237","v":"TR"},{"$f":"Master!B237","v":"**ADA/APS DESIGN"},{"$f":"Master!C237","v":0},{"$f":"Master!D237","v":"OLT/ILT"},{"$f":"Master!E237","v":"Inactive"},{"$f":"Master!F237","v":"None"},{"$f":"Master!H237","v":"No technical lead within WSDOT available to teach"},{"$f":"IF(Master!K237=\"\",\"B\",Master!K237)","v":2},{"$f":"IF(Master!V237=\"\",\"B\",Master!V237)","v":2},{"$f":"IF(Master!AG237=\"\",\"B\",Master!AG237)","v":2},{"$f":"IF(Master!AR237=\"\",\"B\",Master!AR237)","v":2},{"$f":"IF(Master!BC237=\"\",\"B\",Master!BC237)","v":2},{"$f":"IF(Master!BN237=\"\",\"B\",Master!BN237)","v":2}]
[{"$f":"Master!A238","v":"TR"},{"$f":"Master!B238","v":"**SIGNAL WARRANT ANALYSIS"},{"$f":"Master!C238","v":0},{"$f":"Master!D238","v":"OLT/ILT"},{"$f":"Master!E238","v":"Inactive"},{"$f":"Master!F238","v":"None"},{"$f":"Master!H238","v":"No technical lead within WSDOT available to teach"},{"$f":"IF(Master!K238=\"\",\"B\",Master!K238)","v":2},{"$f":"IF(Master!V238=\"\",\"B\",Master!V238)","v":2},{"$f":"IF(Master!AG238=\"\",\"B\",Master!AG238)","v":2},{"$f":"IF(Master!AR238=\"\",\"B\",Master!AR238)","v":2},{"$f":"IF(Master!BC238=\"\",\"B\",Master!BC238)","v":2},{"$f":"IF(Master!BN238=\"\",\"B\",Master!BN238)","v":1}]
[{"$f":"Master!A239","v":"TR"},{"$f":"Master!B239","v":"WSDOT TR: Introduction to ITS Design"},{"$f":"Master!C239","v":"WSDOT_DA6"},{"$f":"Master!D239","v":"OLT/ILT"},{"$f":"Master!E239","v":"Inactive"},{"$f":"Master!F239","v":"None"},{"$f":"Master!H239","v":"No technical lead within WSDOT available to teach"},{"$f":"IF(Master!K239=\"\",\"B\",Master!K239)","v":2},{"$f":"IF(Master!V239=\"\",\"B\",Master!V239)","v":2},{"$f":"IF(Master!AG239=\"\",\"B\",Master!AG239)","v":2},{"$f":"IF(Master!AR239=\"\",\"B\",Master!AR239)","v":2},{"$f":"IF(Master!BC239=\"\",\"B\",Master!BC239)","v":2},{"$f":"IF(Master!BN239=\"\",\"B\",Master!BN239)","v":2}]
[{"$f":"Master!A240","v":"TR"},{"$f":"Master!B240","v":"WSDOT TR: Intermediate/Advanced ITS Design"},{"$f":"Master!C240","v":"WSDOT_DA7"},{"$f":"Master!D240","v":"OLT/ILT"},{"$f":"Master!E240","v":"Inactive"},{"$f":"Master!F240","v":"None"},{"$f":"Master!H240","v":"No technical lead within WSDOT available to teach"},{"$f":"IF(Master!K240=\"\",\"B\",Master!K240)","v":"B"},{"$f":"IF(Master!V240=\"\",\"B\",Master!V240)","v":"B"},{"$f":"IF(Master!AG240=\"\",\"B\",Master!AG240)","v":"B"},{"$f":"IF(Master!AR240=\"\",\"B\",Master!AR240)","v":"B"},{"$f":"IF(Master!BC240=\"\",\"B\",Master!BC240)","v":2},{"$f":"IF(Master!BN240=\"\",\"B\",Master!BN240)","v":2}]
[{"$f":"Master!A241","v":"TR"},{"$f":"Master!B241","v":"**BASIC HIGHWAY CAPACITY FOR ENGINEERS AND PLANNERS"},{"$f":"Master!C241","v":0},{"$f":"Master!D241","v":"OLT/ILT"},{"$f":"Master!E241","v":"Inactive"},{"$f":"Master!F241","v":"None"},{"$f":"Master!H241","v":"No technical lead within WSDOT available to teach"},{"$f":"IF(Master!K241=\"\",\"B\",Master!K241)","v":2},{"$f":"IF(Master!V241=\"\",\"B\",Master!V241)","v":2},{"$f":"IF(Master!AG241=\"\",\"B\",Master!AG241)","v":2},{"$f":"IF(Master!AR241=\"\",\"B\",Master!AR241)","v":2},{"$f":"IF(Master!BC241=\"\",\"B\",Master!BC241)","v":1},{"$f":"IF(Master!BN241=\"\",\"B\",Master!BN241)","v":1}]
[{"$f":"Master!A242","v":"TR"},{"$f":"Master!B242","v":"WSDOT UW: Gen-Uniform Traffic Control Devices"},{"$f":"Master!C242","v":"WSDOT_BML"},{"$f":"Master!D242","v":"OLT/ILT"},{"$f":"Master!E242","v":"Inactive"},{"$f":"Master!F242","v":"None"},{"$f":"Master!H242","v":"No technical lead within WSDOT available to teach"},{"$f":"IF(Master!K242=\"\",\"B\",Master!K242)","v":1},{"$f":"IF(Master!V242=\"\",\"B\",Master!V242)","v":1},{"$f":"IF(Master!AG242=\"\",\"B\",Master!AG242)","v":1},{"$f":"IF(Master!AR242=\"\",\"B\",Master!AR242)","v":1},{"$f":"IF(Master!BC242=\"\",\"B\",Master!BC242)","v":1},{"$f":"IF(Master!BN242=\"\",\"B\",Master!BN242)","v":1}]
[{"$f":"Master!A243","v":"TR"},{"$f":"Master!B243","v":"WSDOT UW: TR-Advanced Highway Capacity Analysis"},{"$f":"Master!C243","v":"WSDOT_A3C"},{"$f":"Master!D243","v":"OLT/ILT"},{"$f":"Master!E243","v":"Inactive"},{"$f":"Master!F243","v":"None"},{"$f":"Master!H243","v":"No technical lead within WSDOT available to teach"},{"$f":"IF(Master!K243=\"\",\"B\",Master!K243)","v":2},{"$f":"IF(Master!V243=\"\",\"B\",Master!V243)","v":2},{"$f":"IF(Master!AG243=\"\",\"B\",Master!AG243)","v":2},{"$f":"IF(Master!AR243=\"\",\"B\",Master!AR243)","v":2},{"$f":"IF(Master!BC243=\"\",\"B\",Master!BC243)","v":2},{"$f":"IF(Master!BN243=\"\",\"B\",Master!BN243)","v":1}]
[{"$f":"Master!A244","v":"TR"},{"$f":"Master!B244","v":"WSDOT UW: TR-Fundamentals of Traffic Engineering"},{"$f":"Master!C244","v":"WSDOT_BS3"},{"$f":"Master!D244","v":"OLT/ILT"},{"$f":"Master!E244","v":"Inactive"},{"$f":"Master!F244","v":"None"},{"$f":"Master!H244","v":"No technical lead within WSDOT available to teach"},{"$f":"IF(Master!K244=\"\",\"B\",Master!K244)","v":1},{"$f":"IF(Master!V244=\"\",\"B\",Master!V244)","v":1},{"$f":"IF(Master!AG244=\"\",\"B\",Master!AG244)","v":1},{"$f":"IF(Master!AR244=\"\",\"B\",Master!AR244)","v":1},{"$f":"IF(Master!BC244=\"\",\"B\",Master!BC244)","v":1},{"$f":"IF(Master!BN244=\"\",\"B\",Master!BN244)","v":1}]
[{"$f":"Master!A245","v":"TR"},{"$f":"Master!B245","v":"WSDOT UW:TR-Traffic Engineering Operations"},{"$f":"Master!C245","v":"WSDOT_BS4"},{"$f":"Master!D245","v":"OLT/ILT"},{"$f":"Master!E245","v":"Inactive"},{"$f":"Master!F245","v":"None"},{"$f":"Master!H245","v":"No technical lead within WSDOT available to teach"},{"$f":"IF(Master!K245=\"\",\"B\",Master!K245)","v":1},{"$f":"IF(Master!V245=\"\",\"B\",Master!V245)","v":1},{"$f":"IF(Master!AG245=\"\",\"B\",Master!AG245)","v":1},{"$f":"IF(Master!AR245=\"\",\"B\",Master!AR245)","v":1},{"$f":"IF(Master!BC245=\"\",\"B\",Master!BC245)","v":1},{"$f":"IF(Master!BN245=\"\",\"B\",Master!BN245)","v":1}]
[{"$f":"Master!A246","v":0},{"$f":"Master!B246","v":"** no LMS course"},{"$f":"Master!C246","v":0},{"$f":"Master!D246","v":0},{"$f":"Master!E246","v":0},{"$f":"Master!F246","v":0},{"$f":"Master!H246","v":0}]
[{"$f":"Master!A247","v":0},{"$f":"Master!B247","v":"*** SS=Self Study, OLT=Online Training, ILT=Instructor Led Training"},{"$f":"Master!C247","v":0},{"$f":"Master!D247","v":0},{"$f":"Master!E247","v":0},{"$f":"Master!F247","v":0},{"$f":"Master!H247","v":0}]
[{"$f":"Master!A248","v":"ES"},{"$f":"Master!B248","v":"= Course offered by Department of Enterprise Services (DES). Contact LMS Helpdesk at 360-705-7060."},{"$f":"Master!C248","v":0},{"$f":"Master!D248","v":0},{"$f":"Master!E248","v":0},{"$f":"Master!F248","v":0},{"$f":"Master!H248","v":0}]
[{"$f":"Master!A249","v":"HR"},{"$f":"Master!B249","v":"= Course registration controlled by Human Resources. Contact LMS Helpdesk at 360-705-7060 to Register."},{"$f":"Master!C249","v":0},{"$f":"Master!D249","v":0},{"$f":"Master!E249","v":0},{"$f":"Master!F249","v":0},{"$f":"Master!H249","v":0}]
[{"$f":"Master!A250","v":0},{"$f":"Master!B250","v":0},{"$f":"Master!C250","v":0},{"$f":"Master!D250","v":0},{"$f":"Master!E250","v":0},{"$f":"Master!F250","v":0},{"$f":"Master!H250","v":0}]
[{"$f":"Master!A251","v":0},{"$f":"Master!B251","v":0},{"$f":"Master!C251","v":0},{"$f":"Master!D251","v":0},{"$f":"Master!E251","v":0},{"$f":"Master!F251","v":0},{"$f":"Master!H251","v":0}]
[{"$f":"Master!A252","v":0},{"$f":"Master!B252","v":0},{"$f":"Master!C252","v":0},{"$f":"Master!D252","v":0},{"$f":"Master!E252","v":0},{"$f":"Master!F252","v":0},{"$f":"Master!H252","v":0}]
[{"$f":"Master!A253","v":0},{"$f":"Master!B253","v":0},{"$f":"Master!C253","v":0},{"$f":"Master!D253","v":0},{"$f":"Master!E253","v":0},{"$f":"Master!F253","v":0},{"$f":"Master!H253","v":0}]
[{"$f":"Master!A254","v":0},{"$f":"Master!B254","v":0},{"$f":"Master!C254","v":0},{"$f":"Master!D254","v":0},{"$f":"Master!E254","v":0},{"$f":"Master!F254","v":0},{"$f":"Master!H254","v":0}]
[{"$f":"Master!A255","v":0},{"$f":"Master!B255","v":0},{"$f":"Master!C255","v":0},{"$f":"Master!D255","v":0},{"$f":"Master!E255","v":0},{"$f":"Master!F255","v":0},{"$f":"Master!H255","v":0}]
[{"$f":"Master!A256","v":0},{"$f":"Master!B256","v":0},{"$f":"Master!C256","v":0},{"$f":"Master!D256","v":0},{"$f":"Master!E256","v":0},{"$f":"Master!F256","v":0},{"$f":"Master!H256","v":0}]
[{"$f":"Master!A257","v":0},{"$f":"Master!B257","v":0},{"$f":"Master!C257","v":0},{"$f":"Master!D257","v":0},{"$f":"Master!E257","v":0},{"$f":"Master!F257","v":0},{"$f":"Master!H257","v":0}]
[{"$f":"Master!A258","v":0},{"$f":"Master!B258","v":0},{"$f":"Master!C258","v":0},{"$f":"Master!D258","v":0},{"$f":"Master!E258","v":0},{"$f":"Master!F258","v":0},{"$f":"Master!H258","v":0}]
[{"$f":"Master!A259","v":0},{"$f":"Master!B259","v":0},{"$f":"Master!C259","v":0},{"$f":"Master!D259","v":0},{"$f":"Master!E259","v":0},{"$f":"Master!F259","v":0},{"$f":"Master!H259","v":0}]
[{"$f":"Master!A260","v":0},{"$f":"Master!B260","v":0},{"$f":"Master!C260","v":0},{"$f":"Master!D260","v":0},{"$f":"Master!E260","v":0},{"$f":"Master!F260","v":0},{"$f":"Master!H260","v":0}]
[{"$f":"Master!A261","v":0},{"$f":"Master!B261","v":0},{"$f":"Master!C261","v":0},{"$f":"Master!D261","v":0},{"$f":"Master!E261","v":0},{"$f":"Master!F261","v":0},{"$f":"Master!H261","v":0}]
[{"$f":"Master!A262","v":0},{"$f":"Master!B262","v":0},{"$f":"Master!C262","v":0},{"$f":"Master!D262","v":0},{"$f":"Master!E262","v":0},{"$f":"Master!F262","v":0},{"$f":"Master!H262","v":0}]
[{"$f":"Master!A263","v":0},{"$f":"Master!B263","v":0},{"$f":"Master!C263","v":0},{"$f":"Master!D263","v":0},{"$f":"Master!E263","v":0},{"$f":"Master!F263","v":0},{"$f":"Master!H263","v":0}]
[{"$f":"Master!A264","v":0},{"$f":"Master!B264","v":0},{"$f":"Master!C264","v":0},{"$f":"Master!D264","v":0},{"$f":"Master!E264","v":0},{"$f":"Master!F264","v":0},{"$f":"Master!H264","v":0}]
[{"$f":"Master!A265","v":0},{"$f":"Master!B265","v":0},{"$f":"Master!C265","v":0},{"$f":"Master!D265","v":0},{"$f":"Master!E265","v":0},{"$f":"Master!F265","v":0},{"$f":"Master!H265","v":0}]
[{"$f":"Master!A266","v":0},{"$f":"Master!B266","v":0},{"$f":"Master!C266","v":0},{"$f":"Master!D266","v":0},{"$f":"Master!E266","v":0},{"$f":"Master!F266","v":0},{"$f":"Master!H266","v":0}]
[{"$f":"Master!A267","v":0},{"$f":"Master!B267","v":0},{"$f":"Master!C267","v":0},{"$f":"Master!D267","v":0},{"$f":"Master!E267","v":0},{"$f":"Master!F267","v":0},{"$f":"Master!H267","v":0}]
[{"$f":"Master!A268","v":0},{"$f":"Master!B268","v":0},{"$f":"Master!C268","v":0},{"$f":"Master!D268","v":0},{"$f":"Master!E268","v":0},{"$f":"Master!F268","v":0},{"$f":"Master!H268","v":0}]
[{"$f":"Master!A269","v":0},{"$f":"Master!B269","v":0},{"$f":"Master!C269","v":0},{"$f":"Master!D269","v":0},{"$f":"Master!E269","v":0},{"$f":"Master!F269","v":0},{"$f":"Master!H269","v":0}]
[{"$f":"Master!A270","v":0},{"$f":"Master!B270","v":0},{"$f":"Master!C270","v":0},{"$f":"Master!D270","v":0},{"$f":"Master!E270","v":0},{"$f":"Master!F270","v":0},{"$f":"Master!H270","v":0}]
[{"$f":"Master!A271","v":0},{"$f":"Master!B271","v":0},{"$f":"Master!C271","v":0},{"$f":"Master!D271","v":0},{"$f":"Master!E271","v":0},{"$f":"Master!F271","v":0},{"$f":"Master!H271","v":0}]
[{"$f":"Master!A272","v":0},{"$f":"Master!B272","v":0},{"$f":"Master!C272","v":0},{"$f":"Master!D272","v":0},{"$f":"Master!E272","v":0},{"$f":"Master!F272","v":0},{"$f":"Master!H272","v":0}]
[{"$f":"Master!A273","v":0},{"$f":"Master!B273","v":0},{"$f":"Master!C273","v":0},{"$f":"Master!D273","v":0},{"$f":"Master!E273","v":0},{"$f":"Master!F273","v":0},{"$f":"Master!H273","v":0}]
[{"$f":"Master!A274","v":0},{"$f":"Master!B274","v":0},{"$f":"Master!C274","v":0},{"$f":"Master!D274","v":0},{"$f":"Master!E274","v":0},{"$f":"Master!F274","v":0},{"$f":"Master!H274","v":0}]
[{"$f":"Master!A275","v":0},{"$f":"Master!B275","v":0},{"$f":"Master!C275","v":0},{"$f":"Master!D275","v":0},{"$f":"Master!E275","v":0},{"$f":"Master!F275","v":0},{"$f":"Master!H275","v":0}]
[{"$f":"Master!A276","v":0},{"$f":"Master!B276","v":0},{"$f":"Master!C276","v":0},{"$f":"Master!D276","v":0},{"$f":"Master!E276","v":0},{"$f":"Master!F276","v":0},{"$f":"Master!H276","v":0}]
[{"$f":"Master!A277","v":0},{"$f":"Master!B277","v":0},{"$f":"Master!C277","v":0},{"$f":"Master!D277","v":0},{"$f":"Master!E277","v":0},{"$f":"Master!F277","v":0},{"$f":"Master!H277","v":0}]
[{"$f":"Master!A278","v":0},{"$f":"Master!B278","v":0},{"$f":"Master!C278","v":0},{"$f":"Master!D278","v":0},{"$f":"Master!E278","v":0},{"$f":"Master!F278","v":0},{"$f":"Master!H278","v":0}]
[{"$f":"Master!A279","v":0},{"$f":"Master!B279","v":0},{"$f":"Master!C279","v":0},{"$f":"Master!D279","v":0},{"$f":"Master!E279","v":0},{"$f":"Master!F279","v":0},{"$f":"Master!H279","v":0}]
[{"$f":"Master!A280","v":0},{"$f":"Master!B280","v":0},{"$f":"Master!C280","v":0},{"$f":"Master!D280","v":0},{"$f":"Master!E280","v":0},{"$f":"Master!F280","v":0},{"$f":"Master!H280","v":0}]
[{"$f":"Master!A281","v":0},{"$f":"Master!B281","v":0},{"$f":"Master!C281","v":0},{"$f":"Master!D281","v":0},{"$f":"Master!E281","v":0},{"$f":"Master!F281","v":0},{"$f":"Master!H281","v":0}]
[{"$f":"Master!A282","v":0},{"$f":"Master!B282","v":0},{"$f":"Master!C282","v":0},{"$f":"Master!D282","v":0},{"$f":"Master!E282","v":0},{"$f":"Master!F282","v":0},{"$f":"Master!H282","v":0}]
[{"$f":"Master!A283","v":0},{"$f":"Master!B283","v":0},{"$f":"Master!C283","v":0},{"$f":"Master!D283","v":0},{"$f":"Master!E283","v":0},{"$f":"Master!F283","v":0},{"$f":"Master!H283","v":0}]

{"sheet":"SUR","index":13,"n_rows":283,"n_cols":13,"rows_kept":283,"cut":false,"hidden":false,"merged":[[191,0,191,6],[202,0,202,6],[210,0,210,6],[213,0,213,6],[85,0,85,6],[88,0,88,6],[95,0,95,6],[151,0,151,6],[152,0,152,6],[185,0,185,6],[83,0,83,6],[2,0,2,6],[13,0,13,6],[48,0,48,6],[49,0,49,6],[52,0,52,6],[55,0,55,6],[58,0,58,6],[60,0,60,6],[63,0,63,6],[70,0,70,6],[76,0,76,6]]}
[null,null,null,7,6]
["Responsible Division","LMS COURSE NAME"," LMS COURSE CODE","Self Study (SS), \nOnline (OLT), or \nInstructor Led (ILT)","TRAINING\nSTATUS","If training status is \"inactive\", when will the course be developed?","NOTES","TT1","TT2","TT3","TE1","TE2","TE3"]
["Mandatory",null,null,null,null,null,null,{"$f":"IF(Master!L3=\"\",\"B\",Master!L3)","v":"B"},{"$f":"IF(Master!W3=\"\",\"B\",Master!W3)","v":"B"},{"$f":"IF(Master!AH3=\"\",\"B\",Master!AH3)","v":"B"},{"$f":"IF(Master!AS3=\"\",\"B\",Master!AS3)","v":"B"},{"$f":"IF(Master!BD3=\"\",\"B\",Master!BD3)","v":"B"},{"$f":"IF(Master!BO3=\"\",\"B\",Master!BO3)","v":"B"}]
[{"$f":"Master!A4","v":"HR"},{"$f":"Master!B4","v":"WA-State Ethics in State Government"},{"$f":"Master!C4","v":"WA-State Ethics 8-7-2014-V6"},{"$f":"Master!D4","v":"OLT"},{"$f":"Master!E4","v":"Active"},{"$f":"Master!F4","v":0},{"$f":"Master!H4","v":"To register for this course, \ncall the LMS Helpdesk at \n360-705-7060."},{"$f":"IF(Master!L4=\"\",\"B\",Master!L4)","v":"M"},{"$f":"IF(Master!W4=\"\",\"B\",Master!W4)","v":"M"},{"$f":"IF(Master!AH4=\"\",\"B\",Master!AH4)","v":"M"},{"$f":"IF(Master!AS4=\"\",\"B\",Master!AS4)","v":"M"},{"$f":"IF(Master!BD4=\"\",\"B\",Master!BD4)","v":"M"},{"$f":"IF(Master!BO4=\"\",\"B\",Master!BO4)","v":"M"}]
[{"$f":"Master!A5","v":"HR"},{"$f":"Master!B5","v":"WSDOT Mandatory: Ethical Standards WSDOT Specific Training"},{"$f":"Master!C5","v":"WSDOT_BKB Specific"},{"$f":"Master!D5","v":"OLT"},{"$f":"Master!E5","v":"Active"},{"$f":"Master!F5","v":0},{"$f":"Master!H5","v":"To register for this course, \ncall the LMS Helpdesk at \n360-705-7060."},{"$f":"IF(Master!L5=\"\",\"B\",Master!L5)","v":"M"},{"$f":"IF(Master!W5=\"\",\"B\",Master!W5)","v":"M"},{"$f":"IF(Master!AH5=\"\",\"B\",Master!AH5)","v":"M"},{"$f":"IF(Master!AS5=\"\",\"B\",Master!AS5)","v":"M"},{"$f":"IF(Master!BD5=\"\",\"B\",Master!BD5)","v":"M"},{"$f":"IF(Master!BO5=\"\",\"B\",Master!BO5)","v":"M"}]
[{"$f":"Master!A6","v":"HR"},{"$f":"Master!B6","v":"WSDOT Mandatory: System Security Awareness For Transportation Employees (Self Study)"},{"$f":"Master!C6","v":"WSDOT_CJJ_UDT"},{"$f":"Master!D6","v":"SS"},{"$f":"Master!E6","v":"Active"},{"$f":"Master!F6","v":0},{"$f":"Master!H6","v":"To register for this course, \ncall the LMS Helpdesk at \n360-705-7060."},{"$f":"IF(Master!L6=\"\",\"B\",Master!L6)","v":"M"},{"$f":"IF(Master!W6=\"\",\"B\",Master!W6)","v":"M"},{"$f":"IF(Master!AH6=\"\",\"B\",Master!AH6)","v":"M"},{"$f":"IF(Master!AS6=\"\",\"B\",Master!AS6)","v":"M"},{"$f":"IF(Master!BD6=\"\",\"B\",Master!BD6)","v":"M"},{"$f":"IF(Master!BO6=\"\",\"B\",Master!BO6)","v":"M"}]
[{"$f":"Master!A7","v":"HR"},{"$f":"Master!B7","v":"WSDOT Mandatory: Violence That Affects The Workplace (Self Study)"},{"$f":"Master!C7","v":"WSDOT_B9V"},{"$f":"Master!D7","v":"SS"},{"$f":"Master!E7","v":"Active"},{"$f":"Master!F7","v":0},{"$f":"Master!H7","v":"To register for this course, \ncall the LMS Helpdesk at \n360-705-7060."},{"$f":"IF(Master!L7=\"\",\"B\",Master!L7)","v":"M"},{"$f":"IF(Master!W7=\"\",\"B\",Master!W7)","v":"M"},{"$f":"IF(Master!AH7=\"\",\"B\",Master!AH7)","v":"M"},{"$f":"IF(Master!AS7=\"\",\"B\",Master!AS7)","v":"M"},{"$f":"IF(Master!BD7=\"\",\"B\",Master!BD7)","v":"M"},{"$f":"IF(Master!BO7=\"\",\"B\",Master!BO7)","v":"M"}]
[{"$f":"Master!A8","v":"HR"},{"$f":"Master!B8","v":"WA-State IT Security Awareness Training"},{"$f":"Master!C8","v":"WA-State IT Security Awareness Training - Initial Training-8/16/2013"},{"$f":"Master!D8","v":"OLT"},{"$f":"Master!E8","v":"Active"},{"$f":"Master!F8","v":0},{"$f":"Master!H8","v":"To register for this course, \ncall the LMS Helpdesk at \n360-705-7060."},{"$f":"IF(Master!L8=\"\",\"B\",Master!L8)","v":"M"},{"$f":"IF(Master!W8=\"\",\"B\",Master!W8)","v":"M"},{"$f":"IF(Master!AH8=\"\",\"B\",Master!AH8)","v":"M"},{"$f":"IF(Master!AS8=\"\",\"B\",Master!AS8)","v":"M"},{"$f":"IF(Master!BD8=\"\",\"B\",Master!BD8)","v":"M"},{"$f":"IF(Master!BO8=\"\",\"B\",Master!BO8)","v":"M"}]
[{"$f":"Master!A9","v":"HR"},{"$f":"Master!B9","v":"WA-State Sexual Harassment Awareness and Prevention"},{"$f":"Master!C9","v":"DES_shap_2013_Updated_9-3-2014"},{"$f":"Master!D9","v":"OLT"},{"$f":"Master!E9","v":"Active"},{"$f":"Master!F9","v":0},{"$f":"Master!H9","v":"To register for this course, \ncall the LMS Helpdesk at \n360-705-7060."},{"$f":"IF(Master!L9=\"\",\"B\",Master!L9)","v":"M"},{"$f":"IF(Master!W9=\"\",\"B\",Master!W9)","v":"M"},{"$f":"IF(Master!AH9=\"\",\"B\",Master!AH9)","v":"M"},{"$f":"IF(Master!AS9=\"\",\"B\",Master!AS9)","v":"M"},{"$f":"IF(Master!BD9=\"\",\"B\",Master!BD9)","v":"M"},{"$f":"IF(Master!BO9=\"\",\"B\",Master!BO9)","v":"M"}]
[{"$f":"Master!A10","v":"HR"},{"$f":"Master!B10","v":"WSDOT Mandatory: Disability Awareness Step 1, Understanding the Americans with Disabilities Act (ADA)  "},{"$f":"Master!C10","v":"lchr_01_a15_lc_enus"},{"$f":"Master!D10","v":"OLT"},{"$f":"Master!E10","v":"Active"},{"$f":"Master!F10","v":0},{"$f":"Master!H10","v":"To register for this course, \ncall the LMS Helpdesk at \n360-705-7060."},{"$f":"IF(Master!L10=\"\",\"B\",Master!L10)","v":"M"},{"$f":"IF(Master!W10=\"\",\"B\",Master!W10)","v":"M"},{"$f":"IF(Master!AH10=\"\",\"B\",Master!AH10)","v":"M"},{"$f":"IF(Master!AS10=\"\",\"B\",Master!AS10)","v":"M"},{"$f":"IF(Master!BD10=\"\",\"B\",Master!BD10)","v":"M"},{"$f":"IF(Master!BO10=\"\",\"B\",Master!BO10)","v":"M"}]
[{"$f":"Master!A11","v":"HR"},{"$f":"Master!B11","v":"WSDOT Mandatory: Disability Awareness Step 2 of Learning Plan"},{"$f":"Master!C11","v":"WSDOT_CD8_UDT2"},{"$f":"Master!D11","v":"OLT"},{"$f":"Master!E11","v":"Active"},{"$f":"Master!F11","v":0},{"$f":"Master!H11","v":"To register for this course, \ncall the LMS Helpdesk at \n360-705-7060."},{"$f":"IF(Master!L11=\"\",\"B\",Master!L11)","v":"M"},{"$f":"IF(Master!W11=\"\",\"B\",Master!W11)","v":"M"},{"$f":"IF(Master!AH11=\"\",\"B\",Master!AH11)","v":"M"},{"$f":"IF(Master!AS11=\"\",\"B\",Master!AS11)","v":"M"},{"$f":"IF(Master!BD11=\"\",\"B\",Master!BD11)","v":"M"},{"$f":"IF(Master!BO11=\"\",\"B\",Master!BO11)","v":"M"}]
[{"$f":"Master!A12","v":"HR"},{"$f":"Master!B12","v":"WSDOT Mandatory: Discrimination In The Workplace (Self Study)"},{"$f":"Master!C12","v":"WSDOT_DIS"},{"$f":"Master!D12","v":"SS"},{"$f":"Master!E12","v":"Active"},{"$f":"Master!F12","v":0},{"$f":"Master!H12","v":"To register for this course, \ncall the LMS Helpdesk at \n360-705-7060."},{"$f":"IF(Master!L12=\"\",\"B\",Master!L12)","v":"M"},{"$f":"IF(Master!W12=\"\",\"B\",Master!W12)","v":"M"},{"$f":"IF(Master!AH12=\"\",\"B\",Master!AH12)","v":"M"},{"$f":"IF(Master!AS12=\"\",\"B\",Master!AS12)","v":"M"},{"$f":"IF(Master!BD12=\"\",\"B\",Master!BD12)","v":"M"},{"$f":"IF(Master!BO12=\"\",\"B\",Master!BO12)","v":"M"}]
[{"$f":"Master!A13","v":"HR"},{"$f":"Master!B13","v":"WSDOT Mandatory: Valuing Diversity Step 2, Promoting Respect in the Global Workplace – Employee Edition"},{"$f":"Master!C13","v":"WSDOT_lch_01_a09_lc_enus"},{"$f":"Master!D13","v":"OLT"},{"$f":"Master!E13","v":"Active"},{"$f":"Master!F13","v":0},{"$f":"Master!H13","v":"To register for this course, \ncall the LMS Helpdesk at \n360-705-7060."},{"$f":"IF(Master!L13=\"\",\"B\",Master!L13)","v":"M"},{"$f":"IF(Master!W13=\"\",\"B\",Master!W13)","v":"M"},{"$f":"IF(Master!AH13=\"\",\"B\",Master!AH13)","v":"M"},{"$f":"IF(Master!AS13=\"\",\"B\",Master!AS13)","v":"M"},{"$f":"IF(Master!BD13=\"\",\"B\",Master!BD13)","v":"M"},{"$f":"IF(Master!BO13=\"\",\"B\",Master!BO13)","v":"M"}]
[{"$f":"Master!A14","v":"General Knowledge"},null,null,null,null,null,null,{"$f":"IF(Master!L14=\"\",\"B\",Master!L14)","v":"B"},{"$f":"IF(Master!W14=\"\",\"B\",Master!W14)","v":"B"},{"$f":"IF(Master!AH14=\"\",\"B\",Master!AH14)","v":"B"},{"$f":"IF(Master!AS14=\"\",\"B\",Master!AS14)","v":"B"},{"$f":"IF(Master!BD14=\"\",\"B\",Master!BD14)","v":"B"},{"$f":"IF(Master!BO14=\"\",\"B\",Master!BO14)","v":"B"}]
[{"$f":"Master!A15","v":"GEN"},{"$f":"Master!B15","v":"**Legal Liability for Transportation Professionals - Entry"},{"$f":"Master!C15","v":0},{"$f":"Master!D15","v":"ILT"},{"$f":"Master!E15","v":"Inactive"},{"$f":"Master!F15","v":0},{"$f":"Master!H15","v":0},{"$f":"IF(Master!L15=\"\",\"B\",Master!L15)","v":1},{"$f":"IF(Master!W15=\"\",\"B\",Master!W15)","v":1},{"$f":"IF(Master!AH15=\"\",\"B\",Master!AH15)","v":1},{"$f":"IF(Master!AS15=\"\",\"B\",Master!AS15)","v":1},{"$f":"IF(Master!BD15=\"\",\"B\",Master!BD15)","v":1},{"$f":"IF(Master!BO15=\"\",\"B\",Master!BO15)","v":"B"}]
[{"$f":"Master!A16","v":"GEN"},{"$f":"Master!B16","v":"**Legal Liability for Transportation Professionals - In-Depth"},{"$f":"Master!C16","v":0},{"$f":"Master!D16","v":"ILT"},{"$f":"Master!E16","v":"Inactive"},{"$f":"Master!F16","v":0},{"$f":"Master!H16","v":0},{"$f":"IF(Master!L16=\"\",\"B\",Master!L16)","v":"B"},{"$f":"IF(Master!W16=\"\",\"B\",Master!W16)","v":"B"},{"$f":"IF(Master!AH16=\"\",\"B\",Master!AH16)","v":"B"},{"$f":"IF(Master!AS16=\"\",\"B\",Master!AS16)","v":"B"},{"$f":"IF(Master!BD16=\"\",\"B\",Master!BD16)","v":"B"},{"$f":"IF(Master!BO16=\"\",\"B\",Master!BO16)","v":1}]
[{"$f":"Master!A17","v":"GEN"},{"$f":"Master!B17","v":"WSDOT GEN: TECHNICAL MATHEMATICS I (SELF-STUDY)"},{"$f":"Master!C17","v":"WSDOT_AFN"},{"$f":"Master!D17","v":"SS"},{"$f":"Master!E17","v":"Active"},{"$f":"Master!F17","v":0},{"$f":"Master!H17","v":0},{"$f":"IF(Master!L17=\"\",\"B\",Master!L17)","v":"R"},{"$f":"IF(Master!W17=\"\",\"B\",Master!W17)","v":"R"},{"$f":"IF(Master!AH17=\"\",\"B\",Master!AH17)","v":"B"},{"$f":"IF(Master!AS17=\"\",\"B\",Master!AS17)","v":"B"},{"$f":"IF(Master!BD17=\"\",\"B\",Master!BD17)","v":"B"},{"$f":"IF(Master!BO17=\"\",\"B\",Master!BO17)","v":"B"}]
[{"$f":"Master!A18","v":"GEN"},{"$f":"Master!B18","v":"WSDOT GEN: TECHNICAL MATHEMATICS II (SELF-STUDY)"},{"$f":"Master!C18","v":"WSDOT_A7J"},{"$f":"Master!D18","v":"SS"},{"$f":"Master!E18","v":"Active"},{"$f":"Master!F18","v":0},{"$f":"Master!H18","v":0},{"$f":"IF(Master!L18=\"\",\"B\",Master!L18)","v":"R"},{"$f":"IF(Master!W18=\"\",\"B\",Master!W18)","v":"R"},{"$f":"IF(Master!AH18=\"\",\"B\",Master!AH18)","v":"B"},{"$f":"IF(Master!AS18=\"\",\"B\",Master!AS18)","v":"B"},{"$f":"IF(Master!BD18=\"\",\"B\",Master!BD18)","v":"B"},{"$f":"IF(Master!BO18=\"\",\"B\",Master!BO18)","v":"B"}]
[{"$f":"Master!A19","v":"SS"},{"$f":"Master!B19","v":"Finding Your Bearings as a Project Manager"},{"$f":"Master!C19","v":"apj_151_a01_bs_enus"},{"$f":"Master!D19","v":"OLT"},{"$f":"Master!E19","v":"Active"},{"$f":"Master!F19","v":0},{"$f":"Master!H19","v":0},{"$f":"IF(Master!L19=\"\",\"B\",Master!L19)","v":"R"},{"$f":"IF(Master!W19=\"\",\"B\",Master!W19)","v":"R"},{"$f":"IF(Master!AH19=\"\",\"B\",Master!AH19)","v":"B"},{"$f":"IF(Master!AS19=\"\",\"B\",Master!AS19)","v":"B"},{"$f":"IF(Master!BD19=\"\",\"B\",Master!BD19)","v":"B"},{"$f":"IF(Master!BO19=\"\",\"B\",Master!BO19)","v":"B"}]
[{"$f":"Master!A20","v":"SS"},{"$f":"Master!B20","v":"Getting to the Root of a Problem"},{"$f":"Master!C20","v":"apj_15_a01_bs_enus"},{"$f":"Master!D20","v":"OLT"},{"$f":"Master!E20","v":"Active"},{"$f":"Master!F20","v":0},{"$f":"Master!H20","v":0},{"$f":"IF(Master!L20=\"\",\"B\",Master!L20)","v":"R"},{"$f":"IF(Master!W20=\"\",\"B\",Master!W20)","v":"R"},{"$f":"IF(Master!AH20=\"\",\"B\",Master!AH20)","v":"B"},{"$f":"IF(Master!AS20=\"\",\"B\",Master!AS20)","v":"B"},{"$f":"IF(Master!BD20=\"\",\"B\",Master!BD20)","v":"B"},{"$f":"IF(Master!BO20=\"\",\"B\",Master!BO20)","v":"B"}]
[{"$f":"Master!A21","v":"SS"},{"$f":"Master!B21","v":"The Process Groups (PMBOK® Guide Fifth Edition)"},{"$f":"Master!C21","v":"apj_01_a03_bs_enus"},{"$f":"Master!D21","v":"OLT"},{"$f":"Master!E21","v":"Active"},{"$f":"Master!F21","v":0},{"$f":"Master!H21","v":0},{"$f":"IF(Master!L21=\"\",\"B\",Master!L21)","v":"R"},{"$f":"IF(Master!W21=\"\",\"B\",Master!W21)","v":"R"},{"$f":"IF(Master!AH21=\"\",\"B\",Master!AH21)","v":"B"},{"$f":"IF(Master!AS21=\"\",\"B\",Master!AS21)","v":"B"},{"$f":"IF(Master!BD21=\"\",\"B\",Master!BD21)","v":"B"},{"$f":"IF(Master!BO21=\"\",\"B\",Master!BO21)","v":"B"}]
[{"$f":"Master!A22","v":"SS"},{"$f":"Master!B22","v":"Solving Problems: Generating and Evaluating Alternatives"},{"$f":"Master!C22","v":"pd_29_a02_bs_enus"},{"$f":"Master!D22","v":"OLT"},{"$f":"Master!E22","v":"Active"},{"$f":"Master!F22","v":0},{"$f":"Master!H22","v":0},{"$f":"IF(Master!L22=\"\",\"B\",Master!L22)","v":"R"},{"$f":"IF(Master!W22=\"\",\"B\",Master!W22)","v":"R"},{"$f":"IF(Master!AH22=\"\",\"B\",Master!AH22)","v":"B"},{"$f":"IF(Master!AS22=\"\",\"B\",Master!AS22)","v":"B"},{"$f":"IF(Master!BD22=\"\",\"B\",Master!BD22)","v":"B"},{"$f":"IF(Master!BO22=\"\",\"B\",Master!BO22)","v":"B"}]
[{"$f":"Master!A23","v":"SS"},{"$f":"Master!B23","v":"Making and Carrying Out Tough Decisions"},{"$f":"Master!C23","v":"pd_29_a03_bs_enus"},{"$f":"Master!D23","v":"OLT"},{"$f":"Master!E23","v":"Active"},{"$f":"Master!F23","v":0},{"$f":"Master!H23","v":0},{"$f":"IF(Master!L23=\"\",\"B\",Master!L23)","v":"R"},{"$f":"IF(Master!W23=\"\",\"B\",Master!W23)","v":"R"},{"$f":"IF(Master!AH23=\"\",\"B\",Master!AH23)","v":"B"},{"$f":"IF(Master!AS23=\"\",\"B\",Master!AS23)","v":"B"},{"$f":"IF(Master!BD23=\"\",\"B\",Master!BD23)","v":"B"},{"$f":"IF(Master!BO23=\"\",\"B\",Master!BO23)","v":"B"}]
[{"$f":"Master!A24","v":"SS"},{"$f":"Master!B24","v":"Solving Problems: Framing the Problem"},{"$f":"Master!C24","v":"pd_29_a01_bs_enus"},{"$f":"Master!D24","v":"OLT"},{"$f":"Master!E24","v":"Active"},{"$f":"Master!F24","v":0},{"$f":"Master!H24","v":0},{"$f":"IF(Master!L24=\"\",\"B\",Master!L24)","v":"R"},{"$f":"IF(Master!W24=\"\",\"B\",Master!W24)","v":"R"},{"$f":"IF(Master!AH24=\"\",\"B\",Master!AH24)","v":"B"},{"$f":"IF(Master!AS24=\"\",\"B\",Master!AS24)","v":"B"},{"$f":"IF(Master!BD24=\"\",\"B\",Master!BD24)","v":"B"},{"$f":"IF(Master!BO24=\"\",\"B\",Master!BO24)","v":"B"}]
[{"$f":"Master!A25","v":"SS"},{"$f":"Master!B25","v":"Problem-Solving and Process Management Tools"},{"$f":"Master!C25","v":"oper_04_a07_bs_enus"},{"$f":"Master!D25","v":"OLT"},{"$f":"Master!E25","v":"Active"},{"$f":"Master!F25","v":0},{"$f":"Master!H25","v":0},{"$f":"IF(Master!L25=\"\",\"B\",Master!L25)","v":"R"},{"$f":"IF(Master!W25=\"\",\"B\",Master!W25)","v":"R"},{"$f":"IF(Master!AH25=\"\",\"B\",Master!AH25)","v":"B"},{"$f":"IF(Master!AS25=\"\",\"B\",Master!AS25)","v":"B"},{"$f":"IF(Master!BD25=\"\",\"B\",Master!BD25)","v":"B"},{"$f":"IF(Master!BO25=\"\",\"B\",Master!BO25)","v":"B"}]
[{"$f":"Master!A26","v":"SS"},{"$f":"Master!B26","v":"Basic Presentation Skills: Delivering a Presentation"},{"$f":"Master!C26","v":"comm_33_a03_bs_enus"},{"$f":"Master!D26","v":"OLT"},{"$f":"Master!E26","v":"Active"},{"$f":"Master!F26","v":0},{"$f":"Master!H26","v":0},{"$f":"IF(Master!L26=\"\",\"B\",Master!L26)","v":"R"},{"$f":"IF(Master!W26=\"\",\"B\",Master!W26)","v":"R"},{"$f":"IF(Master!AH26=\"\",\"B\",Master!AH26)","v":"B"},{"$f":"IF(Master!AS26=\"\",\"B\",Master!AS26)","v":"B"},{"$f":"IF(Master!BD26=\"\",\"B\",Master!BD26)","v":"B"},{"$f":"IF(Master!BO26=\"\",\"B\",Master!BO26)","v":"B"}]
[{"$f":"Master!A27","v":"SS"},{"$f":"Master!B27","v":"Basic Presentation Skills: Creating a Presentation"},{"$f":"Master!C27","v":"comm_33_a02_bs_enus"},{"$f":"Master!D27","v":"OLT"},{"$f":"Master!E27","v":"Active"},{"$f":"Master!F27","v":0},{"$f":"Master!H27","v":0},{"$f":"IF(Master!L27=\"\",\"B\",Master!L27)","v":"R"},{"$f":"IF(Master!W27=\"\",\"B\",Master!W27)","v":"R"},{"$f":"IF(Master!AH27=\"\",\"B\",Master!AH27)","v":"B"},{"$f":"IF(Master!AS27=\"\",\"B\",Master!AS27)","v":"B"},{"$f":"IF(Master!BD27=\"\",\"B\",Master!BD27)","v":"B"},{"$f":"IF(Master!BO27=\"\",\"B\",Master!BO27)","v":"B"}]
[{"$f":"Master!A28","v":"SS"},{"$f":"Master!B28","v":"Building the Foundation for an Effective Team"},{"$f":"Master!C28","v":"atm_01_a01_bs_enus"},{"$f":"Master!D28","v":"OLT"},{"$f":"Master!E28","v":"Active"},{"$f":"Master!F28","v":0},{"$f":"Master!H28","v":0},{"$f":"IF(Master!L28=\"\",\"B\",Master!L28)","v":"R"},{"$f":"IF(Master!W28=\"\",\"B\",Master!W28)","v":"R"},{"$f":"IF(Master!AH28=\"\",\"B\",Master!AH28)","v":"B"},{"$f":"IF(Master!AS28=\"\",\"B\",Master!AS28)","v":"B"},{"$f":"IF(Master!BD28=\"\",\"B\",Master!BD28)","v":"B"},{"$f":"IF(Master!BO28=\"\",\"B\",Master!BO28)","v":"B"}]
[{"$f":"Master!A29","v":"SS"},{"$f":"Master!B29","v":"Developing a Successful Team"},{"$f":"Master!C29","v":"atm_01_a02_bs_enus"},{"$f":"Master!D29","v":"OLT"},{"$f":"Master!E29","v":"Active"},{"$f":"Master!F29","v":0},{"$f":"Master!H29","v":0},{"$f":"IF(Master!L29=\"\",\"B\",Master!L29)","v":"R"},{"$f":"IF(Master!W29=\"\",\"B\",Master!W29)","v":"R"},{"$f":"IF(Master!AH29=\"\",\"B\",Master!AH29)","v":"B"},{"$f":"IF(Master!AS29=\"\",\"B\",Master!AS29)","v":"B"},{"$f":"IF(Master!BD29=\"\",\"B\",Master!BD29)","v":"B"},{"$f":"IF(Master!BO29=\"\",\"B\",Master!BO29)","v":"B"}]
[{"$f":"Master!A30","v":"SS"},{"$f":"Master!B30","v":"Encouraging Team Communication and Collaboration"},{"$f":"Master!C30","v":"atm_01_a03_bs_enus"},{"$f":"Master!D30","v":"OLT"},{"$f":"Master!E30","v":"Active"},{"$f":"Master!F30","v":0},{"$f":"Master!H30","v":0},{"$f":"IF(Master!L30=\"\",\"B\",Master!L30)","v":"R"},{"$f":"IF(Master!W30=\"\",\"B\",Master!W30)","v":"R"},{"$f":"IF(Master!AH30=\"\",\"B\",Master!AH30)","v":"B"},{"$f":"IF(Master!AS30=\"\",\"B\",Master!AS30)","v":"B"},{"$f":"IF(Master!BD30=\"\",\"B\",Master!BD30)","v":"B"},{"$f":"IF(Master!BO30=\"\",\"B\",Master!BO30)","v":"B"}]
[{"$f":"Master!A31","v":"SS"},{"$f":"Master!B31","v":"Handling Team Conflict"},{"$f":"Master!C31","v":"atm_01_a04_bs_enus"},{"$f":"Master!D31","v":"OLT"},{"$f":"Master!E31","v":"Active"},{"$f":"Master!F31","v":0},{"$f":"Master!H31","v":0},{"$f":"IF(Master!L31=\"\",\"B\",Master!L31)","v":"R"},{"$f":"IF(Master!W31=\"\",\"B\",Master!W31)","v":"R"},{"$f":"IF(Master!AH31=\"\",\"B\",Master!AH31)","v":"B"},{"$f":"IF(Master!AS31=\"\",\"B\",Master!AS31)","v":"B"},{"$f":"IF(Master!BD31=\"\",\"B\",Master!BD31)","v":"B"},{"$f":"IF(Master!BO31=\"\",\"B\",Master!BO31)","v":"B"}]
[{"$f":"Master!A32","v":"SS"},{"$f":"Master!B32","v":"Thinking Critically: Coming to Terms with Assumptions"},{"$f":"Master!C32","v":"pe_01_a01_bs_enus"},{"$f":"Master!D32","v":"OLT"},{"$f":"Master!E32","v":"Active"},{"$f":"Master!F32","v":0},{"$f":"Master!H32","v":0},{"$f":"IF(Master!L32=\"\",\"B\",Master!L32)","v":"R"},{"$f":"IF(Master!W32=\"\",\"B\",Master!W32)","v":"R"},{"$f":"IF(Master!AH32=\"\",\"B\",Master!AH32)","v":"B"},{"$f":"IF(Master!AS32=\"\",\"B\",Master!AS32)","v":"B"},{"$f":"IF(Master!BD32=\"\",\"B\",Master!BD32)","v":"B"},{"$f":"IF(Master!BO32=\"\",\"B\",Master!BO32)","v":"B"}]
[{"$f":"Master!A33","v":"SS"},{"$f":"Master!B33","v":"Thinking Critically: Getting Your Arms around Arguments"},{"$f":"Master!C33","v":"pe_01_a02_bs_enus"},{"$f":"Master!D33","v":"OLT"},{"$f":"Master!E33","v":"Active"},{"$f":"Master!F33","v":0},{"$f":"Master!H33","v":0},{"$f":"IF(Master!L33=\"\",\"B\",Master!L33)","v":"R"},{"$f":"IF(Master!W33=\"\",\"B\",Master!W33)","v":"R"},{"$f":"IF(Master!AH33=\"\",\"B\",Master!AH33)","v":"B"},{"$f":"IF(Master!AS33=\"\",\"B\",Master!AS33)","v":"B"},{"$f":"IF(Master!BD33=\"\",\"B\",Master!BD33)","v":"B"},{"$f":"IF(Master!BO33=\"\",\"B\",Master!BO33)","v":"B"}]
[{"$f":"Master!A34","v":"SS"},{"$f":"Master!B34","v":"Thinking Critically: Drawing Conclusions with Confidence"},{"$f":"Master!C34","v":"pe_01_a03_bs_enus"},{"$f":"Master!D34","v":"OLT"},{"$f":"Master!E34","v":"Active"},{"$f":"Master!F34","v":0},{"$f":"Master!H34","v":0},{"$f":"IF(Master!L34=\"\",\"B\",Master!L34)","v":"R"},{"$f":"IF(Master!W34=\"\",\"B\",Master!W34)","v":"R"},{"$f":"IF(Master!AH34=\"\",\"B\",Master!AH34)","v":"B"},{"$f":"IF(Master!AS34=\"\",\"B\",Master!AS34)","v":"B"},{"$f":"IF(Master!BD34=\"\",\"B\",Master!BD34)","v":"B"},{"$f":"IF(Master!BO34=\"\",\"B\",Master!BO34)","v":"B"}]
[{"$f":"Master!A35","v":"SS"},{"$f":"Master!B35","v":"Microsoft Excel 2016 Essentials: Creating, Editing, and Saving Workbooks"},{"$f":"Master!C35","v":"mo_beel_a01_dt_enus"},{"$f":"Master!D35","v":"OLT"},{"$f":"Master!E35","v":"Active"},{"$f":"Master!F35","v":0},{"$f":"Master!H35","v":0},{"$f":"IF(Master!L35=\"\",\"B\",Master!L35)","v":"R"},{"$f":"IF(Master!W35=\"\",\"B\",Master!W35)","v":"R"},{"$f":"IF(Master!AH35=\"\",\"B\",Master!AH35)","v":"B"},{"$f":"IF(Master!AS35=\"\",\"B\",Master!AS35)","v":"B"},{"$f":"IF(Master!BD35=\"\",\"B\",Master!BD35)","v":"B"},{"$f":"IF(Master!BO35=\"\",\"B\",Master!BO35)","v":"B"}]
[{"$f":"Master!A36","v":"SS"},{"$f":"Master!B36","v":"Microsoft Excel 2016 Essentials: Formulas and Functions"},{"$f":"Master!C36","v":"mo_beel_a04_dt_enus"},{"$f":"Master!D36","v":"OLT"},{"$f":"Master!E36","v":"Active"},{"$f":"Master!F36","v":0},{"$f":"Master!H36","v":0},{"$f":"IF(Master!L36=\"\",\"B\",Master!L36)","v":"R"},{"$f":"IF(Master!W36=\"\",\"B\",Master!W36)","v":"R"},{"$f":"IF(Master!AH36=\"\",\"B\",Master!AH36)","v":"B"},{"$f":"IF(Master!AS36=\"\",\"B\",Master!AS36)","v":"B"},{"$f":"IF(Master!BD36=\"\",\"B\",Master!BD36)","v":"B"},{"$f":"IF(Master!BO36=\"\",\"B\",Master!BO36)","v":"B"}]
[{"$f":"Master!A37","v":"SS"},{"$f":"Master!B37","v":"Microsoft Excel 2016 Essentials: Formatting Data"},{"$f":"Master!C37","v":"mo_beel_a02_dt_enus"},{"$f":"Master!D37","v":"OLT"},{"$f":"Master!E37","v":"Active"},{"$f":"Master!F37","v":0},{"$f":"Master!H37","v":0},{"$f":"IF(Master!L37=\"\",\"B\",Master!L37)","v":"R"},{"$f":"IF(Master!W37=\"\",\"B\",Master!W37)","v":"R"},{"$f":"IF(Master!AH37=\"\",\"B\",Master!AH37)","v":"B"},{"$f":"IF(Master!AS37=\"\",\"B\",Master!AS37)","v":"B"},{"$f":"IF(Master!BD37=\"\",\"B\",Master!BD37)","v":"B"},{"$f":"IF(Master!BO37=\"\",\"B\",Master!BO37)","v":"B"}]
[{"$f":"Master!A38","v":"SS"},{"$f":"Master!B38","v":"Microsoft Excel 2016 Essentials: Data Presentation Strategies"},{"$f":"Master!C38","v":"mo_beel_a03_dt_enus"},{"$f":"Master!D38","v":"OLT"},{"$f":"Master!E38","v":"Active"},{"$f":"Master!F38","v":0},{"$f":"Master!H38","v":0},{"$f":"IF(Master!L38=\"\",\"B\",Master!L38)","v":"R"},{"$f":"IF(Master!W38=\"\",\"B\",Master!W38)","v":"R"},{"$f":"IF(Master!AH38=\"\",\"B\",Master!AH38)","v":"B"},{"$f":"IF(Master!AS38=\"\",\"B\",Master!AS38)","v":"B"},{"$f":"IF(Master!BD38=\"\",\"B\",Master!BD38)","v":"B"},{"$f":"IF(Master!BO38=\"\",\"B\",Master!BO38)","v":"B"}]
[{"$f":"Master!A39","v":"SS"},{"$f":"Master!B39","v":"Microsoft Excel 2016 Essentials: Charts, Tables, and Images"},{"$f":"Master!C39","v":"mo_beel_a05_dt_enus"},{"$f":"Master!D39","v":"OLT"},{"$f":"Master!E39","v":"Active"},{"$f":"Master!F39","v":0},{"$f":"Master!H39","v":0},{"$f":"IF(Master!L39=\"\",\"B\",Master!L39)","v":"R"},{"$f":"IF(Master!W39=\"\",\"B\",Master!W39)","v":"R"},{"$f":"IF(Master!AH39=\"\",\"B\",Master!AH39)","v":"B"},{"$f":"IF(Master!AS39=\"\",\"B\",Master!AS39)","v":"B"},{"$f":"IF(Master!BD39=\"\",\"B\",Master!BD39)","v":"B"},{"$f":"IF(Master!BO39=\"\",\"B\",Master!BO39)","v":"B"}]
[{"$f":"Master!A40","v":"SS"},{"$f":"Master!B40","v":"Microsoft Office 2016 Intermediate Excel: Working with Data "},{"$f":"Master!C40","v":"mo_inel_a03_dt_enus"},{"$f":"Master!D40","v":"OLT"},{"$f":"Master!E40","v":"Active"},{"$f":"Master!F40","v":0},{"$f":"Master!H40","v":0},{"$f":"IF(Master!L40=\"\",\"B\",Master!L40)","v":2},{"$f":"IF(Master!W40=\"\",\"B\",Master!W40)","v":2},{"$f":"IF(Master!AH40=\"\",\"B\",Master!AH40)","v":2},{"$f":"IF(Master!AS40=\"\",\"B\",Master!AS40)","v":"B"},{"$f":"IF(Master!BD40=\"\",\"B\",Master!BD40)","v":"B"},{"$f":"IF(Master!BO40=\"\",\"B\",Master!BO40)","v":"B"}]
[{"$f":"Master!A41","v":"SS"},{"$f":"Master!B41","v":"Microsoft Office 2016 Intermediate Excel: Share, Review, and Collaborate "},{"$f":"Master!C41","v":"mo_inel_a06_dt_enus"},{"$f":"Master!D41","v":"OLT"},{"$f":"Master!E41","v":"Active"},{"$f":"Master!F41","v":0},{"$f":"Master!H41","v":0},{"$f":"IF(Master!L41=\"\",\"B\",Master!L41)","v":2},{"$f":"IF(Master!W41=\"\",\"B\",Master!W41)","v":2},{"$f":"IF(Master!AH41=\"\",\"B\",Master!AH41)","v":2},{"$f":"IF(Master!AS41=\"\",\"B\",Master!AS41)","v":"B"},{"$f":"IF(Master!BD41=\"\",\"B\",Master!BD41)","v":"B"},{"$f":"IF(Master!BO41=\"\",\"B\",Master!BO41)","v":"B"}]
[{"$f":"Master!A42","v":"SS"},{"$f":"Master!B42","v":"Microsoft Office 2016 Intermediate Excel: Creating Custom Visual Effects "},{"$f":"Master!C42","v":"mo_inel_a02_dt_enus"},{"$f":"Master!D42","v":"OLT"},{"$f":"Master!E42","v":"Active"},{"$f":"Master!F42","v":0},{"$f":"Master!H42","v":0},{"$f":"IF(Master!L42=\"\",\"B\",Master!L42)","v":2},{"$f":"IF(Master!W42=\"\",\"B\",Master!W42)","v":2},{"$f":"IF(Master!AH42=\"\",\"B\",Master!AH42)","v":2},{"$f":"IF(Master!AS42=\"\",\"B\",Master!AS42)","v":"B"},{"$f":"IF(Master!BD42=\"\",\"B\",Master!BD42)","v":"B"},{"$f":"IF(Master!BO42=\"\",\"B\",Master!BO42)","v":"B"}]
[{"$f":"Master!A43","v":"SS"},{"$f":"Master!B43","v":"Working with the Interface and Performing Basic Tasks in Word 2016 "},{"$f":"Master!C43","v":"mo_bewo_a01_dt_enus"},{"$f":"Master!D43","v":"OLT"},{"$f":"Master!E43","v":"Active"},{"$f":"Master!F43","v":0},{"$f":"Master!H43","v":0},{"$f":"IF(Master!L43=\"\",\"B\",Master!L43)","v":"R"},{"$f":"IF(Master!W43=\"\",\"B\",Master!W43)","v":"R"},{"$f":"IF(Master!AH43=\"\",\"B\",Master!AH43)","v":"B"},{"$f":"IF(Master!AS43=\"\",\"B\",Master!AS43)","v":"B"},{"$f":"IF(Master!BD43=\"\",\"B\",Master!BD43)","v":"B"},{"$f":"IF(Master!BO43=\"\",\"B\",Master!BO43)","v":"B"}]
[{"$f":"Master!A44","v":"SS"},{"$f":"Master!B44","v":"Formatting Text in Word 2016 "},{"$f":"Master!C44","v":"mo_bewo_a02_dt_enus"},{"$f":"Master!D44","v":"OLT"},{"$f":"Master!E44","v":"Active"},{"$f":"Master!F44","v":0},{"$f":"Master!H44","v":0},{"$f":"IF(Master!L44=\"\",\"B\",Master!L44)","v":"R"},{"$f":"IF(Master!W44=\"\",\"B\",Master!W44)","v":"R"},{"$f":"IF(Master!AH44=\"\",\"B\",Master!AH44)","v":"B"},{"$f":"IF(Master!AS44=\"\",\"B\",Master!AS44)","v":"B"},{"$f":"IF(Master!BD44=\"\",\"B\",Master!BD44)","v":"B"},{"$f":"IF(Master!BO44=\"\",\"B\",Master!BO44)","v":"B"}]
[{"$f":"Master!A45","v":"SS"},{"$f":"Master!B45","v":"Headers, Footers, Page Numbering, and Layout in Word 2016 "},{"$f":"Master!C45","v":"mo_bewo_a05_dt_enus"},{"$f":"Master!D45","v":"OLT"},{"$f":"Master!E45","v":"Active"},{"$f":"Master!F45","v":0},{"$f":"Master!H45","v":0},{"$f":"IF(Master!L45=\"\",\"B\",Master!L45)","v":"R"},{"$f":"IF(Master!W45=\"\",\"B\",Master!W45)","v":"R"},{"$f":"IF(Master!AH45=\"\",\"B\",Master!AH45)","v":"B"},{"$f":"IF(Master!AS45=\"\",\"B\",Master!AS45)","v":"B"},{"$f":"IF(Master!BD45=\"\",\"B\",Master!BD45)","v":"B"},{"$f":"IF(Master!BO45=\"\",\"B\",Master!BO45)","v":"B"}]
[{"$f":"Master!A46","v":"SS"},{"$f":"Master!B46","v":"Using the Navigation Pane and Creating Lists in Word 2016 "},{"$f":"Master!C46","v":"mo_bewo_a06_dt_enus"},{"$f":"Master!D46","v":"OLT"},{"$f":"Master!E46","v":"Active"},{"$f":"Master!F46","v":0},{"$f":"Master!H46","v":0},{"$f":"IF(Master!L46=\"\",\"B\",Master!L46)","v":"R"},{"$f":"IF(Master!W46=\"\",\"B\",Master!W46)","v":"R"},{"$f":"IF(Master!AH46=\"\",\"B\",Master!AH46)","v":"B"},{"$f":"IF(Master!AS46=\"\",\"B\",Master!AS46)","v":"B"},{"$f":"IF(Master!BD46=\"\",\"B\",Master!BD46)","v":"B"},{"$f":"IF(Master!BO46=\"\",\"B\",Master!BO46)","v":"B"}]
[{"$f":"Master!A47","v":"SS"},{"$f":"Master!B47","v":"Customizing Options and Using Document Views in Word 2016 "},{"$f":"Master!C47","v":"mo_bewo_a03_dt_enus"},{"$f":"Master!D47","v":"OLT"},{"$f":"Master!E47","v":"Active"},{"$f":"Master!F47","v":0},{"$f":"Master!H47","v":0},{"$f":"IF(Master!L47=\"\",\"B\",Master!L47)","v":2},{"$f":"IF(Master!W47=\"\",\"B\",Master!W47)","v":2},{"$f":"IF(Master!AH47=\"\",\"B\",Master!AH47)","v":2},{"$f":"IF(Master!AS47=\"\",\"B\",Master!AS47)","v":"B"},{"$f":"IF(Master!BD47=\"\",\"B\",Master!BD47)","v":"B"},{"$f":"IF(Master!BO47=\"\",\"B\",Master!BO47)","v":"B"}]
[{"$f":"Master!A48","v":"SS"},{"$f":"Master!B48","v":"Creating and Formatting Tables in Word 2016 "},{"$f":"Master!C48","v":"mo_bewo_a04_dt_enus"},{"$f":"Master!D48","v":"OLT"},{"$f":"Master!E48","v":"Active"},{"$f":"Master!F48","v":0},{"$f":"Master!H48","v":0},{"$f":"IF(Master!L48=\"\",\"B\",Master!L48)","v":2},{"$f":"IF(Master!W48=\"\",\"B\",Master!W48)","v":2},{"$f":"IF(Master!AH48=\"\",\"B\",Master!AH48)","v":2},{"$f":"IF(Master!AS48=\"\",\"B\",Master!AS48)","v":"B"},{"$f":"IF(Master!BD48=\"\",\"B\",Master!BD48)","v":"B"},{"$f":"IF(Master!BO48=\"\",\"B\",Master!BO48)","v":"B"}]
[{"$f":"Master!A49","v":"Human Resource"},null,null,null,null,null,null,{"$f":"IF(Master!L49=\"\",\"B\",Master!L49)","v":"B"},{"$f":"IF(Master!W49=\"\",\"B\",Master!W49)","v":"B"},{"$f":"IF(Master!AH49=\"\",\"B\",Master!AH49)","v":"B"},{"$f":"IF(Master!AS49=\"\",\"B\",Master!AS49)","v":"B"},{"$f":"IF(Master!BD49=\"\",\"B\",Master!BD49)","v":"B"},{"$f":"IF(Master!BO49=\"\",\"B\",Master!BO49)","v":"B"}]
[{"$f":"Master!A50","v":"Conflict Management - The following two courses are available"},null,null,null,null,null,null,{"$f":"IF(Master!L50=\"\",\"B\",Master!L50)","v":"B"},{"$f":"IF(Master!W50=\"\",\"B\",Master!W50)","v":"B"},{"$f":"IF(Master!AH50=\"\",\"B\",Master!AH50)","v":"B"},{"$f":"IF(Master!AS50=\"\",\"B\",Master!AS50)","v":"B"},{"$f":"IF(Master!BD50=\"\",\"B\",Master!BD50)","v":"B"},{"$f":"IF(Master!BO50=\"\",\"B\",Master!BO50)","v":"B"}]
[{"$f":"Master!A51","v":"SS"},{"$f":"Master!B51","v":"Preparing for a Difficult Conversation"},{"$f":"Master!C51","v":"mgmt_36_a01_bs_enus"},{"$f":"Master!D51","v":"OLT"},{"$f":"Master!E51","v":"Active"},{"$f":"Master!F51","v":0},{"$f":"Master!H51","v":"Take this course first."},{"$f":"IF(Master!L51=\"\",\"B\",Master!L51)","v":2},{"$f":"IF(Master!W51=\"\",\"B\",Master!W51)","v":2},{"$f":"IF(Master!AH51=\"\",\"B\",Master!AH51)","v":2},{"$f":"IF(Master!AS51=\"\",\"B\",Master!AS51)","v":1},{"$f":"IF(Master!BD51=\"\",\"B\",Master!BD51)","v":1},{"$f":"IF(Master!BO51=\"\",\"B\",Master!BO51)","v":1}]
[{"$f":"Master!A52","v":"ES"},{"$f":"Master!B52","v":"Managing Emotions in the Workplace"},{"$f":"Master!C52","v":"Enterprise Services Course\n1/2 Day - $100"},{"$f":"Master!D52","v":"ILT"},{"$f":"Master!E52","v":"Active"},{"$f":"Master!F52","v":0},{"$f":"Master!H52","v":"To register for this course, \ncall the LMS Helpdesk at \n360-705-7060."},{"$f":"IF(Master!L52=\"\",\"B\",Master!L52)","v":2},{"$f":"IF(Master!W52=\"\",\"B\",Master!W52)","v":2},{"$f":"IF(Master!AH52=\"\",\"B\",Master!AH52)","v":2},{"$f":"IF(Master!AS52=\"\",\"B\",Master!AS52)","v":1},{"$f":"IF(Master!BD52=\"\",\"B\",Master!BD52)","v":1},{"$f":"IF(Master!BO52=\"\",\"B\",Master!BO52)","v":1}]
[{"$f":"Master!A53","v":"Interpersonal Communications - The following two courses are available"},null,null,null,null,null,null,{"$f":"IF(Master!L53=\"\",\"B\",Master!L53)","v":"B"},{"$f":"IF(Master!W53=\"\",\"B\",Master!W53)","v":"B"},{"$f":"IF(Master!AH53=\"\",\"B\",Master!AH53)","v":"B"},{"$f":"IF(Master!AS53=\"\",\"B\",Master!AS53)","v":"B"},{"$f":"IF(Master!BD53=\"\",\"B\",Master!BD53)","v":"B"},{"$f":"IF(Master!BO53=\"\",\"B\",Master!BO53)","v":"B"}]
[{"$f":"Master!A54","v":"SS"},{"$f":"Master!B54","v":"Difficult People: Strategies to Keep Everyone Working Together"},{"$f":"Master!C54","v":"comm_46_a03_bs_enus"},{"$f":"Master!D54","v":"OLT"},{"$f":"Master!E54","v":"Active"},{"$f":"Master!F54","v":0},{"$f":"Master!H54","v":"Take this course first."},{"$f":"IF(Master!L54=\"\",\"B\",Master!L54)","v":1},{"$f":"IF(Master!W54=\"\",\"B\",Master!W54)","v":1},{"$f":"IF(Master!AH54=\"\",\"B\",Master!AH54)","v":1},{"$f":"IF(Master!AS54=\"\",\"B\",Master!AS54)","v":1},{"$f":"IF(Master!BD54=\"\",\"B\",Master!BD54)","v":1},{"$f":"IF(Master!BO54=\"\",\"B\",Master!BO54)","v":1}]
[{"$f":"Master!A55","v":"ES"},{"$f":"Master!B55","v":"Interpersonal Communication Skills"},{"$f":"Master!C55","v":"Enterprise Services Course\nTwo Days - $195"},{"$f":"Master!D55","v":"ILT"},{"$f":"Master!E55","v":"Active"},{"$f":"Master!F55","v":0},{"$f":"Master!H55","v":"To register for this course, \ncall the LMS Helpdesk at \n360-705-7060."},{"$f":"IF(Master!L55=\"\",\"B\",Master!L55)","v":1},{"$f":"IF(Master!W55=\"\",\"B\",Master!W55)","v":1},{"$f":"IF(Master!AH55=\"\",\"B\",Master!AH55)","v":1},{"$f":"IF(Master!AS55=\"\",\"B\",Master!AS55)","v":1},{"$f":"IF(Master!BD55=\"\",\"B\",Master!BD55)","v":1},{"$f":"IF(Master!BO55=\"\",\"B\",Master!BO55)","v":1}]
[{"$f":"Master!A56","v":"Interpersonal Communications - The following two courses are available"},null,null,null,null,null,null,{"$f":"IF(Master!L56=\"\",\"B\",Master!L56)","v":"B"},{"$f":"IF(Master!W56=\"\",\"B\",Master!W56)","v":"B"},{"$f":"IF(Master!AH56=\"\",\"B\",Master!AH56)","v":"B"},{"$f":"IF(Master!AS56=\"\",\"B\",Master!AS56)","v":"B"},{"$f":"IF(Master!BD56=\"\",\"B\",Master!BD56)","v":"B"},{"$f":"IF(Master!BO56=\"\",\"B\",Master!BO56)","v":"B"}]
[{"$f":"Master!A57","v":"SS"},{"$f":"Master!B57","v":"Active Listening Skills for Professionals"},{"$f":"Master!C57","v":"comm_43_a03_bs_enus"},{"$f":"Master!D57","v":"OLT"},{"$f":"Master!E57","v":"Active"},{"$f":"Master!F57","v":0},{"$f":"Master!H57","v":"Take this course first."},{"$f":"IF(Master!L57=\"\",\"B\",Master!L57)","v":1},{"$f":"IF(Master!W57=\"\",\"B\",Master!W57)","v":1},{"$f":"IF(Master!AH57=\"\",\"B\",Master!AH57)","v":1},{"$f":"IF(Master!AS57=\"\",\"B\",Master!AS57)","v":1},{"$f":"IF(Master!BD57=\"\",\"B\",Master!BD57)","v":1},{"$f":"IF(Master!BO57=\"\",\"B\",Master!BO57)","v":1}]
[{"$f":"Master!A58","v":"ES"},{"$f":"Master!B58","v":"Crucial Conversations"},{"$f":"Master!C58","v":"Enterprise Services Course\nTwo Days - $450"},{"$f":"Master!D58","v":"ILT"},{"$f":"Master!E58","v":"Active"},{"$f":"Master!F58","v":0},{"$f":"Master!H58","v":"To register for this course, \ncall the LMS Helpdesk at \n360-705-7060."},{"$f":"IF(Master!L58=\"\",\"B\",Master!L58)","v":1},{"$f":"IF(Master!W58=\"\",\"B\",Master!W58)","v":1},{"$f":"IF(Master!AH58=\"\",\"B\",Master!AH58)","v":1},{"$f":"IF(Master!AS58=\"\",\"B\",Master!AS58)","v":1},{"$f":"IF(Master!BD58=\"\",\"B\",Master!BD58)","v":1},{"$f":"IF(Master!BO58=\"\",\"B\",Master!BO58)","v":1}]
[{"$f":"Master!A59","v":"Oral Presentation Techniques"},null,null,null,null,null,null,{"$f":"IF(Master!L59=\"\",\"B\",Master!L59)","v":"B"},{"$f":"IF(Master!W59=\"\",\"B\",Master!W59)","v":"B"},{"$f":"IF(Master!AH59=\"\",\"B\",Master!AH59)","v":"B"},{"$f":"IF(Master!AS59=\"\",\"B\",Master!AS59)","v":"B"},{"$f":"IF(Master!BD59=\"\",\"B\",Master!BD59)","v":"B"},{"$f":"IF(Master!BO59=\"\",\"B\",Master!BO59)","v":"B"}]
[{"$f":"Master!A60","v":"ES"},{"$f":"Master!B60","v":"Presentation & Training Design & Delivery "},{"$f":"Master!C60","v":"Enterprise Services Course \nTwo Days - $205"},{"$f":"Master!D60","v":"ILT"},{"$f":"Master!E60","v":"Active"},{"$f":"Master!F60","v":0},{"$f":"Master!H60","v":"To register for this course, \ncall the LMS Helpdesk at \n360-705-7060."},{"$f":"IF(Master!L60=\"\",\"B\",Master!L60)","v":"B"},{"$f":"IF(Master!W60=\"\",\"B\",Master!W60)","v":"B"},{"$f":"IF(Master!AH60=\"\",\"B\",Master!AH60)","v":"B"},{"$f":"IF(Master!AS60=\"\",\"B\",Master!AS60)","v":"B"},{"$f":"IF(Master!BD60=\"\",\"B\",Master!BD60)","v":2},{"$f":"IF(Master!BO60=\"\",\"B\",Master!BO60)","v":1}]
[{"$f":"Master!A61","v":"Stress Management -  The following two courses are available"},null,null,null,null,null,null,{"$f":"IF(Master!L61=\"\",\"B\",Master!L61)","v":"B"},{"$f":"IF(Master!W61=\"\",\"B\",Master!W61)","v":"B"},{"$f":"IF(Master!AH61=\"\",\"B\",Master!AH61)","v":"B"},{"$f":"IF(Master!AS61=\"\",\"B\",Master!AS61)","v":"B"},{"$f":"IF(Master!BD61=\"\",\"B\",Master!BD61)","v":"B"},{"$f":"IF(Master!BO61=\"\",\"B\",Master!BO61)","v":"B"}]
[{"$f":"Master!A62","v":"SS"},{"$f":"Master!B62","v":"Conflict, Stress, and Time Management"},{"$f":"Master!C62","v":"cust_07_a03_bs_enus"},{"$f":"Master!D62","v":"OLT"},{"$f":"Master!E62","v":"Active"},{"$f":"Master!F62","v":0},{"$f":"Master!H62","v":"Take this course first."},{"$f":"IF(Master!L62=\"\",\"B\",Master!L62)","v":1},{"$f":"IF(Master!W62=\"\",\"B\",Master!W62)","v":1},{"$f":"IF(Master!AH62=\"\",\"B\",Master!AH62)","v":1},{"$f":"IF(Master!AS62=\"\",\"B\",Master!AS62)","v":1},{"$f":"IF(Master!BD62=\"\",\"B\",Master!BD62)","v":1},{"$f":"IF(Master!BO62=\"\",\"B\",Master!BO62)","v":1}]
[{"$f":"Master!A63","v":"ES"},{"$f":"Master!B63","v":"Managing Job Stress"},{"$f":"Master!C63","v":"Enterprise Services Course\nOne Day - $135"},{"$f":"Master!D63","v":"ILT"},{"$f":"Master!E63","v":"Active"},{"$f":"Master!F63","v":0},{"$f":"Master!H63","v":"To register for this course, \ncall the LMS Helpdesk at \n360-705-7060."},{"$f":"IF(Master!L63=\"\",\"B\",Master!L63)","v":1},{"$f":"IF(Master!W63=\"\",\"B\",Master!W63)","v":1},{"$f":"IF(Master!AH63=\"\",\"B\",Master!AH63)","v":1},{"$f":"IF(Master!AS63=\"\",\"B\",Master!AS63)","v":1},{"$f":"IF(Master!BD63=\"\",\"B\",Master!BD63)","v":1},{"$f":"IF(Master!BO63=\"\",\"B\",Master!BO63)","v":1}]
[{"$f":"Master!A64","v":"Time Management -  The following six courses are available"},null,null,null,null,null,null,{"$f":"IF(Master!L64=\"\",\"B\",Master!L64)","v":"B"},{"$f":"IF(Master!W64=\"\",\"B\",Master!W64)","v":"B"},{"$f":"IF(Master!AH64=\"\",\"B\",Master!AH64)","v":"B"},{"$f":"IF(Master!AS64=\"\",\"B\",Master!AS64)","v":"B"},{"$f":"IF(Master!BD64=\"\",\"B\",Master!BD64)","v":"B"},{"$f":"IF(Master!BO64=\"\",\"B\",Master!BO64)","v":"B"}]
[{"$f":"Master!A65","v":"SS"},{"$f":"Master!B65","v":"Getting Time under Control"},{"$f":"Master!C65","v":"_pc_ch_pach021"},{"$f":"Master!D65","v":"OLT"},{"$f":"Master!E65","v":"Active"},{"$f":"Master!F65","v":0},{"$f":"Master!H65","v":"Take this course before the Enterprise Services course"},{"$f":"IF(Master!L65=\"\",\"B\",Master!L65)","v":1},{"$f":"IF(Master!W65=\"\",\"B\",Master!W65)","v":1},{"$f":"IF(Master!AH65=\"\",\"B\",Master!AH65)","v":1},{"$f":"IF(Master!AS65=\"\",\"B\",Master!AS65)","v":1},{"$f":"IF(Master!BD65=\"\",\"B\",Master!BD65)","v":1},{"$f":"IF(Master!BO65=\"\",\"B\",Master!BO65)","v":1}]
[{"$f":"Master!A66","v":"SS"},{"$f":"Master!B66","v":"Make the Time You Need: Get Organized"},{"$f":"Master!C66","v":"apd_08_a02_bs_enus"},{"$f":"Master!D66","v":"OLT"},{"$f":"Master!E66","v":"Active"},{"$f":"Master!F66","v":0},{"$f":"Master!H66","v":"Take this course before the Enterprise Services course"},{"$f":"IF(Master!L66=\"\",\"B\",Master!L66)","v":1},{"$f":"IF(Master!W66=\"\",\"B\",Master!W66)","v":1},{"$f":"IF(Master!AH66=\"\",\"B\",Master!AH66)","v":1},{"$f":"IF(Master!AS66=\"\",\"B\",Master!AS66)","v":1},{"$f":"IF(Master!BD66=\"\",\"B\",Master!BD66)","v":1},{"$f":"IF(Master!BO66=\"\",\"B\",Master!BO66)","v":1}]
[{"$f":"Master!A67","v":"SS"},{"$f":"Master!B67","v":"Time Management: Too Much to Do and Too Little Time"},{"$f":"Master!C67","v":"pd_20_a01_bs_enus"},{"$f":"Master!D67","v":"OLT"},{"$f":"Master!E67","v":"Active"},{"$f":"Master!F67","v":0},{"$f":"Master!H67","v":"Take this course before the Enterprise Services course"},{"$f":"IF(Master!L67=\"\",\"B\",Master!L67)","v":1},{"$f":"IF(Master!W67=\"\",\"B\",Master!W67)","v":1},{"$f":"IF(Master!AH67=\"\",\"B\",Master!AH67)","v":1},{"$f":"IF(Master!AS67=\"\",\"B\",Master!AS67)","v":1},{"$f":"IF(Master!BD67=\"\",\"B\",Master!BD67)","v":1},{"$f":"IF(Master!BO67=\"\",\"B\",Master!BO67)","v":1}]
[{"$f":"Master!A68","v":"SS"},{"$f":"Master!B68","v":"Time Management: Quit Making Excuses and Make Time Instead"},{"$f":"Master!C68","v":"pd_20_a02_bs_enus"},{"$f":"Master!D68","v":"OLT"},{"$f":"Master!E68","v":"Active"},{"$f":"Master!F68","v":0},{"$f":"Master!H68","v":"Take this course before the Enterprise Services course"},{"$f":"IF(Master!L68=\"\",\"B\",Master!L68)","v":1},{"$f":"IF(Master!W68=\"\",\"B\",Master!W68)","v":1},{"$f":"IF(Master!AH68=\"\",\"B\",Master!AH68)","v":1},{"$f":"IF(Master!AS68=\"\",\"B\",Master!AS68)","v":1},{"$f":"IF(Master!BD68=\"\",\"B\",Master!BD68)","v":1},{"$f":"IF(Master!BO68=\"\",\"B\",Master!BO68)","v":1}]
[{"$f":"Master!A69","v":"SS"},{"$f":"Master!B69","v":"Time Management: Ready, Set…Focus!"},{"$f":"Master!C69","v":"pd_20_a03_bs_enus"},{"$f":"Master!D69","v":"OLT"},{"$f":"Master!E69","v":"Active"},{"$f":"Master!F69","v":0},{"$f":"Master!H69","v":"Take this course before the Enterprise Services course"},{"$f":"IF(Master!L69=\"\",\"B\",Master!L69)","v":1},{"$f":"IF(Master!W69=\"\",\"B\",Master!W69)","v":1},{"$f":"IF(Master!AH69=\"\",\"B\",Master!AH69)","v":1},{"$f":"IF(Master!AS69=\"\",\"B\",Master!AS69)","v":1},{"$f":"IF(Master!BD69=\"\",\"B\",Master!BD69)","v":1},{"$f":"IF(Master!BO69=\"\",\"B\",Master!BO69)","v":1}]
[{"$f":"Master!A70","v":"ES"},{"$f":"Master!B70","v":"Time Management"},{"$f":"Master!C70","v":"Enterprise Services Course\nOne Day - $135"},{"$f":"Master!D70","v":"ILT"},{"$f":"Master!E70","v":"Active"},{"$f":"Master!F70","v":0},{"$f":"Master!H70","v":"To register for this course, \ncall the LMS Helpdesk at \n360-705-7060."},{"$f":"IF(Master!L70=\"\",\"B\",Master!L70)","v":1},{"$f":"IF(Master!W70=\"\",\"B\",Master!W70)","v":1},{"$f":"IF(Master!AH70=\"\",\"B\",Master!AH70)","v":1},{"$f":"IF(Master!AS70=\"\",\"B\",Master!AS70)","v":1},{"$f":"IF(Master!BD70=\"\",\"B\",Master!BD70)","v":1},{"$f":"IF(Master!BO70=\"\",\"B\",Master!BO70)","v":1}]
[{"$f":"Master!A71","v":"Technical Writing -  The following five courses are available"},null,null,null,null,null,null,{"$f":"IF(Master!L71=\"\",\"B\",Master!L71)","v":"B"},{"$f":"IF(Master!W71=\"\",\"B\",Master!W71)","v":"B"},{"$f":"IF(Master!AH71=\"\",\"B\",Master!AH71)","v":"B"},{"$f":"IF(Master!AS71=\"\",\"B\",Master!AS71)","v":"B"},{"$f":"IF(Master!BD71=\"\",\"B\",Master!BD71)","v":"B"},{"$f":"IF(Master!BO71=\"\",\"B\",Master!BO71)","v":"B"}]
[{"$f":"Master!A72","v":"SS"},{"$f":"Master!B72","v":"Improving Your Technical Writing Skills"},{"$f":"Master!C72","v":"acm_06_a01_it_enus"},{"$f":"Master!D72","v":"OLT"},{"$f":"Master!E72","v":"Active"},{"$f":"Master!F72","v":0},{"$f":"Master!H72","v":0},{"$f":"IF(Master!L72=\"\",\"B\",Master!L72)","v":2},{"$f":"IF(Master!W72=\"\",\"B\",Master!W72)","v":2},{"$f":"IF(Master!AH72=\"\",\"B\",Master!AH72)","v":2},{"$f":"IF(Master!AS72=\"\",\"B\",Master!AS72)","v":2},{"$f":"IF(Master!BD72=\"\",\"B\",Master!BD72)","v":"B"},{"$f":"IF(Master!BO72=\"\",\"B\",Master!BO72)","v":"B"}]
[{"$f":"Master!A73","v":"SS"},{"$f":"Master!B73","v":"Writing for Technical Professionals: Effective Writing Techniques"},{"$f":"Master!C73","v":"ib_wstp_a02_it_enus"},{"$f":"Master!D73","v":"OLT"},{"$f":"Master!E73","v":"Active"},{"$f":"Master!F73","v":0},{"$f":"Master!H73","v":0},{"$f":"IF(Master!L73=\"\",\"B\",Master!L73)","v":2},{"$f":"IF(Master!W73=\"\",\"B\",Master!W73)","v":2},{"$f":"IF(Master!AH73=\"\",\"B\",Master!AH73)","v":2},{"$f":"IF(Master!AS73=\"\",\"B\",Master!AS73)","v":2},{"$f":"IF(Master!BD73=\"\",\"B\",Master!BD73)","v":"B"},{"$f":"IF(Master!BO73=\"\",\"B\",Master!BO73)","v":"B"}]
[{"$f":"Master!A74","v":"SS"},{"$f":"Master!B74","v":"Writing for Technical Professionals: Preparation and Planning"},{"$f":"Master!C74","v":"ib_wstp_a01_it_enus"},{"$f":"Master!D74","v":"OLT"},{"$f":"Master!E74","v":"Active"},{"$f":"Master!F74","v":0},{"$f":"Master!H74","v":0},{"$f":"IF(Master!L74=\"\",\"B\",Master!L74)","v":2},{"$f":"IF(Master!W74=\"\",\"B\",Master!W74)","v":2},{"$f":"IF(Master!AH74=\"\",\"B\",Master!AH74)","v":2},{"$f":"IF(Master!AS74=\"\",\"B\",Master!AS74)","v":2},{"$f":"IF(Master!BD74=\"\",\"B\",Master!BD74)","v":"B"},{"$f":"IF(Master!BO74=\"\",\"B\",Master!BO74)","v":"B"}]
[{"$f":"Master!A75","v":"ES"},{"$f":"Master!B75","v":"Technical Writing: Tricks of the Trade"},{"$f":"Master!C75","v":"Enterprise Services Course\nTwo Day Course - $185"},{"$f":"Master!D75","v":"ILT"},{"$f":"Master!E75","v":"Active"},{"$f":"Master!F75","v":0},{"$f":"Master!H75","v":"To register for this course, call the LMS Helpdesk at \n360-705-7060."},{"$f":"IF(Master!L75=\"\",\"B\",Master!L75)","v":2},{"$f":"IF(Master!W75=\"\",\"B\",Master!W75)","v":2},{"$f":"IF(Master!AH75=\"\",\"B\",Master!AH75)","v":2},{"$f":"IF(Master!AS75=\"\",\"B\",Master!AS75)","v":2},{"$f":"IF(Master!BD75=\"\",\"B\",Master!BD75)","v":"B"},{"$f":"IF(Master!BO75=\"\",\"B\",Master!BO75)","v":"B"}]
[{"$f":"Master!A76","v":"ES"},{"$f":"Master!B76","v":"Writing Skills"},{"$f":"Master!C76","v":"Enterprise Services Course\nOne Day - $145"},{"$f":"Master!D76","v":"ILT"},{"$f":"Master!E76","v":"Active"},{"$f":"Master!F76","v":0},{"$f":"Master!H76","v":"To register for this course, \ncall the LMS Helpdesk at \n360-705-7060."},{"$f":"IF(Master!L76=\"\",\"B\",Master!L76)","v":2},{"$f":"IF(Master!W76=\"\",\"B\",Master!W76)","v":2},{"$f":"IF(Master!AH76=\"\",\"B\",Master!AH76)","v":2},{"$f":"IF(Master!AS76=\"\",\"B\",Master!AS76)","v":2},{"$f":"IF(Master!BD76=\"\",\"B\",Master!BD76)","v":"B"},{"$f":"IF(Master!BO76=\"\",\"B\",Master!BO76)","v":"B"}]
[{"$f":"Master!A77","v":"Effective Meeting Management -  The following six courses are available"},null,null,null,null,null,null,{"$f":"IF(Master!L77=\"\",\"B\",Master!L77)","v":"B"},{"$f":"IF(Master!W77=\"\",\"B\",Master!W77)","v":"B"},{"$f":"IF(Master!AH77=\"\",\"B\",Master!AH77)","v":"B"},{"$f":"IF(Master!AS77=\"\",\"B\",Master!AS77)","v":"B"},{"$f":"IF(Master!BD77=\"\",\"B\",Master!BD77)","v":"B"},{"$f":"IF(Master!BO77=\"\",\"B\",Master!BO77)","v":"B"}]
[{"$f":"Master!A78","v":"SS"},{"$f":"Master!B78","v":"Dealing with Common Meeting Problems"},{"$f":"Master!C78","v":"comm_32_a03_bs_enus"},{"$f":"Master!D78","v":"OLT"},{"$f":"Master!E78","v":"Active"},{"$f":"Master!F78","v":0},{"$f":"Master!H78","v":0},{"$f":"IF(Master!L78=\"\",\"B\",Master!L78)","v":"B"},{"$f":"IF(Master!W78=\"\",\"B\",Master!W78)","v":"B"},{"$f":"IF(Master!AH78=\"\",\"B\",Master!AH78)","v":"B"},{"$f":"IF(Master!AS78=\"\",\"B\",Master!AS78)","v":"B"},{"$f":"IF(Master!BD78=\"\",\"B\",Master!BD78)","v":"B"},{"$f":"IF(Master!BO78=\"\",\"B\",Master!BO78)","v":"B"}]
[{"$f":"Master!A79","v":"SS"},{"$f":"Master!B79","v":"Preparing for Effective Business Meetings"},{"$f":"Master!C79","v":"comm_32_a01_bs_enus"},{"$f":"Master!D79","v":"OLT"},{"$f":"Master!E79","v":"Active"},{"$f":"Master!F79","v":0},{"$f":"Master!H79","v":0},{"$f":"IF(Master!L79=\"\",\"B\",Master!L79)","v":"B"},{"$f":"IF(Master!W79=\"\",\"B\",Master!W79)","v":"B"},{"$f":"IF(Master!AH79=\"\",\"B\",Master!AH79)","v":"B"},{"$f":"IF(Master!AS79=\"\",\"B\",Master!AS79)","v":"B"},{"$f":"IF(Master!BD79=\"\",\"B\",Master!BD79)","v":"B"},{"$f":"IF(Master!BO79=\"\",\"B\",Master!BO79)","v":"B"}]
[{"$f":"Master!A80","v":"SS"},{"$f":"Master!B80","v":"Planning Meetings Fit for Purpose"},{"$f":"Master!C80","v":"comm_50_a01_bs_enus"},{"$f":"Master!D80","v":"OLT"},{"$f":"Master!E80","v":"Active"},{"$f":"Master!F80","v":0},{"$f":"Master!H80","v":0},{"$f":"IF(Master!L80=\"\",\"B\",Master!L80)","v":"B"},{"$f":"IF(Master!W80=\"\",\"B\",Master!W80)","v":"B"},{"$f":"IF(Master!AH80=\"\",\"B\",Master!AH80)","v":"B"},{"$f":"IF(Master!AS80=\"\",\"B\",Master!AS80)","v":"B"},{"$f":"IF(Master!BD80=\"\",\"B\",Master!BD80)","v":"B"},{"$f":"IF(Master!BO80=\"\",\"B\",Master!BO80)","v":"B"}]
[{"$f":"Master!A81","v":"SS"},{"$f":"Master!B81","v":"Managing Effective Business Meetings"},{"$f":"Master!C81","v":"comm_32_a02_bs_enus"},{"$f":"Master!D81","v":"OLT"},{"$f":"Master!E81","v":"Active"},{"$f":"Master!F81","v":0},{"$f":"Master!H81","v":0},{"$f":"IF(Master!L81=\"\",\"B\",Master!L81)","v":"B"},{"$f":"IF(Master!W81=\"\",\"B\",Master!W81)","v":"B"},{"$f":"IF(Master!AH81=\"\",\"B\",Master!AH81)","v":"B"},{"$f":"IF(Master!AS81=\"\",\"B\",Master!AS81)","v":"B"},{"$f":"IF(Master!BD81=\"\",\"B\",Master!BD81)","v":"B"},{"$f":"IF(Master!BO81=\"\",\"B\",Master!BO81)","v":"B"}]
[{"$f":"Master!A82","v":"SS"},{"$f":"Master!B82","v":"Running Meetings in Better Directions"},{"$f":"Master!C82","v":"comm_50_a02_bs_enus"},{"$f":"Master!D82","v":"OLT"},{"$f":"Master!E82","v":"Active"},{"$f":"Master!F82","v":0},{"$f":"Master!H82","v":0},{"$f":"IF(Master!L82=\"\",\"B\",Master!L82)","v":"B"},{"$f":"IF(Master!W82=\"\",\"B\",Master!W82)","v":"B"},{"$f":"IF(Master!AH82=\"\",\"B\",Master!AH82)","v":"B"},{"$f":"IF(Master!AS82=\"\",\"B\",Master!AS82)","v":"B"},{"$f":"IF(Master!BD82=\"\",\"B\",Master!BD82)","v":"B"},{"$f":"IF(Master!BO82=\"\",\"B\",Master!BO82)","v":"B"}]
[{"$f":"Master!A83","v":"ES"},{"$f":"Master!B83","v":"Effective Meeting Management  (or one of the following five SkillSoft)"},{"$f":"Master!C83","v":"Enterprise Services Course\nOne Day - $165"},{"$f":"Master!D83","v":"ILT"},{"$f":"Master!E83","v":"Active"},{"$f":"Master!F83","v":0},{"$f":"Master!H83","v":"To register for this course, call the LMS Helpdesk at \n360-705-7060."},{"$f":"IF(Master!L83=\"\",\"B\",Master!L83)","v":"B"},{"$f":"IF(Master!W83=\"\",\"B\",Master!W83)","v":"B"},{"$f":"IF(Master!AH83=\"\",\"B\",Master!AH83)","v":"B"},{"$f":"IF(Master!AS83=\"\",\"B\",Master!AS83)","v":"B"},{"$f":"IF(Master!BD83=\"\",\"B\",Master!BD83)","v":"B"},{"$f":"IF(Master!BO83=\"\",\"B\",Master!BO83)","v":"B"}]
[{"$f":"Master!A84","v":"Enhanced Leadership for WSDOT"},null,null,null,null,null,null,{"$f":"IF(Master!L84=\"\",\"B\",Master!L84)","v":"B"},{"$f":"IF(Master!W84=\"\",\"B\",Master!W84)","v":"B"},{"$f":"IF(Master!AH84=\"\",\"B\",Master!AH84)","v":"B"},{"$f":"IF(Master!AS84=\"\",\"B\",Master!AS84)","v":"B"},{"$f":"IF(Master!BD84=\"\",\"B\",Master!BD84)","v":"B"},{"$f":"IF(Master!BO84=\"\",\"B\",Master!BO84)","v":"B"}]
[{"$f":"Master!A85","v":"ES"},{"$f":"Master!B85","v":"Leading Teams"},{"$f":"Master!C85","v":"Enterprise Services Course\nThree Days - $500"},{"$f":"Master!D85","v":"ILT"},{"$f":"Master!E85","v":"Active"},{"$f":"Master!F85","v":0},{"$f":"Master!H85","v":"To register for this course, \ncall the LMS Helpdesk at \n360-705-7060."},{"$f":"IF(Master!L85=\"\",\"B\",Master!L85)","v":"B"},{"$f":"IF(Master!W85=\"\",\"B\",Master!W85)","v":"B"},{"$f":"IF(Master!AH85=\"\",\"B\",Master!AH85)","v":"B"},{"$f":"IF(Master!AS85=\"\",\"B\",Master!AS85)","v":"B"},{"$f":"IF(Master!BD85=\"\",\"B\",Master!BD85)","v":"B"},{"$f":"IF(Master!BO85=\"\",\"B\",Master!BO85)","v":2}]
[{"$f":"Master!A86","v":"Entry Management Development"},null,null,null,null,null,null,{"$f":"IF(Master!L86=\"\",\"B\",Master!L86)","v":"B"},{"$f":"IF(Master!W86=\"\",\"B\",Master!W86)","v":"B"},{"$f":"IF(Master!AH86=\"\",\"B\",Master!AH86)","v":"B"},{"$f":"IF(Master!AS86=\"\",\"B\",Master!AS86)","v":"B"},{"$f":"IF(Master!BD86=\"\",\"B\",Master!BD86)","v":"B"},{"$f":"IF(Master!BO86=\"\",\"B\",Master!BO86)","v":"B"}]
[{"$f":"Master!A87","v":"ES"},{"$f":"Master!B87","v":"Leading Others"},{"$f":"Master!C87","v":"Enterprise Services Course\nFour Days - $500"},{"$f":"Master!D87","v":"ILT"},{"$f":"Master!E87","v":"Active"},{"$f":"Master!F87","v":0},{"$f":"Master!H87","v":"To register for this course, \ncall the LMS Helpdesk at \n360-705-7060."},{"$f":"IF(Master!L87=\"\",\"B\",Master!L87)","v":"B"},{"$f":"IF(Master!W87=\"\",\"B\",Master!W87)","v":"B"},{"$f":"IF(Master!AH87=\"\",\"B\",Master!AH87)","v":"B"},{"$f":"IF(Master!AS87=\"\",\"B\",Master!AS87)","v":"B"},{"$f":"IF(Master!BD87=\"\",\"B\",Master!BD87)","v":2},{"$f":"IF(Master!BO87=\"\",\"B\",Master!BO87)","v":1}]
[{"$f":"Master!A88","v":"ES"},{"$f":"Master!B88","v":"Supervision Essentials-Phase II (Prerequisite is Leading Others)"},{"$f":"Master!C88","v":"Enterprise Services Course\nTwo Days - $285"},{"$f":"Master!D88","v":"ILT"},{"$f":"Master!E88","v":"Active"},{"$f":"Master!F88","v":0},{"$f":"Master!H88","v":"To register for this course, \ncall the LMS Helpdesk at \n360-705-7060."},{"$f":"IF(Master!L88=\"\",\"B\",Master!L88)","v":"B"},{"$f":"IF(Master!W88=\"\",\"B\",Master!W88)","v":"B"},{"$f":"IF(Master!AH88=\"\",\"B\",Master!AH88)","v":"B"},{"$f":"IF(Master!AS88=\"\",\"B\",Master!AS88)","v":"B"},{"$f":"IF(Master!BD88=\"\",\"B\",Master!BD88)","v":"B"},{"$f":"IF(Master!BO88=\"\",\"B\",Master!BO88)","v":2}]
[{"$f":"Master!A89","v":"Safety"},null,null,null,null,null,null,{"$f":"IF(Master!L89=\"\",\"B\",Master!L89)","v":"B"},{"$f":"IF(Master!W89=\"\",\"B\",Master!W89)","v":"B"},{"$f":"IF(Master!AH89=\"\",\"B\",Master!AH89)","v":"B"},{"$f":"IF(Master!AS89=\"\",\"B\",Master!AS89)","v":"B"},{"$f":"IF(Master!BD89=\"\",\"B\",Master!BD89)","v":"B"},{"$f":"IF(Master!BO89=\"\",\"B\",Master!BO89)","v":"B"}]
[{"$f":"Master!A90","v":"SAFE"},{"$f":"Master!B90","v":"WSDOT SAFE: FALL PROTECTION"},{"$f":"Master!C90","v":"WSDOT_BN9"},{"$f":"Master!D90","v":"ILT"},{"$f":"Master!E90","v":"Active"},{"$f":"Master!F90","v":0},{"$f":"Master!H90","v":0},{"$f":"IF(Master!L90=\"\",\"B\",Master!L90)","v":1},{"$f":"IF(Master!W90=\"\",\"B\",Master!W90)","v":1},{"$f":"IF(Master!AH90=\"\",\"B\",Master!AH90)","v":1},{"$f":"IF(Master!AS90=\"\",\"B\",Master!AS90)","v":1},{"$f":"IF(Master!BD90=\"\",\"B\",Master!BD90)","v":1},{"$f":"IF(Master!BO90=\"\",\"B\",Master!BO90)","v":1}]
[{"$f":"Master!A91","v":"SAFE"},{"$f":"Master!B91","v":"WSDOT SAFE: FIRST AID"},{"$f":"Master!C91","v":"WSDOT_APS"},{"$f":"Master!D91","v":"ILT"},{"$f":"Master!E91","v":"Active"},{"$f":"Master!F91","v":0},{"$f":"Master!H91","v":0},{"$f":"IF(Master!L91=\"\",\"B\",Master!L91)","v":"R"},{"$f":"IF(Master!W91=\"\",\"B\",Master!W91)","v":"R"},{"$f":"IF(Master!AH91=\"\",\"B\",Master!AH91)","v":1},{"$f":"IF(Master!AS91=\"\",\"B\",Master!AS91)","v":1},{"$f":"IF(Master!BD91=\"\",\"B\",Master!BD91)","v":1},{"$f":"IF(Master!BO91=\"\",\"B\",Master!BO91)","v":1}]
[{"$f":"Master!A92","v":"SAFE"},{"$f":"Master!B92","v":"WSDOT SAFE: FLAGGING, TRAFFIC CONTROL"},{"$f":"Master!C92","v":"WSDOT_AFZ"},{"$f":"Master!D92","v":"ILT"},{"$f":"Master!E92","v":"Active"},{"$f":"Master!F92","v":0},{"$f":"Master!H92","v":0},{"$f":"IF(Master!L92=\"\",\"B\",Master!L92)","v":"R"},{"$f":"IF(Master!W92=\"\",\"B\",Master!W92)","v":"R"},{"$f":"IF(Master!AH92=\"\",\"B\",Master!AH92)","v":1},{"$f":"IF(Master!AS92=\"\",\"B\",Master!AS92)","v":1},{"$f":"IF(Master!BD92=\"\",\"B\",Master!BD92)","v":1},{"$f":"IF(Master!BO92=\"\",\"B\",Master!BO92)","v":1}]
[{"$f":"Master!A93","v":"SAFE"},{"$f":"Master!B93","v":"WSDOT SAFE: HAZARD COMMUNICATION STANDARD (HCS)"},{"$f":"Master!C93","v":"WSDOT_AEX"},{"$f":"Master!D93","v":"ILT"},{"$f":"Master!E93","v":"Active"},{"$f":"Master!F93","v":0},{"$f":"Master!H93","v":0},{"$f":"IF(Master!L93=\"\",\"B\",Master!L93)","v":1},{"$f":"IF(Master!W93=\"\",\"B\",Master!W93)","v":1},{"$f":"IF(Master!AH93=\"\",\"B\",Master!AH93)","v":1},{"$f":"IF(Master!AS93=\"\",\"B\",Master!AS93)","v":1},{"$f":"IF(Master!BD93=\"\",\"B\",Master!BD93)","v":1},{"$f":"IF(Master!BO93=\"\",\"B\",Master!BO93)","v":1}]
[{"$f":"Master!A94","v":"SAFE"},{"$f":"Master!B94","v":"WSDOT SAFE: HEARING CONSERVATION (ILT, and/or Self-Study)"},{"$f":"Master!C94","v":"WSDOT_ATS"},{"$f":"Master!D94","v":"OLT/ILT"},{"$f":"Master!E94","v":"Active"},{"$f":"Master!F94","v":0},{"$f":"Master!H94","v":0},{"$f":"IF(Master!L94=\"\",\"B\",Master!L94)","v":"R"},{"$f":"IF(Master!W94=\"\",\"B\",Master!W94)","v":"R"},{"$f":"IF(Master!AH94=\"\",\"B\",Master!AH94)","v":1},{"$f":"IF(Master!AS94=\"\",\"B\",Master!AS94)","v":1},{"$f":"IF(Master!BD94=\"\",\"B\",Master!BD94)","v":1},{"$f":"IF(Master!BO94=\"\",\"B\",Master!BO94)","v":1}]
[{"$f":"Master!A95","v":"SAFE"},{"$f":"Master!B95","v":"WSDOT SAFE: RESPIRATOR PROTECTION TRAINING"},{"$f":"Master!C95","v":"WSDOT_ARZ"},{"$f":"Master!D95","v":"ILT"},{"$f":"Master!E95","v":"Active"},{"$f":"Master!F95","v":0},{"$f":"Master!H95","v":0},{"$f":"IF(Master!L95=\"\",\"B\",Master!L95)","v":2},{"$f":"IF(Master!W95=\"\",\"B\",Master!W95)","v":2},{"$f":"IF(Master!AH95=\"\",\"B\",Master!AH95)","v":2},{"$f":"IF(Master!AS95=\"\",\"B\",Master!AS95)","v":2},{"$f":"IF(Master!BD95=\"\",\"B\",Master!BD95)","v":2},{"$f":"IF(Master!BO95=\"\",\"B\",Master!BO95)","v":2}]
[{"$f":"Master!A96","v":"Construction Division"},null,null,null,null,null,null,{"$f":"IF(Master!L96=\"\",\"B\",Master!L96)","v":"B"},{"$f":"IF(Master!W96=\"\",\"B\",Master!W96)","v":"B"},{"$f":"IF(Master!AH96=\"\",\"B\",Master!AH96)","v":"B"},{"$f":"IF(Master!AS96=\"\",\"B\",Master!AS96)","v":"B"},{"$f":"IF(Master!BD96=\"\",\"B\",Master!BD96)","v":"B"},{"$f":"IF(Master!BO96=\"\",\"B\",Master!BO96)","v":"B"}]
[{"$f":"Master!A97","v":"CN"},{"$f":"Master!B97","v":"WSDOT CN: AGGREGATE PRODUCTION & TESTING INSPECTION"},{"$f":"Master!C97","v":"WSDOT_ACA"},{"$f":"Master!D97","v":"ILT"},{"$f":"Master!E97","v":"Active"},{"$f":"Master!F97","v":0},{"$f":"Master!G97","v":0},{"$f":"IF(Master!H97=\"\",\"B\",Master!H97)","v":"B"},{"$f":"IF(Master!I97=\"\",\"B\",Master!I97)","v":"B"},{"$f":"IF(Master!J97=\"\",\"B\",Master!J97)","v":"B"},{"$f":"IF(Master!K97=\"\",\"B\",Master!K97)","v":"B"},{"$f":"IF(Master!L97=\"\",\"B\",Master!L97)","v":"B"},{"$f":"IF(Master!M97=\"\",\"B\",Master!M97)","v":"B"}]
[{"$f":"Master!A98","v":"CN"},{"$f":"Master!B98","v":"WSDOT CN: BITUMINOUS SURFACE TREATMENT INSPECTION"},{"$f":"Master!C98","v":"WSDOT_CN_BST_ACC"},{"$f":"Master!D98","v":"ILT"},{"$f":"Master!E98","v":"Active"},{"$f":"Master!F98","v":0},{"$f":"Master!G98","v":0},{"$f":"IF(Master!H98=\"\",\"B\",Master!H98)","v":"B"},{"$f":"IF(Master!I98=\"\",\"B\",Master!I98)","v":"B"},{"$f":"IF(Master!J98=\"\",\"B\",Master!J98)","v":2},{"$f":"IF(Master!K98=\"\",\"B\",Master!K98)","v":"B"},{"$f":"IF(Master!L98=\"\",\"B\",Master!L98)","v":"B"},{"$f":"IF(Master!M98=\"\",\"B\",Master!M98)","v":"B"}]
[{"$f":"Master!A99","v":"CN"},{"$f":"Master!B99","v":"WSDOT CN: ACCEPTANCE AND APPROVAL OF MATERIAL"},{"$f":"Master!C99","v":"WSDOT_CN_Acceptance_Material_CX8_OLT"},{"$f":"Master!D99","v":"OLT"},{"$f":"Master!E99","v":"Active"},{"$f":"Master!F99","v":0},{"$f":"Master!G99","v":0},{"$f":"IF(Master!H99=\"\",\"B\",Master!H99)","v":"B"},{"$f":"IF(Master!I99=\"\",\"B\",Master!I99)","v":"B"},{"$f":"IF(Master!J99=\"\",\"B\",Master!J99)","v":1},{"$f":"IF(Master!K99=\"\",\"B\",Master!K99)","v":2},{"$f":"IF(Master!L99=\"\",\"B\",Master!L99)","v":"B"},{"$f":"IF(Master!M99=\"\",\"B\",Master!M99)","v":"B"}]
[{"$f":"Master!A100","v":"CN"},{"$f":"Master!B100","v":"WSDOT CN: COMPOSING AN INSPECTOR'S DAILY REPORT"},{"$f":"Master!C100","v":"WSDOT_CZ9_OLT"},{"$f":"Master!D100","v":"OLT"},{"$f":"Master!E100","v":"Active"},{"$f":"Master!F100","v":0},{"$f":"Master!G100","v":0},{"$f":"IF(Master!H100=\"\",\"B\",Master!H100)","v":"B"},{"$f":"IF(Master!I100=\"\",\"B\",Master!I100)","v":"B"},{"$f":"IF(Master!J100=\"\",\"B\",Master!J100)","v":1},{"$f":"IF(Master!K100=\"\",\"B\",Master!K100)","v":2},{"$f":"IF(Master!L100=\"\",\"B\",Master!L100)","v":"B"},{"$f":"IF(Master!M100=\"\",\"B\",Master!M100)","v":"B"}]
[{"$f":"Master!A101","v":"CN"},{"$f":"Master!B101","v":"WSDOT CN: INSPECTING BRIDGE CONSTRUCTION"},{"$f":"Master!C101","v":"WSDOT_ACM"},{"$f":"Master!D101","v":"ILT"},{"$f":"Master!E101","v":"Active"},{"$f":"Master!F101","v":0},{"$f":"Master!G101","v":0},{"$f":"IF(Master!H101=\"\",\"B\",Master!H101)","v":"B"},{"$f":"IF(Master!I101=\"\",\"B\",Master!I101)","v":"B"},{"$f":"IF(Master!J101=\"\",\"B\",Master!J101)","v":2},{"$f":"IF(Master!K101=\"\",\"B\",Master!K101)","v":"B"},{"$f":"IF(Master!L101=\"\",\"B\",Master!L101)","v":"B"},{"$f":"IF(Master!M101=\"\",\"B\",Master!M101)","v":"B"}]
[{"$f":"Master!A102","v":"CN"},{"$f":"Master!B102","v":"WSDOT CN: CONSTRUCTION INSPECTION DOCUMENTATION"},{"$f":"Master!C102","v":"WSDOT_ACY"},{"$f":"Master!D102","v":"ILT"},{"$f":"Master!E102","v":"Active"},{"$f":"Master!F102","v":0},{"$f":"Master!G102","v":0},{"$f":"IF(Master!H102=\"\",\"B\",Master!H102)","v":"B"},{"$f":"IF(Master!I102=\"\",\"B\",Master!I102)","v":"B"},{"$f":"IF(Master!J102=\"\",\"B\",Master!J102)","v":1},{"$f":"IF(Master!K102=\"\",\"B\",Master!K102)","v":2},{"$f":"IF(Master!L102=\"\",\"B\",Master!L102)","v":"B"},{"$f":"IF(Master!M102=\"\",\"B\",Master!M102)","v":"B"}]
[{"$f":"Master!A103","v":"CN"},{"$f":"Master!B103","v":"WSDOT CN:CONSTRUCTION MATERIALS, APPROVAL AND ACCEPTANCE"},{"$f":"Master!C103","v":"WSDOT_DAP"},{"$f":"Master!D103","v":"ILT"},{"$f":"Master!E103","v":"Active"},{"$f":"Master!F103","v":0},{"$f":"Master!G103","v":0},{"$f":"IF(Master!H103=\"\",\"B\",Master!H103)","v":"B"},{"$f":"IF(Master!I103=\"\",\"B\",Master!I103)","v":"B"},{"$f":"IF(Master!J103=\"\",\"B\",Master!J103)","v":1},{"$f":"IF(Master!K103=\"\",\"B\",Master!K103)","v":2},{"$f":"IF(Master!L103=\"\",\"B\",Master!L103)","v":"B"},{"$f":"IF(Master!M103=\"\",\"B\",Master!M103)","v":"B"}]
[{"$f":"Master!A104","v":"CN"},{"$f":"Master!B104","v":"WSDOT CN: DRAINAGE INSPECTION"},{"$f":"Master!C104","v":"WSDOT_ACF"},{"$f":"Master!D104","v":"ILT"},{"$f":"Master!E104","v":"Active"},{"$f":"Master!F104","v":0},{"$f":"Master!G104","v":0},{"$f":"IF(Master!H104=\"\",\"B\",Master!H104)","v":"B"},{"$f":"IF(Master!I104=\"\",\"B\",Master!I104)","v":"B"},{"$f":"IF(Master!J104=\"\",\"B\",Master!J104)","v":2},{"$f":"IF(Master!K104=\"\",\"B\",Master!K104)","v":"B"},{"$f":"IF(Master!L104=\"\",\"B\",Master!L104)","v":"B"},{"$f":"IF(Master!M104=\"\",\"B\",Master!M104)","v":"B"}]
[{"$f":"Master!A105","v":"CN"},{"$f":"Master!B105","v":"WSDOT CN: EARTHWORK INSPECTION"},{"$f":"Master!C105","v":"WSDOT_Earthwork_OLT"},{"$f":"Master!D105","v":"OLT"},{"$f":"Master!E105","v":"Active"},{"$f":"Master!F105","v":0},{"$f":"Master!G105","v":0},{"$f":"IF(Master!H105=\"\",\"B\",Master!H105)","v":"B"},{"$f":"IF(Master!I105=\"\",\"B\",Master!I105)","v":"B"},{"$f":"IF(Master!J105=\"\",\"B\",Master!J105)","v":2},{"$f":"IF(Master!K105=\"\",\"B\",Master!K105)","v":"B"},{"$f":"IF(Master!L105=\"\",\"B\",Master!L105)","v":"B"},{"$f":"IF(Master!M105=\"\",\"B\",Master!M105)","v":"B"}]
[{"$f":"Master!A106","v":"CN"},{"$f":"Master!B106","v":"WSDOT CN: ELECTRICAL CONDUCTORS AND FIBER for ICP"},{"$f":"Master!C106","v":"WSDOT_ICP_Electrical_Conductors_Fiber_OLT"},{"$f":"Master!D106","v":"OLT"},{"$f":"Master!E106","v":"Active"},{"$f":"Master!F106","v":0},{"$f":"Master!G106","v":0},{"$f":"IF(Master!H106=\"\",\"B\",Master!H106)","v":"B"},{"$f":"IF(Master!I106=\"\",\"B\",Master!I106)","v":"B"},{"$f":"IF(Master!J106=\"\",\"B\",Master!J106)","v":"B"},{"$f":"IF(Master!K106=\"\",\"B\",Master!K106)","v":2},{"$f":"IF(Master!L106=\"\",\"B\",Master!L106)","v":"B"},{"$f":"IF(Master!M106=\"\",\"B\",Master!M106)","v":"B"}]
[{"$f":"Master!A107","v":"CN"},{"$f":"Master!B107","v":"WSDOT CN: ELECTRICAL-ILLUMINATION-SIGNALS & ITS INSPECTION"},{"$f":"Master!C107","v":"WSDOT_API"},{"$f":"Master!D107","v":"ILT"},{"$f":"Master!E107","v":"Active"},{"$f":"Master!F107","v":0},{"$f":"Master!G107","v":0},{"$f":"IF(Master!H107=\"\",\"B\",Master!H107)","v":"B"},{"$f":"IF(Master!I107=\"\",\"B\",Master!I107)","v":"B"},{"$f":"IF(Master!J107=\"\",\"B\",Master!J107)","v":"B"},{"$f":"IF(Master!K107=\"\",\"B\",Master!K107)","v":2},{"$f":"IF(Master!L107=\"\",\"B\",Master!L107)","v":"B"},{"$f":"IF(Master!M107=\"\",\"B\",Master!M107)","v":"B"}]
[{"$f":"Master!A108","v":"CN"},{"$f":"Master!B108","v":"WSDOT CN: EXCAVATION & EMBANKMENTS INSPECTION"},{"$f":"Master!C108","v":"WSDOT_AC3"},{"$f":"Master!D108","v":"ILT"},{"$f":"Master!E108","v":"Active"},{"$f":"Master!F108","v":0},{"$f":"Master!G108","v":0},{"$f":"IF(Master!H108=\"\",\"B\",Master!H108)","v":"B"},{"$f":"IF(Master!I108=\"\",\"B\",Master!I108)","v":"B"},{"$f":"IF(Master!J108=\"\",\"B\",Master!J108)","v":1},{"$f":"IF(Master!K108=\"\",\"B\",Master!K108)","v":"B"},{"$f":"IF(Master!L108=\"\",\"B\",Master!L108)","v":"B"},{"$f":"IF(Master!M108=\"\",\"B\",Master!M108)","v":"B"}]
[{"$f":"Master!A109","v":"CN"},{"$f":"Master!B109","v":"WSDOT CN: FIELD PAINTING STRUCTURAL STEEL"},{"$f":"Master!C109","v":"WSDOT_CN_Field_Painting_OLT"},{"$f":"Master!D109","v":"OLT"},{"$f":"Master!E109","v":"Active"},{"$f":"Master!F109","v":0},{"$f":"Master!G109","v":0},{"$f":"IF(Master!H109=\"\",\"B\",Master!H109)","v":"B"},{"$f":"IF(Master!I109=\"\",\"B\",Master!I109)","v":"B"},{"$f":"IF(Master!J109=\"\",\"B\",Master!J109)","v":"B"},{"$f":"IF(Master!K109=\"\",\"B\",Master!K109)","v":"B"},{"$f":"IF(Master!L109=\"\",\"B\",Master!L109)","v":"B"},{"$f":"IF(Master!M109=\"\",\"B\",Master!M109)","v":"B"}]
[{"$f":"Master!A110","v":"CN"},{"$f":"Master!B110","v":"WSDOT CN: FORCE ACCOUNT DOCUMENTATION AND PAYMENT"},{"$f":"Master!C110","v":"WSDOT_CN_ForceAccount_DG2_OLT"},{"$f":"Master!D110","v":"OLT"},{"$f":"Master!E110","v":"Active"},{"$f":"Master!F110","v":0},{"$f":"Master!G110","v":0},{"$f":"IF(Master!H110=\"\",\"B\",Master!H110)","v":"B"},{"$f":"IF(Master!I110=\"\",\"B\",Master!I110)","v":"B"},{"$f":"IF(Master!J110=\"\",\"B\",Master!J110)","v":1},{"$f":"IF(Master!K110=\"\",\"B\",Master!K110)","v":2},{"$f":"IF(Master!L110=\"\",\"B\",Master!L110)","v":"B"},{"$f":"IF(Master!M110=\"\",\"B\",Master!M110)","v":"B"}]
[{"$f":"Master!A111","v":"CN"},{"$f":"Master!B111","v":"WSDOT CN: FORMS AND FALSEWORK for ICP"},{"$f":"Master!C111","v":"WSDOT_ICP_Forms and Falsework_OLT"},{"$f":"Master!D111","v":"OLT"},{"$f":"Master!E111","v":"Active"},{"$f":"Master!F111","v":0},{"$f":"Master!G111","v":0},{"$f":"IF(Master!H111=\"\",\"B\",Master!H111)","v":"B"},{"$f":"IF(Master!I111=\"\",\"B\",Master!I111)","v":"B"},{"$f":"IF(Master!J111=\"\",\"B\",Master!J111)","v":2},{"$f":"IF(Master!K111=\"\",\"B\",Master!K111)","v":"B"},{"$f":"IF(Master!L111=\"\",\"B\",Master!L111)","v":"B"},{"$f":"IF(Master!M111=\"\",\"B\",Master!M111)","v":"B"}]
[{"$f":"Master!A112","v":"CN"},{"$f":"Master!B112","v":"WSDOT CN: GUARDRAIL INSTALLATION FOR INSPECTORS"},{"$f":"Master!C112","v":"WSDOT_DD4"},{"$f":"Master!D112","v":"ILT"},{"$f":"Master!E112","v":"Active"},{"$f":"Master!F112","v":0},{"$f":"Master!G112","v":0},{"$f":"IF(Master!H112=\"\",\"B\",Master!H112)","v":"B"},{"$f":"IF(Master!I112=\"\",\"B\",Master!I112)","v":"B"},{"$f":"IF(Master!J112=\"\",\"B\",Master!J112)","v":2},{"$f":"IF(Master!K112=\"\",\"B\",Master!K112)","v":"B"},{"$f":"IF(Master!L112=\"\",\"B\",Master!L112)","v":"B"},{"$f":"IF(Master!M112=\"\",\"B\",Master!M112)","v":"B"}]
[{"$f":"Master!A113","v":"CN"},{"$f":"Master!B113","v":"WSDOT CN: HAZMAT FOR THE PORTABLE NUCLEAR GAUGE"},{"$f":"Master!C113","v":"WSDOT Hazmat_for_Transportation_of_the_Nuclear_Gauge_ORG"},{"$f":"Master!D113","v":"OLT"},{"$f":"Master!E113","v":"Active"},{"$f":"Master!F113","v":0},{"$f":"Master!G113","v":0},{"$f":"IF(Master!H113=\"\",\"B\",Master!H113)","v":"B"},{"$f":"IF(Master!I113=\"\",\"B\",Master!I113)","v":"B"},{"$f":"IF(Master!J113=\"\",\"B\",Master!J113)","v":2},{"$f":"IF(Master!K113=\"\",\"B\",Master!K113)","v":"B"},{"$f":"IF(Master!L113=\"\",\"B\",Master!L113)","v":"B"},{"$f":"IF(Master!M113=\"\",\"B\",Master!M113)","v":"B"}]
[{"$f":"Master!A114","v":"CN"},{"$f":"Master!B114","v":"WSDOT CN: HMA PLACEMENT INSPECTION"},{"$f":"Master!C114","v":"WSDOT_HMAPlacement_OLT"},{"$f":"Master!D114","v":"OLT"},{"$f":"Master!E114","v":"Active"},{"$f":"Master!F114","v":0},{"$f":"Master!G114","v":0},{"$f":"IF(Master!H114=\"\",\"B\",Master!H114)","v":"B"},{"$f":"IF(Master!I114=\"\",\"B\",Master!I114)","v":"B"},{"$f":"IF(Master!J114=\"\",\"B\",Master!J114)","v":2},{"$f":"IF(Master!K114=\"\",\"B\",Master!K114)","v":"B"},{"$f":"IF(Master!L114=\"\",\"B\",Master!L114)","v":"B"},{"$f":"IF(Master!M114=\"\",\"B\",Master!M114)","v":"B"}]
[{"$f":"Master!A115","v":"CN"},{"$f":"Master!B115","v":"WSDOT CN: HOT MIX ASPHALT PLACEMENT"},{"$f":"Master!C115","v":"WSDOT_ACB"},{"$f":"Master!D115","v":"ILT"},{"$f":"Master!E115","v":"Active"},{"$f":"Master!F115","v":0},{"$f":"Master!G115","v":0},{"$f":"IF(Master!H115=\"\",\"B\",Master!H115)","v":"B"},{"$f":"IF(Master!I115=\"\",\"B\",Master!I115)","v":"B"},{"$f":"IF(Master!J115=\"\",\"B\",Master!J115)","v":2},{"$f":"IF(Master!K115=\"\",\"B\",Master!K115)","v":"B"},{"$f":"IF(Master!L115=\"\",\"B\",Master!L115)","v":"B"},{"$f":"IF(Master!M115=\"\",\"B\",Master!M115)","v":"B"}]
[{"$f":"Master!A116","v":"CN"},{"$f":"Master!B116","v":"WSDOT CN: HOT MIX ASPHALT PRODUCTION & TESTING"},{"$f":"Master!C116","v":"WSDOT_BG9"},{"$f":"Master!D116","v":"ILT"},{"$f":"Master!E116","v":"Active"},{"$f":"Master!F116","v":0},{"$f":"Master!G116","v":0},{"$f":"IF(Master!H116=\"\",\"B\",Master!H116)","v":"B"},{"$f":"IF(Master!I116=\"\",\"B\",Master!I116)","v":"B"},{"$f":"IF(Master!J116=\"\",\"B\",Master!J116)","v":2},{"$f":"IF(Master!K116=\"\",\"B\",Master!K116)","v":"B"},{"$f":"IF(Master!L116=\"\",\"B\",Master!L116)","v":"B"},{"$f":"IF(Master!M116=\"\",\"B\",Master!M116)","v":"B"}]
[{"$f":"Master!A117","v":"CN"},{"$f":"Master!B117","v":"WSDOT CN: INSPECTING BRIDGE CONSTRUCTION"},{"$f":"Master!C117","v":"WSDOT_ACM"},{"$f":"Master!D117","v":"ILT"},{"$f":"Master!E117","v":"Active"},{"$f":"Master!F117","v":0},{"$f":"Master!G117","v":0},{"$f":"IF(Master!H117=\"\",\"B\",Master!H117)","v":"B"},{"$f":"IF(Master!I117=\"\",\"B\",Master!I117)","v":"B"},{"$f":"IF(Master!J117=\"\",\"B\",Master!J117)","v":2},{"$f":"IF(Master!K117=\"\",\"B\",Master!K117)","v":"B"},{"$f":"IF(Master!L117=\"\",\"B\",Master!L117)","v":"B"},{"$f":"IF(Master!M117=\"\",\"B\",Master!M117)","v":"B"}]
[{"$f":"Master!A118","v":"CN"},{"$f":"Master!B118","v":"WSDOT CN: INSPECTION OF PEDESTRIAN FACILITIES"},{"$f":"Master!C118","v":"WSDOT_IFP_OLT"},{"$f":"Master!D118","v":"OLT"},{"$f":"Master!E118","v":"Active"},{"$f":"Master!F118","v":0},{"$f":"Master!G118","v":0},{"$f":"IF(Master!H118=\"\",\"B\",Master!H118)","v":"B"},{"$f":"IF(Master!I118=\"\",\"B\",Master!I118)","v":2},{"$f":"IF(Master!J118=\"\",\"B\",Master!J118)","v":2},{"$f":"IF(Master!K118=\"\",\"B\",Master!K118)","v":2},{"$f":"IF(Master!L118=\"\",\"B\",Master!L118)","v":2},{"$f":"IF(Master!M118=\"\",\"B\",Master!M118)","v":"B"}]
[{"$f":"Master!A119","v":"CN"},{"$f":"Master!B119","v":"WSDOT CN: INSPECTOR'S ROLE FOR CHANGE ORDER WORK"},{"$f":"Master!C119","v":"WSDOT_DH9_OLT"},{"$f":"Master!D119","v":"OLT"},{"$f":"Master!E119","v":"Active"},{"$f":"Master!F119","v":0},{"$f":"Master!G119","v":0},{"$f":"IF(Master!H119=\"\",\"B\",Master!H119)","v":"B"},{"$f":"IF(Master!I119=\"\",\"B\",Master!I119)","v":"B"},{"$f":"IF(Master!J119=\"\",\"B\",Master!J119)","v":1},{"$f":"IF(Master!K119=\"\",\"B\",Master!K119)","v":2},{"$f":"IF(Master!L119=\"\",\"B\",Master!L119)","v":"B"},{"$f":"IF(Master!M119=\"\",\"B\",Master!M119)","v":"B"}]
[{"$f":"Master!A120","v":"CN"},{"$f":"Master!B120","v":"WSDOT CN:INSPECTOR’S USE OF CONTRACT RESOURCES"},{"$f":"Master!C120","v":"WSDOT_UR1_OLT"},{"$f":"Master!D120","v":"OLT"},{"$f":"Master!E120","v":"Active"},{"$f":"Master!F120","v":0},{"$f":"Master!G120","v":0},{"$f":"IF(Master!H120=\"\",\"B\",Master!H120)","v":"B"},{"$f":"IF(Master!I120=\"\",\"B\",Master!I120)","v":"B"},{"$f":"IF(Master!J120=\"\",\"B\",Master!J120)","v":1},{"$f":"IF(Master!K120=\"\",\"B\",Master!K120)","v":2},{"$f":"IF(Master!L120=\"\",\"B\",Master!L120)","v":"B"},{"$f":"IF(Master!M120=\"\",\"B\",Master!M120)","v":"B"}]
[{"$f":"Master!A121","v":"CN"},{"$f":"Master!B121","v":"WSDOT CN: NHI CONTRACT ADMINISTRATION CORE CURRICULUM"},{"$f":"Master!C121","v":"WSDOT_NHI CONTRACT ADM"},{"$f":"Master!D121","v":"ILT"},{"$f":"Master!E121","v":"Active"},{"$f":"Master!F121","v":0},{"$f":"Master!G121","v":0},{"$f":"IF(Master!H121=\"\",\"B\",Master!H121)","v":"B"},{"$f":"IF(Master!I121=\"\",\"B\",Master!I121)","v":"B"},{"$f":"IF(Master!J121=\"\",\"B\",Master!J121)","v":"B"},{"$f":"IF(Master!K121=\"\",\"B\",Master!K121)","v":"B"},{"$f":"IF(Master!L121=\"\",\"B\",Master!L121)","v":"B"},{"$f":"IF(Master!M121=\"\",\"B\",Master!M121)","v":"B"}]
[{"$f":"Master!A122","v":"CN"},{"$f":"Master!B122","v":"WSDOT CN:NUCLEAR GAUGE SAFETY AND OPERATION"},{"$f":"Master!C122","v":"WSDOT_DCX_OLT"},{"$f":"Master!D122","v":"ILT"},{"$f":"Master!E122","v":"Active"},{"$f":"Master!F122","v":0},{"$f":"Master!G122","v":0},{"$f":"IF(Master!H122=\"\",\"B\",Master!H122)","v":"B"},{"$f":"IF(Master!I122=\"\",\"B\",Master!I122)","v":"B"},{"$f":"IF(Master!J122=\"\",\"B\",Master!J122)","v":2},{"$f":"IF(Master!K122=\"\",\"B\",Master!K122)","v":"B"},{"$f":"IF(Master!L122=\"\",\"B\",Master!L122)","v":"B"},{"$f":"IF(Master!M122=\"\",\"B\",Master!M122)","v":"B"}]
[{"$f":"Master!A123","v":"CN"},{"$f":"Master!B123","v":"WSDOT CN: NUCLEAR GAUGE, EMBANKMENT/SURFACING/PAVEMENT APPLICATIONS"},{"$f":"Master!C123","v":"WSDOT_ANQ"},{"$f":"Master!D123","v":"ILT"},{"$f":"Master!E123","v":"Active"},{"$f":"Master!F123","v":0},{"$f":"Master!G123","v":0},{"$f":"IF(Master!H123=\"\",\"B\",Master!H123)","v":"B"},{"$f":"IF(Master!I123=\"\",\"B\",Master!I123)","v":"B"},{"$f":"IF(Master!J123=\"\",\"B\",Master!J123)","v":2},{"$f":"IF(Master!K123=\"\",\"B\",Master!K123)","v":"B"},{"$f":"IF(Master!L123=\"\",\"B\",Master!L123)","v":"B"},{"$f":"IF(Master!M123=\"\",\"B\",Master!M123)","v":"B"}]
[{"$f":"Master!A124","v":"CN"},{"$f":"Master!B124","v":"WSDOT CN: PAVEMENT REHABILITATION"},{"$f":"Master!C124","v":"WSDOT_BQL"},{"$f":"Master!D124","v":"ILT"},{"$f":"Master!E124","v":"Active"},{"$f":"Master!F124","v":0},{"$f":"Master!G124","v":0},{"$f":"IF(Master!H124=\"\",\"B\",Master!H124)","v":"B"},{"$f":"IF(Master!I124=\"\",\"B\",Master!I124)","v":"B"},{"$f":"IF(Master!J124=\"\",\"B\",Master!J124)","v":"B"},{"$f":"IF(Master!K124=\"\",\"B\",Master!K124)","v":"B"},{"$f":"IF(Master!L124=\"\",\"B\",Master!L124)","v":"B"},{"$f":"IF(Master!M124=\"\",\"B\",Master!M124)","v":"B"}]
[{"$f":"Master!A125","v":"CN"},{"$f":"Master!B125","v":"WSDOT CN: PCC FIELD TESTING PROCEDURES"},{"$f":"Master!C125","v":"WSDOT_ABT"},{"$f":"Master!D125","v":"ILT"},{"$f":"Master!E125","v":"Active"},{"$f":"Master!F125","v":0},{"$f":"Master!G125","v":0},{"$f":"IF(Master!H125=\"\",\"B\",Master!H125)","v":"B"},{"$f":"IF(Master!I125=\"\",\"B\",Master!I125)","v":"B"},{"$f":"IF(Master!J125=\"\",\"B\",Master!J125)","v":"B"},{"$f":"IF(Master!K125=\"\",\"B\",Master!K125)","v":"B"},{"$f":"IF(Master!L125=\"\",\"B\",Master!L125)","v":"B"},{"$f":"IF(Master!M125=\"\",\"B\",Master!M125)","v":"B"}]
[{"$f":"Master!A126","v":"CN"},{"$f":"Master!B126","v":"WSDOT CN: PILE DRIVING INSPECTION"},{"$f":"Master!C126","v":"Piling_OLT"},{"$f":"Master!D126","v":"OLT"},{"$f":"Master!E126","v":"Active"},{"$f":"Master!F126","v":0},{"$f":"Master!G126","v":0},{"$f":"IF(Master!H126=\"\",\"B\",Master!H126)","v":"B"},{"$f":"IF(Master!I126=\"\",\"B\",Master!I126)","v":"B"},{"$f":"IF(Master!J126=\"\",\"B\",Master!J126)","v":"B"},{"$f":"IF(Master!K126=\"\",\"B\",Master!K126)","v":"B"},{"$f":"IF(Master!L126=\"\",\"B\",Master!L126)","v":"B"},{"$f":"IF(Master!M126=\"\",\"B\",Master!M126)","v":"B"}]
[{"$f":"Master!A127","v":"CN"},{"$f":"Master!B127","v":"WSDOT CN: PORTLAND CEMENT CONCRETE INSPECTION"},{"$f":"Master!C127","v":"WSDOT_PCC_OLT"},{"$f":"Master!D127","v":"OLT"},{"$f":"Master!E127","v":"Active"},{"$f":"Master!F127","v":0},{"$f":"Master!G127","v":0},{"$f":"IF(Master!H127=\"\",\"B\",Master!H127)","v":"B"},{"$f":"IF(Master!I127=\"\",\"B\",Master!I127)","v":"B"},{"$f":"IF(Master!J127=\"\",\"B\",Master!J127)","v":2},{"$f":"IF(Master!K127=\"\",\"B\",Master!K127)","v":"B"},{"$f":"IF(Master!L127=\"\",\"B\",Master!L127)","v":"B"},{"$f":"IF(Master!M127=\"\",\"B\",Master!M127)","v":"B"}]
[{"$f":"Master!A128","v":"CN"},{"$f":"Master!B128","v":"WSDOT CN: PRODUCING SOURCE DOCUMENTS"},{"$f":"Master!C128","v":"WSDOT_C1H_OLT"},{"$f":"Master!D128","v":"OLT"},{"$f":"Master!E128","v":"Active"},{"$f":"Master!F128","v":0},{"$f":"Master!G128","v":0},{"$f":"IF(Master!H128=\"\",\"B\",Master!H128)","v":"B"},{"$f":"IF(Master!I128=\"\",\"B\",Master!I128)","v":"B"},{"$f":"IF(Master!J128=\"\",\"B\",Master!J128)","v":"B"},{"$f":"IF(Master!K128=\"\",\"B\",Master!K128)","v":"B"},{"$f":"IF(Master!L128=\"\",\"B\",Master!L128)","v":"B"},{"$f":"IF(Master!M128=\"\",\"B\",Master!M128)","v":"B"}]
[{"$f":"Master!A129","v":"CN"},{"$f":"Master!B129","v":"WSDOT CN: SIGN BRIDGES AND CANTILEVER SIGNS"},{"$f":"Master!C129","v":"WSDOT_SBI_OLT"},{"$f":"Master!D129","v":"OLT"},{"$f":"Master!E129","v":"Active"},{"$f":"Master!F129","v":0},{"$f":"Master!G129","v":0},{"$f":"IF(Master!H129=\"\",\"B\",Master!H129)","v":"B"},{"$f":"IF(Master!I129=\"\",\"B\",Master!I129)","v":"B"},{"$f":"IF(Master!J129=\"\",\"B\",Master!J129)","v":2},{"$f":"IF(Master!K129=\"\",\"B\",Master!K129)","v":2},{"$f":"IF(Master!L129=\"\",\"B\",Master!L129)","v":"B"},{"$f":"IF(Master!M129=\"\",\"B\",Master!M129)","v":"B"}]
[{"$f":"Master!A130","v":"CN"},{"$f":"Master!B130","v":"WSDOT CN: SIGN INSPECTOR DUTIES"},{"$f":"Master!C130","v":"WSDOT_SID_OLT"},{"$f":"Master!D130","v":"OLT"},{"$f":"Master!E130","v":"Active"},{"$f":"Master!F130","v":0},{"$f":"Master!G130","v":0},{"$f":"IF(Master!H130=\"\",\"B\",Master!H130)","v":"B"},{"$f":"IF(Master!I130=\"\",\"B\",Master!I130)","v":"B"},{"$f":"IF(Master!J130=\"\",\"B\",Master!J130)","v":"B"},{"$f":"IF(Master!K130=\"\",\"B\",Master!K130)","v":2},{"$f":"IF(Master!L130=\"\",\"B\",Master!L130)","v":"B"},{"$f":"IF(Master!M130=\"\",\"B\",Master!M130)","v":"B"}]
[{"$f":"Master!A131","v":"CN"},{"$f":"Master!B131","v":"WSDOT CN: SIGN INSTALLATION INSPECTION"},{"$f":"Master!C131","v":"WSDOT_DFV"},{"$f":"Master!D131","v":"ILT"},{"$f":"Master!E131","v":"Active"},{"$f":"Master!F131","v":0},{"$f":"Master!G131","v":0},{"$f":"IF(Master!H131=\"\",\"B\",Master!H131)","v":"B"},{"$f":"IF(Master!I131=\"\",\"B\",Master!I131)","v":"B"},{"$f":"IF(Master!J131=\"\",\"B\",Master!J131)","v":"B"},{"$f":"IF(Master!K131=\"\",\"B\",Master!K131)","v":2},{"$f":"IF(Master!L131=\"\",\"B\",Master!L131)","v":"B"},{"$f":"IF(Master!M131=\"\",\"B\",Master!M131)","v":"B"}]
[{"$f":"Master!A132","v":"CN"},{"$f":"Master!B132","v":"WSDOT CN: SMALL AND LARGE SIGN INSPECTION REVIEW"},{"$f":"Master!C132","v":"WSDOT_SLR_OLT"},{"$f":"Master!D132","v":"OLT"},{"$f":"Master!E132","v":"Active"},{"$f":"Master!F132","v":0},{"$f":"Master!G132","v":0},{"$f":"IF(Master!H132=\"\",\"B\",Master!H132)","v":"B"},{"$f":"IF(Master!I132=\"\",\"B\",Master!I132)","v":"B"},{"$f":"IF(Master!J132=\"\",\"B\",Master!J132)","v":2},{"$f":"IF(Master!K132=\"\",\"B\",Master!K132)","v":2},{"$f":"IF(Master!L132=\"\",\"B\",Master!L132)","v":"B"},{"$f":"IF(Master!M132=\"\",\"B\",Master!M132)","v":"B"}]
[{"$f":"Master!A133","v":"CN"},{"$f":"Master!B133","v":"WSDOT CN: WORK ZONE TRAFFIC CONTROL"},{"$f":"Master!C133","v":"WSDOT_WZTC_OLT"},{"$f":"Master!D133","v":"OLT"},{"$f":"Master!E133","v":"Active"},{"$f":"Master!F133","v":0},{"$f":"Master!G133","v":0},{"$f":"IF(Master!H133=\"\",\"B\",Master!H133)","v":"B"},{"$f":"IF(Master!I133=\"\",\"B\",Master!I133)","v":"B"},{"$f":"IF(Master!J133=\"\",\"B\",Master!J133)","v":1},{"$f":"IF(Master!K133=\"\",\"B\",Master!K133)","v":1},{"$f":"IF(Master!L133=\"\",\"B\",Master!L133)","v":"B"},{"$f":"IF(Master!M133=\"\",\"B\",Master!M133)","v":"B"}]
[{"$f":"Master!A134","v":"CN"},{"$f":"Master!B134","v":"WSDOT DB: ALTERNATIVE TECHNICAL CONCEPT (ATC) REVIEW PROCESS"},{"$f":"Master!C134","v":"WSDOT_DB_ATC"},{"$f":"Master!D134","v":"ILT"},{"$f":"Master!E134","v":"Active"},{"$f":"Master!F134","v":0},{"$f":"Master!G134","v":0},{"$f":"IF(Master!H134=\"\",\"B\",Master!H134)","v":"B"},{"$f":"IF(Master!I134=\"\",\"B\",Master!I134)","v":"B"},{"$f":"IF(Master!J134=\"\",\"B\",Master!J134)","v":"B"},{"$f":"IF(Master!K134=\"\",\"B\",Master!K134)","v":"B"},{"$f":"IF(Master!L134=\"\",\"B\",Master!L134)","v":"B"},{"$f":"IF(Master!M134=\"\",\"B\",Master!M134)","v":"B"}]
[{"$f":"Master!A135","v":"CN"},{"$f":"Master!B135","v":"WSDOT DB: INTRODUCTION TO DESIGN-BUILD"},{"$f":"Master!C135","v":"WSDOT_DB_IDB"},{"$f":"Master!D135","v":"ILT"},{"$f":"Master!E135","v":"Active"},{"$f":"Master!F135","v":0},{"$f":"Master!G135","v":0},{"$f":"IF(Master!H135=\"\",\"B\",Master!H135)","v":"B"},{"$f":"IF(Master!I135=\"\",\"B\",Master!I135)","v":"B"},{"$f":"IF(Master!J135=\"\",\"B\",Master!J135)","v":"B"},{"$f":"IF(Master!K135=\"\",\"B\",Master!K135)","v":"B"},{"$f":"IF(Master!L135=\"\",\"B\",Master!L135)","v":"B"},{"$f":"IF(Master!M135=\"\",\"B\",Master!M135)","v":"B"}]
[{"$f":"Master!A136","v":"CN"},{"$f":"Master!B136","v":"WSDOT DB: DESIGN-BUILD BEST PRACTICES IN TRANSPORTATION"},{"$f":"Master!C136","v":"WSDOT_DB_BPT"},{"$f":"Master!D136","v":"ILT"},{"$f":"Master!E136","v":"Active"},{"$f":"Master!F136","v":0},{"$f":"Master!G136","v":0},{"$f":"IF(Master!H136=\"\",\"B\",Master!H136)","v":"B"},{"$f":"IF(Master!I136=\"\",\"B\",Master!I136)","v":"B"},{"$f":"IF(Master!J136=\"\",\"B\",Master!J136)","v":"B"},{"$f":"IF(Master!K136=\"\",\"B\",Master!K136)","v":"B"},{"$f":"IF(Master!L136=\"\",\"B\",Master!L136)","v":"B"},{"$f":"IF(Master!M136=\"\",\"B\",Master!M136)","v":"B"}]
[{"$f":"Master!A137","v":"CN"},{"$f":"Master!B137","v":"WSDOT DB: DESIGN-BUILD CLOSEOUT"},{"$f":"Master!C137","v":"WSDOT_DB_CO"},{"$f":"Master!D137","v":"ILT"},{"$f":"Master!E137","v":"Active"},{"$f":"Master!F137","v":0},{"$f":"Master!G137","v":0},{"$f":"IF(Master!H137=\"\",\"B\",Master!H137)","v":"B"},{"$f":"IF(Master!I137=\"\",\"B\",Master!I137)","v":"B"},{"$f":"IF(Master!J137=\"\",\"B\",Master!J137)","v":"B"},{"$f":"IF(Master!K137=\"\",\"B\",Master!K137)","v":"B"},{"$f":"IF(Master!L137=\"\",\"B\",Master!L137)","v":"B"},{"$f":"IF(Master!M137=\"\",\"B\",Master!M137)","v":"B"}]
[{"$f":"Master!A138","v":"CN"},{"$f":"Master!B138","v":"WSDOT DB: DESIGN-BUILD INSTRUCTIONS TO PROPOSERS (ITP) AND REQUEST FOR PROPOSALS (RFP)"},{"$f":"Master!C138","v":"WSDOT_DB_ITP_RFP"},{"$f":"Master!D138","v":"ILT"},{"$f":"Master!E138","v":"Active"},{"$f":"Master!F138","v":0},{"$f":"Master!G138","v":0},{"$f":"IF(Master!H138=\"\",\"B\",Master!H138)","v":"B"},{"$f":"IF(Master!I138=\"\",\"B\",Master!I138)","v":"B"},{"$f":"IF(Master!J138=\"\",\"B\",Master!J138)","v":"B"},{"$f":"IF(Master!K138=\"\",\"B\",Master!K138)","v":"B"},{"$f":"IF(Master!L138=\"\",\"B\",Master!L138)","v":"B"},{"$f":"IF(Master!M138=\"\",\"B\",Master!M138)","v":"B"}]
[{"$f":"Master!A139","v":"CN"},{"$f":"Master!B139","v":"WSDOT DB: DESIGN-BUILD OFFICE MANAGEMENT AND CONTRACT ADMINISTRATION"},{"$f":"Master!C139","v":"WSDOT_DB_CA"},{"$f":"Master!D139","v":"ILT"},{"$f":"Master!E139","v":"Active"},{"$f":"Master!F139","v":0},{"$f":"Master!G139","v":0},{"$f":"IF(Master!H139=\"\",\"B\",Master!H139)","v":"B"},{"$f":"IF(Master!I139=\"\",\"B\",Master!I139)","v":"B"},{"$f":"IF(Master!J139=\"\",\"B\",Master!J139)","v":"B"},{"$f":"IF(Master!K139=\"\",\"B\",Master!K139)","v":"B"},{"$f":"IF(Master!L139=\"\",\"B\",Master!L139)","v":"B"},{"$f":"IF(Master!M139=\"\",\"B\",Master!M139)","v":"B"}]
[{"$f":"Master!A140","v":"CN"},{"$f":"Master!B140","v":"WSDOT DB: DESIGN-BUILD STARTUP AND REQUEST FOR QUALIFICATIONS (RFQ\") DEVELOPMENT"},{"$f":"Master!C140","v":"WSDOT_DB_RFQ"},{"$f":"Master!D140","v":"ILT"},{"$f":"Master!E140","v":"Active"},{"$f":"Master!F140","v":0},{"$f":"Master!G140","v":0},{"$f":"IF(Master!H140=\"\",\"B\",Master!H140)","v":"B"},{"$f":"IF(Master!I140=\"\",\"B\",Master!I140)","v":"B"},{"$f":"IF(Master!J140=\"\",\"B\",Master!J140)","v":"B"},{"$f":"IF(Master!K140=\"\",\"B\",Master!K140)","v":"B"},{"$f":"IF(Master!L140=\"\",\"B\",Master!L140)","v":"B"},{"$f":"IF(Master!M140=\"\",\"B\",Master!M140)","v":"B"}]
[{"$f":"Master!A141","v":"CN"},{"$f":"Master!B141","v":"WSDOT DB: ENVIRONMENTAL IN DESIGN-BUILD"},{"$f":"Master!C141","v":"WSDOT_DB_E"},{"$f":"Master!D141","v":"ILT"},{"$f":"Master!E141","v":"Active"},{"$f":"Master!F141","v":0},{"$f":"Master!G141","v":0},{"$f":"IF(Master!H141=\"\",\"B\",Master!H141)","v":"B"},{"$f":"IF(Master!I141=\"\",\"B\",Master!I141)","v":"B"},{"$f":"IF(Master!J141=\"\",\"B\",Master!J141)","v":"B"},{"$f":"IF(Master!K141=\"\",\"B\",Master!K141)","v":"B"},{"$f":"IF(Master!L141=\"\",\"B\",Master!L141)","v":"B"},{"$f":"IF(Master!M141=\"\",\"B\",Master!M141)","v":"B"}]
[{"$f":"Master!A142","v":"CN"},{"$f":"Master!B142","v":"WSDOT DB: LESSONS LEARNED"},{"$f":"Master!C142","v":"WSDOT_DB_LL"},{"$f":"Master!D142","v":"ILT"},{"$f":"Master!E142","v":"Active"},{"$f":"Master!F142","v":0},{"$f":"Master!G142","v":0},{"$f":"IF(Master!H142=\"\",\"B\",Master!H142)","v":"B"},{"$f":"IF(Master!I142=\"\",\"B\",Master!I142)","v":"B"},{"$f":"IF(Master!J142=\"\",\"B\",Master!J142)","v":"B"},{"$f":"IF(Master!K142=\"\",\"B\",Master!K142)","v":"B"},{"$f":"IF(Master!L142=\"\",\"B\",Master!L142)","v":"B"},{"$f":"IF(Master!M142=\"\",\"B\",Master!M142)","v":"B"}]
[{"$f":"Master!A143","v":"CN"},{"$f":"Master!B143","v":"WSDOT DB: PROPOSAL EVALUATION"},{"$f":"Master!C143","v":"WSDOT_DB_PE"},{"$f":"Master!D143","v":"ILT"},{"$f":"Master!E143","v":"Active"},{"$f":"Master!F143","v":0},{"$f":"Master!G143","v":0},{"$f":"IF(Master!H143=\"\",\"B\",Master!H143)","v":"B"},{"$f":"IF(Master!I143=\"\",\"B\",Master!I143)","v":"B"},{"$f":"IF(Master!J143=\"\",\"B\",Master!J143)","v":"B"},{"$f":"IF(Master!K143=\"\",\"B\",Master!K143)","v":"B"},{"$f":"IF(Master!L143=\"\",\"B\",Master!L143)","v":"B"},{"$f":"IF(Master!M143=\"\",\"B\",Master!M143)","v":"B"}]
[{"$f":"Master!A144","v":"CN"},{"$f":"Master!B144","v":"WSDOT DB: QUALITY IN DESIGN-BUILD"},{"$f":"Master!C144","v":"WSDOT_DB_Q"},{"$f":"Master!D144","v":"ILT"},{"$f":"Master!E144","v":"Active"},{"$f":"Master!F144","v":0},{"$f":"Master!G144","v":0},{"$f":"IF(Master!H144=\"\",\"B\",Master!H144)","v":"B"},{"$f":"IF(Master!I144=\"\",\"B\",Master!I144)","v":"B"},{"$f":"IF(Master!J144=\"\",\"B\",Master!J144)","v":"B"},{"$f":"IF(Master!K144=\"\",\"B\",Master!K144)","v":"B"},{"$f":"IF(Master!L144=\"\",\"B\",Master!L144)","v":"B"},{"$f":"IF(Master!M144=\"\",\"B\",Master!M144)","v":"B"}]
[{"$f":"Master!A145","v":"CN"},{"$f":"Master!B145","v":"WSDOT DB: STATEMENT OF QUALIFICATIONS (SOQ) EVALUATION"},{"$f":"Master!C145","v":"WSDOT_DB_SOQE"},{"$f":"Master!D145","v":"ILT"},{"$f":"Master!E145","v":"Active"},{"$f":"Master!F145","v":0},{"$f":"Master!G145","v":0},{"$f":"IF(Master!H145=\"\",\"B\",Master!H145)","v":"B"},{"$f":"IF(Master!I145=\"\",\"B\",Master!I145)","v":"B"},{"$f":"IF(Master!J145=\"\",\"B\",Master!J145)","v":"B"},{"$f":"IF(Master!K145=\"\",\"B\",Master!K145)","v":"B"},{"$f":"IF(Master!L145=\"\",\"B\",Master!L145)","v":"B"},{"$f":"IF(Master!M145=\"\",\"B\",Master!M145)","v":"B"}]
[{"$f":"Master!A146","v":"CN"},{"$f":"Master!B146","v":"**WSDOT DB: EVALUATION"},{"$f":"Master!C146","v":0},{"$f":"Master!D146","v":"ILT"},{"$f":"Master!E146","v":"Under Development"},{"$f":"Master!F146","v":"Q1 2019"},{"$f":"Master!G146","v":0},{"$f":"IF(Master!H146=\"\",\"B\",Master!H146)","v":"B"},{"$f":"IF(Master!I146=\"\",\"B\",Master!I146)","v":"B"},{"$f":"IF(Master!J146=\"\",\"B\",Master!J146)","v":"B"},{"$f":"IF(Master!K146=\"\",\"B\",Master!K146)","v":"B"},{"$f":"IF(Master!L146=\"\",\"B\",Master!L146)","v":"B"},{"$f":"IF(Master!M146=\"\",\"B\",Master!M146)","v":"B"}]
[{"$f":"Master!A147","v":"CN"},{"$f":"Master!B147","v":"WSDOT DB: DESIGN-BUILD INVOICE PROCESSING"},{"$f":"Master!C147","v":0},{"$f":"Master!D147","v":"ILT"},{"$f":"Master!E147","v":"Active"},{"$f":"Master!F147","v":0},{"$f":"Master!G147","v":0},{"$f":"IF(Master!H147=\"\",\"B\",Master!H147)","v":"B"},{"$f":"IF(Master!I147=\"\",\"B\",Master!I147)","v":"B"},{"$f":"IF(Master!J147=\"\",\"B\",Master!J147)","v":"B"},{"$f":"IF(Master!K147=\"\",\"B\",Master!K147)","v":"B"},{"$f":"IF(Master!L147=\"\",\"B\",Master!L147)","v":"B"},{"$f":"IF(Master!M147=\"\",\"B\",Master!M147)","v":"B"}]
[{"$f":"Master!A148","v":"CN"},{"$f":"Master!B148","v":"WSDOT DB: INTERNAL AND EXTERNAL DEBRIEFING"},{"$f":"Master!C148","v":0},{"$f":"Master!D148","v":"ILT"},{"$f":"Master!E148","v":"Active"},{"$f":"Master!F148","v":0},{"$f":"Master!G148","v":0},{"$f":"IF(Master!H148=\"\",\"B\",Master!H148)","v":"B"},{"$f":"IF(Master!I148=\"\",\"B\",Master!I148)","v":"B"},{"$f":"IF(Master!J148=\"\",\"B\",Master!J148)","v":"B"},{"$f":"IF(Master!K148=\"\",\"B\",Master!K148)","v":"B"},{"$f":"IF(Master!L148=\"\",\"B\",Master!L148)","v":"B"},{"$f":"IF(Master!M148=\"\",\"B\",Master!M148)","v":"B"}]
[{"$f":"Master!A149","v":"CN"},{"$f":"Master!B149","v":"WSDOT DB: DESIGN-BUILD QUALITY VERIFICATION"},{"$f":"Master!C149","v":0},{"$f":"Master!D149","v":"ILT"},{"$f":"Master!E149","v":"Active"},{"$f":"Master!F149","v":0},{"$f":"Master!G149","v":0},{"$f":"IF(Master!H149=\"\",\"B\",Master!H149)","v":"B"},{"$f":"IF(Master!I149=\"\",\"B\",Master!I149)","v":"B"},{"$f":"IF(Master!J149=\"\",\"B\",Master!J149)","v":"B"},{"$f":"IF(Master!K149=\"\",\"B\",Master!K149)","v":"B"},{"$f":"IF(Master!L149=\"\",\"B\",Master!L149)","v":"B"},{"$f":"IF(Master!M149=\"\",\"B\",Master!M149)","v":"B"}]
[{"$f":"Master!A150","v":"CN"},{"$f":"Master!B150","v":"**WSDOT DB: QV ADMINISTRATION"},{"$f":"Master!C150","v":0},{"$f":"Master!D150","v":"ILT"},{"$f":"Master!E150","v":"Under Development"},{"$f":"Master!F150","v":"Q1 2019"},{"$f":"Master!G150","v":0},{"$f":"IF(Master!H150=\"\",\"B\",Master!H150)","v":"B"},{"$f":"IF(Master!I150=\"\",\"B\",Master!I150)","v":"B"},{"$f":"IF(Master!J150=\"\",\"B\",Master!J150)","v":"B"},{"$f":"IF(Master!K150=\"\",\"B\",Master!K150)","v":"B"},{"$f":"IF(Master!L150=\"\",\"B\",Master!L150)","v":"B"},{"$f":"IF(Master!M150=\"\",\"B\",Master!M150)","v":"B"}]
[{"$f":"Master!A151","v":"CN"},{"$f":"Master!B151","v":"**WSDOT DB: RISK ANALYSIS AND ALLOCATION FOR DB CONTRACTS"},{"$f":"Master!C151","v":0},{"$f":"Master!D151","v":"ILT"},{"$f":"Master!E151","v":"Under Development"},{"$f":"Master!F151","v":"Q1 2019"},{"$f":"Master!G151","v":0},{"$f":"IF(Master!H151=\"\",\"B\",Master!H151)","v":"B"},{"$f":"IF(Master!I151=\"\",\"B\",Master!I151)","v":"B"},{"$f":"IF(Master!J151=\"\",\"B\",Master!J151)","v":"B"},{"$f":"IF(Master!K151=\"\",\"B\",Master!K151)","v":"B"},{"$f":"IF(Master!L151=\"\",\"B\",Master!L151)","v":"B"},{"$f":"IF(Master!M151=\"\",\"B\",Master!M151)","v":"B"}]
[{"$f":"Master!A152","v":"Development Division"},null,null,null,null,null,null,{"$f":"IF(Master!L152=\"\",\"B\",Master!L152)","v":"B"},{"$f":"IF(Master!W152=\"\",\"B\",Master!W152)","v":"B"},{"$f":"IF(Master!AH152=\"\",\"B\",Master!AH152)","v":"B"},{"$f":"IF(Master!AS152=\"\",\"B\",Master!AS152)","v":"B"},{"$f":"IF(Master!BD152=\"\",\"B\",Master!BD152)","v":"B"},{"$f":"IF(Master!BO152=\"\",\"B\",Master!BO152)","v":"B"}]
[{"$f":"Master!A153","v":"Design"},null,null,null,null,null,null,{"$f":"IF(Master!L153=\"\",\"B\",Master!L153)","v":"B"},{"$f":"IF(Master!W153=\"\",\"B\",Master!W153)","v":"B"},{"$f":"IF(Master!AH153=\"\",\"B\",Master!AH153)","v":"B"},{"$f":"IF(Master!AS153=\"\",\"B\",Master!AS153)","v":"B"},{"$f":"IF(Master!BD153=\"\",\"B\",Master!BD153)","v":"B"},{"$f":"IF(Master!BO153=\"\",\"B\",Master!BO153)","v":"B"}]
[{"$f":"Master!A154","v":"DES"},{"$f":"Master!B154","v":"CONTRACT PLANS REVIEW (SELF-STUDY)"},{"$f":"Master!C154","v":"Paper and Pencil"},{"$f":"Master!D154","v":"SS"},{"$f":"Master!E154","v":"Active"},{"$f":"Master!F154","v":0},{"$f":"Master!H154","v":"E-Learning option as well.  Updated in 2013."},{"$f":"IF(Master!L154=\"\",\"B\",Master!L154)","v":"R"},{"$f":"IF(Master!W154=\"\",\"B\",Master!W154)","v":"R"},{"$f":"IF(Master!AH154=\"\",\"B\",Master!AH154)","v":1},{"$f":"IF(Master!AS154=\"\",\"B\",Master!AS154)","v":1},{"$f":"IF(Master!BD154=\"\",\"B\",Master!BD154)","v":"B"},{"$f":"IF(Master!BO154=\"\",\"B\",Master!BO154)","v":"B"}]
[{"$f":"Master!A155","v":"DES"},{"$f":"Master!B155","v":"CONTRACT PLANS READING (SELF-STUDY)"},{"$f":"Master!C155","v":"Paper and Pencil"},{"$f":"Master!D155","v":"SS"},{"$f":"Master!E155","v":"Active"},{"$f":"Master!F155","v":0},{"$f":"Master!H155","v":"Obtain material through Staff Development."},{"$f":"IF(Master!L155=\"\",\"B\",Master!L155)","v":"R"},{"$f":"IF(Master!W155=\"\",\"B\",Master!W155)","v":"R"},{"$f":"IF(Master!AH155=\"\",\"B\",Master!AH155)","v":1},{"$f":"IF(Master!AS155=\"\",\"B\",Master!AS155)","v":1},{"$f":"IF(Master!BD155=\"\",\"B\",Master!BD155)","v":"B"},{"$f":"IF(Master!BO155=\"\",\"B\",Master!BO155)","v":"B"}]
[{"$f":"Master!A156","v":"DES"},{"$f":"Master!B156","v":"WSDOT DES: CONTRACT PLANS & ESTIMATE PREPARATION"},{"$f":"Master!C156","v":"WSDOT_A4J"},{"$f":"Master!D156","v":"ILT"},{"$f":"Master!E156","v":"Inactive"},{"$f":"Master!F156","v":"None"},{"$f":"Master!H156","v":0},{"$f":"IF(Master!L156=\"\",\"B\",Master!L156)","v":"B"},{"$f":"IF(Master!W156=\"\",\"B\",Master!W156)","v":"B"},{"$f":"IF(Master!AH156=\"\",\"B\",Master!AH156)","v":"B"},{"$f":"IF(Master!AS156=\"\",\"B\",Master!AS156)","v":"B"},{"$f":"IF(Master!BD156=\"\",\"B\",Master!BD156)","v":"B"},{"$f":"IF(Master!BO156=\"\",\"B\",Master!BO156)","v":"B"}]
[{"$f":"Master!A157","v":"DES"},{"$f":"Master!B157","v":"WSDOT DES: CONTRACT PROVISION PREPARATION"},{"$f":"Master!C157","v":"WSDOT_BGN"},{"$f":"Master!D157","v":"ILT"},{"$f":"Master!E157","v":"Inactive"},{"$f":"Master!F157","v":"None"},{"$f":"Master!H157","v":0},{"$f":"IF(Master!L157=\"\",\"B\",Master!L157)","v":"B"},{"$f":"IF(Master!W157=\"\",\"B\",Master!W157)","v":"B"},{"$f":"IF(Master!AH157=\"\",\"B\",Master!AH157)","v":"B"},{"$f":"IF(Master!AS157=\"\",\"B\",Master!AS157)","v":"B"},{"$f":"IF(Master!BD157=\"\",\"B\",Master!BD157)","v":"B"},{"$f":"IF(Master!BO157=\"\",\"B\",Master!BO157)","v":"B"}]
[{"$f":"Master!A158","v":"DES"},{"$f":"Master!B158","v":"WSDOT DESIGN DOCUMENTATION"},{"$f":"Master!C158","v":"WSDOT DES: Design Documentation"},{"$f":"Master!D158","v":"ILT"},{"$f":"Master!E158","v":"Active"},{"$f":"Master!F158","v":0},{"$f":"Master!H158","v":"Contact ASDE; course material is at https://www.wsdot.wa.gov/Design/Support.htm."},{"$f":"IF(Master!L158=\"\",\"B\",Master!L158)","v":"B"},{"$f":"IF(Master!W158=\"\",\"B\",Master!W158)","v":"B"},{"$f":"IF(Master!AH158=\"\",\"B\",Master!AH158)","v":"B"},{"$f":"IF(Master!AS158=\"\",\"B\",Master!AS158)","v":"B"},{"$f":"IF(Master!BD158=\"\",\"B\",Master!BD158)","v":"B"},{"$f":"IF(Master!BO158=\"\",\"B\",Master!BO158)","v":"B"}]
[{"$f":"Master!A159","v":"DES"},{"$f":"Master!B159","v":"WSDOT DES: INTERSECTION DESIGN"},{"$f":"Master!C159","v":"WSDOT_CBD"},{"$f":"Master!D159","v":"ILT"},{"$f":"Master!E159","v":"Active"},{"$f":"Master!F159","v":0},{"$f":"Master!H159","v":"Course  updated in 2019,  delivered to all regions; class delivered by request."},{"$f":"IF(Master!L159=\"\",\"B\",Master!L159)","v":"B"},{"$f":"IF(Master!W159=\"\",\"B\",Master!W159)","v":"B"},{"$f":"IF(Master!AH159=\"\",\"B\",Master!AH159)","v":"B"},{"$f":"IF(Master!AS159=\"\",\"B\",Master!AS159)","v":"B"},{"$f":"IF(Master!BD159=\"\",\"B\",Master!BD159)","v":"B"},{"$f":"IF(Master!BO159=\"\",\"B\",Master!BO159)","v":"B"}]
[{"$f":"Master!A160","v":"DES"},{"$f":"Master!B160","v":"WSDOT DES: PROJECT DEVELOPMENT PROCESS"},{"$f":"Master!C160","v":"WSDOT_CF4"},{"$f":"Master!D160","v":"ILT"},{"$f":"Master!E160","v":"Active"},{"$f":"Master!F160","v":"None"},{"$f":"Master!H160","v":"Updated January 2020; will deliver to regions by 6/30/2021"},{"$f":"IF(Master!L160=\"\",\"B\",Master!L160)","v":"B"},{"$f":"IF(Master!W160=\"\",\"B\",Master!W160)","v":"B"},{"$f":"IF(Master!AH160=\"\",\"B\",Master!AH160)","v":"B"},{"$f":"IF(Master!AS160=\"\",\"B\",Master!AS160)","v":"B"},{"$f":"IF(Master!BD160=\"\",\"B\",Master!BD160)","v":"B"},{"$f":"IF(Master!BO160=\"\",\"B\",Master!BO160)","v":"B"}]
[{"$f":"Master!A161","v":"DES"},{"$f":"Master!B161","v":"WSDOT PM: SCHEDULING BASICS"},{"$f":"Master!C161","v":"WSDOT_CB5"},{"$f":"Master!D161","v":"ILT"},{"$f":"Master!E161","v":"Inactive"},{"$f":"Master!F161","v":"None"},{"$f":"Master!H161","v":0},{"$f":"IF(Master!L161=\"\",\"B\",Master!L161)","v":"B"},{"$f":"IF(Master!W161=\"\",\"B\",Master!W161)","v":"B"},{"$f":"IF(Master!AH161=\"\",\"B\",Master!AH161)","v":"B"},{"$f":"IF(Master!AS161=\"\",\"B\",Master!AS161)","v":"B"},{"$f":"IF(Master!BD161=\"\",\"B\",Master!BD161)","v":"B"},{"$f":"IF(Master!BO161=\"\",\"B\",Master!BO161)","v":"B"}]
[{"$f":"Master!A162","v":"DES"},{"$f":"Master!B162","v":"AASHTO T3 CPM SCHEDULING"},{"$f":"Master!C162","v":"Resources:\nCPM Scheduling (2 PDHs)\nCPM Scheduling (3 PDHs)"},{"$f":"Master!D162","v":"OLT"},{"$f":"Master!E162","v":"Active"},{"$f":"Master!F162","v":0},{"$f":"Master!H162","v":"The online CPM training is free for WSDOT employees. To sign up, create an AASHTO account (use your WSDOT email address for the username) then navigate to the CPM training and add it to your cart. Follow the instructions that are emailed to you. There are a variety of other courses available to WSDOT employees at no cost."}]
[{"$f":"Master!A163","v":"DES"},{"$f":"Master!B163","v":"WSDOT DES: RIGHT OF WAY PLANS PREPARATION"},{"$f":"Master!C163","v":"WSDOT_BCN"},{"$f":"Master!D163","v":"ILT"},{"$f":"Master!E163","v":"Inactive"},{"$f":"Master!F163","v":"None"},{"$f":"Master!H163","v":0},{"$f":"IF(Master!L163=\"\",\"B\",Master!L163)","v":2},{"$f":"IF(Master!W163=\"\",\"B\",Master!W163)","v":2},{"$f":"IF(Master!AH163=\"\",\"B\",Master!AH163)","v":2},{"$f":"IF(Master!AS163=\"\",\"B\",Master!AS163)","v":2},{"$f":"IF(Master!BD163=\"\",\"B\",Master!BD163)","v":2},{"$f":"IF(Master!BO163=\"\",\"B\",Master!BO163)","v":"B"}]
[{"$f":"Master!A164","v":"DES"},{"$f":"Master!B164","v":"WSDOT DES: ROADSIDE SAFETY"},{"$f":"Master!C164","v":"WSDOT_B74"},{"$f":"Master!D164","v":"ILT"},{"$f":"Master!E164","v":"Inactive"},{"$f":"Master!F164","v":"None"},{"$f":"Master!H164","v":0},{"$f":"IF(Master!L164=\"\",\"B\",Master!L164)","v":"B"},{"$f":"IF(Master!W164=\"\",\"B\",Master!W164)","v":"B"},{"$f":"IF(Master!AH164=\"\",\"B\",Master!AH164)","v":"B"},{"$f":"IF(Master!AS164=\"\",\"B\",Master!AS164)","v":"B"},{"$f":"IF(Master!BD164=\"\",\"B\",Master!BD164)","v":"B"},{"$f":"IF(Master!BO164=\"\",\"B\",Master!BO164)","v":"B"}]
[{"$f":"Master!A165","v":"DES"},{"$f":"Master!B165","v":"WSDOT DES: ROADWAY GEOMETRIC DESIGN"},{"$f":"Master!C165","v":"WSDOT_BWE"},{"$f":"Master!D165","v":"ILT"},{"$f":"Master!E165","v":"Inactive"},{"$f":"Master!F165","v":"None"},{"$f":"Master!H165","v":0},{"$f":"IF(Master!L165=\"\",\"B\",Master!L165)","v":2},{"$f":"IF(Master!W165=\"\",\"B\",Master!W165)","v":2},{"$f":"IF(Master!AH165=\"\",\"B\",Master!AH165)","v":2},{"$f":"IF(Master!AS165=\"\",\"B\",Master!AS165)","v":2},{"$f":"IF(Master!BD165=\"\",\"B\",Master!BD165)","v":2},{"$f":"IF(Master!BO165=\"\",\"B\",Master!BO165)","v":"B"}]
[{"$f":"Master!A166","v":"DES"},{"$f":"Master!B166","v":"WSDOT DES: INTERCHANGE DESIGN"},{"$f":"Master!C166","v":"WSDOT_CFU"},{"$f":"Master!D166","v":"ILT"},{"$f":"Master!E166","v":"Inactive"},{"$f":"Master!F166","v":"None"},{"$f":"Master!H166","v":"FHWA delivered their interchange training at WSDOT in 2019; course delivery depends on demand."},{"$f":"IF(Master!L166=\"\",\"B\",Master!L166)","v":"B"},{"$f":"IF(Master!W166=\"\",\"B\",Master!W166)","v":"B"},{"$f":"IF(Master!AH166=\"\",\"B\",Master!AH166)","v":"B"},{"$f":"IF(Master!AS166=\"\",\"B\",Master!AS166)","v":"B"},{"$f":"IF(Master!BD166=\"\",\"B\",Master!BD166)","v":"B"},{"$f":"IF(Master!BO166=\"\",\"B\",Master!BO166)","v":"B"}]
[{"$f":"Master!A167","v":"DES"},{"$f":"Master!B167","v":"WSDOT DES: ACCESS MANAGEMENT"},{"$f":"Master!C167","v":"WSDOT_DAS"},{"$f":"Master!D167","v":"ILT"},{"$f":"Master!E167","v":"Active"},{"$f":"Master!F167","v":0},{"$f":"Master!H167","v":"Being updated, but current class can be given at any time"},{"$f":"IF(Master!L167=\"\",\"B\",Master!L167)","v":"B"},{"$f":"IF(Master!W167=\"\",\"B\",Master!W167)","v":"B"},{"$f":"IF(Master!AH167=\"\",\"B\",Master!AH167)","v":"B"},{"$f":"IF(Master!AS167=\"\",\"B\",Master!AS167)","v":"B"},{"$f":"IF(Master!BD167=\"\",\"B\",Master!BD167)","v":"B"},{"$f":"IF(Master!BO167=\"\",\"B\",Master!BO167)","v":"B"}]
[{"$f":"Master!A168","v":"DES"},{"$f":"Master!B168","v":"ALTERNATIVES COMPARISON WORKSHOP"},{"$f":"Master!C168","v":"None"},{"$f":"Master!D168","v":"ILT"},{"$f":"Master!E168","v":"Inactive"},{"$f":"Master!F168","v":"None"},{"$f":"Master!H168","v":0},{"$f":"IF(Master!L168=\"\",\"B\",Master!L168)","v":"B"},{"$f":"IF(Master!W168=\"\",\"B\",Master!W168)","v":"B"},{"$f":"IF(Master!AH168=\"\",\"B\",Master!AH168)","v":"B"},{"$f":"IF(Master!AS168=\"\",\"B\",Master!AS168)","v":"B"},{"$f":"IF(Master!BD168=\"\",\"B\",Master!BD168)","v":"B"},{"$f":"IF(Master!BO168=\"\",\"B\",Master!BO168)","v":"B"}]
[{"$f":"Master!A169","v":"DES"},{"$f":"Master!B169","v":"WSDOT DES: COST ESTIMATING"},{"$f":"Master!C169","v":"WSDOT_CZV"},{"$f":"Master!D169","v":"ILT"},{"$f":"Master!E169","v":"Active"},{"$f":"Master!F169","v":0},{"$f":"Master!H169","v":"This class was updated in 2019 and delivered to all regions 2019-2020; this class can be delivered by request."},{"$f":"IF(Master!L169=\"\",\"B\",Master!L169)","v":"B"},{"$f":"IF(Master!W169=\"\",\"B\",Master!W169)","v":"B"},{"$f":"IF(Master!AH169=\"\",\"B\",Master!AH169)","v":"B"},{"$f":"IF(Master!AS169=\"\",\"B\",Master!AS169)","v":"B"},{"$f":"IF(Master!BD169=\"\",\"B\",Master!BD169)","v":"B"},{"$f":"IF(Master!BO169=\"\",\"B\",Master!BO169)","v":"B"}]
[{"$f":"Master!A170","v":"DES"},{"$f":"Master!B170","v":"RISK MANAGEMENT"},{"$f":"Master!C170","v":"None"},{"$f":"Master!D170","v":"ILT"},{"$f":"Master!E170","v":"Inactive"},{"$f":"Master!F170","v":"None"},{"$f":"Master!H170","v":"Available by arrangement; contact Mark Gabel or Mark Suijka."},{"$f":"IF(Master!L170=\"\",\"B\",Master!L170)","v":"B"},{"$f":"IF(Master!W170=\"\",\"B\",Master!W170)","v":"B"},{"$f":"IF(Master!AH170=\"\",\"B\",Master!AH170)","v":"B"},{"$f":"IF(Master!AS170=\"\",\"B\",Master!AS170)","v":"B"},{"$f":"IF(Master!BD170=\"\",\"B\",Master!BD170)","v":"B"},{"$f":"IF(Master!BO170=\"\",\"B\",Master!BO170)","v":"B"}]
[{"$f":"Master!A171","v":"DES"},{"$f":"Master!B171","v":"MANAGING PROJECT DELIVERY"},{"$f":"Master!C171","v":"None"},{"$f":"Master!D171","v":0},{"$f":"Master!E171","v":"Inactive"},{"$f":"Master!F171","v":"None"},{"$f":"Master!H171","v":"PM courses abailable through SkillSoft:  https://wsdot.skillport.com/skillportfe/main.action#whatshappening"},{"$f":"IF(Master!L171=\"\",\"B\",Master!L171)","v":"B"},{"$f":"IF(Master!W171=\"\",\"B\",Master!W171)","v":"B"},{"$f":"IF(Master!AH171=\"\",\"B\",Master!AH171)","v":"B"},{"$f":"IF(Master!AS171=\"\",\"B\",Master!AS171)","v":"B"},{"$f":"IF(Master!BD171=\"\",\"B\",Master!BD171)","v":"B"},{"$f":"IF(Master!BO171=\"\",\"B\",Master!BO171)","v":"B"}]
[{"$f":"Master!A172","v":"DES"},{"$f":"Master!B172","v":"HUMAN FACTORS IN TRANSPORTATION DESIGN"},{"$f":"Master!C172","v":"None"},{"$f":"Master!D172","v":"ILT"},{"$f":"Master!E172","v":"Inactive"},{"$f":"Master!F172","v":"None"},{"$f":"Master!H172","v":"Partly covered in the HSM Training"},{"$f":"IF(Master!L172=\"\",\"B\",Master!L172)","v":"B"},{"$f":"IF(Master!W172=\"\",\"B\",Master!W172)","v":"B"},{"$f":"IF(Master!AH172=\"\",\"B\",Master!AH172)","v":"B"},{"$f":"IF(Master!AS172=\"\",\"B\",Master!AS172)","v":"B"},{"$f":"IF(Master!BD172=\"\",\"B\",Master!BD172)","v":"B"},{"$f":"IF(Master!BO172=\"\",\"B\",Master!BO172)","v":"B"}]
[{"$f":"Master!A173","v":"DES"},{"$f":"Master!B173","v":"WSDOT DES: [YYYY] DESIGN MANUAL TRAINING"},{"$f":"Master!C173","v":"WSDOT_DMUT01202016"},{"$f":"Master!D173","v":"ILT"},{"$f":"Master!E173","v":"Active"},{"$f":"Master!F173","v":0},{"$f":"Master!H173","v":0},{"$f":"IF(Master!L173=\"\",\"B\",Master!L173)","v":"B"},{"$f":"IF(Master!W173=\"\",\"B\",Master!W173)","v":"B"},{"$f":"IF(Master!AH173=\"\",\"B\",Master!AH173)","v":"B"},{"$f":"IF(Master!AS173=\"\",\"B\",Master!AS173)","v":"B"},{"$f":"IF(Master!BD173=\"\",\"B\",Master!BD173)","v":"B"},{"$f":"IF(Master!BO173=\"\",\"B\",Master!BO173)","v":"B"}]
[{"$f":"Master!A174","v":"DES"},{"$f":"Master!B174","v":"WSDOT DES: DESIGN MANUAL DIVISION 11 PRACTICAL DESIGN"},{"$f":"Master!C174","v":"DMUT_ORG"},{"$f":"Master!D174","v":"OLT"},{"$f":"Master!E174","v":"Active"},{"$f":"Master!F174","v":0},{"$f":"Master!H174","v":"Available in LMS for credit, also at https://www.wsdot.wa.gov/LocalPrograms/Training/eTraining.htm "},{"$f":"IF(Master!L174=\"\",\"B\",Master!L174)","v":"B"},{"$f":"IF(Master!W174=\"\",\"B\",Master!W174)","v":"B"},{"$f":"IF(Master!AH174=\"\",\"B\",Master!AH174)","v":"B"},{"$f":"IF(Master!AS174=\"\",\"B\",Master!AS174)","v":"B"},{"$f":"IF(Master!BD174=\"\",\"B\",Master!BD174)","v":"B"},{"$f":"IF(Master!BO174=\"\",\"B\",Master!BO174)","v":"B"}]
[{"$f":"Master!A175","v":"DES"},{"$f":"Master!B175","v":"WSDOT PS 201 MULTIMODAL MAKING THE CASE MODULE1 OLT"},{"$f":"Master!C175","v":"Module_1:_Why_Multimodal?_ORG"},{"$f":"Master!D175","v":"OLT"},{"$f":"Master!E175","v":"Active"},{"$f":"Master!F175","v":0},{"$f":"Master!H175","v":0},{"$f":"IF(Master!L175=\"\",\"B\",Master!L175)","v":"B"},{"$f":"IF(Master!W175=\"\",\"B\",Master!W175)","v":"B"},{"$f":"IF(Master!AH175=\"\",\"B\",Master!AH175)","v":"B"},{"$f":"IF(Master!AS175=\"\",\"B\",Master!AS175)","v":"B"},{"$f":"IF(Master!BD175=\"\",\"B\",Master!BD175)","v":"B"},{"$f":"IF(Master!BO175=\"\",\"B\",Master!BO175)","v":"B"}]
[{"$f":"Master!A176","v":"DES"},{"$f":"Master!B176","v":"WSDOT PS 201 MULTIMODAL LAND USE MODULE2 OLT"},{"$f":"Master!C176","v":"Module_2_Land_Use_&_Transportation_ORG"},{"$f":"Master!D176","v":"OLT"},{"$f":"Master!E176","v":"Active"},{"$f":"Master!F176","v":0},{"$f":"Master!H176","v":0},{"$f":"IF(Master!L176=\"\",\"B\",Master!L176)","v":"B"},{"$f":"IF(Master!W176=\"\",\"B\",Master!W176)","v":"B"},{"$f":"IF(Master!AH176=\"\",\"B\",Master!AH176)","v":"B"},{"$f":"IF(Master!AS176=\"\",\"B\",Master!AS176)","v":"B"},{"$f":"IF(Master!BD176=\"\",\"B\",Master!BD176)","v":"B"},{"$f":"IF(Master!BO176=\"\",\"B\",Master!BO176)","v":"B"}]
[{"$f":"Master!A177","v":"DES"},{"$f":"Master!B177","v":"WSDOT PS 201 MULTIMODAL PHASES AND NEEDS MODULE3 OLT"},{"$f":"Master!C177","v":"Module_3_Phases_and_Needs_ORG"},{"$f":"Master!D177","v":"OLT"},{"$f":"Master!E177","v":" Active"},{"$f":"Master!F177","v":0},{"$f":"Master!H177","v":0},{"$f":"IF(Master!L177=\"\",\"B\",Master!L177)","v":"B"},{"$f":"IF(Master!W177=\"\",\"B\",Master!W177)","v":"B"},{"$f":"IF(Master!AH177=\"\",\"B\",Master!AH177)","v":"B"},{"$f":"IF(Master!AS177=\"\",\"B\",Master!AS177)","v":"B"},{"$f":"IF(Master!BD177=\"\",\"B\",Master!BD177)","v":"B"},{"$f":"IF(Master!BO177=\"\",\"B\",Master!BO177)","v":"B"}]
[{"$f":"Master!A178","v":"DES"},{"$f":"Master!B178","v":"WSDOT PS 201 MULTIMODAL PERFORMANCE BASICS MODULE4 OLT"},{"$f":"Master!C178","v":"Module_4_Performance_Basics_ORG"},{"$f":"Master!D178","v":"OLT"},{"$f":"Master!E178","v":"Active"},{"$f":"Master!F178","v":0},{"$f":"Master!H178","v":0},{"$f":"IF(Master!L178=\"\",\"B\",Master!L178)","v":"B"},{"$f":"IF(Master!W178=\"\",\"B\",Master!W178)","v":"B"},{"$f":"IF(Master!AH178=\"\",\"B\",Master!AH178)","v":"B"},{"$f":"IF(Master!AS178=\"\",\"B\",Master!AS178)","v":"B"},{"$f":"IF(Master!BD178=\"\",\"B\",Master!BD178)","v":"B"},{"$f":"IF(Master!BO178=\"\",\"B\",Master!BO178)","v":"B"}]
[{"$f":"Master!A179","v":"DES"},{"$f":"Master!B179","v":"WSDOT PS 201 MULTIMODAL TRANSIT MODULE5 OLT"},{"$f":"Master!C179","v":"Module_5_Transit_ORG"},{"$f":"Master!D179","v":"OLT"},{"$f":"Master!E179","v":"Active"},{"$f":"Master!F179","v":0},{"$f":"Master!H179","v":0},{"$f":"IF(Master!L179=\"\",\"B\",Master!L179)","v":"B"},{"$f":"IF(Master!W179=\"\",\"B\",Master!W179)","v":"B"},{"$f":"IF(Master!AH179=\"\",\"B\",Master!AH179)","v":"B"},{"$f":"IF(Master!AS179=\"\",\"B\",Master!AS179)","v":"B"},{"$f":"IF(Master!BD179=\"\",\"B\",Master!BD179)","v":"B"},{"$f":"IF(Master!BO179=\"\",\"B\",Master!BO179)","v":"B"}]
[{"$f":"Master!A180","v":"DES"},{"$f":"Master!B180","v":"WSDOT PS 201 MULTIMODAL WALKING MODULE6 OLT"},{"$f":"Master!C180","v":"Module_6_People_Walking_ORG"},{"$f":"Master!D180","v":"OLT"},{"$f":"Master!E180","v":"Active"},{"$f":"Master!F180","v":0},{"$f":"Master!H180","v":0},{"$f":"IF(Master!L180=\"\",\"B\",Master!L180)","v":"B"},{"$f":"IF(Master!W180=\"\",\"B\",Master!W180)","v":"B"},{"$f":"IF(Master!AH180=\"\",\"B\",Master!AH180)","v":"B"},{"$f":"IF(Master!AS180=\"\",\"B\",Master!AS180)","v":"B"},{"$f":"IF(Master!BD180=\"\",\"B\",Master!BD180)","v":"B"},{"$f":"IF(Master!BO180=\"\",\"B\",Master!BO180)","v":"B"}]
[{"$f":"Master!A181","v":"DES"},{"$f":"Master!B181","v":"WSDOT PS 201 MULTIMODAL BIKING MODULE7 OLT"},{"$f":"Master!C181","v":"Module_7_People_Biking_ORG"},{"$f":"Master!D181","v":"OLT"},{"$f":"Master!E181","v":"Active"},{"$f":"Master!F181","v":0},{"$f":"Master!H181","v":0},{"$f":"IF(Master!L181=\"\",\"B\",Master!L181)","v":"B"},{"$f":"IF(Master!W181=\"\",\"B\",Master!W181)","v":"B"},{"$f":"IF(Master!AH181=\"\",\"B\",Master!AH181)","v":"B"},{"$f":"IF(Master!AS181=\"\",\"B\",Master!AS181)","v":"B"},{"$f":"IF(Master!BD181=\"\",\"B\",Master!BD181)","v":"B"},{"$f":"IF(Master!BO181=\"\",\"B\",Master!BO181)","v":"B"}]
[{"$f":"Master!A182","v":"DES"},{"$f":"Master!B182","v":"WSDOT PS 201 MULTIMODAL FREIGHT MODULE8 OLT"},{"$f":"Master!C182","v":"Module_8_Freight_Transportation_ORG"},{"$f":"Master!D182","v":"OLT"},{"$f":"Master!E182","v":"Active"},{"$f":"Master!F182","v":0},{"$f":"Master!H182","v":0},{"$f":"IF(Master!L182=\"\",\"B\",Master!L182)","v":"B"},{"$f":"IF(Master!W182=\"\",\"B\",Master!W182)","v":"B"},{"$f":"IF(Master!AH182=\"\",\"B\",Master!AH182)","v":"B"},{"$f":"IF(Master!AS182=\"\",\"B\",Master!AS182)","v":"B"},{"$f":"IF(Master!BD182=\"\",\"B\",Master!BD182)","v":"B"},{"$f":"IF(Master!BO182=\"\",\"B\",Master!BO182)","v":"B"}]
[{"$f":"Master!A183","v":"DES"},{"$f":"Master!B183","v":"WSDOT PS 201 MULTIMODAL CONFLICTS AND HUBS MODULE9 OLT"},{"$f":"Master!C183","v":"Module_9_Modal_Conflicts_and_Hubs_ORG"},{"$f":"Master!D183","v":"OLT"},{"$f":"Master!E183","v":"Active"},{"$f":"Master!F183","v":0},{"$f":"Master!H183","v":0},{"$f":"IF(Master!L183=\"\",\"B\",Master!L183)","v":"B"},{"$f":"IF(Master!W183=\"\",\"B\",Master!W183)","v":"B"},{"$f":"IF(Master!AH183=\"\",\"B\",Master!AH183)","v":"B"},{"$f":"IF(Master!AS183=\"\",\"B\",Master!AS183)","v":"B"},{"$f":"IF(Master!BD183=\"\",\"B\",Master!BD183)","v":"B"},{"$f":"IF(Master!BO183=\"\",\"B\",Master!BO183)","v":"B"}]
[{"$f":"Master!A184","v":"DES"},{"$f":"Master!B184","v":"WSDOT PRACTICAL SOLUTIONS OVERVIEW OLT"},{"$f":"Master!C184","v":"Practical_Solutions_Overview_ORG"},{"$f":"Master!D184","v":"OLT"},{"$f":"Master!E184","v":"Active"},{"$f":"Master!F184","v":0},{"$f":"Master!H184","v":0},{"$f":"IF(Master!L184=\"\",\"B\",Master!L184)","v":2},{"$f":"IF(Master!W184=\"\",\"B\",Master!W184)","v":2},{"$f":"IF(Master!AH184=\"\",\"B\",Master!AH184)","v":2},{"$f":"IF(Master!AS184=\"\",\"B\",Master!AS184)","v":2},{"$f":"IF(Master!BD184=\"\",\"B\",Master!BD184)","v":2},{"$f":"IF(Master!BO184=\"\",\"B\",Master!BO184)","v":2}]
[{"$f":"Master!A185","v":"DES"},{"$f":"Master!B185","v":"WSDOT PS 101: PRACTICAL SOLUTIONS APPROACH TO PROJECT DEVELOPMENT OVERVIEW"},{"$f":"Master!C185","v":"WSDOT_PS101"},{"$f":"Master!D185","v":"ILT"},{"$f":"Master!E185","v":"Inactive"},{"$f":"Master!F185","v":0},{"$f":"Master!H185","v":0},{"$f":"IF(Master!L185=\"\",\"B\",Master!L185)","v":2},{"$f":"IF(Master!W185=\"\",\"B\",Master!W185)","v":2},{"$f":"IF(Master!AH185=\"\",\"B\",Master!AH185)","v":2},{"$f":"IF(Master!AS185=\"\",\"B\",Master!AS185)","v":2},{"$f":"IF(Master!BD185=\"\",\"B\",Master!BD185)","v":2},{"$f":"IF(Master!BO185=\"\",\"B\",Master!BO185)","v":2}]
[{"$f":"Master!A186","v":"Hydraulics"},null,null,null,null,null,null,{"$f":"IF(Master!L186=\"\",\"B\",Master!L186)","v":"B"},{"$f":"IF(Master!W186=\"\",\"B\",Master!W186)","v":"B"},{"$f":"IF(Master!AH186=\"\",\"B\",Master!AH186)","v":"B"},{"$f":"IF(Master!AS186=\"\",\"B\",Master!AS186)","v":"B"},{"$f":"IF(Master!BD186=\"\",\"B\",Master!BD186)","v":"B"},{"$f":"IF(Master!BO186=\"\",\"B\",Master!BO186)","v":"B"}]
[{"$f":"Master!A187","v":"HYD"},{"$f":"Master!B187","v":"WSDOT DES: HYDRAULICS AND HYDROLOGY"},{"$f":"Master!C187","v":"WSDOT_DES_HYDRAULICS_AND_HYDROLOGY"},{"$f":"Master!D187","v":"ILT"},{"$f":"Master!E187","v":"Active"},{"$f":"Master!F187","v":0},{"$f":"Master!H187","v":0},{"$f":"IF(Master!L187=\"\",\"B\",Master!L187)","v":"B"},{"$f":"IF(Master!W187=\"\",\"B\",Master!W187)","v":"B"},{"$f":"IF(Master!AH187=\"\",\"B\",Master!AH187)","v":"B"},{"$f":"IF(Master!AS187=\"\",\"B\",Master!AS187)","v":"B"},{"$f":"IF(Master!BD187=\"\",\"B\",Master!BD187)","v":"B"},{"$f":"IF(Master!BO187=\"\",\"B\",Master!BO187)","v":"B"}]
[{"$f":"Master!A188","v":"HYD"},{"$f":"Master!B188","v":"WSDOT DES: 2014 HIGHWAY RUNOFF MANUAL TRAINING"},{"$f":"Master!C188","v":"WSDOT_DBI"},{"$f":"Master!D188","v":"ILT"},{"$f":"Master!E188","v":"Active"},{"$f":"Master!F188","v":0},{"$f":"Master!H188","v":0},{"$f":"IF(Master!L188=\"\",\"B\",Master!L188)","v":"B"},{"$f":"IF(Master!W188=\"\",\"B\",Master!W188)","v":"B"},{"$f":"IF(Master!AH188=\"\",\"B\",Master!AH188)","v":"B"},{"$f":"IF(Master!AS188=\"\",\"B\",Master!AS188)","v":"B"},{"$f":"IF(Master!BD188=\"\",\"B\",Master!BD188)","v":"B"},{"$f":"IF(Master!BO188=\"\",\"B\",Master!BO188)","v":"B"}]
[{"$f":"Master!A189","v":"HYD"},{"$f":"Master!B189","v":"WSDOT_MGSFLOOD_TRAINING"},{"$f":"Master!C189","v":"WSDOT_MGSFLOOD_TRAINING"},{"$f":"Master!D189","v":"ILT"},{"$f":"Master!E189","v":"Active"},{"$f":"Master!F189","v":0},{"$f":"Master!H189","v":0},{"$f":"IF(Master!L189=\"\",\"B\",Master!L189)","v":"B"},{"$f":"IF(Master!W189=\"\",\"B\",Master!W189)","v":"B"},{"$f":"IF(Master!AH189=\"\",\"B\",Master!AH189)","v":"B"},{"$f":"IF(Master!AS189=\"\",\"B\",Master!AS189)","v":"B"},{"$f":"IF(Master!BD189=\"\",\"B\",Master!BD189)","v":"B"},{"$f":"IF(Master!BO189=\"\",\"B\",Master!BO189)","v":"B"}]
[{"$f":"Master!A190","v":"HYD"},{"$f":"Master!B190","v":"WSDOT DES: STORMSHED BEGINNING"},{"$f":"Master!C190","v":"WSDOT_DES_STORMSHED_BEGINNING"},{"$f":"Master!D190","v":"ILT"},{"$f":"Master!E190","v":"Active"},{"$f":"Master!F190","v":0},{"$f":"Master!H190","v":0},{"$f":"IF(Master!L190=\"\",\"B\",Master!L190)","v":"B"},{"$f":"IF(Master!W190=\"\",\"B\",Master!W190)","v":"B"},{"$f":"IF(Master!AH190=\"\",\"B\",Master!AH190)","v":"B"},{"$f":"IF(Master!AS190=\"\",\"B\",Master!AS190)","v":"B"},{"$f":"IF(Master!BD190=\"\",\"B\",Master!BD190)","v":"B"},{"$f":"IF(Master!BO190=\"\",\"B\",Master!BO190)","v":"B"}]
[{"$f":"Master!A191","v":"HYD"},{"$f":"Master!B191","v":"WSDOT DES: STORMSHED INTERMEDIATE"},{"$f":"Master!C191","v":"WSDOT_DES_STORMSHED_INTERMEDIATE"},{"$f":"Master!D191","v":"ILT"},{"$f":"Master!E191","v":"Active"},{"$f":"Master!F191","v":0},{"$f":"Master!H191","v":0},{"$f":"IF(Master!L191=\"\",\"B\",Master!L191)","v":"B"},{"$f":"IF(Master!W191=\"\",\"B\",Master!W191)","v":"B"},{"$f":"IF(Master!AH191=\"\",\"B\",Master!AH191)","v":"B"},{"$f":"IF(Master!AS191=\"\",\"B\",Master!AS191)","v":"B"},{"$f":"IF(Master!BD191=\"\",\"B\",Master!BD191)","v":"B"},{"$f":"IF(Master!BO191=\"\",\"B\",Master!BO191)","v":"B"}]
[{"$f":"Master!A192","v":"Environmental"},null,null,null,null,null,null,{"$f":"IF(Master!L192=\"\",\"B\",Master!L192)","v":"B"},{"$f":"IF(Master!W192=\"\",\"B\",Master!W192)","v":"B"},{"$f":"IF(Master!AH192=\"\",\"B\",Master!AH192)","v":"B"},{"$f":"IF(Master!AS192=\"\",\"B\",Master!AS192)","v":"B"},{"$f":"IF(Master!BD192=\"\",\"B\",Master!BD192)","v":"B"},{"$f":"IF(Master!BO192=\"\",\"B\",Master!BO192)","v":"B"}]
[{"$f":"Master!A193","v":"ENV"},{"$f":"Master!B193","v":"WSDOT ENV: SPILL PLAN REVIEWER TRAINING (OLT)"},{"$f":"Master!C193","v":"WSDOT_BYZ_OLT"},{"$f":"Master!D193","v":"OLT"},{"$f":"Master!E193","v":"Active"},{"$f":"Master!F193","v":0},{"$f":"Master!G193","v":"NA"},{"$f":"IF(Master!L193=\"\",\"B\",Master!L193)","v":"B"},{"$f":"IF(Master!W193=\"\",\"B\",Master!W193)","v":"B"},{"$f":"IF(Master!AH193=\"\",\"B\",Master!AH193)","v":"B"},{"$f":"IF(Master!AS193=\"\",\"B\",Master!AS193)","v":"B"},{"$f":"IF(Master!BD193=\"\",\"B\",Master!BD193)","v":"B"},{"$f":"IF(Master!BO193=\"\",\"B\",Master!BO193)","v":"B"}]
[{"$f":"Master!A194","v":"ENV"},{"$f":"Master!B194","v":"WSDOT ENV: CONSTRUCTION SITE EROSION AND SEDIMENT CONTROL"},{"$f":"Master!C194","v":"WSDOT_BPW"},{"$f":"Master!D194","v":"ILT"},{"$f":"Master!E194","v":"Active"},{"$f":"Master!F194","v":0},{"$f":"Master!G194","v":"Once per year per Region or by request"},{"$f":"IF(Master!L194=\"\",\"B\",Master!L194)","v":"B"},{"$f":"IF(Master!W194=\"\",\"B\",Master!W194)","v":"B"},{"$f":"IF(Master!AH194=\"\",\"B\",Master!AH194)","v":"B"},{"$f":"IF(Master!AS194=\"\",\"B\",Master!AS194)","v":"B"},{"$f":"IF(Master!BD194=\"\",\"B\",Master!BD194)","v":"B"},{"$f":"IF(Master!BO194=\"\",\"B\",Master!BO194)","v":"B"}]
[{"$f":"Master!A195","v":"ENV"},{"$f":"Master!B195","v":"WSDOT ENV: CULTURAL RESOURCE TRAINING"},{"$f":"Master!C195","v":"WSDOT_B7T"},{"$f":"Master!D195","v":"ILT"},{"$f":"Master!E195","v":"Active"},{"$f":"Master!F195","v":0},{"$f":"Master!G195","v":"Offered 1-2 times per year"},{"$f":"IF(Master!L195=\"\",\"B\",Master!L195)","v":"B"},{"$f":"IF(Master!W195=\"\",\"B\",Master!W195)","v":"B"},{"$f":"IF(Master!AH195=\"\",\"B\",Master!AH195)","v":"B"},{"$f":"IF(Master!AS195=\"\",\"B\",Master!AS195)","v":"B"},{"$f":"IF(Master!BD195=\"\",\"B\",Master!BD195)","v":"B"},{"$f":"IF(Master!BO195=\"\",\"B\",Master!BO195)","v":"B"}]
[{"$f":"Master!A196","v":"ENV"},{"$f":"Master!B196","v":"WSDOT ENV: ENVIRONMENTAL JUSTICE INCLUSION TRAINING (OLT)"},{"$f":"Master!C196","v":"WSDOT_EJ1_OLT"},{"$f":"Master!D196","v":"OLT"},{"$f":"Master!E196","v":"Active"},{"$f":"Master!F196","v":0},{"$f":"Master!G196","v":"NA"},{"$f":"IF(Master!L196=\"\",\"B\",Master!L196)","v":1},{"$f":"IF(Master!W196=\"\",\"B\",Master!W196)","v":1},{"$f":"IF(Master!AH196=\"\",\"B\",Master!AH196)","v":1},{"$f":"IF(Master!AS196=\"\",\"B\",Master!AS196)","v":1},{"$f":"IF(Master!BD196=\"\",\"B\",Master!BD196)","v":1},{"$f":"IF(Master!BO196=\"\",\"B\",Master!BO196)","v":1}]
[{"$f":"Master!A197","v":"ENV"},{"$f":"Master!B197","v":"WSDOT ENV: ENVIRONMENTAL OVERVIEW - COMPLIANCE FOR CONSTRUCTION (OLT)"},{"$f":"Master!C197","v":"WSDOT_CR5_OLT"},{"$f":"Master!D197","v":"OLT"},{"$f":"Master!E197","v":"Active"},{"$f":"Master!F197","v":0},{"$f":"Master!G197","v":"NA"},{"$f":"IF(Master!L197=\"\",\"B\",Master!L197)","v":1},{"$f":"IF(Master!W197=\"\",\"B\",Master!W197)","v":1},{"$f":"IF(Master!AH197=\"\",\"B\",Master!AH197)","v":1},{"$f":"IF(Master!AS197=\"\",\"B\",Master!AS197)","v":1},{"$f":"IF(Master!BD197=\"\",\"B\",Master!BD197)","v":"B"},{"$f":"IF(Master!BO197=\"\",\"B\",Master!BO197)","v":"B"}]
[{"$f":"Master!A198","v":"ENV"},{"$f":"Master!B198","v":"WSDOT ENV: ESA (ENDANGERED SPECIES ACT) FOR NON-BIOLOGISTS (OLT)"},{"$f":"Master!C198","v":"WSDOT_EV9_OLT"},{"$f":"Master!D198","v":"OLT"},{"$f":"Master!E198","v":"Active"},{"$f":"Master!F198","v":0},{"$f":"Master!G198","v":"NA"},{"$f":"IF(Master!L198=\"\",\"B\",Master!L198)","v":"B"},{"$f":"IF(Master!W198=\"\",\"B\",Master!W198)","v":"B"},{"$f":"IF(Master!AH198=\"\",\"B\",Master!AH198)","v":"B"},{"$f":"IF(Master!AS198=\"\",\"B\",Master!AS198)","v":"B"},{"$f":"IF(Master!BD198=\"\",\"B\",Master!BD198)","v":"B"},{"$f":"IF(Master!BO198=\"\",\"B\",Master!BO198)","v":"B"}]
[{"$f":"Master!A199","v":"ENV"},{"$f":"Master!B199","v":"WSDOT ENV: NEPA/SEPA - MODULE 1 - OVERVIEW"},{"$f":"Master!C199","v":"WSDOT_DDV"},{"$f":"Master!D199","v":"ILT"},{"$f":"Master!E199","v":"Active"},{"$f":"Master!F199","v":0},{"$f":"Master!G199","v":"Once per year per Region or by request"},{"$f":"IF(Master!L199=\"\",\"B\",Master!L199)","v":"B"},{"$f":"IF(Master!W199=\"\",\"B\",Master!W199)","v":"B"},{"$f":"IF(Master!AH199=\"\",\"B\",Master!AH199)","v":"B"},{"$f":"IF(Master!AS199=\"\",\"B\",Master!AS199)","v":"B"},{"$f":"IF(Master!BD199=\"\",\"B\",Master!BD199)","v":"B"},{"$f":"IF(Master!BO199=\"\",\"B\",Master!BO199)","v":"B"}]
[{"$f":"Master!A200","v":"ENV"},{"$f":"Master!B200","v":"WSDOT ENV: NEPA/SEPA - MODULE 2 - DOCUMENTING CATEGORICAL EXCLUSIONS"},{"$f":"Master!C200","v":"WSDOT_ENV"},{"$f":"Master!D200","v":"ILT"},{"$f":"Master!E200","v":"Active"},{"$f":"Master!F200","v":0},{"$f":"Master!G200","v":"Once per year per Region or by request"},{"$f":"IF(Master!L200=\"\",\"B\",Master!L200)","v":"B"},{"$f":"IF(Master!W200=\"\",\"B\",Master!W200)","v":"B"},{"$f":"IF(Master!AH200=\"\",\"B\",Master!AH200)","v":"B"},{"$f":"IF(Master!AS200=\"\",\"B\",Master!AS200)","v":"B"},{"$f":"IF(Master!BD200=\"\",\"B\",Master!BD200)","v":"B"},{"$f":"IF(Master!BO200=\"\",\"B\",Master!BO200)","v":"B"}]
[{"$f":"Master!A201","v":"ENV"},{"$f":"Master!B201","v":"WSDOT ENV: NEPA/SEPA - MODULE 3 - DOCUMENTING EAs AND EISs"},{"$f":"Master!C201","v":"WSDOT_ENV_2"},{"$f":"Master!D201","v":"ILT"},{"$f":"Master!E201","v":"Active"},{"$f":"Master!F201","v":0},{"$f":"Master!G201","v":"Once per year per Region or by request"},{"$f":"IF(Master!L201=\"\",\"B\",Master!L201)","v":"B"},{"$f":"IF(Master!W201=\"\",\"B\",Master!W201)","v":"B"},{"$f":"IF(Master!AH201=\"\",\"B\",Master!AH201)","v":"B"},{"$f":"IF(Master!AS201=\"\",\"B\",Master!AS201)","v":"B"},{"$f":"IF(Master!BD201=\"\",\"B\",Master!BD201)","v":"B"},{"$f":"IF(Master!BO201=\"\",\"B\",Master!BO201)","v":"B"}]
[{"$f":"Master!A202","v":"ENV"},{"$f":"Master!B202","v":"WSDOT ENV: POISONOUS AND HARMFUL PLANTS IN WASHINGTON STATE"},{"$f":"Master!C202","v":"WSDOT_019_OLT"},{"$f":"Master!D202","v":"OLT"},{"$f":"Master!E202","v":"Active"},{"$f":"Master!F202","v":0},{"$f":"Master!G202","v":"NA"},{"$f":"IF(Master!L202=\"\",\"B\",Master!L202)","v":"B"},{"$f":"IF(Master!W202=\"\",\"B\",Master!W202)","v":"B"},{"$f":"IF(Master!AH202=\"\",\"B\",Master!AH202)","v":"B"},{"$f":"IF(Master!AS202=\"\",\"B\",Master!AS202)","v":"B"},{"$f":"IF(Master!BD202=\"\",\"B\",Master!BD202)","v":"B"},{"$f":"IF(Master!BO202=\"\",\"B\",Master!BO202)","v":"B"}]
[{"$f":"Master!A203","v":"Computer Aided Engineering"},null,null,null,null,null,null,{"$f":"IF(Master!L203=\"\",\"B\",Master!L203)","v":"B"},{"$f":"IF(Master!W203=\"\",\"B\",Master!W203)","v":"B"},{"$f":"IF(Master!AH203=\"\",\"B\",Master!AH203)","v":"B"},{"$f":"IF(Master!AS203=\"\",\"B\",Master!AS203)","v":"B"},{"$f":"IF(Master!BD203=\"\",\"B\",Master!BD203)","v":"B"},{"$f":"IF(Master!BO203=\"\",\"B\",Master!BO203)","v":"B"}]
[{"$f":"Master!A204","v":"CAE"},{"$f":"Master!B204","v":"WSDOT CAE: MICROSTATION - 101 ENTRY LEVEL"},{"$f":"Master!C204","v":"WSDOT_AX4"},{"$f":"Master!D204","v":"ILT"},{"$f":"Master!E204","v":"Active"},{"$f":"Master!F204","v":0},{"$f":"Master!H204","v":0},{"$f":"IF(Master!L204=\"\",\"B\",Master!L204)","v":1},{"$f":"IF(Master!W204=\"\",\"B\",Master!W204)","v":1},{"$f":"IF(Master!AH204=\"\",\"B\",Master!AH204)","v":1},{"$f":"IF(Master!AS204=\"\",\"B\",Master!AS204)","v":1},{"$f":"IF(Master!BD204=\"\",\"B\",Master!BD204)","v":1},{"$f":"IF(Master!BO204=\"\",\"B\",Master!BO204)","v":2}]
[{"$f":"Master!A205","v":"CAE"},{"$f":"Master!B205","v":"WSDOT CAE: MICROSTATION - 201 PRODUCTION LEVEL"},{"$f":"Master!C205","v":"WSDOT_AI6"},{"$f":"Master!D205","v":"ILT"},{"$f":"Master!E205","v":"Active"},{"$f":"Master!F205","v":0},{"$f":"Master!H205","v":0},{"$f":"IF(Master!L205=\"\",\"B\",Master!L205)","v":1},{"$f":"IF(Master!W205=\"\",\"B\",Master!W205)","v":1},{"$f":"IF(Master!AH205=\"\",\"B\",Master!AH205)","v":1},{"$f":"IF(Master!AS205=\"\",\"B\",Master!AS205)","v":2},{"$f":"IF(Master!BD205=\"\",\"B\",Master!BD205)","v":2},{"$f":"IF(Master!BO205=\"\",\"B\",Master!BO205)","v":2}]
[{"$f":"Master!A206","v":"CAE"},{"$f":"Master!B206","v":"WSDOT CAE: INROADS - 201 PRODUCTION LEVEL DESIGN"},{"$f":"Master!C206","v":"WSDOT_CRZ"},{"$f":"Master!D206","v":"ILT"},{"$f":"Master!E206","v":"Active"},{"$f":"Master!F206","v":0},{"$f":"Master!H206","v":0},{"$f":"IF(Master!L206=\"\",\"B\",Master!L206)","v":2},{"$f":"IF(Master!W206=\"\",\"B\",Master!W206)","v":2},{"$f":"IF(Master!AH206=\"\",\"B\",Master!AH206)","v":2},{"$f":"IF(Master!AS206=\"\",\"B\",Master!AS206)","v":2},{"$f":"IF(Master!BD206=\"\",\"B\",Master!BD206)","v":2},{"$f":"IF(Master!BO206=\"\",\"B\",Master!BO206)","v":2}]
[{"$f":"Master!A207","v":"CAE"},{"$f":"Master!B207","v":"WSDOT CAE: INROADS - 202 SURVEY DATA PROCESSING"},{"$f":"Master!C207","v":"WSDOT_CU1"},{"$f":"Master!D207","v":"ILT"},{"$f":"Master!E207","v":"Active"},{"$f":"Master!F207","v":0},{"$f":"Master!H207","v":0},{"$f":"IF(Master!L207=\"\",\"B\",Master!L207)","v":1},{"$f":"IF(Master!W207=\"\",\"B\",Master!W207)","v":1},{"$f":"IF(Master!AH207=\"\",\"B\",Master!AH207)","v":1},{"$f":"IF(Master!AS207=\"\",\"B\",Master!AS207)","v":1},{"$f":"IF(Master!BD207=\"\",\"B\",Master!BD207)","v":1},{"$f":"IF(Master!BO207=\"\",\"B\",Master!BO207)","v":2}]
[{"$f":"Master!A208","v":"CAE"},{"$f":"Master!B208","v":"WSDOT CAE: INROADS - 203 GEOMETRICS"},{"$f":"Master!C208","v":"WSDOT_DBF"},{"$f":"Master!D208","v":"ILT"},{"$f":"Master!E208","v":"Active"},{"$f":"Master!F208","v":0},{"$f":"Master!H208","v":0},{"$f":"IF(Master!L208=\"\",\"B\",Master!L208)","v":1},{"$f":"IF(Master!W208=\"\",\"B\",Master!W208)","v":1},{"$f":"IF(Master!AH208=\"\",\"B\",Master!AH208)","v":1},{"$f":"IF(Master!AS208=\"\",\"B\",Master!AS208)","v":1},{"$f":"IF(Master!BD208=\"\",\"B\",Master!BD208)","v":1},{"$f":"IF(Master!BO208=\"\",\"B\",Master!BO208)","v":2}]
[{"$f":"Master!A209","v":"CAE"},{"$f":"Master!B209","v":"WSDOT CAE: INROADS - 205 CONSTRUCTION PROCESSES"},{"$f":"Master!C209","v":"WSDOT_DH2"},{"$f":"Master!D209","v":"ILT"},{"$f":"Master!E209","v":"Active"},{"$f":"Master!F209","v":0},{"$f":"Master!H209","v":0},{"$f":"IF(Master!L209=\"\",\"B\",Master!L209)","v":2},{"$f":"IF(Master!W209=\"\",\"B\",Master!W209)","v":2},{"$f":"IF(Master!AH209=\"\",\"B\",Master!AH209)","v":2},{"$f":"IF(Master!AS209=\"\",\"B\",Master!AS209)","v":2},{"$f":"IF(Master!BD209=\"\",\"B\",Master!BD209)","v":2},{"$f":"IF(Master!BO209=\"\",\"B\",Master!BO209)","v":2}]
[{"$f":"Master!A210","v":"CAE"},{"$f":"Master!B210","v":"WSDOT CAE: INROADS - 251 INTERMEDIATE ROADWAY DESIGN"},{"$f":"Master!C210","v":"WSDOT_DDL"},{"$f":"Master!D210","v":"ILT"},{"$f":"Master!E210","v":"Active"},{"$f":"Master!F210","v":0},{"$f":"Master!H210","v":0},{"$f":"IF(Master!L210=\"\",\"B\",Master!L210)","v":"B"},{"$f":"IF(Master!W210=\"\",\"B\",Master!W210)","v":"B"},{"$f":"IF(Master!AH210=\"\",\"B\",Master!AH210)","v":"B"},{"$f":"IF(Master!AS210=\"\",\"B\",Master!AS210)","v":"B"},{"$f":"IF(Master!BD210=\"\",\"B\",Master!BD210)","v":2},{"$f":"IF(Master!BO210=\"\",\"B\",Master!BO210)","v":2}]
[{"$f":"Master!A211","v":"Survey"},null,null,null,null,null,null,{"$f":"IF(Master!L211=\"\",\"B\",Master!L211)","v":"B"},{"$f":"IF(Master!W211=\"\",\"B\",Master!W211)","v":"B"},{"$f":"IF(Master!AH211=\"\",\"B\",Master!AH211)","v":"B"},{"$f":"IF(Master!AS211=\"\",\"B\",Master!AS211)","v":"B"},{"$f":"IF(Master!BD211=\"\",\"B\",Master!BD211)","v":"B"},{"$f":"IF(Master!BO211=\"\",\"B\",Master!BO211)","v":"B"}]
[{"$f":"Master!A212","v":"SUR"},{"$f":"Master!B212","v":"WSDOT SUR: BASIC SURVEYING (SELF-STUDY)"},{"$f":"Master!C212","v":"WSDOT_APK"},{"$f":"Master!D212","v":"SS"},{"$f":"Master!E212","v":"Active"},{"$f":"Master!F212","v":0},{"$f":"Master!H212","v":0},{"$f":"IF(Master!L212=\"\",\"B\",Master!L212)","v":"R"},{"$f":"IF(Master!W212=\"\",\"B\",Master!W212)","v":"R"},{"$f":"IF(Master!AH212=\"\",\"B\",Master!AH212)","v":1},{"$f":"IF(Master!AS212=\"\",\"B\",Master!AS212)","v":1},{"$f":"IF(Master!BD212=\"\",\"B\",Master!BD212)","v":"B"},{"$f":"IF(Master!BO212=\"\",\"B\",Master!BO212)","v":"B"}]
[{"$f":"Master!A213","v":"SUR"},{"$f":"Master!B213","v":"WSDOT SUR: INTERMEDIATE SURVEYING"},{"$f":"Master!C213","v":"WSDOT A4U"},{"$f":"Master!D213","v":"ILT"},{"$f":"Master!E213","v":"Under Development"},{"$f":"Master!F213","v":"Q3 2019"},{"$f":"Master!H213","v":0},{"$f":"IF(Master!L213=\"\",\"B\",Master!L213)","v":"B"},{"$f":"IF(Master!W213=\"\",\"B\",Master!W213)","v":"B"},{"$f":"IF(Master!AH213=\"\",\"B\",Master!AH213)","v":"B"},{"$f":"IF(Master!AS213=\"\",\"B\",Master!AS213)","v":"B"},{"$f":"IF(Master!BD213=\"\",\"B\",Master!BD213)","v":1},{"$f":"IF(Master!BO213=\"\",\"B\",Master!BO213)","v":"B"}]
[{"$f":"Master!A214","v":"Traffic Operations Division"},null,null,null,null,null,null,{"$f":"IF(Master!L214=\"\",\"B\",Master!L214)","v":"B"},{"$f":"IF(Master!W214=\"\",\"B\",Master!W214)","v":"B"},{"$f":"IF(Master!AH214=\"\",\"B\",Master!AH214)","v":"B"},{"$f":"IF(Master!AS214=\"\",\"B\",Master!AS214)","v":"B"},{"$f":"IF(Master!BD214=\"\",\"B\",Master!BD214)","v":"B"},{"$f":"IF(Master!BO214=\"\",\"B\",Master!BO214)","v":"B"}]
[{"$f":"Master!A215","v":"TR"},{"$f":"Master!B215","v":"WSDOT TR: Work Zone Traffic Control Supervisor Re-Certification"},{"$f":"Master!C215","v":"WSDOT_BQD"},{"$f":"Master!D215","v":"OLT/ILT"},{"$f":"Master!E215","v":"Active"},{"$f":"Master!F215","v":0},{"$f":"Master!H215","v":0},{"$f":"IF(Master!L215=\"\",\"B\",Master!L215)","v":"B"},{"$f":"IF(Master!W215=\"\",\"B\",Master!W215)","v":"B"},{"$f":"IF(Master!AH215=\"\",\"B\",Master!AH215)","v":"B"},{"$f":"IF(Master!AS215=\"\",\"B\",Master!AS215)","v":"B"},{"$f":"IF(Master!BD215=\"\",\"B\",Master!BD215)","v":"B"},{"$f":"IF(Master!BO215=\"\",\"B\",Master!BO215)","v":"B"}]
[{"$f":"Master!A216","v":"TR"},{"$f":"Master!B216","v":"WSDOT TR: Work Zone Traffic Control Supervisor Certification"},{"$f":"Master!C216","v":"WSDOT_A42"},{"$f":"Master!D216","v":"OLT/ILT"},{"$f":"Master!E216","v":"Active"},{"$f":"Master!F216","v":0},{"$f":"Master!H216","v":0},{"$f":"IF(Master!L216=\"\",\"B\",Master!L216)","v":2},{"$f":"IF(Master!W216=\"\",\"B\",Master!W216)","v":2},{"$f":"IF(Master!AH216=\"\",\"B\",Master!AH216)","v":2},{"$f":"IF(Master!AS216=\"\",\"B\",Master!AS216)","v":2},{"$f":"IF(Master!BD216=\"\",\"B\",Master!BD216)","v":"B"},{"$f":"IF(Master!BO216=\"\",\"B\",Master!BO216)","v":"B"}]
[{"$f":"Master!A217","v":"TR"},{"$f":"Master!B217","v":"WSDOT TR: Work Zone Traffic Control Plan Design"},{"$f":"Master!C217","v":"WSDOT_DD7 (day one) and WSDOT_DBK (day two)"},{"$f":"Master!D217","v":"OLT/ILT"},{"$f":"Master!E217","v":"Active"},{"$f":"Master!F217","v":0},{"$f":"Master!H217","v":0},{"$f":"IF(Master!L217=\"\",\"B\",Master!L217)","v":"B"},{"$f":"IF(Master!W217=\"\",\"B\",Master!W217)","v":"B"},{"$f":"IF(Master!AH217=\"\",\"B\",Master!AH217)","v":"B"},{"$f":"IF(Master!AS217=\"\",\"B\",Master!AS217)","v":"B"},{"$f":"IF(Master!BD217=\"\",\"B\",Master!BD217)","v":"B"},{"$f":"IF(Master!BO217=\"\",\"B\",Master!BO217)","v":"B"}]
[{"$f":"Master!A218","v":"TR"},{"$f":"Master!B218","v":"**VISUM"},{"$f":"Master!C218","v":0},{"$f":"Master!D218","v":"OLT/ILT"},{"$f":"Master!E218","v":"Inactive"},{"$f":"Master!F218","v":"None"},{"$f":"Master!H218","v":"No technical lead within WSDOT available to teach"},{"$f":"IF(Master!L218=\"\",\"B\",Master!L218)","v":"B"},{"$f":"IF(Master!W218=\"\",\"B\",Master!W218)","v":"B"},{"$f":"IF(Master!AH218=\"\",\"B\",Master!AH218)","v":"B"},{"$f":"IF(Master!AS218=\"\",\"B\",Master!AS218)","v":"B"},{"$f":"IF(Master!BD218=\"\",\"B\",Master!BD218)","v":"B"},{"$f":"IF(Master!BO218=\"\",\"B\",Master!BO218)","v":"B"}]
[{"$f":"Master!A219","v":"TR"},{"$f":"Master!B219","v":"**VISSIM"},{"$f":"Master!C219","v":0},{"$f":"Master!D219","v":"OLT/ILT"},{"$f":"Master!E219","v":"Inactive"},{"$f":"Master!F219","v":"None"},{"$f":"Master!H219","v":"No technical lead within WSDOT available to teach"},{"$f":"IF(Master!L219=\"\",\"B\",Master!L219)","v":"B"},{"$f":"IF(Master!W219=\"\",\"B\",Master!W219)","v":"B"},{"$f":"IF(Master!AH219=\"\",\"B\",Master!AH219)","v":"B"},{"$f":"IF(Master!AS219=\"\",\"B\",Master!AS219)","v":"B"},{"$f":"IF(Master!BD219=\"\",\"B\",Master!BD219)","v":"B"},{"$f":"IF(Master!BO219=\"\",\"B\",Master!BO219)","v":"B"}]
[{"$f":"Master!A220","v":"TR"},{"$f":"Master!B220","v":"**SIDRA"},{"$f":"Master!C220","v":0},{"$f":"Master!D220","v":"OLT/ILT"},{"$f":"Master!E220","v":"Inactive"},{"$f":"Master!F220","v":"None"},{"$f":"Master!H220","v":"No technical lead within WSDOT available to teach"},{"$f":"IF(Master!L220=\"\",\"B\",Master!L220)","v":"B"},{"$f":"IF(Master!W220=\"\",\"B\",Master!W220)","v":"B"},{"$f":"IF(Master!AH220=\"\",\"B\",Master!AH220)","v":"B"},{"$f":"IF(Master!AS220=\"\",\"B\",Master!AS220)","v":"B"},{"$f":"IF(Master!BD220=\"\",\"B\",Master!BD220)","v":"B"},{"$f":"IF(Master!BO220=\"\",\"B\",Master!BO220)","v":"B"}]
[{"$f":"Master!A221","v":"TR"},{"$f":"Master!B221","v":"**SYNCHRO"},{"$f":"Master!C221","v":0},{"$f":"Master!D221","v":"OLT/ILT"},{"$f":"Master!E221","v":"Inactive"},{"$f":"Master!F221","v":"None"},{"$f":"Master!H221","v":"No technical lead within WSDOT available to teach"},{"$f":"IF(Master!L221=\"\",\"B\",Master!L221)","v":"B"},{"$f":"IF(Master!W221=\"\",\"B\",Master!W221)","v":"B"},{"$f":"IF(Master!AH221=\"\",\"B\",Master!AH221)","v":"B"},{"$f":"IF(Master!AS221=\"\",\"B\",Master!AS221)","v":"B"},{"$f":"IF(Master!BD221=\"\",\"B\",Master!BD221)","v":"B"},{"$f":"IF(Master!BO221=\"\",\"B\",Master!BO221)","v":"B"}]
[{"$f":"Master!A222","v":"TR"},{"$f":"Master!B222","v":"WSDOT PSHSM: Highway Safety Manual Level B"},{"$f":"Master!C222","v":"PSHSM_B01"},{"$f":"Master!D222","v":"OLT/ILT"},{"$f":"Master!E222","v":"Inactive"},{"$f":"Master!F222","v":"None"},{"$f":"Master!H222","v":"No technical lead within WSDOT available to teach"},{"$f":"IF(Master!L222=\"\",\"B\",Master!L222)","v":"B"},{"$f":"IF(Master!W222=\"\",\"B\",Master!W222)","v":"B"},{"$f":"IF(Master!AH222=\"\",\"B\",Master!AH222)","v":"B"},{"$f":"IF(Master!AS222=\"\",\"B\",Master!AS222)","v":"B"},{"$f":"IF(Master!BD222=\"\",\"B\",Master!BD222)","v":"B"},{"$f":"IF(Master!BO222=\"\",\"B\",Master!BO222)","v":"B"}]
[{"$f":"Master!A223","v":"TR"},{"$f":"Master!B223","v":"WSDOT PSHSM: Highway Safety Manual Level C1"},{"$f":"Master!C223","v":"PSHSM_C01"},{"$f":"Master!D223","v":"OLT/ILT"},{"$f":"Master!E223","v":"Inactive"},{"$f":"Master!F223","v":"None"},{"$f":"Master!H223","v":"No technical lead within WSDOT available to teach"},{"$f":"IF(Master!L223=\"\",\"B\",Master!L223)","v":"B"},{"$f":"IF(Master!W223=\"\",\"B\",Master!W223)","v":"B"},{"$f":"IF(Master!AH223=\"\",\"B\",Master!AH223)","v":"B"},{"$f":"IF(Master!AS223=\"\",\"B\",Master!AS223)","v":"B"},{"$f":"IF(Master!BD223=\"\",\"B\",Master!BD223)","v":"B"},{"$f":"IF(Master!BO223=\"\",\"B\",Master!BO223)","v":"B"}]
[{"$f":"Master!A224","v":"TR"},{"$f":"Master!B224","v":"WSDOT PSHSM: Highway Safety Manual Level C2"},{"$f":"Master!C224","v":"PSHSM C2"},{"$f":"Master!D224","v":"OLT/ILT"},{"$f":"Master!E224","v":"Inactive"},{"$f":"Master!F224","v":"None"},{"$f":"Master!H224","v":"No technical lead within WSDOT available to teach"},{"$f":"IF(Master!L224=\"\",\"B\",Master!L224)","v":"B"},{"$f":"IF(Master!W224=\"\",\"B\",Master!W224)","v":"B"},{"$f":"IF(Master!AH224=\"\",\"B\",Master!AH224)","v":"B"},{"$f":"IF(Master!AS224=\"\",\"B\",Master!AS224)","v":"B"},{"$f":"IF(Master!BD224=\"\",\"B\",Master!BD224)","v":"B"},{"$f":"IF(Master!BO224=\"\",\"B\",Master!BO224)","v":"B"}]
[{"$f":"Master!A225","v":"TR"},{"$f":"Master!B225","v":"WSDOT PSHSM: Highway Safety Manual Level C3"},{"$f":"Master!C225","v":"PSHSM C3"},{"$f":"Master!D225","v":"OLT/ILT"},{"$f":"Master!E225","v":"Inactive"},{"$f":"Master!F225","v":"None"},{"$f":"Master!H225","v":"No technical lead within WSDOT available to teach"},{"$f":"IF(Master!L225=\"\",\"B\",Master!L225)","v":"B"},{"$f":"IF(Master!W225=\"\",\"B\",Master!W225)","v":"B"},{"$f":"IF(Master!AH225=\"\",\"B\",Master!AH225)","v":"B"},{"$f":"IF(Master!AS225=\"\",\"B\",Master!AS225)","v":"B"},{"$f":"IF(Master!BD225=\"\",\"B\",Master!BD225)","v":"B"},{"$f":"IF(Master!BO225=\"\",\"B\",Master!BO225)","v":"B"}]
[{"$f":"Master!A226","v":"TR"},{"$f":"Master!B226","v":"WSDOT PSHSM: Highway Safety Manual Level D1"},{"$f":"Master!C226","v":"PSHSM D1"},{"$f":"Master!D226","v":"OLT/ILT"},{"$f":"Master!E226","v":"Inactive"},{"$f":"Master!F226","v":"None"},{"$f":"Master!H226","v":"No technical lead within WSDOT available to teach"},{"$f":"IF(Master!L226=\"\",\"B\",Master!L226)","v":"B"},{"$f":"IF(Master!W226=\"\",\"B\",Master!W226)","v":"B"},{"$f":"IF(Master!AH226=\"\",\"B\",Master!AH226)","v":"B"},{"$f":"IF(Master!AS226=\"\",\"B\",Master!AS226)","v":"B"},{"$f":"IF(Master!BD226=\"\",\"B\",Master!BD226)","v":"B"},{"$f":"IF(Master!BO226=\"\",\"B\",Master!BO226)","v":"B"}]
[{"$f":"Master!A227","v":"TR"},{"$f":"Master!B227","v":"**ILLUMINATION DESIGN FOR TRANSPORTATION APPLICATIONS"},{"$f":"Master!C227","v":0},{"$f":"Master!D227","v":"OLT/ILT"},{"$f":"Master!E227","v":"Under Development"},{"$f":"Master!F227","v":"Q2 2018"},{"$f":"Master!H227","v":0},{"$f":"IF(Master!L227=\"\",\"B\",Master!L227)","v":"B"},{"$f":"IF(Master!W227=\"\",\"B\",Master!W227)","v":"B"},{"$f":"IF(Master!AH227=\"\",\"B\",Master!AH227)","v":"B"},{"$f":"IF(Master!AS227=\"\",\"B\",Master!AS227)","v":"B"},{"$f":"IF(Master!BD227=\"\",\"B\",Master!BD227)","v":"B"},{"$f":"IF(Master!BO227=\"\",\"B\",Master!BO227)","v":"B"}]
[{"$f":"Master!A228","v":"TR"},{"$f":"Master!B228","v":"WSDOT TR: Power Supply Design for Transportation Applications"},{"$f":"Master!C228","v":"WSDOT_BZA"},{"$f":"Master!D228","v":"OLT/ILT"},{"$f":"Master!E228","v":"Active"},{"$f":"Master!F228","v":0},{"$f":"Master!H228","v":0},{"$f":"IF(Master!L228=\"\",\"B\",Master!L228)","v":"B"},{"$f":"IF(Master!W228=\"\",\"B\",Master!W228)","v":"B"},{"$f":"IF(Master!AH228=\"\",\"B\",Master!AH228)","v":"B"},{"$f":"IF(Master!AS228=\"\",\"B\",Master!AS228)","v":"B"},{"$f":"IF(Master!BD228=\"\",\"B\",Master!BD228)","v":"B"},{"$f":"IF(Master!BO228=\"\",\"B\",Master!BO228)","v":"B"}]
[{"$f":"Master!A229","v":"TR"},{"$f":"Master!B229","v":"**TRAFFIC SIGNAL LAYOUT AND CONDUCTOR TERMINATION"},{"$f":"Master!C229","v":0},{"$f":"Master!D229","v":"OLT/ILT"},{"$f":"Master!E229","v":"Inactive"},{"$f":"Master!F229","v":0},{"$f":"Master!H229","v":"No technical lead within WSDOT available to teach"},{"$f":"IF(Master!L229=\"\",\"B\",Master!L229)","v":"B"},{"$f":"IF(Master!W229=\"\",\"B\",Master!W229)","v":"B"},{"$f":"IF(Master!AH229=\"\",\"B\",Master!AH229)","v":"B"},{"$f":"IF(Master!AS229=\"\",\"B\",Master!AS229)","v":"B"},{"$f":"IF(Master!BD229=\"\",\"B\",Master!BD229)","v":"B"},{"$f":"IF(Master!BO229=\"\",\"B\",Master!BO229)","v":"B"}]
[{"$f":"Master!A230","v":"TR"},{"$f":"Master!B230","v":"**SIGN DESIGN"},{"$f":"Master!C230","v":0},{"$f":"Master!D230","v":"OLT/ILT"},{"$f":"Master!E230","v":"Inactive"},{"$f":"Master!F230","v":"None"},{"$f":"Master!H230","v":"No technical lead within WSDOT available to teach"},{"$f":"IF(Master!L230=\"\",\"B\",Master!L230)","v":"B"},{"$f":"IF(Master!W230=\"\",\"B\",Master!W230)","v":"B"},{"$f":"IF(Master!AH230=\"\",\"B\",Master!AH230)","v":"B"},{"$f":"IF(Master!AS230=\"\",\"B\",Master!AS230)","v":"B"},{"$f":"IF(Master!BD230=\"\",\"B\",Master!BD230)","v":"B"},{"$f":"IF(Master!BO230=\"\",\"B\",Master!BO230)","v":"B"}]
[{"$f":"Master!A231","v":"TR"},{"$f":"Master!B231","v":"WSDOT NHI: TR-Traffic Signal Design and Operations"},{"$f":"Master!C231","v":"WSDOT_TSD"},{"$f":"Master!D231","v":"OLT/ILT"},{"$f":"Master!E231","v":"Inactive"},{"$f":"Master!F231","v":"None"},{"$f":"Master!H231","v":"No technical lead within WSDOT available to teach"},{"$f":"IF(Master!L231=\"\",\"B\",Master!L231)","v":"B"},{"$f":"IF(Master!W231=\"\",\"B\",Master!W231)","v":"B"},{"$f":"IF(Master!AH231=\"\",\"B\",Master!AH231)","v":"B"},{"$f":"IF(Master!AS231=\"\",\"B\",Master!AS231)","v":"B"},{"$f":"IF(Master!BD231=\"\",\"B\",Master!BD231)","v":"B"},{"$f":"IF(Master!BO231=\"\",\"B\",Master!BO231)","v":"B"}]
[{"$f":"Master!A232","v":"TR"},{"$f":"Master!B232","v":"WSDOT NHI: TR-Traffic Signal Timing Concepts"},{"$f":"Master!C232","v":"WSDOT_STC"},{"$f":"Master!D232","v":"OLT/ILT"},{"$f":"Master!E232","v":"Inactive"},{"$f":"Master!F232","v":"None"},{"$f":"Master!H232","v":"No technical lead within WSDOT available to teach"},{"$f":"IF(Master!L232=\"\",\"B\",Master!L232)","v":"B"},{"$f":"IF(Master!W232=\"\",\"B\",Master!W232)","v":"B"},{"$f":"IF(Master!AH232=\"\",\"B\",Master!AH232)","v":"B"},{"$f":"IF(Master!AS232=\"\",\"B\",Master!AS232)","v":"B"},{"$f":"IF(Master!BD232=\"\",\"B\",Master!BD232)","v":"B"},{"$f":"IF(Master!BO232=\"\",\"B\",Master!BO232)","v":"B"}]
[{"$f":"Master!A233","v":"TR"},{"$f":"Master!B233","v":"**SYSTEMS ENGINEERING FOR SIGNAL SYSTEMS"},{"$f":"Master!C233","v":0},{"$f":"Master!D233","v":"OLT/ILT"},{"$f":"Master!E233","v":"Inactive"},{"$f":"Master!F233","v":"None"},{"$f":"Master!H233","v":"No technical lead within WSDOT available to teach"},{"$f":"IF(Master!L233=\"\",\"B\",Master!L233)","v":"B"},{"$f":"IF(Master!W233=\"\",\"B\",Master!W233)","v":"B"},{"$f":"IF(Master!AH233=\"\",\"B\",Master!AH233)","v":"B"},{"$f":"IF(Master!AS233=\"\",\"B\",Master!AS233)","v":"B"},{"$f":"IF(Master!BD233=\"\",\"B\",Master!BD233)","v":"B"},{"$f":"IF(Master!BO233=\"\",\"B\",Master!BO233)","v":"B"}]
[{"$f":"Master!A234","v":"TR"},{"$f":"Master!B234","v":"**TRAFFIC SIGNAL MANAGEMENT"},{"$f":"Master!C234","v":0},{"$f":"Master!D234","v":"OLT/ILT"},{"$f":"Master!E234","v":"Inactive"},{"$f":"Master!F234","v":"None"},{"$f":"Master!H234","v":"No technical lead within WSDOT available to teach"},{"$f":"IF(Master!L234=\"\",\"B\",Master!L234)","v":"B"},{"$f":"IF(Master!W234=\"\",\"B\",Master!W234)","v":"B"},{"$f":"IF(Master!AH234=\"\",\"B\",Master!AH234)","v":"B"},{"$f":"IF(Master!AS234=\"\",\"B\",Master!AS234)","v":"B"},{"$f":"IF(Master!BD234=\"\",\"B\",Master!BD234)","v":"B"},{"$f":"IF(Master!BO234=\"\",\"B\",Master!BO234)","v":"B"}]
[{"$f":"Master!A235","v":"TR"},{"$f":"Master!B235","v":"**ITS PROCUREMENT"},{"$f":"Master!C235","v":0},{"$f":"Master!D235","v":"OLT/ILT"},{"$f":"Master!E235","v":"Inactive"},{"$f":"Master!F235","v":"None"},{"$f":"Master!H235","v":"No technical lead within WSDOT available to teach"},{"$f":"IF(Master!L235=\"\",\"B\",Master!L235)","v":"B"},{"$f":"IF(Master!W235=\"\",\"B\",Master!W235)","v":"B"},{"$f":"IF(Master!AH235=\"\",\"B\",Master!AH235)","v":"B"},{"$f":"IF(Master!AS235=\"\",\"B\",Master!AS235)","v":"B"},{"$f":"IF(Master!BD235=\"\",\"B\",Master!BD235)","v":"B"},{"$f":"IF(Master!BO235=\"\",\"B\",Master!BO235)","v":"B"}]
[{"$f":"Master!A236","v":"TR"},{"$f":"Master!B236","v":"**BASICS OF TRANSPORTATION PLANNING"},{"$f":"Master!C236","v":0},{"$f":"Master!D236","v":"OLT/ILT"},{"$f":"Master!E236","v":"Inactive"},{"$f":"Master!F236","v":"None"},{"$f":"Master!H236","v":"No technical lead within WSDOT available to teach"},{"$f":"IF(Master!L236=\"\",\"B\",Master!L236)","v":"B"},{"$f":"IF(Master!W236=\"\",\"B\",Master!W236)","v":"B"},{"$f":"IF(Master!AH236=\"\",\"B\",Master!AH236)","v":"B"},{"$f":"IF(Master!AS236=\"\",\"B\",Master!AS236)","v":"B"},{"$f":"IF(Master!BD236=\"\",\"B\",Master!BD236)","v":"B"},{"$f":"IF(Master!BO236=\"\",\"B\",Master!BO236)","v":"B"}]
[{"$f":"Master!A237","v":"TR"},{"$f":"Master!B237","v":"**ADA/APS DESIGN"},{"$f":"Master!C237","v":0},{"$f":"Master!D237","v":"OLT/ILT"},{"$f":"Master!E237","v":"Inactive"},{"$f":"Master!F237","v":"None"},{"$f":"Master!H237","v":"No technical lead within WSDOT available to teach"},{"$f":"IF(Master!L237=\"\",\"B\",Master!L237)","v":"B"},{"$f":"IF(Master!W237=\"\",\"B\",Master!W237)","v":"B"},{"$f":"IF(Master!AH237=\"\",\"B\",Master!AH237)","v":"B"},{"$f":"IF(Master!AS237=\"\",\"B\",Master!AS237)","v":"B"},{"$f":"IF(Master!BD237=\"\",\"B\",Master!BD237)","v":"B"},{"$f":"IF(Master!BO237=\"\",\"B\",Master!BO237)","v":"B"}]
[{"$f":"Master!A238","v":"TR"},{"$f":"Master!B238","v":"**SIGNAL WARRANT ANALYSIS"},{"$f":"Master!C238","v":0},{"$f":"Master!D238","v":"OLT/ILT"},{"$f":"Master!E238","v":"Inactive"},{"$f":"Master!F238","v":"None"},{"$f":"Master!H238","v":"No technical lead within WSDOT available to teach"},{"$f":"IF(Master!L238=\"\",\"B\",Master!L238)","v":"B"},{"$f":"IF(Master!W238=\"\",\"B\",Master!W238)","v":"B"},{"$f":"IF(Master!AH238=\"\",\"B\",Master!AH238)","v":"B"},{"$f":"IF(Master!AS238=\"\",\"B\",Master!AS238)","v":"B"},{"$f":"IF(Master!BD238=\"\",\"B\",Master!BD238)","v":"B"},{"$f":"IF(Master!BO238=\"\",\"B\",Master!BO238)","v":"B"}]
[{"$f":"Master!A239","v":"TR"},{"$f":"Master!B239","v":"WSDOT TR: Introduction to ITS Design"},{"$f":"Master!C239","v":"WSDOT_DA6"},{"$f":"Master!D239","v":"OLT/ILT"},{"$f":"Master!E239","v":"Inactive"},{"$f":"Master!F239","v":"None"},{"$f":"Master!H239","v":"No technical lead within WSDOT available to teach"},{"$f":"IF(Master!L239=\"\",\"B\",Master!L239)","v":"B"},{"$f":"IF(Master!W239=\"\",\"B\",Master!W239)","v":"B"},{"$f":"IF(Master!AH239=\"\",\"B\",Master!AH239)","v":"B"},{"$f":"IF(Master!AS239=\"\",\"B\",Master!AS239)","v":"B"},{"$f":"IF(Master!BD239=\"\",\"B\",Master!BD239)","v":"B"},{"$f":"IF(Master!BO239=\"\",\"B\",Master!BO239)","v":"B"}]
[{"$f":"Master!A240","v":"TR"},{"$f":"Master!B240","v":"WSDOT TR: Intermediate/Advanced ITS Design"},{"$f":"Master!C240","v":"WSDOT_DA7"},{"$f":"Master!D240","v":"OLT/ILT"},{"$f":"Master!E240","v":"Inactive"},{"$f":"Master!F240","v":"None"},{"$f":"Master!H240","v":"No technical lead within WSDOT available to teach"},{"$f":"IF(Master!L240=\"\",\"B\",Master!L240)","v":"B"},{"$f":"IF(Master!W240=\"\",\"B\",Master!W240)","v":"B"},{"$f":"IF(Master!AH240=\"\",\"B\",Master!AH240)","v":"B"},{"$f":"IF(Master!AS240=\"\",\"B\",Master!AS240)","v":"B"},{"$f":"IF(Master!BD240=\"\",\"B\",Master!BD240)","v":"B"},{"$f":"IF(Master!BO240=\"\",\"B\",Master!BO240)","v":"B"}]
[{"$f":"Master!A241","v":"TR"},{"$f":"Master!B241","v":"**BASIC HIGHWAY CAPACITY FOR ENGINEERS AND PLANNERS"},{"$f":"Master!C241","v":0},{"$f":"Master!D241","v":"OLT/ILT"},{"$f":"Master!E241","v":"Inactive"},{"$f":"Master!F241","v":"None"},{"$f":"Master!H241","v":"No technical lead within WSDOT available to teach"},{"$f":"IF(Master!L241=\"\",\"B\",Master!L241)","v":"B"},{"$f":"IF(Master!W241=\"\",\"B\",Master!W241)","v":"B"},{"$f":"IF(Master!AH241=\"\",\"B\",Master!AH241)","v":"B"},{"$f":"IF(Master!AS241=\"\",\"B\",Master!AS241)","v":"B"},{"$f":"IF(Master!BD241=\"\",\"B\",Master!BD241)","v":"B"},{"$f":"IF(Master!BO241=\"\",\"B\",Master!BO241)","v":"B"}]
[{"$f":"Master!A242","v":"TR"},{"$f":"Master!B242","v":"WSDOT UW: Gen-Uniform Traffic Control Devices"},{"$f":"Master!C242","v":"WSDOT_BML"},{"$f":"Master!D242","v":"OLT/ILT"},{"$f":"Master!E242","v":"Inactive"},{"$f":"Master!F242","v":"None"},{"$f":"Master!H242","v":"No technical lead within WSDOT available to teach"},{"$f":"IF(Master!L242=\"\",\"B\",Master!L242)","v":"B"},{"$f":"IF(Master!W242=\"\",\"B\",Master!W242)","v":"B"},{"$f":"IF(Master!AH242=\"\",\"B\",Master!AH242)","v":"B"},{"$f":"IF(Master!AS242=\"\",\"B\",Master!AS242)","v":"B"},{"$f":"IF(Master!BD242=\"\",\"B\",Master!BD242)","v":"B"},{"$f":"IF(Master!BO242=\"\",\"B\",Master!BO242)","v":"B"}]
[{"$f":"Master!A243","v":"TR"},{"$f":"Master!B243","v":"WSDOT UW: TR-Advanced Highway Capacity Analysis"},{"$f":"Master!C243","v":"WSDOT_A3C"},{"$f":"Master!D243","v":"OLT/ILT"},{"$f":"Master!E243","v":"Inactive"},{"$f":"Master!F243","v":"None"},{"$f":"Master!H243","v":"No technical lead within WSDOT available to teach"},{"$f":"IF(Master!L243=\"\",\"B\",Master!L243)","v":"B"},{"$f":"IF(Master!W243=\"\",\"B\",Master!W243)","v":"B"},{"$f":"IF(Master!AH243=\"\",\"B\",Master!AH243)","v":"B"},{"$f":"IF(Master!AS243=\"\",\"B\",Master!AS243)","v":"B"},{"$f":"IF(Master!BD243=\"\",\"B\",Master!BD243)","v":"B"},{"$f":"IF(Master!BO243=\"\",\"B\",Master!BO243)","v":"B"}]
[{"$f":"Master!A244","v":"TR"},{"$f":"Master!B244","v":"WSDOT UW: TR-Fundamentals of Traffic Engineering"},{"$f":"Master!C244","v":"WSDOT_BS3"},{"$f":"Master!D244","v":"OLT/ILT"},{"$f":"Master!E244","v":"Inactive"},{"$f":"Master!F244","v":"None"},{"$f":"Master!H244","v":"No technical lead within WSDOT available to teach"},{"$f":"IF(Master!L244=\"\",\"B\",Master!L244)","v":"B"},{"$f":"IF(Master!W244=\"\",\"B\",Master!W244)","v":"B"},{"$f":"IF(Master!AH244=\"\",\"B\",Master!AH244)","v":"B"},{"$f":"IF(Master!AS244=\"\",\"B\",Master!AS244)","v":"B"},{"$f":"IF(Master!BD244=\"\",\"B\",Master!BD244)","v":"B"},{"$f":"IF(Master!BO244=\"\",\"B\",Master!BO244)","v":"B"}]
[{"$f":"Master!A245","v":"TR"},{"$f":"Master!B245","v":"WSDOT UW:TR-Traffic Engineering Operations"},{"$f":"Master!C245","v":"WSDOT_BS4"},{"$f":"Master!D245","v":"OLT/ILT"},{"$f":"Master!E245","v":"Inactive"},{"$f":"Master!F245","v":"None"},{"$f":"Master!H245","v":"No technical lead within WSDOT available to teach"},{"$f":"IF(Master!L245=\"\",\"B\",Master!L245)","v":"B"},{"$f":"IF(Master!W245=\"\",\"B\",Master!W245)","v":"B"},{"$f":"IF(Master!AH245=\"\",\"B\",Master!AH245)","v":"B"},{"$f":"IF(Master!AS245=\"\",\"B\",Master!AS245)","v":"B"},{"$f":"IF(Master!BD245=\"\",\"B\",Master!BD245)","v":"B"},{"$f":"IF(Master!BO245=\"\",\"B\",Master!BO245)","v":"B"}]
[{"$f":"Master!A246","v":0},{"$f":"Master!B246","v":"** no LMS course"},{"$f":"Master!C246","v":0},{"$f":"Master!D246","v":0},{"$f":"Master!E246","v":0},{"$f":"Master!F246","v":0},{"$f":"Master!H246","v":0}]
[{"$f":"Master!A247","v":0},{"$f":"Master!B247","v":"*** SS=Self Study, OLT=Online Training, ILT=Instructor Led Training"},{"$f":"Master!C247","v":0},{"$f":"Master!D247","v":0},{"$f":"Master!E247","v":0},{"$f":"Master!F247","v":0},{"$f":"Master!H247","v":0}]
[{"$f":"Master!A248","v":"ES"},{"$f":"Master!B248","v":"= Course offered by Department of Enterprise Services (DES). Contact LMS Helpdesk at 360-705-7060."},{"$f":"Master!C248","v":0},{"$f":"Master!D248","v":0},{"$f":"Master!E248","v":0},{"$f":"Master!F248","v":0},{"$f":"Master!H248","v":0}]
[{"$f":"Master!A249","v":"HR"},{"$f":"Master!B249","v":"= Course registration controlled by Human Resources. Contact LMS Helpdesk at 360-705-7060 to Register."},{"$f":"Master!C249","v":0},{"$f":"Master!D249","v":0},{"$f":"Master!E249","v":0},{"$f":"Master!F249","v":0},{"$f":"Master!H249","v":0}]
[{"$f":"Master!A250","v":0},{"$f":"Master!B250","v":0},{"$f":"Master!C250","v":0},{"$f":"Master!D250","v":0},{"$f":"Master!E250","v":0},{"$f":"Master!F250","v":0},{"$f":"Master!H250","v":0}]
[{"$f":"Master!A251","v":0},{"$f":"Master!B251","v":0},{"$f":"Master!C251","v":0},{"$f":"Master!D251","v":0},{"$f":"Master!E251","v":0},{"$f":"Master!F251","v":0},{"$f":"Master!H251","v":0}]
[{"$f":"Master!A252","v":0},{"$f":"Master!B252","v":0},{"$f":"Master!C252","v":0},{"$f":"Master!D252","v":0},{"$f":"Master!E252","v":0},{"$f":"Master!F252","v":0},{"$f":"Master!H252","v":0}]
[{"$f":"Master!A253","v":0},{"$f":"Master!B253","v":0},{"$f":"Master!C253","v":0},{"$f":"Master!D253","v":0},{"$f":"Master!E253","v":0},{"$f":"Master!F253","v":0},{"$f":"Master!H253","v":0}]
[{"$f":"Master!A254","v":0},{"$f":"Master!B254","v":0},{"$f":"Master!C254","v":0},{"$f":"Master!D254","v":0},{"$f":"Master!E254","v":0},{"$f":"Master!F254","v":0},{"$f":"Master!H254","v":0}]
[{"$f":"Master!A255","v":0},{"$f":"Master!B255","v":0},{"$f":"Master!C255","v":0},{"$f":"Master!D255","v":0},{"$f":"Master!E255","v":0},{"$f":"Master!F255","v":0},{"$f":"Master!H255","v":0}]
[{"$f":"Master!A256","v":0},{"$f":"Master!B256","v":0},{"$f":"Master!C256","v":0},{"$f":"Master!D256","v":0},{"$f":"Master!E256","v":0},{"$f":"Master!F256","v":0},{"$f":"Master!H256","v":0}]
[{"$f":"Master!A257","v":0},{"$f":"Master!B257","v":0},{"$f":"Master!C257","v":0},{"$f":"Master!D257","v":0},{"$f":"Master!E257","v":0},{"$f":"Master!F257","v":0},{"$f":"Master!H257","v":0}]
[{"$f":"Master!A258","v":0},{"$f":"Master!B258","v":0},{"$f":"Master!C258","v":0},{"$f":"Master!D258","v":0},{"$f":"Master!E258","v":0},{"$f":"Master!F258","v":0},{"$f":"Master!H258","v":0}]
[{"$f":"Master!A259","v":0},{"$f":"Master!B259","v":0},{"$f":"Master!C259","v":0},{"$f":"Master!D259","v":0},{"$f":"Master!E259","v":0},{"$f":"Master!F259","v":0},{"$f":"Master!H259","v":0}]
[{"$f":"Master!A260","v":0},{"$f":"Master!B260","v":0},{"$f":"Master!C260","v":0},{"$f":"Master!D260","v":0},{"$f":"Master!E260","v":0},{"$f":"Master!F260","v":0},{"$f":"Master!H260","v":0}]
[{"$f":"Master!A261","v":0},{"$f":"Master!B261","v":0},{"$f":"Master!C261","v":0},{"$f":"Master!D261","v":0},{"$f":"Master!E261","v":0},{"$f":"Master!F261","v":0},{"$f":"Master!H261","v":0}]
[{"$f":"Master!A262","v":0},{"$f":"Master!B262","v":0},{"$f":"Master!C262","v":0},{"$f":"Master!D262","v":0},{"$f":"Master!E262","v":0},{"$f":"Master!F262","v":0},{"$f":"Master!H262","v":0}]
[{"$f":"Master!A263","v":0},{"$f":"Master!B263","v":0},{"$f":"Master!C263","v":0},{"$f":"Master!D263","v":0},{"$f":"Master!E263","v":0},{"$f":"Master!F263","v":0},{"$f":"Master!H263","v":0}]
[{"$f":"Master!A264","v":0},{"$f":"Master!B264","v":0},{"$f":"Master!C264","v":0},{"$f":"Master!D264","v":0},{"$f":"Master!E264","v":0},{"$f":"Master!F264","v":0},{"$f":"Master!H264","v":0}]
[{"$f":"Master!A265","v":0},{"$f":"Master!B265","v":0},{"$f":"Master!C265","v":0},{"$f":"Master!D265","v":0},{"$f":"Master!E265","v":0},{"$f":"Master!F265","v":0},{"$f":"Master!H265","v":0}]
[{"$f":"Master!A266","v":0},{"$f":"Master!B266","v":0},{"$f":"Master!C266","v":0},{"$f":"Master!D266","v":0},{"$f":"Master!E266","v":0},{"$f":"Master!F266","v":0},{"$f":"Master!H266","v":0}]
[{"$f":"Master!A267","v":0},{"$f":"Master!B267","v":0},{"$f":"Master!C267","v":0},{"$f":"Master!D267","v":0},{"$f":"Master!E267","v":0},{"$f":"Master!F267","v":0},{"$f":"Master!H267","v":0}]
[{"$f":"Master!A268","v":0},{"$f":"Master!B268","v":0},{"$f":"Master!C268","v":0},{"$f":"Master!D268","v":0},{"$f":"Master!E268","v":0},{"$f":"Master!F268","v":0},{"$f":"Master!H268","v":0}]
[{"$f":"Master!A269","v":0},{"$f":"Master!B269","v":0},{"$f":"Master!C269","v":0},{"$f":"Master!D269","v":0},{"$f":"Master!E269","v":0},{"$f":"Master!F269","v":0},{"$f":"Master!H269","v":0}]
[{"$f":"Master!A270","v":0},{"$f":"Master!B270","v":0},{"$f":"Master!C270","v":0},{"$f":"Master!D270","v":0},{"$f":"Master!E270","v":0},{"$f":"Master!F270","v":0},{"$f":"Master!H270","v":0}]
[{"$f":"Master!A271","v":0},{"$f":"Master!B271","v":0},{"$f":"Master!C271","v":0},{"$f":"Master!D271","v":0},{"$f":"Master!E271","v":0},{"$f":"Master!F271","v":0},{"$f":"Master!H271","v":0}]
[{"$f":"Master!A272","v":0},{"$f":"Master!B272","v":0},{"$f":"Master!C272","v":0},{"$f":"Master!D272","v":0},{"$f":"Master!E272","v":0},{"$f":"Master!F272","v":0},{"$f":"Master!H272","v":0}]
[{"$f":"Master!A273","v":0},{"$f":"Master!B273","v":0},{"$f":"Master!C273","v":0},{"$f":"Master!D273","v":0},{"$f":"Master!E273","v":0},{"$f":"Master!F273","v":0},{"$f":"Master!H273","v":0}]
[{"$f":"Master!A274","v":0},{"$f":"Master!B274","v":0},{"$f":"Master!C274","v":0},{"$f":"Master!D274","v":0},{"$f":"Master!E274","v":0},{"$f":"Master!F274","v":0},{"$f":"Master!H274","v":0}]
[{"$f":"Master!A275","v":0},{"$f":"Master!B275","v":0},{"$f":"Master!C275","v":0},{"$f":"Master!D275","v":0},{"$f":"Master!E275","v":0},{"$f":"Master!F275","v":0},{"$f":"Master!H275","v":0}]
[{"$f":"Master!A276","v":0},{"$f":"Master!B276","v":0},{"$f":"Master!C276","v":0},{"$f":"Master!D276","v":0},{"$f":"Master!E276","v":0},{"$f":"Master!F276","v":0},{"$f":"Master!H276","v":0}]
[{"$f":"Master!A277","v":0},{"$f":"Master!B277","v":0},{"$f":"Master!C277","v":0},{"$f":"Master!D277","v":0},{"$f":"Master!E277","v":0},{"$f":"Master!F277","v":0},{"$f":"Master!H277","v":0}]
[{"$f":"Master!A278","v":0},{"$f":"Master!B278","v":0},{"$f":"Master!C278","v":0},{"$f":"Master!D278","v":0},{"$f":"Master!E278","v":0},{"$f":"Master!F278","v":0},{"$f":"Master!H278","v":0}]
[{"$f":"Master!A279","v":0},{"$f":"Master!B279","v":0},{"$f":"Master!C279","v":0},{"$f":"Master!D279","v":0},{"$f":"Master!E279","v":0},{"$f":"Master!F279","v":0},{"$f":"Master!H279","v":0}]
[{"$f":"Master!A280","v":0},{"$f":"Master!B280","v":0},{"$f":"Master!C280","v":0},{"$f":"Master!D280","v":0},{"$f":"Master!E280","v":0},{"$f":"Master!F280","v":0},{"$f":"Master!H280","v":0}]
[{"$f":"Master!A281","v":0},{"$f":"Master!B281","v":0},{"$f":"Master!C281","v":0},{"$f":"Master!D281","v":0},{"$f":"Master!E281","v":0},{"$f":"Master!F281","v":0},{"$f":"Master!H281","v":0}]
[{"$f":"Master!A282","v":0},{"$f":"Master!B282","v":0},{"$f":"Master!C282","v":0},{"$f":"Master!D282","v":0},{"$f":"Master!E282","v":0},{"$f":"Master!F282","v":0},{"$f":"Master!H282","v":0}]
[{"$f":"Master!A283","v":0},{"$f":"Master!B283","v":0},{"$f":"Master!C283","v":0},{"$f":"Master!D283","v":0},{"$f":"Master!E283","v":0},{"$f":"Master!F283","v":0},{"$f":"Master!H283","v":0}]

{"sheet":"ENV","index":14,"n_rows":283,"n_cols":13,"rows_kept":283,"cut":false,"hidden":false,"merged":[[191,0,191,6],[202,0,202,6],[210,0,210,6],[213,0,213,6],[85,0,85,6],[88,0,88,6],[95,0,95,6],[151,0,151,6],[152,0,152,6],[185,0,185,6],[83,0,83,6],[2,0,2,6],[13,0,13,6],[48,0,48,6],[49,0,49,6],[52,0,52,6],[55,0,55,6],[58,0,58,6],[60,0,60,6],[63,0,63,6],[70,0,70,6],[76,0,76,6]]}
[null,null,null,7,6]
["Responsible Division","LMS COURSE NAME"," LMS COURSE CODE","Self Study (SS), \nOnline (OLT), or \nInstructor Led (ILT)","TRAINING\nSTATUS","If training status is \"inactive\", when will the course be developed?","NOTES","TT1","TT2","TT3","TE1","TE2","TE3"]
["Mandatory",null,null,null,null,null,null,{"$f":"IF(Master!M3=\"\",\"B\",Master!M3)","v":"B"},{"$f":"IF(Master!X3=\"\",\"B\",Master!X3)","v":"B"},{"$f":"IF(Master!AI3=\"\",\"B\",Master!AI3)","v":"B"},{"$f":"IF(Master!AT3=\"\",\"B\",Master!AT3)","v":"B"},{"$f":"IF(Master!BE3=\"\",\"B\",Master!BE3)","v":"B"},{"$f":"IF(Master!BP3=\"\",\"B\",Master!BP3)","v":"B"}]
[{"$f":"Master!A4","v":"HR"},{"$f":"Master!B4","v":"WA-State Ethics in State Government"},{"$f":"Master!C4","v":"WA-State Ethics 8-7-2014-V6"},{"$f":"Master!D4","v":"OLT"},{"$f":"Master!E4","v":"Active"},{"$f":"Master!F4","v":0},{"$f":"Master!H4","v":"To register for this course, \ncall the LMS Helpdesk at \n360-705-7060."},{"$f":"IF(Master!M4=\"\",\"B\",Master!M4)","v":"M"},{"$f":"IF(Master!X4=\"\",\"B\",Master!X4)","v":"M"},{"$f":"IF(Master!AI4=\"\",\"B\",Master!AI4)","v":"M"},{"$f":"IF(Master!AT4=\"\",\"B\",Master!AT4)","v":"M"},{"$f":"IF(Master!BE4=\"\",\"B\",Master!BE4)","v":"M"},{"$f":"IF(Master!BP4=\"\",\"B\",Master!BP4)","v":"M"}]
[{"$f":"Master!A5","v":"HR"},{"$f":"Master!B5","v":"WSDOT Mandatory: Ethical Standards WSDOT Specific Training"},{"$f":"Master!C5","v":"WSDOT_BKB Specific"},{"$f":"Master!D5","v":"OLT"},{"$f":"Master!E5","v":"Active"},{"$f":"Master!F5","v":0},{"$f":"Master!H5","v":"To register for this course, \ncall the LMS Helpdesk at \n360-705-7060."},{"$f":"IF(Master!M5=\"\",\"B\",Master!M5)","v":"M"},{"$f":"IF(Master!X5=\"\",\"B\",Master!X5)","v":"M"},{"$f":"IF(Master!AI5=\"\",\"B\",Master!AI5)","v":"M"},{"$f":"IF(Master!AT5=\"\",\"B\",Master!AT5)","v":"M"},{"$f":"IF(Master!BE5=\"\",\"B\",Master!BE5)","v":"M"},{"$f":"IF(Master!BP5=\"\",\"B\",Master!BP5)","v":"M"}]
[{"$f":"Master!A6","v":"HR"},{"$f":"Master!B6","v":"WSDOT Mandatory: System Security Awareness For Transportation Employees (Self Study)"},{"$f":"Master!C6","v":"WSDOT_CJJ_UDT"},{"$f":"Master!D6","v":"SS"},{"$f":"Master!E6","v":"Active"},{"$f":"Master!F6","v":0},{"$f":"Master!H6","v":"To register for this course, \ncall the LMS Helpdesk at \n360-705-7060."},{"$f":"IF(Master!M6=\"\",\"B\",Master!M6)","v":"M"},{"$f":"IF(Master!X6=\"\",\"B\",Master!X6)","v":"M"},{"$f":"IF(Master!AI6=\"\",\"B\",Master!AI6)","v":"M"},{"$f":"IF(Master!AT6=\"\",\"B\",Master!AT6)","v":"M"},{"$f":"IF(Master!BE6=\"\",\"B\",Master!BE6)","v":"M"},{"$f":"IF(Master!BP6=\"\",\"B\",Master!BP6)","v":"M"}]
[{"$f":"Master!A7","v":"HR"},{"$f":"Master!B7","v":"WSDOT Mandatory: Violence That Affects The Workplace (Self Study)"},{"$f":"Master!C7","v":"WSDOT_B9V"},{"$f":"Master!D7","v":"SS"},{"$f":"Master!E7","v":"Active"},{"$f":"Master!F7","v":0},{"$f":"Master!H7","v":"To register for this course, \ncall the LMS Helpdesk at \n360-705-7060."},{"$f":"IF(Master!M7=\"\",\"B\",Master!M7)","v":"M"},{"$f":"IF(Master!X7=\"\",\"B\",Master!X7)","v":"M"},{"$f":"IF(Master!AI7=\"\",\"B\",Master!AI7)","v":"M"},{"$f":"IF(Master!AT7=\"\",\"B\",Master!AT7)","v":"M"},{"$f":"IF(Master!BE7=\"\",\"B\",Master!BE7)","v":"M"},{"$f":"IF(Master!BP7=\"\",\"B\",Master!BP7)","v":"M"}]
[{"$f":"Master!A8","v":"HR"},{"$f":"Master!B8","v":"WA-State IT Security Awareness Training"},{"$f":"Master!C8","v":"WA-State IT Security Awareness Training - Initial Training-8/16/2013"},{"$f":"Master!D8","v":"OLT"},{"$f":"Master!E8","v":"Active"},{"$f":"Master!F8","v":0},{"$f":"Master!H8","v":"To register for this course, \ncall the LMS Helpdesk at \n360-705-7060."},{"$f":"IF(Master!M8=\"\",\"B\",Master!M8)","v":"M"},{"$f":"IF(Master!X8=\"\",\"B\",Master!X8)","v":"M"},{"$f":"IF(Master!AI8=\"\",\"B\",Master!AI8)","v":"M"},{"$f":"IF(Master!AT8=\"\",\"B\",Master!AT8)","v":"M"},{"$f":"IF(Master!BE8=\"\",\"B\",Master!BE8)","v":"M"},{"$f":"IF(Master!BP8=\"\",\"B\",Master!BP8)","v":"M"}]
[{"$f":"Master!A9","v":"HR"},{"$f":"Master!B9","v":"WA-State Sexual Harassment Awareness and Prevention"},{"$f":"Master!C9","v":"DES_shap_2013_Updated_9-3-2014"},{"$f":"Master!D9","v":"OLT"},{"$f":"Master!E9","v":"Active"},{"$f":"Master!F9","v":0},{"$f":"Master!H9","v":"To register for this course, \ncall the LMS Helpdesk at \n360-705-7060."},{"$f":"IF(Master!M9=\"\",\"B\",Master!M9)","v":"M"},{"$f":"IF(Master!X9=\"\",\"B\",Master!X9)","v":"M"},{"$f":"IF(Master!AI9=\"\",\"B\",Master!AI9)","v":"M"},{"$f":"IF(Master!AT9=\"\",\"B\",Master!AT9)","v":"M"},{"$f":"IF(Master!BE9=\"\",\"B\",Master!BE9)","v":"M"},{"$f":"IF(Master!BP9=\"\",\"B\",Master!BP9)","v":"M"}]
[{"$f":"Master!A10","v":"HR"},{"$f":"Master!B10","v":"WSDOT Mandatory: Disability Awareness Step 1, Understanding the Americans with Disabilities Act (ADA)  "},{"$f":"Master!C10","v":"lchr_01_a15_lc_enus"},{"$f":"Master!D10","v":"OLT"},{"$f":"Master!E10","v":"Active"},{"$f":"Master!F10","v":0},{"$f":"Master!H10","v":"To register for this course, \ncall the LMS Helpdesk at \n360-705-7060."},{"$f":"IF(Master!M10=\"\",\"B\",Master!M10)","v":"M"},{"$f":"IF(Master!X10=\"\",\"B\",Master!X10)","v":"M"},{"$f":"IF(Master!AI10=\"\",\"B\",Master!AI10)","v":"M"},{"$f":"IF(Master!AT10=\"\",\"B\",Master!AT10)","v":"M"},{"$f":"IF(Master!BE10=\"\",\"B\",Master!BE10)","v":"M"},{"$f":"IF(Master!BP10=\"\",\"B\",Master!BP10)","v":"M"}]
[{"$f":"Master!A11","v":"HR"},{"$f":"Master!B11","v":"WSDOT Mandatory: Disability Awareness Step 2 of Learning Plan"},{"$f":"Master!C11","v":"WSDOT_CD8_UDT2"},{"$f":"Master!D11","v":"OLT"},{"$f":"Master!E11","v":"Active"},{"$f":"Master!F11","v":0},{"$f":"Master!H11","v":"To register for this course, \ncall the LMS Helpdesk at \n360-705-7060."},{"$f":"IF(Master!M11=\"\",\"B\",Master!M11)","v":"M"},{"$f":"IF(Master!X11=\"\",\"B\",Master!X11)","v":"M"},{"$f":"IF(Master!AI11=\"\",\"B\",Master!AI11)","v":"M"},{"$f":"IF(Master!AT11=\"\",\"B\",Master!AT11)","v":"M"},{"$f":"IF(Master!BE11=\"\",\"B\",Master!BE11)","v":"M"},{"$f":"IF(Master!BP11=\"\",\"B\",Master!BP11)","v":"M"}]
[{"$f":"Master!A12","v":"HR"},{"$f":"Master!B12","v":"WSDOT Mandatory: Discrimination In The Workplace (Self Study)"},{"$f":"Master!C12","v":"WSDOT_DIS"},{"$f":"Master!D12","v":"SS"},{"$f":"Master!E12","v":"Active"},{"$f":"Master!F12","v":0},{"$f":"Master!H12","v":"To register for this course, \ncall the LMS Helpdesk at \n360-705-7060."},{"$f":"IF(Master!M12=\"\",\"B\",Master!M12)","v":"M"},{"$f":"IF(Master!X12=\"\",\"B\",Master!X12)","v":"M"},{"$f":"IF(Master!AI12=\"\",\"B\",Master!AI12)","v":"M"},{"$f":"IF(Master!AT12=\"\",\"B\",Master!AT12)","v":"M"},{"$f":"IF(Master!BE12=\"\",\"B\",Master!BE12)","v":"M"},{"$f":"IF(Master!BP12=\"\",\"B\",Master!BP12)","v":"M"}]
[{"$f":"Master!A13","v":"HR"},{"$f":"Master!B13","v":"WSDOT Mandatory: Valuing Diversity Step 2, Promoting Respect in the Global Workplace – Employee Edition"},{"$f":"Master!C13","v":"WSDOT_lch_01_a09_lc_enus"},{"$f":"Master!D13","v":"OLT"},{"$f":"Master!E13","v":"Active"},{"$f":"Master!F13","v":0},{"$f":"Master!H13","v":"To register for this course, \ncall the LMS Helpdesk at \n360-705-7060."},{"$f":"IF(Master!M13=\"\",\"B\",Master!M13)","v":"M"},{"$f":"IF(Master!X13=\"\",\"B\",Master!X13)","v":"M"},{"$f":"IF(Master!AI13=\"\",\"B\",Master!AI13)","v":"M"},{"$f":"IF(Master!AT13=\"\",\"B\",Master!AT13)","v":"M"},{"$f":"IF(Master!BE13=\"\",\"B\",Master!BE13)","v":"M"},{"$f":"IF(Master!BP13=\"\",\"B\",Master!BP13)","v":"M"}]
[{"$f":"Master!A14","v":"General Knowledge"},null,null,null,null,null,null,{"$f":"IF(Master!M14=\"\",\"B\",Master!M14)","v":"B"},{"$f":"IF(Master!X14=\"\",\"B\",Master!X14)","v":"B"},{"$f":"IF(Master!AI14=\"\",\"B\",Master!AI14)","v":"B"},{"$f":"IF(Master!AT14=\"\",\"B\",Master!AT14)","v":"B"},{"$f":"IF(Master!BE14=\"\",\"B\",Master!BE14)","v":"B"},{"$f":"IF(Master!BP14=\"\",\"B\",Master!BP14)","v":"B"}]
[{"$f":"Master!A15","v":"GEN"},{"$f":"Master!B15","v":"**Legal Liability for Transportation Professionals - Entry"},{"$f":"Master!C15","v":0},{"$f":"Master!D15","v":"ILT"},{"$f":"Master!E15","v":"Inactive"},{"$f":"Master!F15","v":0},{"$f":"Master!H15","v":0},{"$f":"IF(Master!M15=\"\",\"B\",Master!M15)","v":1},{"$f":"IF(Master!X15=\"\",\"B\",Master!X15)","v":1},{"$f":"IF(Master!AI15=\"\",\"B\",Master!AI15)","v":1},{"$f":"IF(Master!AT15=\"\",\"B\",Master!AT15)","v":1},{"$f":"IF(Master!BE15=\"\",\"B\",Master!BE15)","v":1},{"$f":"IF(Master!BP15=\"\",\"B\",Master!BP15)","v":"B"}]
[{"$f":"Master!A16","v":"GEN"},{"$f":"Master!B16","v":"**Legal Liability for Transportation Professionals - In-Depth"},{"$f":"Master!C16","v":0},{"$f":"Master!D16","v":"ILT"},{"$f":"Master!E16","v":"Inactive"},{"$f":"Master!F16","v":0},{"$f":"Master!H16","v":0},{"$f":"IF(Master!M16=\"\",\"B\",Master!M16)","v":"B"},{"$f":"IF(Master!X16=\"\",\"B\",Master!X16)","v":"B"},{"$f":"IF(Master!AI16=\"\",\"B\",Master!AI16)","v":"B"},{"$f":"IF(Master!AT16=\"\",\"B\",Master!AT16)","v":"B"},{"$f":"IF(Master!BE16=\"\",\"B\",Master!BE16)","v":"B"},{"$f":"IF(Master!BP16=\"\",\"B\",Master!BP16)","v":1}]
[{"$f":"Master!A17","v":"GEN"},{"$f":"Master!B17","v":"WSDOT GEN: TECHNICAL MATHEMATICS I (SELF-STUDY)"},{"$f":"Master!C17","v":"WSDOT_AFN"},{"$f":"Master!D17","v":"SS"},{"$f":"Master!E17","v":"Active"},{"$f":"Master!F17","v":0},{"$f":"Master!H17","v":0},{"$f":"IF(Master!M17=\"\",\"B\",Master!M17)","v":"R"},{"$f":"IF(Master!X17=\"\",\"B\",Master!X17)","v":"R"},{"$f":"IF(Master!AI17=\"\",\"B\",Master!AI17)","v":"B"},{"$f":"IF(Master!AT17=\"\",\"B\",Master!AT17)","v":"B"},{"$f":"IF(Master!BE17=\"\",\"B\",Master!BE17)","v":"B"},{"$f":"IF(Master!BP17=\"\",\"B\",Master!BP17)","v":"B"}]
[{"$f":"Master!A18","v":"GEN"},{"$f":"Master!B18","v":"WSDOT GEN: TECHNICAL MATHEMATICS II (SELF-STUDY)"},{"$f":"Master!C18","v":"WSDOT_A7J"},{"$f":"Master!D18","v":"SS"},{"$f":"Master!E18","v":"Active"},{"$f":"Master!F18","v":0},{"$f":"Master!H18","v":0},{"$f":"IF(Master!M18=\"\",\"B\",Master!M18)","v":"R"},{"$f":"IF(Master!X18=\"\",\"B\",Master!X18)","v":"R"},{"$f":"IF(Master!AI18=\"\",\"B\",Master!AI18)","v":"B"},{"$f":"IF(Master!AT18=\"\",\"B\",Master!AT18)","v":"B"},{"$f":"IF(Master!BE18=\"\",\"B\",Master!BE18)","v":"B"},{"$f":"IF(Master!BP18=\"\",\"B\",Master!BP18)","v":"B"}]
[{"$f":"Master!A19","v":"SS"},{"$f":"Master!B19","v":"Finding Your Bearings as a Project Manager"},{"$f":"Master!C19","v":"apj_151_a01_bs_enus"},{"$f":"Master!D19","v":"OLT"},{"$f":"Master!E19","v":"Active"},{"$f":"Master!F19","v":0},{"$f":"Master!H19","v":0},{"$f":"IF(Master!M19=\"\",\"B\",Master!M19)","v":"R"},{"$f":"IF(Master!X19=\"\",\"B\",Master!X19)","v":"R"},{"$f":"IF(Master!AI19=\"\",\"B\",Master!AI19)","v":"B"},{"$f":"IF(Master!AT19=\"\",\"B\",Master!AT19)","v":"B"},{"$f":"IF(Master!BE19=\"\",\"B\",Master!BE19)","v":"B"},{"$f":"IF(Master!BP19=\"\",\"B\",Master!BP19)","v":"B"}]
[{"$f":"Master!A20","v":"SS"},{"$f":"Master!B20","v":"Getting to the Root of a Problem"},{"$f":"Master!C20","v":"apj_15_a01_bs_enus"},{"$f":"Master!D20","v":"OLT"},{"$f":"Master!E20","v":"Active"},{"$f":"Master!F20","v":0},{"$f":"Master!H20","v":0},{"$f":"IF(Master!M20=\"\",\"B\",Master!M20)","v":"R"},{"$f":"IF(Master!X20=\"\",\"B\",Master!X20)","v":"R"},{"$f":"IF(Master!AI20=\"\",\"B\",Master!AI20)","v":"B"},{"$f":"IF(Master!AT20=\"\",\"B\",Master!AT20)","v":"B"},{"$f":"IF(Master!BE20=\"\",\"B\",Master!BE20)","v":"B"},{"$f":"IF(Master!BP20=\"\",\"B\",Master!BP20)","v":"B"}]
[{"$f":"Master!A21","v":"SS"},{"$f":"Master!B21","v":"The Process Groups (PMBOK® Guide Fifth Edition)"},{"$f":"Master!C21","v":"apj_01_a03_bs_enus"},{"$f":"Master!D21","v":"OLT"},{"$f":"Master!E21","v":"Active"},{"$f":"Master!F21","v":0},{"$f":"Master!H21","v":0},{"$f":"IF(Master!M21=\"\",\"B\",Master!M21)","v":"R"},{"$f":"IF(Master!X21=\"\",\"B\",Master!X21)","v":"R"},{"$f":"IF(Master!AI21=\"\",\"B\",Master!AI21)","v":"B"},{"$f":"IF(Master!AT21=\"\",\"B\",Master!AT21)","v":"B"},{"$f":"IF(Master!BE21=\"\",\"B\",Master!BE21)","v":"B"},{"$f":"IF(Master!BP21=\"\",\"B\",Master!BP21)","v":"B"}]
[{"$f":"Master!A22","v":"SS"},{"$f":"Master!B22","v":"Solving Problems: Generating and Evaluating Alternatives"},{"$f":"Master!C22","v":"pd_29_a02_bs_enus"},{"$f":"Master!D22","v":"OLT"},{"$f":"Master!E22","v":"Active"},{"$f":"Master!F22","v":0},{"$f":"Master!H22","v":0},{"$f":"IF(Master!M22=\"\",\"B\",Master!M22)","v":"R"},{"$f":"IF(Master!X22=\"\",\"B\",Master!X22)","v":"R"},{"$f":"IF(Master!AI22=\"\",\"B\",Master!AI22)","v":"B"},{"$f":"IF(Master!AT22=\"\",\"B\",Master!AT22)","v":"B"},{"$f":"IF(Master!BE22=\"\",\"B\",Master!BE22)","v":"B"},{"$f":"IF(Master!BP22=\"\",\"B\",Master!BP22)","v":"B"}]
[{"$f":"Master!A23","v":"SS"},{"$f":"Master!B23","v":"Making and Carrying Out Tough Decisions"},{"$f":"Master!C23","v":"pd_29_a03_bs_enus"},{"$f":"Master!D23","v":"OLT"},{"$f":"Master!E23","v":"Active"},{"$f":"Master!F23","v":0},{"$f":"Master!H23","v":0},{"$f":"IF(Master!M23=\"\",\"B\",Master!M23)","v":"R"},{"$f":"IF(Master!X23=\"\",\"B\",Master!X23)","v":"R"},{"$f":"IF(Master!AI23=\"\",\"B\",Master!AI23)","v":"B"},{"$f":"IF(Master!AT23=\"\",\"B\",Master!AT23)","v":"B"},{"$f":"IF(Master!BE23=\"\",\"B\",Master!BE23)","v":"B"},{"$f":"IF(Master!BP23=\"\",\"B\",Master!BP23)","v":"B"}]
[{"$f":"Master!A24","v":"SS"},{"$f":"Master!B24","v":"Solving Problems: Framing the Problem"},{"$f":"Master!C24","v":"pd_29_a01_bs_enus"},{"$f":"Master!D24","v":"OLT"},{"$f":"Master!E24","v":"Active"},{"$f":"Master!F24","v":0},{"$f":"Master!H24","v":0},{"$f":"IF(Master!M24=\"\",\"B\",Master!M24)","v":"R"},{"$f":"IF(Master!X24=\"\",\"B\",Master!X24)","v":"R"},{"$f":"IF(Master!AI24=\"\",\"B\",Master!AI24)","v":"B"},{"$f":"IF(Master!AT24=\"\",\"B\",Master!AT24)","v":"B"},{"$f":"IF(Master!BE24=\"\",\"B\",Master!BE24)","v":"B"},{"$f":"IF(Master!BP24=\"\",\"B\",Master!BP24)","v":"B"}]
[{"$f":"Master!A25","v":"SS"},{"$f":"Master!B25","v":"Problem-Solving and Process Management Tools"},{"$f":"Master!C25","v":"oper_04_a07_bs_enus"},{"$f":"Master!D25","v":"OLT"},{"$f":"Master!E25","v":"Active"},{"$f":"Master!F25","v":0},{"$f":"Master!H25","v":0},{"$f":"IF(Master!M25=\"\",\"B\",Master!M25)","v":"R"},{"$f":"IF(Master!X25=\"\",\"B\",Master!X25)","v":"R"},{"$f":"IF(Master!AI25=\"\",\"B\",Master!AI25)","v":"B"},{"$f":"IF(Master!AT25=\"\",\"B\",Master!AT25)","v":"B"},{"$f":"IF(Master!BE25=\"\",\"B\",Master!BE25)","v":"B"},{"$f":"IF(Master!BP25=\"\",\"B\",Master!BP25)","v":"B"}]
[{"$f":"Master!A26","v":"SS"},{"$f":"Master!B26","v":"Basic Presentation Skills: Delivering a Presentation"},{"$f":"Master!C26","v":"comm_33_a03_bs_enus"},{"$f":"Master!D26","v":"OLT"},{"$f":"Master!E26","v":"Active"},{"$f":"Master!F26","v":0},{"$f":"Master!H26","v":0},{"$f":"IF(Master!M26=\"\",\"B\",Master!M26)","v":"R"},{"$f":"IF(Master!X26=\"\",\"B\",Master!X26)","v":"R"},{"$f":"IF(Master!AI26=\"\",\"B\",Master!AI26)","v":"B"},{"$f":"IF(Master!AT26=\"\",\"B\",Master!AT26)","v":"B"},{"$f":"IF(Master!BE26=\"\",\"B\",Master!BE26)","v":"B"},{"$f":"IF(Master!BP26=\"\",\"B\",Master!BP26)","v":"B"}]
[{"$f":"Master!A27","v":"SS"},{"$f":"Master!B27","v":"Basic Presentation Skills: Creating a Presentation"},{"$f":"Master!C27","v":"comm_33_a02_bs_enus"},{"$f":"Master!D27","v":"OLT"},{"$f":"Master!E27","v":"Active"},{"$f":"Master!F27","v":0},{"$f":"Master!H27","v":0},{"$f":"IF(Master!M27=\"\",\"B\",Master!M27)","v":"R"},{"$f":"IF(Master!X27=\"\",\"B\",Master!X27)","v":"R"},{"$f":"IF(Master!AI27=\"\",\"B\",Master!AI27)","v":"B"},{"$f":"IF(Master!AT27=\"\",\"B\",Master!AT27)","v":"B"},{"$f":"IF(Master!BE27=\"\",\"B\",Master!BE27)","v":"B"},{"$f":"IF(Master!BP27=\"\",\"B\",Master!BP27)","v":"B"}]
[{"$f":"Master!A28","v":"SS"},{"$f":"Master!B28","v":"Building the Foundation for an Effective Team"},{"$f":"Master!C28","v":"atm_01_a01_bs_enus"},{"$f":"Master!D28","v":"OLT"},{"$f":"Master!E28","v":"Active"},{"$f":"Master!F28","v":0},{"$f":"Master!H28","v":0},{"$f":"IF(Master!M28=\"\",\"B\",Master!M28)","v":"R"},{"$f":"IF(Master!X28=\"\",\"B\",Master!X28)","v":"R"},{"$f":"IF(Master!AI28=\"\",\"B\",Master!AI28)","v":"B"},{"$f":"IF(Master!AT28=\"\",\"B\",Master!AT28)","v":"B"},{"$f":"IF(Master!BE28=\"\",\"B\",Master!BE28)","v":"B"},{"$f":"IF(Master!BP28=\"\",\"B\",Master!BP28)","v":"B"}]
[{"$f":"Master!A29","v":"SS"},{"$f":"Master!B29","v":"Developing a Successful Team"},{"$f":"Master!C29","v":"atm_01_a02_bs_enus"},{"$f":"Master!D29","v":"OLT"},{"$f":"Master!E29","v":"Active"},{"$f":"Master!F29","v":0},{"$f":"Master!H29","v":0},{"$f":"IF(Master!M29=\"\",\"B\",Master!M29)","v":"R"},{"$f":"IF(Master!X29=\"\",\"B\",Master!X29)","v":"R"},{"$f":"IF(Master!AI29=\"\",\"B\",Master!AI29)","v":"B"},{"$f":"IF(Master!AT29=\"\",\"B\",Master!AT29)","v":"B"},{"$f":"IF(Master!BE29=\"\",\"B\",Master!BE29)","v":"B"},{"$f":"IF(Master!BP29=\"\",\"B\",Master!BP29)","v":"B"}]
[{"$f":"Master!A30","v":"SS"},{"$f":"Master!B30","v":"Encouraging Team Communication and Collaboration"},{"$f":"Master!C30","v":"atm_01_a03_bs_enus"},{"$f":"Master!D30","v":"OLT"},{"$f":"Master!E30","v":"Active"},{"$f":"Master!F30","v":0},{"$f":"Master!H30","v":0},{"$f":"IF(Master!M30=\"\",\"B\",Master!M30)","v":"R"},{"$f":"IF(Master!X30=\"\",\"B\",Master!X30)","v":"R"},{"$f":"IF(Master!AI30=\"\",\"B\",Master!AI30)","v":"B"},{"$f":"IF(Master!AT30=\"\",\"B\",Master!AT30)","v":"B"},{"$f":"IF(Master!BE30=\"\",\"B\",Master!BE30)","v":"B"},{"$f":"IF(Master!BP30=\"\",\"B\",Master!BP30)","v":"B"}]
[{"$f":"Master!A31","v":"SS"},{"$f":"Master!B31","v":"Handling Team Conflict"},{"$f":"Master!C31","v":"atm_01_a04_bs_enus"},{"$f":"Master!D31","v":"OLT"},{"$f":"Master!E31","v":"Active"},{"$f":"Master!F31","v":0},{"$f":"Master!H31","v":0},{"$f":"IF(Master!M31=\"\",\"B\",Master!M31)","v":"R"},{"$f":"IF(Master!X31=\"\",\"B\",Master!X31)","v":"R"},{"$f":"IF(Master!AI31=\"\",\"B\",Master!AI31)","v":"B"},{"$f":"IF(Master!AT31=\"\",\"B\",Master!AT31)","v":"B"},{"$f":"IF(Master!BE31=\"\",\"B\",Master!BE31)","v":"B"},{"$f":"IF(Master!BP31=\"\",\"B\",Master!BP31)","v":"B"}]
[{"$f":"Master!A32","v":"SS"},{"$f":"Master!B32","v":"Thinking Critically: Coming to Terms with Assumptions"},{"$f":"Master!C32","v":"pe_01_a01_bs_enus"},{"$f":"Master!D32","v":"OLT"},{"$f":"Master!E32","v":"Active"},{"$f":"Master!F32","v":0},{"$f":"Master!H32","v":0},{"$f":"IF(Master!M32=\"\",\"B\",Master!M32)","v":"R"},{"$f":"IF(Master!X32=\"\",\"B\",Master!X32)","v":"R"},{"$f":"IF(Master!AI32=\"\",\"B\",Master!AI32)","v":"B"},{"$f":"IF(Master!AT32=\"\",\"B\",Master!AT32)","v":"B"},{"$f":"IF(Master!BE32=\"\",\"B\",Master!BE32)","v":"B"},{"$f":"IF(Master!BP32=\"\",\"B\",Master!BP32)","v":"B"}]
[{"$f":"Master!A33","v":"SS"},{"$f":"Master!B33","v":"Thinking Critically: Getting Your Arms around Arguments"},{"$f":"Master!C33","v":"pe_01_a02_bs_enus"},{"$f":"Master!D33","v":"OLT"},{"$f":"Master!E33","v":"Active"},{"$f":"Master!F33","v":0},{"$f":"Master!H33","v":0},{"$f":"IF(Master!M33=\"\",\"B\",Master!M33)","v":"R"},{"$f":"IF(Master!X33=\"\",\"B\",Master!X33)","v":"R"},{"$f":"IF(Master!AI33=\"\",\"B\",Master!AI33)","v":"B"},{"$f":"IF(Master!AT33=\"\",\"B\",Master!AT33)","v":"B"},{"$f":"IF(Master!BE33=\"\",\"B\",Master!BE33)","v":"B"},{"$f":"IF(Master!BP33=\"\",\"B\",Master!BP33)","v":"B"}]
[{"$f":"Master!A34","v":"SS"},{"$f":"Master!B34","v":"Thinking Critically: Drawing Conclusions with Confidence"},{"$f":"Master!C34","v":"pe_01_a03_bs_enus"},{"$f":"Master!D34","v":"OLT"},{"$f":"Master!E34","v":"Active"},{"$f":"Master!F34","v":0},{"$f":"Master!H34","v":0},{"$f":"IF(Master!M34=\"\",\"B\",Master!M34)","v":"R"},{"$f":"IF(Master!X34=\"\",\"B\",Master!X34)","v":"R"},{"$f":"IF(Master!AI34=\"\",\"B\",Master!AI34)","v":"B"},{"$f":"IF(Master!AT34=\"\",\"B\",Master!AT34)","v":"B"},{"$f":"IF(Master!BE34=\"\",\"B\",Master!BE34)","v":"B"},{"$f":"IF(Master!BP34=\"\",\"B\",Master!BP34)","v":"B"}]
[{"$f":"Master!A35","v":"SS"},{"$f":"Master!B35","v":"Microsoft Excel 2016 Essentials: Creating, Editing, and Saving Workbooks"},{"$f":"Master!C35","v":"mo_beel_a01_dt_enus"},{"$f":"Master!D35","v":"OLT"},{"$f":"Master!E35","v":"Active"},{"$f":"Master!F35","v":0},{"$f":"Master!H35","v":0},{"$f":"IF(Master!M35=\"\",\"B\",Master!M35)","v":"R"},{"$f":"IF(Master!X35=\"\",\"B\",Master!X35)","v":"R"},{"$f":"IF(Master!AI35=\"\",\"B\",Master!AI35)","v":"B"},{"$f":"IF(Master!AT35=\"\",\"B\",Master!AT35)","v":"B"},{"$f":"IF(Master!BE35=\"\",\"B\",Master!BE35)","v":"B"},{"$f":"IF(Master!BP35=\"\",\"B\",Master!BP35)","v":"B"}]
[{"$f":"Master!A36","v":"SS"},{"$f":"Master!B36","v":"Microsoft Excel 2016 Essentials: Formulas and Functions"},{"$f":"Master!C36","v":"mo_beel_a04_dt_enus"},{"$f":"Master!D36","v":"OLT"},{"$f":"Master!E36","v":"Active"},{"$f":"Master!F36","v":0},{"$f":"Master!H36","v":0},{"$f":"IF(Master!M36=\"\",\"B\",Master!M36)","v":"R"},{"$f":"IF(Master!X36=\"\",\"B\",Master!X36)","v":"R"},{"$f":"IF(Master!AI36=\"\",\"B\",Master!AI36)","v":"B"},{"$f":"IF(Master!AT36=\"\",\"B\",Master!AT36)","v":"B"},{"$f":"IF(Master!BE36=\"\",\"B\",Master!BE36)","v":"B"},{"$f":"IF(Master!BP36=\"\",\"B\",Master!BP36)","v":"B"}]
[{"$f":"Master!A37","v":"SS"},{"$f":"Master!B37","v":"Microsoft Excel 2016 Essentials: Formatting Data"},{"$f":"Master!C37","v":"mo_beel_a02_dt_enus"},{"$f":"Master!D37","v":"OLT"},{"$f":"Master!E37","v":"Active"},{"$f":"Master!F37","v":0},{"$f":"Master!H37","v":0},{"$f":"IF(Master!M37=\"\",\"B\",Master!M37)","v":"R"},{"$f":"IF(Master!X37=\"\",\"B\",Master!X37)","v":"R"},{"$f":"IF(Master!AI37=\"\",\"B\",Master!AI37)","v":"B"},{"$f":"IF(Master!AT37=\"\",\"B\",Master!AT37)","v":"B"},{"$f":"IF(Master!BE37=\"\",\"B\",Master!BE37)","v":"B"},{"$f":"IF(Master!BP37=\"\",\"B\",Master!BP37)","v":"B"}]
[{"$f":"Master!A38","v":"SS"},{"$f":"Master!B38","v":"Microsoft Excel 2016 Essentials: Data Presentation Strategies"},{"$f":"Master!C38","v":"mo_beel_a03_dt_enus"},{"$f":"Master!D38","v":"OLT"},{"$f":"Master!E38","v":"Active"},{"$f":"Master!F38","v":0},{"$f":"Master!H38","v":0},{"$f":"IF(Master!M38=\"\",\"B\",Master!M38)","v":"R"},{"$f":"IF(Master!X38=\"\",\"B\",Master!X38)","v":"R"},{"$f":"IF(Master!AI38=\"\",\"B\",Master!AI38)","v":"B"},{"$f":"IF(Master!AT38=\"\",\"B\",Master!AT38)","v":"B"},{"$f":"IF(Master!BE38=\"\",\"B\",Master!BE38)","v":"B"},{"$f":"IF(Master!BP38=\"\",\"B\",Master!BP38)","v":"B"}]
[{"$f":"Master!A39","v":"SS"},{"$f":"Master!B39","v":"Microsoft Excel 2016 Essentials: Charts, Tables, and Images"},{"$f":"Master!C39","v":"mo_beel_a05_dt_enus"},{"$f":"Master!D39","v":"OLT"},{"$f":"Master!E39","v":"Active"},{"$f":"Master!F39","v":0},{"$f":"Master!H39","v":0},{"$f":"IF(Master!M39=\"\",\"B\",Master!M39)","v":"R"},{"$f":"IF(Master!X39=\"\",\"B\",Master!X39)","v":"R"},{"$f":"IF(Master!AI39=\"\",\"B\",Master!AI39)","v":"B"},{"$f":"IF(Master!AT39=\"\",\"B\",Master!AT39)","v":"B"},{"$f":"IF(Master!BE39=\"\",\"B\",Master!BE39)","v":"B"},{"$f":"IF(Master!BP39=\"\",\"B\",Master!BP39)","v":"B"}]
[{"$f":"Master!A40","v":"SS"},{"$f":"Master!B40","v":"Microsoft Office 2016 Intermediate Excel: Working with Data "},{"$f":"Master!C40","v":"mo_inel_a03_dt_enus"},{"$f":"Master!D40","v":"OLT"},{"$f":"Master!E40","v":"Active"},{"$f":"Master!F40","v":0},{"$f":"Master!H40","v":0},{"$f":"IF(Master!M40=\"\",\"B\",Master!M40)","v":2},{"$f":"IF(Master!X40=\"\",\"B\",Master!X40)","v":2},{"$f":"IF(Master!AI40=\"\",\"B\",Master!AI40)","v":2},{"$f":"IF(Master!AT40=\"\",\"B\",Master!AT40)","v":"B"},{"$f":"IF(Master!BE40=\"\",\"B\",Master!BE40)","v":"B"},{"$f":"IF(Master!BP40=\"\",\"B\",Master!BP40)","v":"B"}]
[{"$f":"Master!A41","v":"SS"},{"$f":"Master!B41","v":"Microsoft Office 2016 Intermediate Excel: Share, Review, and Collaborate "},{"$f":"Master!C41","v":"mo_inel_a06_dt_enus"},{"$f":"Master!D41","v":"OLT"},{"$f":"Master!E41","v":"Active"},{"$f":"Master!F41","v":0},{"$f":"Master!H41","v":0},{"$f":"IF(Master!M41=\"\",\"B\",Master!M41)","v":2},{"$f":"IF(Master!X41=\"\",\"B\",Master!X41)","v":2},{"$f":"IF(Master!AI41=\"\",\"B\",Master!AI41)","v":2},{"$f":"IF(Master!AT41=\"\",\"B\",Master!AT41)","v":"B"},{"$f":"IF(Master!BE41=\"\",\"B\",Master!BE41)","v":"B"},{"$f":"IF(Master!BP41=\"\",\"B\",Master!BP41)","v":"B"}]
[{"$f":"Master!A42","v":"SS"},{"$f":"Master!B42","v":"Microsoft Office 2016 Intermediate Excel: Creating Custom Visual Effects "},{"$f":"Master!C42","v":"mo_inel_a02_dt_enus"},{"$f":"Master!D42","v":"OLT"},{"$f":"Master!E42","v":"Active"},{"$f":"Master!F42","v":0},{"$f":"Master!H42","v":0},{"$f":"IF(Master!M42=\"\",\"B\",Master!M42)","v":2},{"$f":"IF(Master!X42=\"\",\"B\",Master!X42)","v":2},{"$f":"IF(Master!AI42=\"\",\"B\",Master!AI42)","v":2},{"$f":"IF(Master!AT42=\"\",\"B\",Master!AT42)","v":"B"},{"$f":"IF(Master!BE42=\"\",\"B\",Master!BE42)","v":"B"},{"$f":"IF(Master!BP42=\"\",\"B\",Master!BP42)","v":"B"}]
[{"$f":"Master!A43","v":"SS"},{"$f":"Master!B43","v":"Working with the Interface and Performing Basic Tasks in Word 2016 "},{"$f":"Master!C43","v":"mo_bewo_a01_dt_enus"},{"$f":"Master!D43","v":"OLT"},{"$f":"Master!E43","v":"Active"},{"$f":"Master!F43","v":0},{"$f":"Master!H43","v":0},{"$f":"IF(Master!M43=\"\",\"B\",Master!M43)","v":"R"},{"$f":"IF(Master!X43=\"\",\"B\",Master!X43)","v":"R"},{"$f":"IF(Master!AI43=\"\",\"B\",Master!AI43)","v":"B"},{"$f":"IF(Master!AT43=\"\",\"B\",Master!AT43)","v":"B"},{"$f":"IF(Master!BE43=\"\",\"B\",Master!BE43)","v":"B"},{"$f":"IF(Master!BP43=\"\",\"B\",Master!BP43)","v":"B"}]
[{"$f":"Master!A44","v":"SS"},{"$f":"Master!B44","v":"Formatting Text in Word 2016 "},{"$f":"Master!C44","v":"mo_bewo_a02_dt_enus"},{"$f":"Master!D44","v":"OLT"},{"$f":"Master!E44","v":"Active"},{"$f":"Master!F44","v":0},{"$f":"Master!H44","v":0},{"$f":"IF(Master!M44=\"\",\"B\",Master!M44)","v":"R"},{"$f":"IF(Master!X44=\"\",\"B\",Master!X44)","v":"R"},{"$f":"IF(Master!AI44=\"\",\"B\",Master!AI44)","v":"B"},{"$f":"IF(Master!AT44=\"\",\"B\",Master!AT44)","v":"B"},{"$f":"IF(Master!BE44=\"\",\"B\",Master!BE44)","v":"B"},{"$f":"IF(Master!BP44=\"\",\"B\",Master!BP44)","v":"B"}]
[{"$f":"Master!A45","v":"SS"},{"$f":"Master!B45","v":"Headers, Footers, Page Numbering, and Layout in Word 2016 "},{"$f":"Master!C45","v":"mo_bewo_a05_dt_enus"},{"$f":"Master!D45","v":"OLT"},{"$f":"Master!E45","v":"Active"},{"$f":"Master!F45","v":0},{"$f":"Master!H45","v":0},{"$f":"IF(Master!M45=\"\",\"B\",Master!M45)","v":"R"},{"$f":"IF(Master!X45=\"\",\"B\",Master!X45)","v":"R"},{"$f":"IF(Master!AI45=\"\",\"B\",Master!AI45)","v":"B"},{"$f":"IF(Master!AT45=\"\",\"B\",Master!AT45)","v":"B"},{"$f":"IF(Master!BE45=\"\",\"B\",Master!BE45)","v":"B"},{"$f":"IF(Master!BP45=\"\",\"B\",Master!BP45)","v":"B"}]
[{"$f":"Master!A46","v":"SS"},{"$f":"Master!B46","v":"Using the Navigation Pane and Creating Lists in Word 2016 "},{"$f":"Master!C46","v":"mo_bewo_a06_dt_enus"},{"$f":"Master!D46","v":"OLT"},{"$f":"Master!E46","v":"Active"},{"$f":"Master!F46","v":0},{"$f":"Master!H46","v":0},{"$f":"IF(Master!M46=\"\",\"B\",Master!M46)","v":"R"},{"$f":"IF(Master!X46=\"\",\"B\",Master!X46)","v":"R"},{"$f":"IF(Master!AI46=\"\",\"B\",Master!AI46)","v":"B"},{"$f":"IF(Master!AT46=\"\",\"B\",Master!AT46)","v":"B"},{"$f":"IF(Master!BE46=\"\",\"B\",Master!BE46)","v":"B"},{"$f":"IF(Master!BP46=\"\",\"B\",Master!BP46)","v":"B"}]
[{"$f":"Master!A47","v":"SS"},{"$f":"Master!B47","v":"Customizing Options and Using Document Views in Word 2016 "},{"$f":"Master!C47","v":"mo_bewo_a03_dt_enus"},{"$f":"Master!D47","v":"OLT"},{"$f":"Master!E47","v":"Active"},{"$f":"Master!F47","v":0},{"$f":"Master!H47","v":0},{"$f":"IF(Master!M47=\"\",\"B\",Master!M47)","v":2},{"$f":"IF(Master!X47=\"\",\"B\",Master!X47)","v":2},{"$f":"IF(Master!AI47=\"\",\"B\",Master!AI47)","v":2},{"$f":"IF(Master!AT47=\"\",\"B\",Master!AT47)","v":"B"},{"$f":"IF(Master!BE47=\"\",\"B\",Master!BE47)","v":"B"},{"$f":"IF(Master!BP47=\"\",\"B\",Master!BP47)","v":"B"}]
[{"$f":"Master!A48","v":"SS"},{"$f":"Master!B48","v":"Creating and Formatting Tables in Word 2016 "},{"$f":"Master!C48","v":"mo_bewo_a04_dt_enus"},{"$f":"Master!D48","v":"OLT"},{"$f":"Master!E48","v":"Active"},{"$f":"Master!F48","v":0},{"$f":"Master!H48","v":0},{"$f":"IF(Master!M48=\"\",\"B\",Master!M48)","v":2},{"$f":"IF(Master!X48=\"\",\"B\",Master!X48)","v":2},{"$f":"IF(Master!AI48=\"\",\"B\",Master!AI48)","v":2},{"$f":"IF(Master!AT48=\"\",\"B\",Master!AT48)","v":"B"},{"$f":"IF(Master!BE48=\"\",\"B\",Master!BE48)","v":"B"},{"$f":"IF(Master!BP48=\"\",\"B\",Master!BP48)","v":"B"}]
[{"$f":"Master!A49","v":"Human Resource"},null,null,null,null,null,null,{"$f":"IF(Master!M49=\"\",\"B\",Master!M49)","v":"B"},{"$f":"IF(Master!X49=\"\",\"B\",Master!X49)","v":"B"},{"$f":"IF(Master!AI49=\"\",\"B\",Master!AI49)","v":"B"},{"$f":"IF(Master!AT49=\"\",\"B\",Master!AT49)","v":"B"},{"$f":"IF(Master!BE49=\"\",\"B\",Master!BE49)","v":"B"},{"$f":"IF(Master!BP49=\"\",\"B\",Master!BP49)","v":"B"}]
[{"$f":"Master!A50","v":"Conflict Management - The following two courses are available"},null,null,null,null,null,null,{"$f":"IF(Master!M50=\"\",\"B\",Master!M50)","v":"B"},{"$f":"IF(Master!X50=\"\",\"B\",Master!X50)","v":"B"},{"$f":"IF(Master!AI50=\"\",\"B\",Master!AI50)","v":"B"},{"$f":"IF(Master!AT50=\"\",\"B\",Master!AT50)","v":"B"},{"$f":"IF(Master!BE50=\"\",\"B\",Master!BE50)","v":"B"},{"$f":"IF(Master!BP50=\"\",\"B\",Master!BP50)","v":"B"}]
[{"$f":"Master!A51","v":"SS"},{"$f":"Master!B51","v":"Preparing for a Difficult Conversation"},{"$f":"Master!C51","v":"mgmt_36_a01_bs_enus"},{"$f":"Master!D51","v":"OLT"},{"$f":"Master!E51","v":"Active"},{"$f":"Master!F51","v":0},{"$f":"Master!H51","v":"Take this course first."},{"$f":"IF(Master!M51=\"\",\"B\",Master!M51)","v":2},{"$f":"IF(Master!X51=\"\",\"B\",Master!X51)","v":2},{"$f":"IF(Master!AI51=\"\",\"B\",Master!AI51)","v":2},{"$f":"IF(Master!AT51=\"\",\"B\",Master!AT51)","v":1},{"$f":"IF(Master!BE51=\"\",\"B\",Master!BE51)","v":1},{"$f":"IF(Master!BP51=\"\",\"B\",Master!BP51)","v":1}]
[{"$f":"Master!A52","v":"ES"},{"$f":"Master!B52","v":"Managing Emotions in the Workplace"},{"$f":"Master!C52","v":"Enterprise Services Course\n1/2 Day - $100"},{"$f":"Master!D52","v":"ILT"},{"$f":"Master!E52","v":"Active"},{"$f":"Master!F52","v":0},{"$f":"Master!H52","v":"To register for this course, \ncall the LMS Helpdesk at \n360-705-7060."},{"$f":"IF(Master!M52=\"\",\"B\",Master!M52)","v":2},{"$f":"IF(Master!X52=\"\",\"B\",Master!X52)","v":2},{"$f":"IF(Master!AI52=\"\",\"B\",Master!AI52)","v":2},{"$f":"IF(Master!AT52=\"\",\"B\",Master!AT52)","v":1},{"$f":"IF(Master!BE52=\"\",\"B\",Master!BE52)","v":1},{"$f":"IF(Master!BP52=\"\",\"B\",Master!BP52)","v":1}]
[{"$f":"Master!A53","v":"Interpersonal Communications - The following two courses are available"},null,null,null,null,null,null,{"$f":"IF(Master!M53=\"\",\"B\",Master!M53)","v":"B"},{"$f":"IF(Master!X53=\"\",\"B\",Master!X53)","v":"B"},{"$f":"IF(Master!AI53=\"\",\"B\",Master!AI53)","v":"B"},{"$f":"IF(Master!AT53=\"\",\"B\",Master!AT53)","v":"B"},{"$f":"IF(Master!BE53=\"\",\"B\",Master!BE53)","v":"B"},{"$f":"IF(Master!BP53=\"\",\"B\",Master!BP53)","v":"B"}]
[{"$f":"Master!A54","v":"SS"},{"$f":"Master!B54","v":"Difficult People: Strategies to Keep Everyone Working Together"},{"$f":"Master!C54","v":"comm_46_a03_bs_enus"},{"$f":"Master!D54","v":"OLT"},{"$f":"Master!E54","v":"Active"},{"$f":"Master!F54","v":0},{"$f":"Master!H54","v":"Take this course first."},{"$f":"IF(Master!M54=\"\",\"B\",Master!M54)","v":1},{"$f":"IF(Master!X54=\"\",\"B\",Master!X54)","v":1},{"$f":"IF(Master!AI54=\"\",\"B\",Master!AI54)","v":1},{"$f":"IF(Master!AT54=\"\",\"B\",Master!AT54)","v":1},{"$f":"IF(Master!BE54=\"\",\"B\",Master!BE54)","v":1},{"$f":"IF(Master!BP54=\"\",\"B\",Master!BP54)","v":1}]
[{"$f":"Master!A55","v":"ES"},{"$f":"Master!B55","v":"Interpersonal Communication Skills"},{"$f":"Master!C55","v":"Enterprise Services Course\nTwo Days - $195"},{"$f":"Master!D55","v":"ILT"},{"$f":"Master!E55","v":"Active"},{"$f":"Master!F55","v":0},{"$f":"Master!H55","v":"To register for this course, \ncall the LMS Helpdesk at \n360-705-7060."},{"$f":"IF(Master!M55=\"\",\"B\",Master!M55)","v":1},{"$f":"IF(Master!X55=\"\",\"B\",Master!X55)","v":1},{"$f":"IF(Master!AI55=\"\",\"B\",Master!AI55)","v":1},{"$f":"IF(Master!AT55=\"\",\"B\",Master!AT55)","v":1},{"$f":"IF(Master!BE55=\"\",\"B\",Master!BE55)","v":1},{"$f":"IF(Master!BP55=\"\",\"B\",Master!BP55)","v":1}]
[{"$f":"Master!A56","v":"Interpersonal Communications - The following two courses are available"},null,null,null,null,null,null,{"$f":"IF(Master!M56=\"\",\"B\",Master!M56)","v":"B"},{"$f":"IF(Master!X56=\"\",\"B\",Master!X56)","v":"B"},{"$f":"IF(Master!AI56=\"\",\"B\",Master!AI56)","v":"B"},{"$f":"IF(Master!AT56=\"\",\"B\",Master!AT56)","v":"B"},{"$f":"IF(Master!BE56=\"\",\"B\",Master!BE56)","v":"B"},{"$f":"IF(Master!BP56=\"\",\"B\",Master!BP56)","v":"B"}]
[{"$f":"Master!A57","v":"SS"},{"$f":"Master!B57","v":"Active Listening Skills for Professionals"},{"$f":"Master!C57","v":"comm_43_a03_bs_enus"},{"$f":"Master!D57","v":"OLT"},{"$f":"Master!E57","v":"Active"},{"$f":"Master!F57","v":0},{"$f":"Master!H57","v":"Take this course first."},{"$f":"IF(Master!M57=\"\",\"B\",Master!M57)","v":1},{"$f":"IF(Master!X57=\"\",\"B\",Master!X57)","v":1},{"$f":"IF(Master!AI57=\"\",\"B\",Master!AI57)","v":1},{"$f":"IF(Master!AT57=\"\",\"B\",Master!AT57)","v":1},{"$f":"IF(Master!BE57=\"\",\"B\",Master!BE57)","v":1},{"$f":"IF(Master!BP57=\"\",\"B\",Master!BP57)","v":1}]
[{"$f":"Master!A58","v":"ES"},{"$f":"Master!B58","v":"Crucial Conversations"},{"$f":"Master!C58","v":"Enterprise Services Course\nTwo Days - $450"},{"$f":"Master!D58","v":"ILT"},{"$f":"Master!E58","v":"Active"},{"$f":"Master!F58","v":0},{"$f":"Master!H58","v":"To register for this course, \ncall the LMS Helpdesk at \n360-705-7060."},{"$f":"IF(Master!M58=\"\",\"B\",Master!M58)","v":1},{"$f":"IF(Master!X58=\"\",\"B\",Master!X58)","v":1},{"$f":"IF(Master!AI58=\"\",\"B\",Master!AI58)","v":1},{"$f":"IF(Master!AT58=\"\",\"B\",Master!AT58)","v":1},{"$f":"IF(Master!BE58=\"\",\"B\",Master!BE58)","v":1},{"$f":"IF(Master!BP58=\"\",\"B\",Master!BP58)","v":1}]
[{"$f":"Master!A59","v":"Oral Presentation Techniques"},null,null,null,null,null,null,{"$f":"IF(Master!M59=\"\",\"B\",Master!M59)","v":"B"},{"$f":"IF(Master!X59=\"\",\"B\",Master!X59)","v":"B"},{"$f":"IF(Master!AI59=\"\",\"B\",Master!AI59)","v":"B"},{"$f":"IF(Master!AT59=\"\",\"B\",Master!AT59)","v":"B"},{"$f":"IF(Master!BE59=\"\",\"B\",Master!BE59)","v":"B"},{"$f":"IF(Master!BP59=\"\",\"B\",Master!BP59)","v":"B"}]
[{"$f":"Master!A60","v":"ES"},{"$f":"Master!B60","v":"Presentation & Training Design & Delivery "},{"$f":"Master!C60","v":"Enterprise Services Course \nTwo Days - $205"},{"$f":"Master!D60","v":"ILT"},{"$f":"Master!E60","v":"Active"},{"$f":"Master!F60","v":0},{"$f":"Master!H60","v":"To register for this course, \ncall the LMS Helpdesk at \n360-705-7060."},{"$f":"IF(Master!M60=\"\",\"B\",Master!M60)","v":"B"},{"$f":"IF(Master!X60=\"\",\"B\",Master!X60)","v":"B"},{"$f":"IF(Master!AI60=\"\",\"B\",Master!AI60)","v":"B"},{"$f":"IF(Master!AT60=\"\",\"B\",Master!AT60)","v":"B"},{"$f":"IF(Master!BE60=\"\",\"B\",Master!BE60)","v":2},{"$f":"IF(Master!BP60=\"\",\"B\",Master!BP60)","v":1}]
[{"$f":"Master!A61","v":"Stress Management -  The following two courses are available"},null,null,null,null,null,null,{"$f":"IF(Master!M61=\"\",\"B\",Master!M61)","v":"B"},{"$f":"IF(Master!X61=\"\",\"B\",Master!X61)","v":"B"},{"$f":"IF(Master!AI61=\"\",\"B\",Master!AI61)","v":"B"},{"$f":"IF(Master!AT61=\"\",\"B\",Master!AT61)","v":"B"},{"$f":"IF(Master!BE61=\"\",\"B\",Master!BE61)","v":"B"},{"$f":"IF(Master!BP61=\"\",\"B\",Master!BP61)","v":"B"}]
[{"$f":"Master!A62","v":"SS"},{"$f":"Master!B62","v":"Conflict, Stress, and Time Management"},{"$f":"Master!C62","v":"cust_07_a03_bs_enus"},{"$f":"Master!D62","v":"OLT"},{"$f":"Master!E62","v":"Active"},{"$f":"Master!F62","v":0},{"$f":"Master!H62","v":"Take this course first."},{"$f":"IF(Master!M62=\"\",\"B\",Master!M62)","v":1},{"$f":"IF(Master!X62=\"\",\"B\",Master!X62)","v":1},{"$f":"IF(Master!AI62=\"\",\"B\",Master!AI62)","v":1},{"$f":"IF(Master!AT62=\"\",\"B\",Master!AT62)","v":1},{"$f":"IF(Master!BE62=\"\",\"B\",Master!BE62)","v":1},{"$f":"IF(Master!BP62=\"\",\"B\",Master!BP62)","v":1}]
[{"$f":"Master!A63","v":"ES"},{"$f":"Master!B63","v":"Managing Job Stress"},{"$f":"Master!C63","v":"Enterprise Services Course\nOne Day - $135"},{"$f":"Master!D63","v":"ILT"},{"$f":"Master!E63","v":"Active"},{"$f":"Master!F63","v":0},{"$f":"Master!H63","v":"To register for this course, \ncall the LMS Helpdesk at \n360-705-7060."},{"$f":"IF(Master!M63=\"\",\"B\",Master!M63)","v":1},{"$f":"IF(Master!X63=\"\",\"B\",Master!X63)","v":1},{"$f":"IF(Master!AI63=\"\",\"B\",Master!AI63)","v":1},{"$f":"IF(Master!AT63=\"\",\"B\",Master!AT63)","v":1},{"$f":"IF(Master!BE63=\"\",\"B\",Master!BE63)","v":1},{"$f":"IF(Master!BP63=\"\",\"B\",Master!BP63)","v":1}]
[{"$f":"Master!A64","v":"Time Management -  The following six courses are available"},null,null,null,null,null,null,{"$f":"IF(Master!M64=\"\",\"B\",Master!M64)","v":"B"},{"$f":"IF(Master!X64=\"\",\"B\",Master!X64)","v":"B"},{"$f":"IF(Master!AI64=\"\",\"B\",Master!AI64)","v":"B"},{"$f":"IF(Master!AT64=\"\",\"B\",Master!AT64)","v":"B"},{"$f":"IF(Master!BE64=\"\",\"B\",Master!BE64)","v":"B"},{"$f":"IF(Master!BP64=\"\",\"B\",Master!BP64)","v":"B"}]
[{"$f":"Master!A65","v":"SS"},{"$f":"Master!B65","v":"Getting Time under Control"},{"$f":"Master!C65","v":"_pc_ch_pach021"},{"$f":"Master!D65","v":"OLT"},{"$f":"Master!E65","v":"Active"},{"$f":"Master!F65","v":0},{"$f":"Master!H65","v":"Take this course before the Enterprise Services course"},{"$f":"IF(Master!M65=\"\",\"B\",Master!M65)","v":1},{"$f":"IF(Master!X65=\"\",\"B\",Master!X65)","v":1},{"$f":"IF(Master!AI65=\"\",\"B\",Master!AI65)","v":1},{"$f":"IF(Master!AT65=\"\",\"B\",Master!AT65)","v":1},{"$f":"IF(Master!BE65=\"\",\"B\",Master!BE65)","v":1},{"$f":"IF(Master!BP65=\"\",\"B\",Master!BP65)","v":1}]
[{"$f":"Master!A66","v":"SS"},{"$f":"Master!B66","v":"Make the Time You Need: Get Organized"},{"$f":"Master!C66","v":"apd_08_a02_bs_enus"},{"$f":"Master!D66","v":"OLT"},{"$f":"Master!E66","v":"Active"},{"$f":"Master!F66","v":0},{"$f":"Master!H66","v":"Take this course before the Enterprise Services course"},{"$f":"IF(Master!M66=\"\",\"B\",Master!M66)","v":1},{"$f":"IF(Master!X66=\"\",\"B\",Master!X66)","v":1},{"$f":"IF(Master!AI66=\"\",\"B\",Master!AI66)","v":1},{"$f":"IF(Master!AT66=\"\",\"B\",Master!AT66)","v":1},{"$f":"IF(Master!BE66=\"\",\"B\",Master!BE66)","v":1},{"$f":"IF(Master!BP66=\"\",\"B\",Master!BP66)","v":1}]
[{"$f":"Master!A67","v":"SS"},{"$f":"Master!B67","v":"Time Management: Too Much to Do and Too Little Time"},{"$f":"Master!C67","v":"pd_20_a01_bs_enus"},{"$f":"Master!D67","v":"OLT"},{"$f":"Master!E67","v":"Active"},{"$f":"Master!F67","v":0},{"$f":"Master!H67","v":"Take this course before the Enterprise Services course"},{"$f":"IF(Master!M67=\"\",\"B\",Master!M67)","v":1},{"$f":"IF(Master!X67=\"\",\"B\",Master!X67)","v":1},{"$f":"IF(Master!AI67=\"\",\"B\",Master!AI67)","v":1},{"$f":"IF(Master!AT67=\"\",\"B\",Master!AT67)","v":1},{"$f":"IF(Master!BE67=\"\",\"B\",Master!BE67)","v":1},{"$f":"IF(Master!BP67=\"\",\"B\",Master!BP67)","v":1}]
[{"$f":"Master!A68","v":"SS"},{"$f":"Master!B68","v":"Time Management: Quit Making Excuses and Make Time Instead"},{"$f":"Master!C68","v":"pd_20_a02_bs_enus"},{"$f":"Master!D68","v":"OLT"},{"$f":"Master!E68","v":"Active"},{"$f":"Master!F68","v":0},{"$f":"Master!H68","v":"Take this course before the Enterprise Services course"},{"$f":"IF(Master!M68=\"\",\"B\",Master!M68)","v":1},{"$f":"IF(Master!X68=\"\",\"B\",Master!X68)","v":1},{"$f":"IF(Master!AI68=\"\",\"B\",Master!AI68)","v":1},{"$f":"IF(Master!AT68=\"\",\"B\",Master!AT68)","v":1},{"$f":"IF(Master!BE68=\"\",\"B\",Master!BE68)","v":1},{"$f":"IF(Master!BP68=\"\",\"B\",Master!BP68)","v":1}]
[{"$f":"Master!A69","v":"SS"},{"$f":"Master!B69","v":"Time Management: Ready, Set…Focus!"},{"$f":"Master!C69","v":"pd_20_a03_bs_enus"},{"$f":"Master!D69","v":"OLT"},{"$f":"Master!E69","v":"Active"},{"$f":"Master!F69","v":0},{"$f":"Master!H69","v":"Take this course before the Enterprise Services course"},{"$f":"IF(Master!M69=\"\",\"B\",Master!M69)","v":1},{"$f":"IF(Master!X69=\"\",\"B\",Master!X69)","v":1},{"$f":"IF(Master!AI69=\"\",\"B\",Master!AI69)","v":1},{"$f":"IF(Master!AT69=\"\",\"B\",Master!AT69)","v":1},{"$f":"IF(Master!BE69=\"\",\"B\",Master!BE69)","v":1},{"$f":"IF(Master!BP69=\"\",\"B\",Master!BP69)","v":1}]
[{"$f":"Master!A70","v":"ES"},{"$f":"Master!B70","v":"Time Management"},{"$f":"Master!C70","v":"Enterprise Services Course\nOne Day - $135"},{"$f":"Master!D70","v":"ILT"},{"$f":"Master!E70","v":"Active"},{"$f":"Master!F70","v":0},{"$f":"Master!H70","v":"To register for this course, \ncall the LMS Helpdesk at \n360-705-7060."},{"$f":"IF(Master!M70=\"\",\"B\",Master!M70)","v":1},{"$f":"IF(Master!X70=\"\",\"B\",Master!X70)","v":1},{"$f":"IF(Master!AI70=\"\",\"B\",Master!AI70)","v":1},{"$f":"IF(Master!AT70=\"\",\"B\",Master!AT70)","v":1},{"$f":"IF(Master!BE70=\"\",\"B\",Master!BE70)","v":1},{"$f":"IF(Master!BP70=\"\",\"B\",Master!BP70)","v":1}]
[{"$f":"Master!A71","v":"Technical Writing -  The following five courses are available"},null,null,null,null,null,null,{"$f":"IF(Master!M71=\"\",\"B\",Master!M71)","v":"B"},{"$f":"IF(Master!X71=\"\",\"B\",Master!X71)","v":"B"},{"$f":"IF(Master!AI71=\"\",\"B\",Master!AI71)","v":"B"},{"$f":"IF(Master!AT71=\"\",\"B\",Master!AT71)","v":"B"},{"$f":"IF(Master!BE71=\"\",\"B\",Master!BE71)","v":"B"},{"$f":"IF(Master!BP71=\"\",\"B\",Master!BP71)","v":"B"}]
[{"$f":"Master!A72","v":"SS"},{"$f":"Master!B72","v":"Improving Your Technical Writing Skills"},{"$f":"Master!C72","v":"acm_06_a01_it_enus"},{"$f":"Master!D72","v":"OLT"},{"$f":"Master!E72","v":"Active"},{"$f":"Master!F72","v":0},{"$f":"Master!H72","v":0},{"$f":"IF(Master!M72=\"\",\"B\",Master!M72)","v":2},{"$f":"IF(Master!X72=\"\",\"B\",Master!X72)","v":2},{"$f":"IF(Master!AI72=\"\",\"B\",Master!AI72)","v":2},{"$f":"IF(Master!AT72=\"\",\"B\",Master!AT72)","v":2},{"$f":"IF(Master!BE72=\"\",\"B\",Master!BE72)","v":1},{"$f":"IF(Master!BP72=\"\",\"B\",Master!BP72)","v":1}]
[{"$f":"Master!A73","v":"SS"},{"$f":"Master!B73","v":"Writing for Technical Professionals: Effective Writing Techniques"},{"$f":"Master!C73","v":"ib_wstp_a02_it_enus"},{"$f":"Master!D73","v":"OLT"},{"$f":"Master!E73","v":"Active"},{"$f":"Master!F73","v":0},{"$f":"Master!H73","v":0},{"$f":"IF(Master!M73=\"\",\"B\",Master!M73)","v":2},{"$f":"IF(Master!X73=\"\",\"B\",Master!X73)","v":2},{"$f":"IF(Master!AI73=\"\",\"B\",Master!AI73)","v":2},{"$f":"IF(Master!AT73=\"\",\"B\",Master!AT73)","v":2},{"$f":"IF(Master!BE73=\"\",\"B\",Master!BE73)","v":1},{"$f":"IF(Master!BP73=\"\",\"B\",Master!BP73)","v":1}]
[{"$f":"Master!A74","v":"SS"},{"$f":"Master!B74","v":"Writing for Technical Professionals: Preparation and Planning"},{"$f":"Master!C74","v":"ib_wstp_a01_it_enus"},{"$f":"Master!D74","v":"OLT"},{"$f":"Master!E74","v":"Active"},{"$f":"Master!F74","v":0},{"$f":"Master!H74","v":0},{"$f":"IF(Master!M74=\"\",\"B\",Master!M74)","v":2},{"$f":"IF(Master!X74=\"\",\"B\",Master!X74)","v":2},{"$f":"IF(Master!AI74=\"\",\"B\",Master!AI74)","v":2},{"$f":"IF(Master!AT74=\"\",\"B\",Master!AT74)","v":2},{"$f":"IF(Master!BE74=\"\",\"B\",Master!BE74)","v":1},{"$f":"IF(Master!BP74=\"\",\"B\",Master!BP74)","v":1}]
[{"$f":"Master!A75","v":"ES"},{"$f":"Master!B75","v":"Technical Writing: Tricks of the Trade"},{"$f":"Master!C75","v":"Enterprise Services Course\nTwo Day Course - $185"},{"$f":"Master!D75","v":"ILT"},{"$f":"Master!E75","v":"Active"},{"$f":"Master!F75","v":0},{"$f":"Master!H75","v":"To register for this course, call the LMS Helpdesk at \n360-705-7060."},{"$f":"IF(Master!M75=\"\",\"B\",Master!M75)","v":2},{"$f":"IF(Master!X75=\"\",\"B\",Master!X75)","v":2},{"$f":"IF(Master!AI75=\"\",\"B\",Master!AI75)","v":2},{"$f":"IF(Master!AT75=\"\",\"B\",Master!AT75)","v":2},{"$f":"IF(Master!BE75=\"\",\"B\",Master!BE75)","v":1},{"$f":"IF(Master!BP75=\"\",\"B\",Master!BP75)","v":1}]
[{"$f":"Master!A76","v":"ES"},{"$f":"Master!B76","v":"Writing Skills"},{"$f":"Master!C76","v":"Enterprise Services Course\nOne Day - $145"},{"$f":"Master!D76","v":"ILT"},{"$f":"Master!E76","v":"Active"},{"$f":"Master!F76","v":0},{"$f":"Master!H76","v":"To register for this course, \ncall the LMS Helpdesk at \n360-705-7060."},{"$f":"IF(Master!M76=\"\",\"B\",Master!M76)","v":2},{"$f":"IF(Master!X76=\"\",\"B\",Master!X76)","v":2},{"$f":"IF(Master!AI76=\"\",\"B\",Master!AI76)","v":2},{"$f":"IF(Master!AT76=\"\",\"B\",Master!AT76)","v":2},{"$f":"IF(Master!BE76=\"\",\"B\",Master!BE76)","v":1},{"$f":"IF(Master!BP76=\"\",\"B\",Master!BP76)","v":1}]
[{"$f":"Master!A77","v":"Effective Meeting Management -  The following six courses are available"},null,null,null,null,null,null,{"$f":"IF(Master!M77=\"\",\"B\",Master!M77)","v":"B"},{"$f":"IF(Master!X77=\"\",\"B\",Master!X77)","v":"B"},{"$f":"IF(Master!AI77=\"\",\"B\",Master!AI77)","v":"B"},{"$f":"IF(Master!AT77=\"\",\"B\",Master!AT77)","v":"B"},{"$f":"IF(Master!BE77=\"\",\"B\",Master!BE77)","v":"B"},{"$f":"IF(Master!BP77=\"\",\"B\",Master!BP77)","v":"B"}]
[{"$f":"Master!A78","v":"SS"},{"$f":"Master!B78","v":"Dealing with Common Meeting Problems"},{"$f":"Master!C78","v":"comm_32_a03_bs_enus"},{"$f":"Master!D78","v":"OLT"},{"$f":"Master!E78","v":"Active"},{"$f":"Master!F78","v":0},{"$f":"Master!H78","v":0},{"$f":"IF(Master!M78=\"\",\"B\",Master!M78)","v":"B"},{"$f":"IF(Master!X78=\"\",\"B\",Master!X78)","v":"B"},{"$f":"IF(Master!AI78=\"\",\"B\",Master!AI78)","v":"B"},{"$f":"IF(Master!AT78=\"\",\"B\",Master!AT78)","v":"B"},{"$f":"IF(Master!BE78=\"\",\"B\",Master!BE78)","v":2},{"$f":"IF(Master!BP78=\"\",\"B\",Master!BP78)","v":1}]
[{"$f":"Master!A79","v":"SS"},{"$f":"Master!B79","v":"Preparing for Effective Business Meetings"},{"$f":"Master!C79","v":"comm_32_a01_bs_enus"},{"$f":"Master!D79","v":"OLT"},{"$f":"Master!E79","v":"Active"},{"$f":"Master!F79","v":0},{"$f":"Master!H79","v":0},{"$f":"IF(Master!M79=\"\",\"B\",Master!M79)","v":"B"},{"$f":"IF(Master!X79=\"\",\"B\",Master!X79)","v":"B"},{"$f":"IF(Master!AI79=\"\",\"B\",Master!AI79)","v":"B"},{"$f":"IF(Master!AT79=\"\",\"B\",Master!AT79)","v":"B"},{"$f":"IF(Master!BE79=\"\",\"B\",Master!BE79)","v":2},{"$f":"IF(Master!BP79=\"\",\"B\",Master!BP79)","v":1}]
[{"$f":"Master!A80","v":"SS"},{"$f":"Master!B80","v":"Planning Meetings Fit for Purpose"},{"$f":"Master!C80","v":"comm_50_a01_bs_enus"},{"$f":"Master!D80","v":"OLT"},{"$f":"Master!E80","v":"Active"},{"$f":"Master!F80","v":0},{"$f":"Master!H80","v":0},{"$f":"IF(Master!M80=\"\",\"B\",Master!M80)","v":"B"},{"$f":"IF(Master!X80=\"\",\"B\",Master!X80)","v":"B"},{"$f":"IF(Master!AI80=\"\",\"B\",Master!AI80)","v":"B"},{"$f":"IF(Master!AT80=\"\",\"B\",Master!AT80)","v":"B"},{"$f":"IF(Master!BE80=\"\",\"B\",Master!BE80)","v":2},{"$f":"IF(Master!BP80=\"\",\"B\",Master!BP80)","v":1}]
[{"$f":"Master!A81","v":"SS"},{"$f":"Master!B81","v":"Managing Effective Business Meetings"},{"$f":"Master!C81","v":"comm_32_a02_bs_enus"},{"$f":"Master!D81","v":"OLT"},{"$f":"Master!E81","v":"Active"},{"$f":"Master!F81","v":0},{"$f":"Master!H81","v":0},{"$f":"IF(Master!M81=\"\",\"B\",Master!M81)","v":"B"},{"$f":"IF(Master!X81=\"\",\"B\",Master!X81)","v":"B"},{"$f":"IF(Master!AI81=\"\",\"B\",Master!AI81)","v":"B"},{"$f":"IF(Master!AT81=\"\",\"B\",Master!AT81)","v":"B"},{"$f":"IF(Master!BE81=\"\",\"B\",Master!BE81)","v":2},{"$f":"IF(Master!BP81=\"\",\"B\",Master!BP81)","v":1}]
[{"$f":"Master!A82","v":"SS"},{"$f":"Master!B82","v":"Running Meetings in Better Directions"},{"$f":"Master!C82","v":"comm_50_a02_bs_enus"},{"$f":"Master!D82","v":"OLT"},{"$f":"Master!E82","v":"Active"},{"$f":"Master!F82","v":0},{"$f":"Master!H82","v":0},{"$f":"IF(Master!M82=\"\",\"B\",Master!M82)","v":"B"},{"$f":"IF(Master!X82=\"\",\"B\",Master!X82)","v":"B"},{"$f":"IF(Master!AI82=\"\",\"B\",Master!AI82)","v":"B"},{"$f":"IF(Master!AT82=\"\",\"B\",Master!AT82)","v":"B"},{"$f":"IF(Master!BE82=\"\",\"B\",Master!BE82)","v":2},{"$f":"IF(Master!BP82=\"\",\"B\",Master!BP82)","v":1}]
[{"$f":"Master!A83","v":"ES"},{"$f":"Master!B83","v":"Effective Meeting Management  (or one of the following five SkillSoft)"},{"$f":"Master!C83","v":"Enterprise Services Course\nOne Day - $165"},{"$f":"Master!D83","v":"ILT"},{"$f":"Master!E83","v":"Active"},{"$f":"Master!F83","v":0},{"$f":"Master!H83","v":"To register for this course, call the LMS Helpdesk at \n360-705-7060."},{"$f":"IF(Master!M83=\"\",\"B\",Master!M83)","v":"B"},{"$f":"IF(Master!X83=\"\",\"B\",Master!X83)","v":"B"},{"$f":"IF(Master!AI83=\"\",\"B\",Master!AI83)","v":"B"},{"$f":"IF(Master!AT83=\"\",\"B\",Master!AT83)","v":"B"},{"$f":"IF(Master!BE83=\"\",\"B\",Master!BE83)","v":2},{"$f":"IF(Master!BP83=\"\",\"B\",Master!BP83)","v":1}]
[{"$f":"Master!A84","v":"Enhanced Leadership for WSDOT"},null,null,null,null,null,null,{"$f":"IF(Master!M84=\"\",\"B\",Master!M84)","v":"B"},{"$f":"IF(Master!X84=\"\",\"B\",Master!X84)","v":"B"},{"$f":"IF(Master!AI84=\"\",\"B\",Master!AI84)","v":"B"},{"$f":"IF(Master!AT84=\"\",\"B\",Master!AT84)","v":"B"},{"$f":"IF(Master!BE84=\"\",\"B\",Master!BE84)","v":"B"},{"$f":"IF(Master!BP84=\"\",\"B\",Master!BP84)","v":"B"}]
[{"$f":"Master!A85","v":"ES"},{"$f":"Master!B85","v":"Leading Teams"},{"$f":"Master!C85","v":"Enterprise Services Course\nThree Days - $500"},{"$f":"Master!D85","v":"ILT"},{"$f":"Master!E85","v":"Active"},{"$f":"Master!F85","v":0},{"$f":"Master!H85","v":"To register for this course, \ncall the LMS Helpdesk at \n360-705-7060."},{"$f":"IF(Master!M85=\"\",\"B\",Master!M85)","v":"B"},{"$f":"IF(Master!X85=\"\",\"B\",Master!X85)","v":"B"},{"$f":"IF(Master!AI85=\"\",\"B\",Master!AI85)","v":"B"},{"$f":"IF(Master!AT85=\"\",\"B\",Master!AT85)","v":"B"},{"$f":"IF(Master!BE85=\"\",\"B\",Master!BE85)","v":"B"},{"$f":"IF(Master!BP85=\"\",\"B\",Master!BP85)","v":2}]
[{"$f":"Master!A86","v":"Entry Management Development"},null,null,null,null,null,null,{"$f":"IF(Master!M86=\"\",\"B\",Master!M86)","v":"B"},{"$f":"IF(Master!X86=\"\",\"B\",Master!X86)","v":"B"},{"$f":"IF(Master!AI86=\"\",\"B\",Master!AI86)","v":"B"},{"$f":"IF(Master!AT86=\"\",\"B\",Master!AT86)","v":"B"},{"$f":"IF(Master!BE86=\"\",\"B\",Master!BE86)","v":"B"},{"$f":"IF(Master!BP86=\"\",\"B\",Master!BP86)","v":"B"}]
[{"$f":"Master!A87","v":"ES"},{"$f":"Master!B87","v":"Leading Others"},{"$f":"Master!C87","v":"Enterprise Services Course\nFour Days - $500"},{"$f":"Master!D87","v":"ILT"},{"$f":"Master!E87","v":"Active"},{"$f":"Master!F87","v":0},{"$f":"Master!H87","v":"To register for this course, \ncall the LMS Helpdesk at \n360-705-7060."},{"$f":"IF(Master!M87=\"\",\"B\",Master!M87)","v":"B"},{"$f":"IF(Master!X87=\"\",\"B\",Master!X87)","v":"B"},{"$f":"IF(Master!AI87=\"\",\"B\",Master!AI87)","v":"B"},{"$f":"IF(Master!AT87=\"\",\"B\",Master!AT87)","v":"B"},{"$f":"IF(Master!BE87=\"\",\"B\",Master!BE87)","v":2},{"$f":"IF(Master!BP87=\"\",\"B\",Master!BP87)","v":1}]
[{"$f":"Master!A88","v":"ES"},{"$f":"Master!B88","v":"Supervision Essentials-Phase II (Prerequisite is Leading Others)"},{"$f":"Master!C88","v":"Enterprise Services Course\nTwo Days - $285"},{"$f":"Master!D88","v":"ILT"},{"$f":"Master!E88","v":"Active"},{"$f":"Master!F88","v":0},{"$f":"Master!H88","v":"To register for this course, \ncall the LMS Helpdesk at \n360-705-7060."},{"$f":"IF(Master!M88=\"\",\"B\",Master!M88)","v":"B"},{"$f":"IF(Master!X88=\"\",\"B\",Master!X88)","v":"B"},{"$f":"IF(Master!AI88=\"\",\"B\",Master!AI88)","v":"B"},{"$f":"IF(Master!AT88=\"\",\"B\",Master!AT88)","v":"B"},{"$f":"IF(Master!BE88=\"\",\"B\",Master!BE88)","v":"B"},{"$f":"IF(Master!BP88=\"\",\"B\",Master!BP88)","v":2}]
[{"$f":"Master!A89","v":"Safety"},null,null,null,null,null,null,{"$f":"IF(Master!M89=\"\",\"B\",Master!M89)","v":"B"},{"$f":"IF(Master!X89=\"\",\"B\",Master!X89)","v":"B"},{"$f":"IF(Master!AI89=\"\",\"B\",Master!AI89)","v":"B"},{"$f":"IF(Master!AT89=\"\",\"B\",Master!AT89)","v":"B"},{"$f":"IF(Master!BE89=\"\",\"B\",Master!BE89)","v":"B"},{"$f":"IF(Master!BP89=\"\",\"B\",Master!BP89)","v":"B"}]
[{"$f":"Master!A90","v":"SAFE"},{"$f":"Master!B90","v":"WSDOT SAFE: FALL PROTECTION"},{"$f":"Master!C90","v":"WSDOT_BN9"},{"$f":"Master!D90","v":"ILT"},{"$f":"Master!E90","v":"Active"},{"$f":"Master!F90","v":0},{"$f":"Master!H90","v":0},{"$f":"IF(Master!M90=\"\",\"B\",Master!M90)","v":2},{"$f":"IF(Master!X90=\"\",\"B\",Master!X90)","v":2},{"$f":"IF(Master!AI90=\"\",\"B\",Master!AI90)","v":2},{"$f":"IF(Master!AT90=\"\",\"B\",Master!AT90)","v":2},{"$f":"IF(Master!BE90=\"\",\"B\",Master!BE90)","v":"B"},{"$f":"IF(Master!BP90=\"\",\"B\",Master!BP90)","v":"B"}]
[{"$f":"Master!A91","v":"SAFE"},{"$f":"Master!B91","v":"WSDOT SAFE: FIRST AID"},{"$f":"Master!C91","v":"WSDOT_APS"},{"$f":"Master!D91","v":"ILT"},{"$f":"Master!E91","v":"Active"},{"$f":"Master!F91","v":0},{"$f":"Master!H91","v":0},{"$f":"IF(Master!M91=\"\",\"B\",Master!M91)","v":"R"},{"$f":"IF(Master!X91=\"\",\"B\",Master!X91)","v":"R"},{"$f":"IF(Master!AI91=\"\",\"B\",Master!AI91)","v":1},{"$f":"IF(Master!AT91=\"\",\"B\",Master!AT91)","v":1},{"$f":"IF(Master!BE91=\"\",\"B\",Master!BE91)","v":1},{"$f":"IF(Master!BP91=\"\",\"B\",Master!BP91)","v":1}]
[{"$f":"Master!A92","v":"SAFE"},{"$f":"Master!B92","v":"WSDOT SAFE: FLAGGING, TRAFFIC CONTROL"},{"$f":"Master!C92","v":"WSDOT_AFZ"},{"$f":"Master!D92","v":"ILT"},{"$f":"Master!E92","v":"Active"},{"$f":"Master!F92","v":0},{"$f":"Master!H92","v":0},{"$f":"IF(Master!M92=\"\",\"B\",Master!M92)","v":"R"},{"$f":"IF(Master!X92=\"\",\"B\",Master!X92)","v":"R"},{"$f":"IF(Master!AI92=\"\",\"B\",Master!AI92)","v":1},{"$f":"IF(Master!AT92=\"\",\"B\",Master!AT92)","v":1},{"$f":"IF(Master!BE92=\"\",\"B\",Master!BE92)","v":"B"},{"$f":"IF(Master!BP92=\"\",\"B\",Master!BP92)","v":"B"}]
[{"$f":"Master!A93","v":"SAFE"},{"$f":"Master!B93","v":"WSDOT SAFE: HAZARD COMMUNICATION STANDARD (HCS)"},{"$f":"Master!C93","v":"WSDOT_AEX"},{"$f":"Master!D93","v":"ILT"},{"$f":"Master!E93","v":"Active"},{"$f":"Master!F93","v":0},{"$f":"Master!H93","v":0},{"$f":"IF(Master!M93=\"\",\"B\",Master!M93)","v":2},{"$f":"IF(Master!X93=\"\",\"B\",Master!X93)","v":2},{"$f":"IF(Master!AI93=\"\",\"B\",Master!AI93)","v":2},{"$f":"IF(Master!AT93=\"\",\"B\",Master!AT93)","v":2},{"$f":"IF(Master!BE93=\"\",\"B\",Master!BE93)","v":2},{"$f":"IF(Master!BP93=\"\",\"B\",Master!BP93)","v":2}]
[{"$f":"Master!A94","v":"SAFE"},{"$f":"Master!B94","v":"WSDOT SAFE: HEARING CONSERVATION (ILT, and/or Self-Study)"},{"$f":"Master!C94","v":"WSDOT_ATS"},{"$f":"Master!D94","v":"OLT/ILT"},{"$f":"Master!E94","v":"Active"},{"$f":"Master!F94","v":0},{"$f":"Master!H94","v":0},{"$f":"IF(Master!M94=\"\",\"B\",Master!M94)","v":"R"},{"$f":"IF(Master!X94=\"\",\"B\",Master!X94)","v":"R"},{"$f":"IF(Master!AI94=\"\",\"B\",Master!AI94)","v":2},{"$f":"IF(Master!AT94=\"\",\"B\",Master!AT94)","v":2},{"$f":"IF(Master!BE94=\"\",\"B\",Master!BE94)","v":2},{"$f":"IF(Master!BP94=\"\",\"B\",Master!BP94)","v":2}]
[{"$f":"Master!A95","v":"SAFE"},{"$f":"Master!B95","v":"WSDOT SAFE: RESPIRATOR PROTECTION TRAINING"},{"$f":"Master!C95","v":"WSDOT_ARZ"},{"$f":"Master!D95","v":"ILT"},{"$f":"Master!E95","v":"Active"},{"$f":"Master!F95","v":0},{"$f":"Master!H95","v":0},{"$f":"IF(Master!M95=\"\",\"B\",Master!M95)","v":"B"},{"$f":"IF(Master!X95=\"\",\"B\",Master!X95)","v":"B"},{"$f":"IF(Master!AI95=\"\",\"B\",Master!AI95)","v":"B"},{"$f":"IF(Master!AT95=\"\",\"B\",Master!AT95)","v":"B"},{"$f":"IF(Master!BE95=\"\",\"B\",Master!BE95)","v":"B"},{"$f":"IF(Master!BP95=\"\",\"B\",Master!BP95)","v":"B"}]
[{"$f":"Master!A96","v":"Construction Division"},null,null,null,null,null,null,{"$f":"IF(Master!M96=\"\",\"B\",Master!M96)","v":"B"},{"$f":"IF(Master!X96=\"\",\"B\",Master!X96)","v":"B"},{"$f":"IF(Master!AI96=\"\",\"B\",Master!AI96)","v":"B"},{"$f":"IF(Master!AT96=\"\",\"B\",Master!AT96)","v":"B"},{"$f":"IF(Master!BE96=\"\",\"B\",Master!BE96)","v":"B"},{"$f":"IF(Master!BP96=\"\",\"B\",Master!BP96)","v":"B"}]
[{"$f":"Master!A97","v":"CN"},{"$f":"Master!B97","v":"WSDOT CN: AGGREGATE PRODUCTION & TESTING INSPECTION"},{"$f":"Master!C97","v":"WSDOT_ACA"},{"$f":"Master!D97","v":"ILT"},{"$f":"Master!E97","v":"Active"},{"$f":"Master!F97","v":0},{"$f":"Master!G97","v":0},{"$f":"IF(Master!H97=\"\",\"B\",Master!H97)","v":"B"},{"$f":"IF(Master!I97=\"\",\"B\",Master!I97)","v":"B"},{"$f":"IF(Master!J97=\"\",\"B\",Master!J97)","v":"B"},{"$f":"IF(Master!K97=\"\",\"B\",Master!K97)","v":"B"},{"$f":"IF(Master!L97=\"\",\"B\",Master!L97)","v":"B"},{"$f":"IF(Master!M97=\"\",\"B\",Master!M97)","v":"B"}]
[{"$f":"Master!A98","v":"CN"},{"$f":"Master!B98","v":"WSDOT CN: BITUMINOUS SURFACE TREATMENT INSPECTION"},{"$f":"Master!C98","v":"WSDOT_CN_BST_ACC"},{"$f":"Master!D98","v":"ILT"},{"$f":"Master!E98","v":"Active"},{"$f":"Master!F98","v":0},{"$f":"Master!G98","v":0},{"$f":"IF(Master!H98=\"\",\"B\",Master!H98)","v":"B"},{"$f":"IF(Master!I98=\"\",\"B\",Master!I98)","v":"B"},{"$f":"IF(Master!J98=\"\",\"B\",Master!J98)","v":2},{"$f":"IF(Master!K98=\"\",\"B\",Master!K98)","v":"B"},{"$f":"IF(Master!L98=\"\",\"B\",Master!L98)","v":"B"},{"$f":"IF(Master!M98=\"\",\"B\",Master!M98)","v":"B"}]
[{"$f":"Master!A99","v":"CN"},{"$f":"Master!B99","v":"WSDOT CN: ACCEPTANCE AND APPROVAL OF MATERIAL"},{"$f":"Master!C99","v":"WSDOT_CN_Acceptance_Material_CX8_OLT"},{"$f":"Master!D99","v":"OLT"},{"$f":"Master!E99","v":"Active"},{"$f":"Master!F99","v":0},{"$f":"Master!G99","v":0},{"$f":"IF(Master!H99=\"\",\"B\",Master!H99)","v":"B"},{"$f":"IF(Master!I99=\"\",\"B\",Master!I99)","v":"B"},{"$f":"IF(Master!J99=\"\",\"B\",Master!J99)","v":1},{"$f":"IF(Master!K99=\"\",\"B\",Master!K99)","v":2},{"$f":"IF(Master!L99=\"\",\"B\",Master!L99)","v":"B"},{"$f":"IF(Master!M99=\"\",\"B\",Master!M99)","v":"B"}]
[{"$f":"Master!A100","v":"CN"},{"$f":"Master!B100","v":"WSDOT CN: COMPOSING AN INSPECTOR'S DAILY REPORT"},{"$f":"Master!C100","v":"WSDOT_CZ9_OLT"},{"$f":"Master!D100","v":"OLT"},{"$f":"Master!E100","v":"Active"},{"$f":"Master!F100","v":0},{"$f":"Master!G100","v":0},{"$f":"IF(Master!H100=\"\",\"B\",Master!H100)","v":"B"},{"$f":"IF(Master!I100=\"\",\"B\",Master!I100)","v":"B"},{"$f":"IF(Master!J100=\"\",\"B\",Master!J100)","v":1},{"$f":"IF(Master!K100=\"\",\"B\",Master!K100)","v":2},{"$f":"IF(Master!L100=\"\",\"B\",Master!L100)","v":"B"},{"$f":"IF(Master!M100=\"\",\"B\",Master!M100)","v":"B"}]
[{"$f":"Master!A101","v":"CN"},{"$f":"Master!B101","v":"WSDOT CN: INSPECTING BRIDGE CONSTRUCTION"},{"$f":"Master!C101","v":"WSDOT_ACM"},{"$f":"Master!D101","v":"ILT"},{"$f":"Master!E101","v":"Active"},{"$f":"Master!F101","v":0},{"$f":"Master!G101","v":0},{"$f":"IF(Master!H101=\"\",\"B\",Master!H101)","v":"B"},{"$f":"IF(Master!I101=\"\",\"B\",Master!I101)","v":"B"},{"$f":"IF(Master!J101=\"\",\"B\",Master!J101)","v":2},{"$f":"IF(Master!K101=\"\",\"B\",Master!K101)","v":"B"},{"$f":"IF(Master!L101=\"\",\"B\",Master!L101)","v":"B"},{"$f":"IF(Master!M101=\"\",\"B\",Master!M101)","v":"B"}]
[{"$f":"Master!A102","v":"CN"},{"$f":"Master!B102","v":"WSDOT CN: CONSTRUCTION INSPECTION DOCUMENTATION"},{"$f":"Master!C102","v":"WSDOT_ACY"},{"$f":"Master!D102","v":"ILT"},{"$f":"Master!E102","v":"Active"},{"$f":"Master!F102","v":0},{"$f":"Master!G102","v":0},{"$f":"IF(Master!H102=\"\",\"B\",Master!H102)","v":"B"},{"$f":"IF(Master!I102=\"\",\"B\",Master!I102)","v":"B"},{"$f":"IF(Master!J102=\"\",\"B\",Master!J102)","v":1},{"$f":"IF(Master!K102=\"\",\"B\",Master!K102)","v":2},{"$f":"IF(Master!L102=\"\",\"B\",Master!L102)","v":"B"},{"$f":"IF(Master!M102=\"\",\"B\",Master!M102)","v":"B"}]
[{"$f":"Master!A103","v":"CN"},{"$f":"Master!B103","v":"WSDOT CN:CONSTRUCTION MATERIALS, APPROVAL AND ACCEPTANCE"},{"$f":"Master!C103","v":"WSDOT_DAP"},{"$f":"Master!D103","v":"ILT"},{"$f":"Master!E103","v":"Active"},{"$f":"Master!F103","v":0},{"$f":"Master!G103","v":0},{"$f":"IF(Master!H103=\"\",\"B\",Master!H103)","v":"B"},{"$f":"IF(Master!I103=\"\",\"B\",Master!I103)","v":"B"},{"$f":"IF(Master!J103=\"\",\"B\",Master!J103)","v":1},{"$f":"IF(Master!K103=\"\",\"B\",Master!K103)","v":2},{"$f":"IF(Master!L103=\"\",\"B\",Master!L103)","v":"B"},{"$f":"IF(Master!M103=\"\",\"B\",Master!M103)","v":"B"}]
[{"$f":"Master!A104","v":"CN"},{"$f":"Master!B104","v":"WSDOT CN: DRAINAGE INSPECTION"},{"$f":"Master!C104","v":"WSDOT_ACF"},{"$f":"Master!D104","v":"ILT"},{"$f":"Master!E104","v":"Active"},{"$f":"Master!F104","v":0},{"$f":"Master!G104","v":0},{"$f":"IF(Master!H104=\"\",\"B\",Master!H104)","v":"B"},{"$f":"IF(Master!I104=\"\",\"B\",Master!I104)","v":"B"},{"$f":"IF(Master!J104=\"\",\"B\",Master!J104)","v":2},{"$f":"IF(Master!K104=\"\",\"B\",Master!K104)","v":"B"},{"$f":"IF(Master!L104=\"\",\"B\",Master!L104)","v":"B"},{"$f":"IF(Master!M104=\"\",\"B\",Master!M104)","v":"B"}]
[{"$f":"Master!A105","v":"CN"},{"$f":"Master!B105","v":"WSDOT CN: EARTHWORK INSPECTION"},{"$f":"Master!C105","v":"WSDOT_Earthwork_OLT"},{"$f":"Master!D105","v":"OLT"},{"$f":"Master!E105","v":"Active"},{"$f":"Master!F105","v":0},{"$f":"Master!G105","v":0},{"$f":"IF(Master!H105=\"\",\"B\",Master!H105)","v":"B"},{"$f":"IF(Master!I105=\"\",\"B\",Master!I105)","v":"B"},{"$f":"IF(Master!J105=\"\",\"B\",Master!J105)","v":2},{"$f":"IF(Master!K105=\"\",\"B\",Master!K105)","v":"B"},{"$f":"IF(Master!L105=\"\",\"B\",Master!L105)","v":"B"},{"$f":"IF(Master!M105=\"\",\"B\",Master!M105)","v":"B"}]
[{"$f":"Master!A106","v":"CN"},{"$f":"Master!B106","v":"WSDOT CN: ELECTRICAL CONDUCTORS AND FIBER for ICP"},{"$f":"Master!C106","v":"WSDOT_ICP_Electrical_Conductors_Fiber_OLT"},{"$f":"Master!D106","v":"OLT"},{"$f":"Master!E106","v":"Active"},{"$f":"Master!F106","v":0},{"$f":"Master!G106","v":0},{"$f":"IF(Master!H106=\"\",\"B\",Master!H106)","v":"B"},{"$f":"IF(Master!I106=\"\",\"B\",Master!I106)","v":"B"},{"$f":"IF(Master!J106=\"\",\"B\",Master!J106)","v":"B"},{"$f":"IF(Master!K106=\"\",\"B\",Master!K106)","v":2},{"$f":"IF(Master!L106=\"\",\"B\",Master!L106)","v":"B"},{"$f":"IF(Master!M106=\"\",\"B\",Master!M106)","v":"B"}]
[{"$f":"Master!A107","v":"CN"},{"$f":"Master!B107","v":"WSDOT CN: ELECTRICAL-ILLUMINATION-SIGNALS & ITS INSPECTION"},{"$f":"Master!C107","v":"WSDOT_API"},{"$f":"Master!D107","v":"ILT"},{"$f":"Master!E107","v":"Active"},{"$f":"Master!F107","v":0},{"$f":"Master!G107","v":0},{"$f":"IF(Master!H107=\"\",\"B\",Master!H107)","v":"B"},{"$f":"IF(Master!I107=\"\",\"B\",Master!I107)","v":"B"},{"$f":"IF(Master!J107=\"\",\"B\",Master!J107)","v":"B"},{"$f":"IF(Master!K107=\"\",\"B\",Master!K107)","v":2},{"$f":"IF(Master!L107=\"\",\"B\",Master!L107)","v":"B"},{"$f":"IF(Master!M107=\"\",\"B\",Master!M107)","v":"B"}]
[{"$f":"Master!A108","v":"CN"},{"$f":"Master!B108","v":"WSDOT CN: EXCAVATION & EMBANKMENTS INSPECTION"},{"$f":"Master!C108","v":"WSDOT_AC3"},{"$f":"Master!D108","v":"ILT"},{"$f":"Master!E108","v":"Active"},{"$f":"Master!F108","v":0},{"$f":"Master!G108","v":0},{"$f":"IF(Master!H108=\"\",\"B\",Master!H108)","v":"B"},{"$f":"IF(Master!I108=\"\",\"B\",Master!I108)","v":"B"},{"$f":"IF(Master!J108=\"\",\"B\",Master!J108)","v":1},{"$f":"IF(Master!K108=\"\",\"B\",Master!K108)","v":"B"},{"$f":"IF(Master!L108=\"\",\"B\",Master!L108)","v":"B"},{"$f":"IF(Master!M108=\"\",\"B\",Master!M108)","v":"B"}]
[{"$f":"Master!A109","v":"CN"},{"$f":"Master!B109","v":"WSDOT CN: FIELD PAINTING STRUCTURAL STEEL"},{"$f":"Master!C109","v":"WSDOT_CN_Field_Painting_OLT"},{"$f":"Master!D109","v":"OLT"},{"$f":"Master!E109","v":"Active"},{"$f":"Master!F109","v":0},{"$f":"Master!G109","v":0},{"$f":"IF(Master!H109=\"\",\"B\",Master!H109)","v":"B"},{"$f":"IF(Master!I109=\"\",\"B\",Master!I109)","v":"B"},{"$f":"IF(Master!J109=\"\",\"B\",Master!J109)","v":"B"},{"$f":"IF(Master!K109=\"\",\"B\",Master!K109)","v":"B"},{"$f":"IF(Master!L109=\"\",\"B\",Master!L109)","v":"B"},{"$f":"IF(Master!M109=\"\",\"B\",Master!M109)","v":"B"}]
[{"$f":"Master!A110","v":"CN"},{"$f":"Master!B110","v":"WSDOT CN: FORCE ACCOUNT DOCUMENTATION AND PAYMENT"},{"$f":"Master!C110","v":"WSDOT_CN_ForceAccount_DG2_OLT"},{"$f":"Master!D110","v":"OLT"},{"$f":"Master!E110","v":"Active"},{"$f":"Master!F110","v":0},{"$f":"Master!G110","v":0},{"$f":"IF(Master!H110=\"\",\"B\",Master!H110)","v":"B"},{"$f":"IF(Master!I110=\"\",\"B\",Master!I110)","v":"B"},{"$f":"IF(Master!J110=\"\",\"B\",Master!J110)","v":1},{"$f":"IF(Master!K110=\"\",\"B\",Master!K110)","v":2},{"$f":"IF(Master!L110=\"\",\"B\",Master!L110)","v":"B"},{"$f":"IF(Master!M110=\"\",\"B\",Master!M110)","v":"B"}]
[{"$f":"Master!A111","v":"CN"},{"$f":"Master!B111","v":"WSDOT CN: FORMS AND FALSEWORK for ICP"},{"$f":"Master!C111","v":"WSDOT_ICP_Forms and Falsework_OLT"},{"$f":"Master!D111","v":"OLT"},{"$f":"Master!E111","v":"Active"},{"$f":"Master!F111","v":0},{"$f":"Master!G111","v":0},{"$f":"IF(Master!H111=\"\",\"B\",Master!H111)","v":"B"},{"$f":"IF(Master!I111=\"\",\"B\",Master!I111)","v":"B"},{"$f":"IF(Master!J111=\"\",\"B\",Master!J111)","v":2},{"$f":"IF(Master!K111=\"\",\"B\",Master!K111)","v":"B"},{"$f":"IF(Master!L111=\"\",\"B\",Master!L111)","v":"B"},{"$f":"IF(Master!M111=\"\",\"B\",Master!M111)","v":"B"}]
[{"$f":"Master!A112","v":"CN"},{"$f":"Master!B112","v":"WSDOT CN: GUARDRAIL INSTALLATION FOR INSPECTORS"},{"$f":"Master!C112","v":"WSDOT_DD4"},{"$f":"Master!D112","v":"ILT"},{"$f":"Master!E112","v":"Active"},{"$f":"Master!F112","v":0},{"$f":"Master!G112","v":0},{"$f":"IF(Master!H112=\"\",\"B\",Master!H112)","v":"B"},{"$f":"IF(Master!I112=\"\",\"B\",Master!I112)","v":"B"},{"$f":"IF(Master!J112=\"\",\"B\",Master!J112)","v":2},{"$f":"IF(Master!K112=\"\",\"B\",Master!K112)","v":"B"},{"$f":"IF(Master!L112=\"\",\"B\",Master!L112)","v":"B"},{"$f":"IF(Master!M112=\"\",\"B\",Master!M112)","v":"B"}]
[{"$f":"Master!A113","v":"CN"},{"$f":"Master!B113","v":"WSDOT CN: HAZMAT FOR THE PORTABLE NUCLEAR GAUGE"},{"$f":"Master!C113","v":"WSDOT Hazmat_for_Transportation_of_the_Nuclear_Gauge_ORG"},{"$f":"Master!D113","v":"OLT"},{"$f":"Master!E113","v":"Active"},{"$f":"Master!F113","v":0},{"$f":"Master!G113","v":0},{"$f":"IF(Master!H113=\"\",\"B\",Master!H113)","v":"B"},{"$f":"IF(Master!I113=\"\",\"B\",Master!I113)","v":"B"},{"$f":"IF(Master!J113=\"\",\"B\",Master!J113)","v":2},{"$f":"IF(Master!K113=\"\",\"B\",Master!K113)","v":"B"},{"$f":"IF(Master!L113=\"\",\"B\",Master!L113)","v":"B"},{"$f":"IF(Master!M113=\"\",\"B\",Master!M113)","v":"B"}]
[{"$f":"Master!A114","v":"CN"},{"$f":"Master!B114","v":"WSDOT CN: HMA PLACEMENT INSPECTION"},{"$f":"Master!C114","v":"WSDOT_HMAPlacement_OLT"},{"$f":"Master!D114","v":"OLT"},{"$f":"Master!E114","v":"Active"},{"$f":"Master!F114","v":0},{"$f":"Master!G114","v":0},{"$f":"IF(Master!H114=\"\",\"B\",Master!H114)","v":"B"},{"$f":"IF(Master!I114=\"\",\"B\",Master!I114)","v":"B"},{"$f":"IF(Master!J114=\"\",\"B\",Master!J114)","v":2},{"$f":"IF(Master!K114=\"\",\"B\",Master!K114)","v":"B"},{"$f":"IF(Master!L114=\"\",\"B\",Master!L114)","v":"B"},{"$f":"IF(Master!M114=\"\",\"B\",Master!M114)","v":"B"}]
[{"$f":"Master!A115","v":"CN"},{"$f":"Master!B115","v":"WSDOT CN: HOT MIX ASPHALT PLACEMENT"},{"$f":"Master!C115","v":"WSDOT_ACB"},{"$f":"Master!D115","v":"ILT"},{"$f":"Master!E115","v":"Active"},{"$f":"Master!F115","v":0},{"$f":"Master!G115","v":0},{"$f":"IF(Master!H115=\"\",\"B\",Master!H115)","v":"B"},{"$f":"IF(Master!I115=\"\",\"B\",Master!I115)","v":"B"},{"$f":"IF(Master!J115=\"\",\"B\",Master!J115)","v":2},{"$f":"IF(Master!K115=\"\",\"B\",Master!K115)","v":"B"},{"$f":"IF(Master!L115=\"\",\"B\",Master!L115)","v":"B"},{"$f":"IF(Master!M115=\"\",\"B\",Master!M115)","v":"B"}]
[{"$f":"Master!A116","v":"CN"},{"$f":"Master!B116","v":"WSDOT CN: HOT MIX ASPHALT PRODUCTION & TESTING"},{"$f":"Master!C116","v":"WSDOT_BG9"},{"$f":"Master!D116","v":"ILT"},{"$f":"Master!E116","v":"Active"},{"$f":"Master!F116","v":0},{"$f":"Master!G116","v":0},{"$f":"IF(Master!H116=\"\",\"B\",Master!H116)","v":"B"},{"$f":"IF(Master!I116=\"\",\"B\",Master!I116)","v":"B"},{"$f":"IF(Master!J116=\"\",\"B\",Master!J116)","v":2},{"$f":"IF(Master!K116=\"\",\"B\",Master!K116)","v":"B"},{"$f":"IF(Master!L116=\"\",\"B\",Master!L116)","v":"B"},{"$f":"IF(Master!M116=\"\",\"B\",Master!M116)","v":"B"}]
[{"$f":"Master!A117","v":"CN"},{"$f":"Master!B117","v":"WSDOT CN: INSPECTING BRIDGE CONSTRUCTION"},{"$f":"Master!C117","v":"WSDOT_ACM"},{"$f":"Master!D117","v":"ILT"},{"$f":"Master!E117","v":"Active"},{"$f":"Master!F117","v":0},{"$f":"Master!G117","v":0},{"$f":"IF(Master!H117=\"\",\"B\",Master!H117)","v":"B"},{"$f":"IF(Master!I117=\"\",\"B\",Master!I117)","v":"B"},{"$f":"IF(Master!J117=\"\",\"B\",Master!J117)","v":2},{"$f":"IF(Master!K117=\"\",\"B\",Master!K117)","v":"B"},{"$f":"IF(Master!L117=\"\",\"B\",Master!L117)","v":"B"},{"$f":"IF(Master!M117=\"\",\"B\",Master!M117)","v":"B"}]
[{"$f":"Master!A118","v":"CN"},{"$f":"Master!B118","v":"WSDOT CN: INSPECTION OF PEDESTRIAN FACILITIES"},{"$f":"Master!C118","v":"WSDOT_IFP_OLT"},{"$f":"Master!D118","v":"OLT"},{"$f":"Master!E118","v":"Active"},{"$f":"Master!F118","v":0},{"$f":"Master!G118","v":0},{"$f":"IF(Master!H118=\"\",\"B\",Master!H118)","v":"B"},{"$f":"IF(Master!I118=\"\",\"B\",Master!I118)","v":2},{"$f":"IF(Master!J118=\"\",\"B\",Master!J118)","v":2},{"$f":"IF(Master!K118=\"\",\"B\",Master!K118)","v":2},{"$f":"IF(Master!L118=\"\",\"B\",Master!L118)","v":2},{"$f":"IF(Master!M118=\"\",\"B\",Master!M118)","v":"B"}]
[{"$f":"Master!A119","v":"CN"},{"$f":"Master!B119","v":"WSDOT CN: INSPECTOR'S ROLE FOR CHANGE ORDER WORK"},{"$f":"Master!C119","v":"WSDOT_DH9_OLT"},{"$f":"Master!D119","v":"OLT"},{"$f":"Master!E119","v":"Active"},{"$f":"Master!F119","v":0},{"$f":"Master!G119","v":0},{"$f":"IF(Master!H119=\"\",\"B\",Master!H119)","v":"B"},{"$f":"IF(Master!I119=\"\",\"B\",Master!I119)","v":"B"},{"$f":"IF(Master!J119=\"\",\"B\",Master!J119)","v":1},{"$f":"IF(Master!K119=\"\",\"B\",Master!K119)","v":2},{"$f":"IF(Master!L119=\"\",\"B\",Master!L119)","v":"B"},{"$f":"IF(Master!M119=\"\",\"B\",Master!M119)","v":"B"}]
[{"$f":"Master!A120","v":"CN"},{"$f":"Master!B120","v":"WSDOT CN:INSPECTOR’S USE OF CONTRACT RESOURCES"},{"$f":"Master!C120","v":"WSDOT_UR1_OLT"},{"$f":"Master!D120","v":"OLT"},{"$f":"Master!E120","v":"Active"},{"$f":"Master!F120","v":0},{"$f":"Master!G120","v":0},{"$f":"IF(Master!H120=\"\",\"B\",Master!H120)","v":"B"},{"$f":"IF(Master!I120=\"\",\"B\",Master!I120)","v":"B"},{"$f":"IF(Master!J120=\"\",\"B\",Master!J120)","v":1},{"$f":"IF(Master!K120=\"\",\"B\",Master!K120)","v":2},{"$f":"IF(Master!L120=\"\",\"B\",Master!L120)","v":"B"},{"$f":"IF(Master!M120=\"\",\"B\",Master!M120)","v":"B"}]
[{"$f":"Master!A121","v":"CN"},{"$f":"Master!B121","v":"WSDOT CN: NHI CONTRACT ADMINISTRATION CORE CURRICULUM"},{"$f":"Master!C121","v":"WSDOT_NHI CONTRACT ADM"},{"$f":"Master!D121","v":"ILT"},{"$f":"Master!E121","v":"Active"},{"$f":"Master!F121","v":0},{"$f":"Master!G121","v":0},{"$f":"IF(Master!H121=\"\",\"B\",Master!H121)","v":"B"},{"$f":"IF(Master!I121=\"\",\"B\",Master!I121)","v":"B"},{"$f":"IF(Master!J121=\"\",\"B\",Master!J121)","v":"B"},{"$f":"IF(Master!K121=\"\",\"B\",Master!K121)","v":"B"},{"$f":"IF(Master!L121=\"\",\"B\",Master!L121)","v":"B"},{"$f":"IF(Master!M121=\"\",\"B\",Master!M121)","v":"B"}]
[{"$f":"Master!A122","v":"CN"},{"$f":"Master!B122","v":"WSDOT CN:NUCLEAR GAUGE SAFETY AND OPERATION"},{"$f":"Master!C122","v":"WSDOT_DCX_OLT"},{"$f":"Master!D122","v":"ILT"},{"$f":"Master!E122","v":"Active"},{"$f":"Master!F122","v":0},{"$f":"Master!G122","v":0},{"$f":"IF(Master!H122=\"\",\"B\",Master!H122)","v":"B"},{"$f":"IF(Master!I122=\"\",\"B\",Master!I122)","v":"B"},{"$f":"IF(Master!J122=\"\",\"B\",Master!J122)","v":2},{"$f":"IF(Master!K122=\"\",\"B\",Master!K122)","v":"B"},{"$f":"IF(Master!L122=\"\",\"B\",Master!L122)","v":"B"},{"$f":"IF(Master!M122=\"\",\"B\",Master!M122)","v":"B"}]
[{"$f":"Master!A123","v":"CN"},{"$f":"Master!B123","v":"WSDOT CN: NUCLEAR GAUGE, EMBANKMENT/SURFACING/PAVEMENT APPLICATIONS"},{"$f":"Master!C123","v":"WSDOT_ANQ"},{"$f":"Master!D123","v":"ILT"},{"$f":"Master!E123","v":"Active"},{"$f":"Master!F123","v":0},{"$f":"Master!G123","v":0},{"$f":"IF(Master!H123=\"\",\"B\",Master!H123)","v":"B"},{"$f":"IF(Master!I123=\"\",\"B\",Master!I123)","v":"B"},{"$f":"IF(Master!J123=\"\",\"B\",Master!J123)","v":2},{"$f":"IF(Master!K123=\"\",\"B\",Master!K123)","v":"B"},{"$f":"IF(Master!L123=\"\",\"B\",Master!L123)","v":"B"},{"$f":"IF(Master!M123=\"\",\"B\",Master!M123)","v":"B"}]
[{"$f":"Master!A124","v":"CN"},{"$f":"Master!B124","v":"WSDOT CN: PAVEMENT REHABILITATION"},{"$f":"Master!C124","v":"WSDOT_BQL"},{"$f":"Master!D124","v":"ILT"},{"$f":"Master!E124","v":"Active"},{"$f":"Master!F124","v":0},{"$f":"Master!G124","v":0},{"$f":"IF(Master!H124=\"\",\"B\",Master!H124)","v":"B"},{"$f":"IF(Master!I124=\"\",\"B\",Master!I124)","v":"B"},{"$f":"IF(Master!J124=\"\",\"B\",Master!J124)","v":"B"},{"$f":"IF(Master!K124=\"\",\"B\",Master!K124)","v":"B"},{"$f":"IF(Master!L124=\"\",\"B\",Master!L124)","v":"B"},{"$f":"IF(Master!M124=\"\",\"B\",Master!M124)","v":"B"}]
[{"$f":"Master!A125","v":"CN"},{"$f":"Master!B125","v":"WSDOT CN: PCC FIELD TESTING PROCEDURES"},{"$f":"Master!C125","v":"WSDOT_ABT"},{"$f":"Master!D125","v":"ILT"},{"$f":"Master!E125","v":"Active"},{"$f":"Master!F125","v":0},{"$f":"Master!G125","v":0},{"$f":"IF(Master!H125=\"\",\"B\",Master!H125)","v":"B"},{"$f":"IF(Master!I125=\"\",\"B\",Master!I125)","v":"B"},{"$f":"IF(Master!J125=\"\",\"B\",Master!J125)","v":"B"},{"$f":"IF(Master!K125=\"\",\"B\",Master!K125)","v":"B"},{"$f":"IF(Master!L125=\"\",\"B\",Master!L125)","v":"B"},{"$f":"IF(Master!M125=\"\",\"B\",Master!M125)","v":"B"}]
[{"$f":"Master!A126","v":"CN"},{"$f":"Master!B126","v":"WSDOT CN: PILE DRIVING INSPECTION"},{"$f":"Master!C126","v":"Piling_OLT"},{"$f":"Master!D126","v":"OLT"},{"$f":"Master!E126","v":"Active"},{"$f":"Master!F126","v":0},{"$f":"Master!G126","v":0},{"$f":"IF(Master!H126=\"\",\"B\",Master!H126)","v":"B"},{"$f":"IF(Master!I126=\"\",\"B\",Master!I126)","v":"B"},{"$f":"IF(Master!J126=\"\",\"B\",Master!J126)","v":"B"},{"$f":"IF(Master!K126=\"\",\"B\",Master!K126)","v":"B"},{"$f":"IF(Master!L126=\"\",\"B\",Master!L126)","v":"B"},{"$f":"IF(Master!M126=\"\",\"B\",Master!M126)","v":"B"}]
[{"$f":"Master!A127","v":"CN"},{"$f":"Master!B127","v":"WSDOT CN: PORTLAND CEMENT CONCRETE INSPECTION"},{"$f":"Master!C127","v":"WSDOT_PCC_OLT"},{"$f":"Master!D127","v":"OLT"},{"$f":"Master!E127","v":"Active"},{"$f":"Master!F127","v":0},{"$f":"Master!G127","v":0},{"$f":"IF(Master!H127=\"\",\"B\",Master!H127)","v":"B"},{"$f":"IF(Master!I127=\"\",\"B\",Master!I127)","v":"B"},{"$f":"IF(Master!J127=\"\",\"B\",Master!J127)","v":2},{"$f":"IF(Master!K127=\"\",\"B\",Master!K127)","v":"B"},{"$f":"IF(Master!L127=\"\",\"B\",Master!L127)","v":"B"},{"$f":"IF(Master!M127=\"\",\"B\",Master!M127)","v":"B"}]
[{"$f":"Master!A128","v":"CN"},{"$f":"Master!B128","v":"WSDOT CN: PRODUCING SOURCE DOCUMENTS"},{"$f":"Master!C128","v":"WSDOT_C1H_OLT"},{"$f":"Master!D128","v":"OLT"},{"$f":"Master!E128","v":"Active"},{"$f":"Master!F128","v":0},{"$f":"Master!G128","v":0},{"$f":"IF(Master!H128=\"\",\"B\",Master!H128)","v":"B"},{"$f":"IF(Master!I128=\"\",\"B\",Master!I128)","v":"B"},{"$f":"IF(Master!J128=\"\",\"B\",Master!J128)","v":"B"},{"$f":"IF(Master!K128=\"\",\"B\",Master!K128)","v":"B"},{"$f":"IF(Master!L128=\"\",\"B\",Master!L128)","v":"B"},{"$f":"IF(Master!M128=\"\",\"B\",Master!M128)","v":"B"}]
[{"$f":"Master!A129","v":"CN"},{"$f":"Master!B129","v":"WSDOT CN: SIGN BRIDGES AND CANTILEVER SIGNS"},{"$f":"Master!C129","v":"WSDOT_SBI_OLT"},{"$f":"Master!D129","v":"OLT"},{"$f":"Master!E129","v":"Active"},{"$f":"Master!F129","v":0},{"$f":"Master!G129","v":0},{"$f":"IF(Master!H129=\"\",\"B\",Master!H129)","v":"B"},{"$f":"IF(Master!I129=\"\",\"B\",Master!I129)","v":"B"},{"$f":"IF(Master!J129=\"\",\"B\",Master!J129)","v":2},{"$f":"IF(Master!K129=\"\",\"B\",Master!K129)","v":2},{"$f":"IF(Master!L129=\"\",\"B\",Master!L129)","v":"B"},{"$f":"IF(Master!M129=\"\",\"B\",Master!M129)","v":"B"}]
[{"$f":"Master!A130","v":"CN"},{"$f":"Master!B130","v":"WSDOT CN: SIGN INSPECTOR DUTIES"},{"$f":"Master!C130","v":"WSDOT_SID_OLT"},{"$f":"Master!D130","v":"OLT"},{"$f":"Master!E130","v":"Active"},{"$f":"Master!F130","v":0},{"$f":"Master!G130","v":0},{"$f":"IF(Master!H130=\"\",\"B\",Master!H130)","v":"B"},{"$f":"IF(Master!I130=\"\",\"B\",Master!I130)","v":"B"},{"$f":"IF(Master!J130=\"\",\"B\",Master!J130)","v":"B"},{"$f":"IF(Master!K130=\"\",\"B\",Master!K130)","v":2},{"$f":"IF(Master!L130=\"\",\"B\",Master!L130)","v":"B"},{"$f":"IF(Master!M130=\"\",\"B\",Master!M130)","v":"B"}]
[{"$f":"Master!A131","v":"CN"},{"$f":"Master!B131","v":"WSDOT CN: SIGN INSTALLATION INSPECTION"},{"$f":"Master!C131","v":"WSDOT_DFV"},{"$f":"Master!D131","v":"ILT"},{"$f":"Master!E131","v":"Active"},{"$f":"Master!F131","v":0},{"$f":"Master!G131","v":0},{"$f":"IF(Master!H131=\"\",\"B\",Master!H131)","v":"B"},{"$f":"IF(Master!I131=\"\",\"B\",Master!I131)","v":"B"},{"$f":"IF(Master!J131=\"\",\"B\",Master!J131)","v":"B"},{"$f":"IF(Master!K131=\"\",\"B\",Master!K131)","v":2},{"$f":"IF(Master!L131=\"\",\"B\",Master!L131)","v":"B"},{"$f":"IF(Master!M131=\"\",\"B\",Master!M131)","v":"B"}]
[{"$f":"Master!A132","v":"CN"},{"$f":"Master!B132","v":"WSDOT CN: SMALL AND LARGE SIGN INSPECTION REVIEW"},{"$f":"Master!C132","v":"WSDOT_SLR_OLT"},{"$f":"Master!D132","v":"OLT"},{"$f":"Master!E132","v":"Active"},{"$f":"Master!F132","v":0},{"$f":"Master!G132","v":0},{"$f":"IF(Master!H132=\"\",\"B\",Master!H132)","v":"B"},{"$f":"IF(Master!I132=\"\",\"B\",Master!I132)","v":"B"},{"$f":"IF(Master!J132=\"\",\"B\",Master!J132)","v":2},{"$f":"IF(Master!K132=\"\",\"B\",Master!K132)","v":2},{"$f":"IF(Master!L132=\"\",\"B\",Master!L132)","v":"B"},{"$f":"IF(Master!M132=\"\",\"B\",Master!M132)","v":"B"}]
[{"$f":"Master!A133","v":"CN"},{"$f":"Master!B133","v":"WSDOT CN: WORK ZONE TRAFFIC CONTROL"},{"$f":"Master!C133","v":"WSDOT_WZTC_OLT"},{"$f":"Master!D133","v":"OLT"},{"$f":"Master!E133","v":"Active"},{"$f":"Master!F133","v":0},{"$f":"Master!G133","v":0},{"$f":"IF(Master!H133=\"\",\"B\",Master!H133)","v":"B"},{"$f":"IF(Master!I133=\"\",\"B\",Master!I133)","v":"B"},{"$f":"IF(Master!J133=\"\",\"B\",Master!J133)","v":1},{"$f":"IF(Master!K133=\"\",\"B\",Master!K133)","v":1},{"$f":"IF(Master!L133=\"\",\"B\",Master!L133)","v":"B"},{"$f":"IF(Master!M133=\"\",\"B\",Master!M133)","v":"B"}]
[{"$f":"Master!A134","v":"CN"},{"$f":"Master!B134","v":"WSDOT DB: ALTERNATIVE TECHNICAL CONCEPT (ATC) REVIEW PROCESS"},{"$f":"Master!C134","v":"WSDOT_DB_ATC"},{"$f":"Master!D134","v":"ILT"},{"$f":"Master!E134","v":"Active"},{"$f":"Master!F134","v":0},{"$f":"Master!G134","v":0},{"$f":"IF(Master!H134=\"\",\"B\",Master!H134)","v":"B"},{"$f":"IF(Master!I134=\"\",\"B\",Master!I134)","v":"B"},{"$f":"IF(Master!J134=\"\",\"B\",Master!J134)","v":"B"},{"$f":"IF(Master!K134=\"\",\"B\",Master!K134)","v":"B"},{"$f":"IF(Master!L134=\"\",\"B\",Master!L134)","v":"B"},{"$f":"IF(Master!M134=\"\",\"B\",Master!M134)","v":"B"}]
[{"$f":"Master!A135","v":"CN"},{"$f":"Master!B135","v":"WSDOT DB: INTRODUCTION TO DESIGN-BUILD"},{"$f":"Master!C135","v":"WSDOT_DB_IDB"},{"$f":"Master!D135","v":"ILT"},{"$f":"Master!E135","v":"Active"},{"$f":"Master!F135","v":0},{"$f":"Master!G135","v":0},{"$f":"IF(Master!H135=\"\",\"B\",Master!H135)","v":"B"},{"$f":"IF(Master!I135=\"\",\"B\",Master!I135)","v":"B"},{"$f":"IF(Master!J135=\"\",\"B\",Master!J135)","v":"B"},{"$f":"IF(Master!K135=\"\",\"B\",Master!K135)","v":"B"},{"$f":"IF(Master!L135=\"\",\"B\",Master!L135)","v":"B"},{"$f":"IF(Master!M135=\"\",\"B\",Master!M135)","v":"B"}]
[{"$f":"Master!A136","v":"CN"},{"$f":"Master!B136","v":"WSDOT DB: DESIGN-BUILD BEST PRACTICES IN TRANSPORTATION"},{"$f":"Master!C136","v":"WSDOT_DB_BPT"},{"$f":"Master!D136","v":"ILT"},{"$f":"Master!E136","v":"Active"},{"$f":"Master!F136","v":0},{"$f":"Master!G136","v":0},{"$f":"IF(Master!H136=\"\",\"B\",Master!H136)","v":"B"},{"$f":"IF(Master!I136=\"\",\"B\",Master!I136)","v":"B"},{"$f":"IF(Master!J136=\"\",\"B\",Master!J136)","v":"B"},{"$f":"IF(Master!K136=\"\",\"B\",Master!K136)","v":"B"},{"$f":"IF(Master!L136=\"\",\"B\",Master!L136)","v":"B"},{"$f":"IF(Master!M136=\"\",\"B\",Master!M136)","v":"B"}]
[{"$f":"Master!A137","v":"CN"},{"$f":"Master!B137","v":"WSDOT DB: DESIGN-BUILD CLOSEOUT"},{"$f":"Master!C137","v":"WSDOT_DB_CO"},{"$f":"Master!D137","v":"ILT"},{"$f":"Master!E137","v":"Active"},{"$f":"Master!F137","v":0},{"$f":"Master!G137","v":0},{"$f":"IF(Master!H137=\"\",\"B\",Master!H137)","v":"B"},{"$f":"IF(Master!I137=\"\",\"B\",Master!I137)","v":"B"},{"$f":"IF(Master!J137=\"\",\"B\",Master!J137)","v":"B"},{"$f":"IF(Master!K137=\"\",\"B\",Master!K137)","v":"B"},{"$f":"IF(Master!L137=\"\",\"B\",Master!L137)","v":"B"},{"$f":"IF(Master!M137=\"\",\"B\",Master!M137)","v":"B"}]
[{"$f":"Master!A138","v":"CN"},{"$f":"Master!B138","v":"WSDOT DB: DESIGN-BUILD INSTRUCTIONS TO PROPOSERS (ITP) AND REQUEST FOR PROPOSALS (RFP)"},{"$f":"Master!C138","v":"WSDOT_DB_ITP_RFP"},{"$f":"Master!D138","v":"ILT"},{"$f":"Master!E138","v":"Active"},{"$f":"Master!F138","v":0},{"$f":"Master!G138","v":0},{"$f":"IF(Master!H138=\"\",\"B\",Master!H138)","v":"B"},{"$f":"IF(Master!I138=\"\",\"B\",Master!I138)","v":"B"},{"$f":"IF(Master!J138=\"\",\"B\",Master!J138)","v":"B"},{"$f":"IF(Master!K138=\"\",\"B\",Master!K138)","v":"B"},{"$f":"IF(Master!L138=\"\",\"B\",Master!L138)","v":"B"},{"$f":"IF(Master!M138=\"\",\"B\",Master!M138)","v":"B"}]
[{"$f":"Master!A139","v":"CN"},{"$f":"Master!B139","v":"WSDOT DB: DESIGN-BUILD OFFICE MANAGEMENT AND CONTRACT ADMINISTRATION"},{"$f":"Master!C139","v":"WSDOT_DB_CA"},{"$f":"Master!D139","v":"ILT"},{"$f":"Master!E139","v":"Active"},{"$f":"Master!F139","v":0},{"$f":"Master!G139","v":0},{"$f":"IF(Master!H139=\"\",\"B\",Master!H139)","v":"B"},{"$f":"IF(Master!I139=\"\",\"B\",Master!I139)","v":"B"},{"$f":"IF(Master!J139=\"\",\"B\",Master!J139)","v":"B"},{"$f":"IF(Master!K139=\"\",\"B\",Master!K139)","v":"B"},{"$f":"IF(Master!L139=\"\",\"B\",Master!L139)","v":"B"},{"$f":"IF(Master!M139=\"\",\"B\",Master!M139)","v":"B"}]
[{"$f":"Master!A140","v":"CN"},{"$f":"Master!B140","v":"WSDOT DB: DESIGN-BUILD STARTUP AND REQUEST FOR QUALIFICATIONS (RFQ\") DEVELOPMENT"},{"$f":"Master!C140","v":"WSDOT_DB_RFQ"},{"$f":"Master!D140","v":"ILT"},{"$f":"Master!E140","v":"Active"},{"$f":"Master!F140","v":0},{"$f":"Master!G140","v":0},{"$f":"IF(Master!H140=\"\",\"B\",Master!H140)","v":"B"},{"$f":"IF(Master!I140=\"\",\"B\",Master!I140)","v":"B"},{"$f":"IF(Master!J140=\"\",\"B\",Master!J140)","v":"B"},{"$f":"IF(Master!K140=\"\",\"B\",Master!K140)","v":"B"},{"$f":"IF(Master!L140=\"\",\"B\",Master!L140)","v":"B"},{"$f":"IF(Master!M140=\"\",\"B\",Master!M140)","v":"B"}]
[{"$f":"Master!A141","v":"CN"},{"$f":"Master!B141","v":"WSDOT DB: ENVIRONMENTAL IN DESIGN-BUILD"},{"$f":"Master!C141","v":"WSDOT_DB_E"},{"$f":"Master!D141","v":"ILT"},{"$f":"Master!E141","v":"Active"},{"$f":"Master!F141","v":0},{"$f":"Master!G141","v":0},{"$f":"IF(Master!H141=\"\",\"B\",Master!H141)","v":"B"},{"$f":"IF(Master!I141=\"\",\"B\",Master!I141)","v":"B"},{"$f":"IF(Master!J141=\"\",\"B\",Master!J141)","v":"B"},{"$f":"IF(Master!K141=\"\",\"B\",Master!K141)","v":"B"},{"$f":"IF(Master!L141=\"\",\"B\",Master!L141)","v":"B"},{"$f":"IF(Master!M141=\"\",\"B\",Master!M141)","v":"B"}]
[{"$f":"Master!A142","v":"CN"},{"$f":"Master!B142","v":"WSDOT DB: LESSONS LEARNED"},{"$f":"Master!C142","v":"WSDOT_DB_LL"},{"$f":"Master!D142","v":"ILT"},{"$f":"Master!E142","v":"Active"},{"$f":"Master!F142","v":0},{"$f":"Master!G142","v":0},{"$f":"IF(Master!H142=\"\",\"B\",Master!H142)","v":"B"},{"$f":"IF(Master!I142=\"\",\"B\",Master!I142)","v":"B"},{"$f":"IF(Master!J142=\"\",\"B\",Master!J142)","v":"B"},{"$f":"IF(Master!K142=\"\",\"B\",Master!K142)","v":"B"},{"$f":"IF(Master!L142=\"\",\"B\",Master!L142)","v":"B"},{"$f":"IF(Master!M142=\"\",\"B\",Master!M142)","v":"B"}]
[{"$f":"Master!A143","v":"CN"},{"$f":"Master!B143","v":"WSDOT DB: PROPOSAL EVALUATION"},{"$f":"Master!C143","v":"WSDOT_DB_PE"},{"$f":"Master!D143","v":"ILT"},{"$f":"Master!E143","v":"Active"},{"$f":"Master!F143","v":0},{"$f":"Master!G143","v":0},{"$f":"IF(Master!H143=\"\",\"B\",Master!H143)","v":"B"},{"$f":"IF(Master!I143=\"\",\"B\",Master!I143)","v":"B"},{"$f":"IF(Master!J143=\"\",\"B\",Master!J143)","v":"B"},{"$f":"IF(Master!K143=\"\",\"B\",Master!K143)","v":"B"},{"$f":"IF(Master!L143=\"\",\"B\",Master!L143)","v":"B"},{"$f":"IF(Master!M143=\"\",\"B\",Master!M143)","v":"B"}]
[{"$f":"Master!A144","v":"CN"},{"$f":"Master!B144","v":"WSDOT DB: QUALITY IN DESIGN-BUILD"},{"$f":"Master!C144","v":"WSDOT_DB_Q"},{"$f":"Master!D144","v":"ILT"},{"$f":"Master!E144","v":"Active"},{"$f":"Master!F144","v":0},{"$f":"Master!G144","v":0},{"$f":"IF(Master!H144=\"\",\"B\",Master!H144)","v":"B"},{"$f":"IF(Master!I144=\"\",\"B\",Master!I144)","v":"B"},{"$f":"IF(Master!J144=\"\",\"B\",Master!J144)","v":"B"},{"$f":"IF(Master!K144=\"\",\"B\",Master!K144)","v":"B"},{"$f":"IF(Master!L144=\"\",\"B\",Master!L144)","v":"B"},{"$f":"IF(Master!M144=\"\",\"B\",Master!M144)","v":"B"}]
[{"$f":"Master!A145","v":"CN"},{"$f":"Master!B145","v":"WSDOT DB: STATEMENT OF QUALIFICATIONS (SOQ) EVALUATION"},{"$f":"Master!C145","v":"WSDOT_DB_SOQE"},{"$f":"Master!D145","v":"ILT"},{"$f":"Master!E145","v":"Active"},{"$f":"Master!F145","v":0},{"$f":"Master!G145","v":0},{"$f":"IF(Master!H145=\"\",\"B\",Master!H145)","v":"B"},{"$f":"IF(Master!I145=\"\",\"B\",Master!I145)","v":"B"},{"$f":"IF(Master!J145=\"\",\"B\",Master!J145)","v":"B"},{"$f":"IF(Master!K145=\"\",\"B\",Master!K145)","v":"B"},{"$f":"IF(Master!L145=\"\",\"B\",Master!L145)","v":"B"},{"$f":"IF(Master!M145=\"\",\"B\",Master!M145)","v":"B"}]
[{"$f":"Master!A146","v":"CN"},{"$f":"Master!B146","v":"**WSDOT DB: EVALUATION"},{"$f":"Master!C146","v":0},{"$f":"Master!D146","v":"ILT"},{"$f":"Master!E146","v":"Under Development"},{"$f":"Master!F146","v":"Q1 2019"},{"$f":"Master!G146","v":0},{"$f":"IF(Master!H146=\"\",\"B\",Master!H146)","v":"B"},{"$f":"IF(Master!I146=\"\",\"B\",Master!I146)","v":"B"},{"$f":"IF(Master!J146=\"\",\"B\",Master!J146)","v":"B"},{"$f":"IF(Master!K146=\"\",\"B\",Master!K146)","v":"B"},{"$f":"IF(Master!L146=\"\",\"B\",Master!L146)","v":"B"},{"$f":"IF(Master!M146=\"\",\"B\",Master!M146)","v":"B"}]
[{"$f":"Master!A147","v":"CN"},{"$f":"Master!B147","v":"WSDOT DB: DESIGN-BUILD INVOICE PROCESSING"},{"$f":"Master!C147","v":0},{"$f":"Master!D147","v":"ILT"},{"$f":"Master!E147","v":"Active"},{"$f":"Master!F147","v":0},{"$f":"Master!G147","v":0},{"$f":"IF(Master!H147=\"\",\"B\",Master!H147)","v":"B"},{"$f":"IF(Master!I147=\"\",\"B\",Master!I147)","v":"B"},{"$f":"IF(Master!J147=\"\",\"B\",Master!J147)","v":"B"},{"$f":"IF(Master!K147=\"\",\"B\",Master!K147)","v":"B"},{"$f":"IF(Master!L147=\"\",\"B\",Master!L147)","v":"B"},{"$f":"IF(Master!M147=\"\",\"B\",Master!M147)","v":"B"}]
[{"$f":"Master!A148","v":"CN"},{"$f":"Master!B148","v":"WSDOT DB: INTERNAL AND EXTERNAL DEBRIEFING"},{"$f":"Master!C148","v":0},{"$f":"Master!D148","v":"ILT"},{"$f":"Master!E148","v":"Active"},{"$f":"Master!F148","v":0},{"$f":"Master!G148","v":0},{"$f":"IF(Master!H148=\"\",\"B\",Master!H148)","v":"B"},{"$f":"IF(Master!I148=\"\",\"B\",Master!I148)","v":"B"},{"$f":"IF(Master!J148=\"\",\"B\",Master!J148)","v":"B"},{"$f":"IF(Master!K148=\"\",\"B\",Master!K148)","v":"B"},{"$f":"IF(Master!L148=\"\",\"B\",Master!L148)","v":"B"},{"$f":"IF(Master!M148=\"\",\"B\",Master!M148)","v":"B"}]
[{"$f":"Master!A149","v":"CN"},{"$f":"Master!B149","v":"WSDOT DB: DESIGN-BUILD QUALITY VERIFICATION"},{"$f":"Master!C149","v":0},{"$f":"Master!D149","v":"ILT"},{"$f":"Master!E149","v":"Active"},{"$f":"Master!F149","v":0},{"$f":"Master!G149","v":0},{"$f":"IF(Master!H149=\"\",\"B\",Master!H149)","v":"B"},{"$f":"IF(Master!I149=\"\",\"B\",Master!I149)","v":"B"},{"$f":"IF(Master!J149=\"\",\"B\",Master!J149)","v":"B"},{"$f":"IF(Master!K149=\"\",\"B\",Master!K149)","v":"B"},{"$f":"IF(Master!L149=\"\",\"B\",Master!L149)","v":"B"},{"$f":"IF(Master!M149=\"\",\"B\",Master!M149)","v":"B"}]
[{"$f":"Master!A150","v":"CN"},{"$f":"Master!B150","v":"**WSDOT DB: QV ADMINISTRATION"},{"$f":"Master!C150","v":0},{"$f":"Master!D150","v":"ILT"},{"$f":"Master!E150","v":"Under Development"},{"$f":"Master!F150","v":"Q1 2019"},{"$f":"Master!G150","v":0},{"$f":"IF(Master!H150=\"\",\"B\",Master!H150)","v":"B"},{"$f":"IF(Master!I150=\"\",\"B\",Master!I150)","v":"B"},{"$f":"IF(Master!J150=\"\",\"B\",Master!J150)","v":"B"},{"$f":"IF(Master!K150=\"\",\"B\",Master!K150)","v":"B"},{"$f":"IF(Master!L150=\"\",\"B\",Master!L150)","v":"B"},{"$f":"IF(Master!M150=\"\",\"B\",Master!M150)","v":"B"}]
[{"$f":"Master!A151","v":"CN"},{"$f":"Master!B151","v":"**WSDOT DB: RISK ANALYSIS AND ALLOCATION FOR DB CONTRACTS"},{"$f":"Master!C151","v":0},{"$f":"Master!D151","v":"ILT"},{"$f":"Master!E151","v":"Under Development"},{"$f":"Master!F151","v":"Q1 2019"},{"$f":"Master!G151","v":0},{"$f":"IF(Master!H151=\"\",\"B\",Master!H151)","v":"B"},{"$f":"IF(Master!I151=\"\",\"B\",Master!I151)","v":"B"},{"$f":"IF(Master!J151=\"\",\"B\",Master!J151)","v":"B"},{"$f":"IF(Master!K151=\"\",\"B\",Master!K151)","v":"B"},{"$f":"IF(Master!L151=\"\",\"B\",Master!L151)","v":"B"},{"$f":"IF(Master!M151=\"\",\"B\",Master!M151)","v":"B"}]
[{"$f":"Master!A152","v":"Development Division"},null,null,null,null,null,null,{"$f":"IF(Master!M152=\"\",\"B\",Master!M152)","v":"B"},{"$f":"IF(Master!X152=\"\",\"B\",Master!X152)","v":"B"},{"$f":"IF(Master!AI152=\"\",\"B\",Master!AI152)","v":"B"},{"$f":"IF(Master!AT152=\"\",\"B\",Master!AT152)","v":"B"},{"$f":"IF(Master!BE152=\"\",\"B\",Master!BE152)","v":"B"},{"$f":"IF(Master!BP152=\"\",\"B\",Master!BP152)","v":"B"}]
[{"$f":"Master!A153","v":"Design"},null,null,null,null,null,null,{"$f":"IF(Master!M153=\"\",\"B\",Master!M153)","v":"B"},{"$f":"IF(Master!X153=\"\",\"B\",Master!X153)","v":"B"},{"$f":"IF(Master!AI153=\"\",\"B\",Master!AI153)","v":"B"},{"$f":"IF(Master!AT153=\"\",\"B\",Master!AT153)","v":"B"},{"$f":"IF(Master!BE153=\"\",\"B\",Master!BE153)","v":"B"},{"$f":"IF(Master!BP153=\"\",\"B\",Master!BP153)","v":"B"}]
[{"$f":"Master!A154","v":"DES"},{"$f":"Master!B154","v":"CONTRACT PLANS REVIEW (SELF-STUDY)"},{"$f":"Master!C154","v":"Paper and Pencil"},{"$f":"Master!D154","v":"SS"},{"$f":"Master!E154","v":"Active"},{"$f":"Master!F154","v":0},{"$f":"Master!H154","v":"E-Learning option as well.  Updated in 2013."},{"$f":"IF(Master!M154=\"\",\"B\",Master!M154)","v":"R"},{"$f":"IF(Master!X154=\"\",\"B\",Master!X154)","v":"R"},{"$f":"IF(Master!AI154=\"\",\"B\",Master!AI154)","v":1},{"$f":"IF(Master!AT154=\"\",\"B\",Master!AT154)","v":1},{"$f":"IF(Master!BE154=\"\",\"B\",Master!BE154)","v":"B"},{"$f":"IF(Master!BP154=\"\",\"B\",Master!BP154)","v":"B"}]
[{"$f":"Master!A155","v":"DES"},{"$f":"Master!B155","v":"CONTRACT PLANS READING (SELF-STUDY)"},{"$f":"Master!C155","v":"Paper and Pencil"},{"$f":"Master!D155","v":"SS"},{"$f":"Master!E155","v":"Active"},{"$f":"Master!F155","v":0},{"$f":"Master!H155","v":"Obtain material through Staff Development."},{"$f":"IF(Master!M155=\"\",\"B\",Master!M155)","v":"R"},{"$f":"IF(Master!X155=\"\",\"B\",Master!X155)","v":"R"},{"$f":"IF(Master!AI155=\"\",\"B\",Master!AI155)","v":1},{"$f":"IF(Master!AT155=\"\",\"B\",Master!AT155)","v":1},{"$f":"IF(Master!BE155=\"\",\"B\",Master!BE155)","v":"B"},{"$f":"IF(Master!BP155=\"\",\"B\",Master!BP155)","v":"B"}]
[{"$f":"Master!A156","v":"DES"},{"$f":"Master!B156","v":"WSDOT DES: CONTRACT PLANS & ESTIMATE PREPARATION"},{"$f":"Master!C156","v":"WSDOT_A4J"},{"$f":"Master!D156","v":"ILT"},{"$f":"Master!E156","v":"Inactive"},{"$f":"Master!F156","v":"None"},{"$f":"Master!H156","v":0},{"$f":"IF(Master!M156=\"\",\"B\",Master!M156)","v":"B"},{"$f":"IF(Master!X156=\"\",\"B\",Master!X156)","v":"B"},{"$f":"IF(Master!AI156=\"\",\"B\",Master!AI156)","v":"B"},{"$f":"IF(Master!AT156=\"\",\"B\",Master!AT156)","v":"B"},{"$f":"IF(Master!BE156=\"\",\"B\",Master!BE156)","v":"B"},{"$f":"IF(Master!BP156=\"\",\"B\",Master!BP156)","v":"B"}]
[{"$f":"Master!A157","v":"DES"},{"$f":"Master!B157","v":"WSDOT DES: CONTRACT PROVISION PREPARATION"},{"$f":"Master!C157","v":"WSDOT_BGN"},{"$f":"Master!D157","v":"ILT"},{"$f":"Master!E157","v":"Inactive"},{"$f":"Master!F157","v":"None"},{"$f":"Master!H157","v":0},{"$f":"IF(Master!M157=\"\",\"B\",Master!M157)","v":"B"},{"$f":"IF(Master!X157=\"\",\"B\",Master!X157)","v":"B"},{"$f":"IF(Master!AI157=\"\",\"B\",Master!AI157)","v":"B"},{"$f":"IF(Master!AT157=\"\",\"B\",Master!AT157)","v":"B"},{"$f":"IF(Master!BE157=\"\",\"B\",Master!BE157)","v":2},{"$f":"IF(Master!BP157=\"\",\"B\",Master!BP157)","v":"B"}]
[{"$f":"Master!A158","v":"DES"},{"$f":"Master!B158","v":"WSDOT DESIGN DOCUMENTATION"},{"$f":"Master!C158","v":"WSDOT DES: Design Documentation"},{"$f":"Master!D158","v":"ILT"},{"$f":"Master!E158","v":"Active"},{"$f":"Master!F158","v":0},{"$f":"Master!H158","v":"Contact ASDE; course material is at https://www.wsdot.wa.gov/Design/Support.htm."},{"$f":"IF(Master!M158=\"\",\"B\",Master!M158)","v":2},{"$f":"IF(Master!X158=\"\",\"B\",Master!X158)","v":2},{"$f":"IF(Master!AI158=\"\",\"B\",Master!AI158)","v":2},{"$f":"IF(Master!AT158=\"\",\"B\",Master!AT158)","v":2},{"$f":"IF(Master!BE158=\"\",\"B\",Master!BE158)","v":2},{"$f":"IF(Master!BP158=\"\",\"B\",Master!BP158)","v":"B"}]
[{"$f":"Master!A159","v":"DES"},{"$f":"Master!B159","v":"WSDOT DES: INTERSECTION DESIGN"},{"$f":"Master!C159","v":"WSDOT_CBD"},{"$f":"Master!D159","v":"ILT"},{"$f":"Master!E159","v":"Active"},{"$f":"Master!F159","v":0},{"$f":"Master!H159","v":"Course  updated in 2019,  delivered to all regions; class delivered by request."},{"$f":"IF(Master!M159=\"\",\"B\",Master!M159)","v":"B"},{"$f":"IF(Master!X159=\"\",\"B\",Master!X159)","v":"B"},{"$f":"IF(Master!AI159=\"\",\"B\",Master!AI159)","v":"B"},{"$f":"IF(Master!AT159=\"\",\"B\",Master!AT159)","v":"B"},{"$f":"IF(Master!BE159=\"\",\"B\",Master!BE159)","v":"B"},{"$f":"IF(Master!BP159=\"\",\"B\",Master!BP159)","v":"B"}]
[{"$f":"Master!A160","v":"DES"},{"$f":"Master!B160","v":"WSDOT DES: PROJECT DEVELOPMENT PROCESS"},{"$f":"Master!C160","v":"WSDOT_CF4"},{"$f":"Master!D160","v":"ILT"},{"$f":"Master!E160","v":"Active"},{"$f":"Master!F160","v":"None"},{"$f":"Master!H160","v":"Updated January 2020; will deliver to regions by 6/30/2021"},{"$f":"IF(Master!M160=\"\",\"B\",Master!M160)","v":2},{"$f":"IF(Master!X160=\"\",\"B\",Master!X160)","v":2},{"$f":"IF(Master!AI160=\"\",\"B\",Master!AI160)","v":2},{"$f":"IF(Master!AT160=\"\",\"B\",Master!AT160)","v":1},{"$f":"IF(Master!BE160=\"\",\"B\",Master!BE160)","v":2},{"$f":"IF(Master!BP160=\"\",\"B\",Master!BP160)","v":"B"}]
[{"$f":"Master!A161","v":"DES"},{"$f":"Master!B161","v":"WSDOT PM: SCHEDULING BASICS"},{"$f":"Master!C161","v":"WSDOT_CB5"},{"$f":"Master!D161","v":"ILT"},{"$f":"Master!E161","v":"Inactive"},{"$f":"Master!F161","v":"None"},{"$f":"Master!H161","v":0},{"$f":"IF(Master!M161=\"\",\"B\",Master!M161)","v":2},{"$f":"IF(Master!X161=\"\",\"B\",Master!X161)","v":2},{"$f":"IF(Master!AI161=\"\",\"B\",Master!AI161)","v":2},{"$f":"IF(Master!AT161=\"\",\"B\",Master!AT161)","v":2},{"$f":"IF(Master!BE161=\"\",\"B\",Master!BE161)","v":2},{"$f":"IF(Master!BP161=\"\",\"B\",Master!BP161)","v":"B"}]
[{"$f":"Master!A162","v":"DES"},{"$f":"Master!B162","v":"AASHTO T3 CPM SCHEDULING"},{"$f":"Master!C162","v":"Resources:\nCPM Scheduling (2 PDHs)\nCPM Scheduling (3 PDHs)"},{"$f":"Master!D162","v":"OLT"},{"$f":"Master!E162","v":"Active"},{"$f":"Master!F162","v":0},{"$f":"Master!H162","v":"The online CPM training is free for WSDOT employees. To sign up, create an AASHTO account (use your WSDOT email address for the username) then navigate to the CPM training and add it to your cart. Follow the instructions that are emailed to you. There are a variety of other courses available to WSDOT employees at no cost."}]
[{"$f":"Master!A163","v":"DES"},{"$f":"Master!B163","v":"WSDOT DES: RIGHT OF WAY PLANS PREPARATION"},{"$f":"Master!C163","v":"WSDOT_BCN"},{"$f":"Master!D163","v":"ILT"},{"$f":"Master!E163","v":"Inactive"},{"$f":"Master!F163","v":"None"},{"$f":"Master!H163","v":0},{"$f":"IF(Master!M163=\"\",\"B\",Master!M163)","v":"B"},{"$f":"IF(Master!X163=\"\",\"B\",Master!X163)","v":"B"},{"$f":"IF(Master!AI163=\"\",\"B\",Master!AI163)","v":"B"},{"$f":"IF(Master!AT163=\"\",\"B\",Master!AT163)","v":"B"},{"$f":"IF(Master!BE163=\"\",\"B\",Master!BE163)","v":"B"},{"$f":"IF(Master!BP163=\"\",\"B\",Master!BP163)","v":"B"}]
[{"$f":"Master!A164","v":"DES"},{"$f":"Master!B164","v":"WSDOT DES: ROADSIDE SAFETY"},{"$f":"Master!C164","v":"WSDOT_B74"},{"$f":"Master!D164","v":"ILT"},{"$f":"Master!E164","v":"Inactive"},{"$f":"Master!F164","v":"None"},{"$f":"Master!H164","v":0},{"$f":"IF(Master!M164=\"\",\"B\",Master!M164)","v":"B"},{"$f":"IF(Master!X164=\"\",\"B\",Master!X164)","v":"B"},{"$f":"IF(Master!AI164=\"\",\"B\",Master!AI164)","v":"B"},{"$f":"IF(Master!AT164=\"\",\"B\",Master!AT164)","v":"B"},{"$f":"IF(Master!BE164=\"\",\"B\",Master!BE164)","v":"B"},{"$f":"IF(Master!BP164=\"\",\"B\",Master!BP164)","v":"B"}]
[{"$f":"Master!A165","v":"DES"},{"$f":"Master!B165","v":"WSDOT DES: ROADWAY GEOMETRIC DESIGN"},{"$f":"Master!C165","v":"WSDOT_BWE"},{"$f":"Master!D165","v":"ILT"},{"$f":"Master!E165","v":"Inactive"},{"$f":"Master!F165","v":"None"},{"$f":"Master!H165","v":0},{"$f":"IF(Master!M165=\"\",\"B\",Master!M165)","v":"B"},{"$f":"IF(Master!X165=\"\",\"B\",Master!X165)","v":"B"},{"$f":"IF(Master!AI165=\"\",\"B\",Master!AI165)","v":"B"},{"$f":"IF(Master!AT165=\"\",\"B\",Master!AT165)","v":"B"},{"$f":"IF(Master!BE165=\"\",\"B\",Master!BE165)","v":"B"},{"$f":"IF(Master!BP165=\"\",\"B\",Master!BP165)","v":"B"}]
[{"$f":"Master!A166","v":"DES"},{"$f":"Master!B166","v":"WSDOT DES: INTERCHANGE DESIGN"},{"$f":"Master!C166","v":"WSDOT_CFU"},{"$f":"Master!D166","v":"ILT"},{"$f":"Master!E166","v":"Inactive"},{"$f":"Master!F166","v":"None"},{"$f":"Master!H166","v":"FHWA delivered their interchange training at WSDOT in 2019; course delivery depends on demand."},{"$f":"IF(Master!M166=\"\",\"B\",Master!M166)","v":"B"},{"$f":"IF(Master!X166=\"\",\"B\",Master!X166)","v":"B"},{"$f":"IF(Master!AI166=\"\",\"B\",Master!AI166)","v":"B"},{"$f":"IF(Master!AT166=\"\",\"B\",Master!AT166)","v":"B"},{"$f":"IF(Master!BE166=\"\",\"B\",Master!BE166)","v":"B"},{"$f":"IF(Master!BP166=\"\",\"B\",Master!BP166)","v":"B"}]
[{"$f":"Master!A167","v":"DES"},{"$f":"Master!B167","v":"WSDOT DES: ACCESS MANAGEMENT"},{"$f":"Master!C167","v":"WSDOT_DAS"},{"$f":"Master!D167","v":"ILT"},{"$f":"Master!E167","v":"Active"},{"$f":"Master!F167","v":0},{"$f":"Master!H167","v":"Being updated, but current class can be given at any time"},{"$f":"IF(Master!M167=\"\",\"B\",Master!M167)","v":"B"},{"$f":"IF(Master!X167=\"\",\"B\",Master!X167)","v":"B"},{"$f":"IF(Master!AI167=\"\",\"B\",Master!AI167)","v":"B"},{"$f":"IF(Master!AT167=\"\",\"B\",Master!AT167)","v":"B"},{"$f":"IF(Master!BE167=\"\",\"B\",Master!BE167)","v":"B"},{"$f":"IF(Master!BP167=\"\",\"B\",Master!BP167)","v":"B"}]
[{"$f":"Master!A168","v":"DES"},{"$f":"Master!B168","v":"ALTERNATIVES COMPARISON WORKSHOP"},{"$f":"Master!C168","v":"None"},{"$f":"Master!D168","v":"ILT"},{"$f":"Master!E168","v":"Inactive"},{"$f":"Master!F168","v":"None"},{"$f":"Master!H168","v":0},{"$f":"IF(Master!M168=\"\",\"B\",Master!M168)","v":2},{"$f":"IF(Master!X168=\"\",\"B\",Master!X168)","v":2},{"$f":"IF(Master!AI168=\"\",\"B\",Master!AI168)","v":2},{"$f":"IF(Master!AT168=\"\",\"B\",Master!AT168)","v":2},{"$f":"IF(Master!BE168=\"\",\"B\",Master!BE168)","v":1},{"$f":"IF(Master!BP168=\"\",\"B\",Master!BP168)","v":2}]
[{"$f":"Master!A169","v":"DES"},{"$f":"Master!B169","v":"WSDOT DES: COST ESTIMATING"},{"$f":"Master!C169","v":"WSDOT_CZV"},{"$f":"Master!D169","v":"ILT"},{"$f":"Master!E169","v":"Active"},{"$f":"Master!F169","v":0},{"$f":"Master!H169","v":"This class was updated in 2019 and delivered to all regions 2019-2020; this class can be delivered by request."},{"$f":"IF(Master!M169=\"\",\"B\",Master!M169)","v":"B"},{"$f":"IF(Master!X169=\"\",\"B\",Master!X169)","v":"B"},{"$f":"IF(Master!AI169=\"\",\"B\",Master!AI169)","v":"B"},{"$f":"IF(Master!AT169=\"\",\"B\",Master!AT169)","v":"B"},{"$f":"IF(Master!BE169=\"\",\"B\",Master!BE169)","v":"B"},{"$f":"IF(Master!BP169=\"\",\"B\",Master!BP169)","v":"B"}]
[{"$f":"Master!A170","v":"DES"},{"$f":"Master!B170","v":"RISK MANAGEMENT"},{"$f":"Master!C170","v":"None"},{"$f":"Master!D170","v":"ILT"},{"$f":"Master!E170","v":"Inactive"},{"$f":"Master!F170","v":"None"},{"$f":"Master!H170","v":"Available by arrangement; contact Mark Gabel or Mark Suijka."},{"$f":"IF(Master!M170=\"\",\"B\",Master!M170)","v":"B"},{"$f":"IF(Master!X170=\"\",\"B\",Master!X170)","v":"B"},{"$f":"IF(Master!AI170=\"\",\"B\",Master!AI170)","v":"B"},{"$f":"IF(Master!AT170=\"\",\"B\",Master!AT170)","v":"B"},{"$f":"IF(Master!BE170=\"\",\"B\",Master!BE170)","v":"B"},{"$f":"IF(Master!BP170=\"\",\"B\",Master!BP170)","v":"B"}]
[{"$f":"Master!A171","v":"DES"},{"$f":"Master!B171","v":"MANAGING PROJECT DELIVERY"},{"$f":"Master!C171","v":"None"},{"$f":"Master!D171","v":0},{"$f":"Master!E171","v":"Inactive"},{"$f":"Master!F171","v":"None"},{"$f":"Master!H171","v":"PM courses abailable through SkillSoft:  https://wsdot.skillport.com/skillportfe/main.action#whatshappening"},{"$f":"IF(Master!M171=\"\",\"B\",Master!M171)","v":"B"},{"$f":"IF(Master!X171=\"\",\"B\",Master!X171)","v":"B"},{"$f":"IF(Master!AI171=\"\",\"B\",Master!AI171)","v":"B"},{"$f":"IF(Master!AT171=\"\",\"B\",Master!AT171)","v":"B"},{"$f":"IF(Master!BE171=\"\",\"B\",Master!BE171)","v":"B"},{"$f":"IF(Master!BP171=\"\",\"B\",Master!BP171)","v":"B"}]
[{"$f":"Master!A172","v":"DES"},{"$f":"Master!B172","v":"HUMAN FACTORS IN TRANSPORTATION DESIGN"},{"$f":"Master!C172","v":"None"},{"$f":"Master!D172","v":"ILT"},{"$f":"Master!E172","v":"Inactive"},{"$f":"Master!F172","v":"None"},{"$f":"Master!H172","v":"Partly covered in the HSM Training"},{"$f":"IF(Master!M172=\"\",\"B\",Master!M172)","v":"B"},{"$f":"IF(Master!X172=\"\",\"B\",Master!X172)","v":"B"},{"$f":"IF(Master!AI172=\"\",\"B\",Master!AI172)","v":"B"},{"$f":"IF(Master!AT172=\"\",\"B\",Master!AT172)","v":"B"},{"$f":"IF(Master!BE172=\"\",\"B\",Master!BE172)","v":"B"},{"$f":"IF(Master!BP172=\"\",\"B\",Master!BP172)","v":"B"}]
[{"$f":"Master!A173","v":"DES"},{"$f":"Master!B173","v":"WSDOT DES: [YYYY] DESIGN MANUAL TRAINING"},{"$f":"Master!C173","v":"WSDOT_DMUT01202016"},{"$f":"Master!D173","v":"ILT"},{"$f":"Master!E173","v":"Active"},{"$f":"Master!F173","v":0},{"$f":"Master!H173","v":0},{"$f":"IF(Master!M173=\"\",\"B\",Master!M173)","v":"B"},{"$f":"IF(Master!X173=\"\",\"B\",Master!X173)","v":"B"},{"$f":"IF(Master!AI173=\"\",\"B\",Master!AI173)","v":"B"},{"$f":"IF(Master!AT173=\"\",\"B\",Master!AT173)","v":"B"},{"$f":"IF(Master!BE173=\"\",\"B\",Master!BE173)","v":"B"},{"$f":"IF(Master!BP173=\"\",\"B\",Master!BP173)","v":"B"}]
[{"$f":"Master!A174","v":"DES"},{"$f":"Master!B174","v":"WSDOT DES: DESIGN MANUAL DIVISION 11 PRACTICAL DESIGN"},{"$f":"Master!C174","v":"DMUT_ORG"},{"$f":"Master!D174","v":"OLT"},{"$f":"Master!E174","v":"Active"},{"$f":"Master!F174","v":0},{"$f":"Master!H174","v":"Available in LMS for credit, also at https://www.wsdot.wa.gov/LocalPrograms/Training/eTraining.htm "},{"$f":"IF(Master!M174=\"\",\"B\",Master!M174)","v":"B"},{"$f":"IF(Master!X174=\"\",\"B\",Master!X174)","v":"B"},{"$f":"IF(Master!AI174=\"\",\"B\",Master!AI174)","v":"B"},{"$f":"IF(Master!AT174=\"\",\"B\",Master!AT174)","v":"B"},{"$f":"IF(Master!BE174=\"\",\"B\",Master!BE174)","v":"B"},{"$f":"IF(Master!BP174=\"\",\"B\",Master!BP174)","v":"B"}]
[{"$f":"Master!A175","v":"DES"},{"$f":"Master!B175","v":"WSDOT PS 201 MULTIMODAL MAKING THE CASE MODULE1 OLT"},{"$f":"Master!C175","v":"Module_1:_Why_Multimodal?_ORG"},{"$f":"Master!D175","v":"OLT"},{"$f":"Master!E175","v":"Active"},{"$f":"Master!F175","v":0},{"$f":"Master!H175","v":0},{"$f":"IF(Master!M175=\"\",\"B\",Master!M175)","v":"B"},{"$f":"IF(Master!X175=\"\",\"B\",Master!X175)","v":"B"},{"$f":"IF(Master!AI175=\"\",\"B\",Master!AI175)","v":"B"},{"$f":"IF(Master!AT175=\"\",\"B\",Master!AT175)","v":"B"},{"$f":"IF(Master!BE175=\"\",\"B\",Master!BE175)","v":"B"},{"$f":"IF(Master!BP175=\"\",\"B\",Master!BP175)","v":"B"}]
[{"$f":"Master!A176","v":"DES"},{"$f":"Master!B176","v":"WSDOT PS 201 MULTIMODAL LAND USE MODULE2 OLT"},{"$f":"Master!C176","v":"Module_2_Land_Use_&_Transportation_ORG"},{"$f":"Master!D176","v":"OLT"},{"$f":"Master!E176","v":"Active"},{"$f":"Master!F176","v":0},{"$f":"Master!H176","v":0},{"$f":"IF(Master!M176=\"\",\"B\",Master!M176)","v":"B"},{"$f":"IF(Master!X176=\"\",\"B\",Master!X176)","v":"B"},{"$f":"IF(Master!AI176=\"\",\"B\",Master!AI176)","v":"B"},{"$f":"IF(Master!AT176=\"\",\"B\",Master!AT176)","v":"B"},{"$f":"IF(Master!BE176=\"\",\"B\",Master!BE176)","v":"B"},{"$f":"IF(Master!BP176=\"\",\"B\",Master!BP176)","v":"B"}]
[{"$f":"Master!A177","v":"DES"},{"$f":"Master!B177","v":"WSDOT PS 201 MULTIMODAL PHASES AND NEEDS MODULE3 OLT"},{"$f":"Master!C177","v":"Module_3_Phases_and_Needs_ORG"},{"$f":"Master!D177","v":"OLT"},{"$f":"Master!E177","v":" Active"},{"$f":"Master!F177","v":0},{"$f":"Master!H177","v":0},{"$f":"IF(Master!M177=\"\",\"B\",Master!M177)","v":"B"},{"$f":"IF(Master!X177=\"\",\"B\",Master!X177)","v":"B"},{"$f":"IF(Master!AI177=\"\",\"B\",Master!AI177)","v":"B"},{"$f":"IF(Master!AT177=\"\",\"B\",Master!AT177)","v":"B"},{"$f":"IF(Master!BE177=\"\",\"B\",Master!BE177)","v":"B"},{"$f":"IF(Master!BP177=\"\",\"B\",Master!BP177)","v":"B"}]
[{"$f":"Master!A178","v":"DES"},{"$f":"Master!B178","v":"WSDOT PS 201 MULTIMODAL PERFORMANCE BASICS MODULE4 OLT"},{"$f":"Master!C178","v":"Module_4_Performance_Basics_ORG"},{"$f":"Master!D178","v":"OLT"},{"$f":"Master!E178","v":"Active"},{"$f":"Master!F178","v":0},{"$f":"Master!H178","v":0},{"$f":"IF(Master!M178=\"\",\"B\",Master!M178)","v":"B"},{"$f":"IF(Master!X178=\"\",\"B\",Master!X178)","v":"B"},{"$f":"IF(Master!AI178=\"\",\"B\",Master!AI178)","v":"B"},{"$f":"IF(Master!AT178=\"\",\"B\",Master!AT178)","v":"B"},{"$f":"IF(Master!BE178=\"\",\"B\",Master!BE178)","v":"B"},{"$f":"IF(Master!BP178=\"\",\"B\",Master!BP178)","v":"B"}]
[{"$f":"Master!A179","v":"DES"},{"$f":"Master!B179","v":"WSDOT PS 201 MULTIMODAL TRANSIT MODULE5 OLT"},{"$f":"Master!C179","v":"Module_5_Transit_ORG"},{"$f":"Master!D179","v":"OLT"},{"$f":"Master!E179","v":"Active"},{"$f":"Master!F179","v":0},{"$f":"Master!H179","v":0},{"$f":"IF(Master!M179=\"\",\"B\",Master!M179)","v":"B"},{"$f":"IF(Master!X179=\"\",\"B\",Master!X179)","v":"B"},{"$f":"IF(Master!AI179=\"\",\"B\",Master!AI179)","v":"B"},{"$f":"IF(Master!AT179=\"\",\"B\",Master!AT179)","v":"B"},{"$f":"IF(Master!BE179=\"\",\"B\",Master!BE179)","v":"B"},{"$f":"IF(Master!BP179=\"\",\"B\",Master!BP179)","v":"B"}]
[{"$f":"Master!A180","v":"DES"},{"$f":"Master!B180","v":"WSDOT PS 201 MULTIMODAL WALKING MODULE6 OLT"},{"$f":"Master!C180","v":"Module_6_People_Walking_ORG"},{"$f":"Master!D180","v":"OLT"},{"$f":"Master!E180","v":"Active"},{"$f":"Master!F180","v":0},{"$f":"Master!H180","v":0},{"$f":"IF(Master!M180=\"\",\"B\",Master!M180)","v":"B"},{"$f":"IF(Master!X180=\"\",\"B\",Master!X180)","v":"B"},{"$f":"IF(Master!AI180=\"\",\"B\",Master!AI180)","v":"B"},{"$f":"IF(Master!AT180=\"\",\"B\",Master!AT180)","v":"B"},{"$f":"IF(Master!BE180=\"\",\"B\",Master!BE180)","v":"B"},{"$f":"IF(Master!BP180=\"\",\"B\",Master!BP180)","v":"B"}]
[{"$f":"Master!A181","v":"DES"},{"$f":"Master!B181","v":"WSDOT PS 201 MULTIMODAL BIKING MODULE7 OLT"},{"$f":"Master!C181","v":"Module_7_People_Biking_ORG"},{"$f":"Master!D181","v":"OLT"},{"$f":"Master!E181","v":"Active"},{"$f":"Master!F181","v":0},{"$f":"Master!H181","v":0},{"$f":"IF(Master!M181=\"\",\"B\",Master!M181)","v":"B"},{"$f":"IF(Master!X181=\"\",\"B\",Master!X181)","v":"B"},{"$f":"IF(Master!AI181=\"\",\"B\",Master!AI181)","v":"B"},{"$f":"IF(Master!AT181=\"\",\"B\",Master!AT181)","v":"B"},{"$f":"IF(Master!BE181=\"\",\"B\",Master!BE181)","v":"B"},{"$f":"IF(Master!BP181=\"\",\"B\",Master!BP181)","v":"B"}]
[{"$f":"Master!A182","v":"DES"},{"$f":"Master!B182","v":"WSDOT PS 201 MULTIMODAL FREIGHT MODULE8 OLT"},{"$f":"Master!C182","v":"Module_8_Freight_Transportation_ORG"},{"$f":"Master!D182","v":"OLT"},{"$f":"Master!E182","v":"Active"},{"$f":"Master!F182","v":0},{"$f":"Master!H182","v":0},{"$f":"IF(Master!M182=\"\",\"B\",Master!M182)","v":"B"},{"$f":"IF(Master!X182=\"\",\"B\",Master!X182)","v":"B"},{"$f":"IF(Master!AI182=\"\",\"B\",Master!AI182)","v":"B"},{"$f":"IF(Master!AT182=\"\",\"B\",Master!AT182)","v":"B"},{"$f":"IF(Master!BE182=\"\",\"B\",Master!BE182)","v":"B"},{"$f":"IF(Master!BP182=\"\",\"B\",Master!BP182)","v":"B"}]
[{"$f":"Master!A183","v":"DES"},{"$f":"Master!B183","v":"WSDOT PS 201 MULTIMODAL CONFLICTS AND HUBS MODULE9 OLT"},{"$f":"Master!C183","v":"Module_9_Modal_Conflicts_and_Hubs_ORG"},{"$f":"Master!D183","v":"OLT"},{"$f":"Master!E183","v":"Active"},{"$f":"Master!F183","v":0},{"$f":"Master!H183","v":0},{"$f":"IF(Master!M183=\"\",\"B\",Master!M183)","v":"B"},{"$f":"IF(Master!X183=\"\",\"B\",Master!X183)","v":"B"},{"$f":"IF(Master!AI183=\"\",\"B\",Master!AI183)","v":"B"},{"$f":"IF(Master!AT183=\"\",\"B\",Master!AT183)","v":"B"},{"$f":"IF(Master!BE183=\"\",\"B\",Master!BE183)","v":"B"},{"$f":"IF(Master!BP183=\"\",\"B\",Master!BP183)","v":"B"}]
[{"$f":"Master!A184","v":"DES"},{"$f":"Master!B184","v":"WSDOT PRACTICAL SOLUTIONS OVERVIEW OLT"},{"$f":"Master!C184","v":"Practical_Solutions_Overview_ORG"},{"$f":"Master!D184","v":"OLT"},{"$f":"Master!E184","v":"Active"},{"$f":"Master!F184","v":0},{"$f":"Master!H184","v":0},{"$f":"IF(Master!M184=\"\",\"B\",Master!M184)","v":2},{"$f":"IF(Master!X184=\"\",\"B\",Master!X184)","v":2},{"$f":"IF(Master!AI184=\"\",\"B\",Master!AI184)","v":2},{"$f":"IF(Master!AT184=\"\",\"B\",Master!AT184)","v":2},{"$f":"IF(Master!BE184=\"\",\"B\",Master!BE184)","v":2},{"$f":"IF(Master!BP184=\"\",\"B\",Master!BP184)","v":2}]
[{"$f":"Master!A185","v":"DES"},{"$f":"Master!B185","v":"WSDOT PS 101: PRACTICAL SOLUTIONS APPROACH TO PROJECT DEVELOPMENT OVERVIEW"},{"$f":"Master!C185","v":"WSDOT_PS101"},{"$f":"Master!D185","v":"ILT"},{"$f":"Master!E185","v":"Inactive"},{"$f":"Master!F185","v":0},{"$f":"Master!H185","v":0},{"$f":"IF(Master!M185=\"\",\"B\",Master!M185)","v":2},{"$f":"IF(Master!X185=\"\",\"B\",Master!X185)","v":2},{"$f":"IF(Master!AI185=\"\",\"B\",Master!AI185)","v":2},{"$f":"IF(Master!AT185=\"\",\"B\",Master!AT185)","v":2},{"$f":"IF(Master!BE185=\"\",\"B\",Master!BE185)","v":2},{"$f":"IF(Master!BP185=\"\",\"B\",Master!BP185)","v":2}]
[{"$f":"Master!A186","v":"Hydraulics"},null,null,null,null,null,null,{"$f":"IF(Master!M186=\"\",\"B\",Master!M186)","v":"B"},{"$f":"IF(Master!X186=\"\",\"B\",Master!X186)","v":"B"},{"$f":"IF(Master!AI186=\"\",\"B\",Master!AI186)","v":"B"},{"$f":"IF(Master!AT186=\"\",\"B\",Master!AT186)","v":"B"},{"$f":"IF(Master!BE186=\"\",\"B\",Master!BE186)","v":"B"},{"$f":"IF(Master!BP186=\"\",\"B\",Master!BP186)","v":"B"}]
[{"$f":"Master!A187","v":"HYD"},{"$f":"Master!B187","v":"WSDOT DES: HYDRAULICS AND HYDROLOGY"},{"$f":"Master!C187","v":"WSDOT_DES_HYDRAULICS_AND_HYDROLOGY"},{"$f":"Master!D187","v":"ILT"},{"$f":"Master!E187","v":"Active"},{"$f":"Master!F187","v":0},{"$f":"Master!H187","v":0},{"$f":"IF(Master!M187=\"\",\"B\",Master!M187)","v":2},{"$f":"IF(Master!X187=\"\",\"B\",Master!X187)","v":2},{"$f":"IF(Master!AI187=\"\",\"B\",Master!AI187)","v":2},{"$f":"IF(Master!AT187=\"\",\"B\",Master!AT187)","v":2},{"$f":"IF(Master!BE187=\"\",\"B\",Master!BE187)","v":2},{"$f":"IF(Master!BP187=\"\",\"B\",Master!BP187)","v":"B"}]
[{"$f":"Master!A188","v":"HYD"},{"$f":"Master!B188","v":"WSDOT DES: 2014 HIGHWAY RUNOFF MANUAL TRAINING"},{"$f":"Master!C188","v":"WSDOT_DBI"},{"$f":"Master!D188","v":"ILT"},{"$f":"Master!E188","v":"Active"},{"$f":"Master!F188","v":0},{"$f":"Master!H188","v":0},{"$f":"IF(Master!M188=\"\",\"B\",Master!M188)","v":2},{"$f":"IF(Master!X188=\"\",\"B\",Master!X188)","v":2},{"$f":"IF(Master!AI188=\"\",\"B\",Master!AI188)","v":2},{"$f":"IF(Master!AT188=\"\",\"B\",Master!AT188)","v":2},{"$f":"IF(Master!BE188=\"\",\"B\",Master!BE188)","v":2},{"$f":"IF(Master!BP188=\"\",\"B\",Master!BP188)","v":"B"}]
[{"$f":"Master!A189","v":"HYD"},{"$f":"Master!B189","v":"WSDOT_MGSFLOOD_TRAINING"},{"$f":"Master!C189","v":"WSDOT_MGSFLOOD_TRAINING"},{"$f":"Master!D189","v":"ILT"},{"$f":"Master!E189","v":"Active"},{"$f":"Master!F189","v":0},{"$f":"Master!H189","v":0},{"$f":"IF(Master!M189=\"\",\"B\",Master!M189)","v":2},{"$f":"IF(Master!X189=\"\",\"B\",Master!X189)","v":2},{"$f":"IF(Master!AI189=\"\",\"B\",Master!AI189)","v":2},{"$f":"IF(Master!AT189=\"\",\"B\",Master!AT189)","v":2},{"$f":"IF(Master!BE189=\"\",\"B\",Master!BE189)","v":"B"},{"$f":"IF(Master!BP189=\"\",\"B\",Master!BP189)","v":"B"}]
[{"$f":"Master!A190","v":"HYD"},{"$f":"Master!B190","v":"WSDOT DES: STORMSHED BEGINNING"},{"$f":"Master!C190","v":"WSDOT_DES_STORMSHED_BEGINNING"},{"$f":"Master!D190","v":"ILT"},{"$f":"Master!E190","v":"Active"},{"$f":"Master!F190","v":0},{"$f":"Master!H190","v":0},{"$f":"IF(Master!M190=\"\",\"B\",Master!M190)","v":2},{"$f":"IF(Master!X190=\"\",\"B\",Master!X190)","v":2},{"$f":"IF(Master!AI190=\"\",\"B\",Master!AI190)","v":2},{"$f":"IF(Master!AT190=\"\",\"B\",Master!AT190)","v":2},{"$f":"IF(Master!BE190=\"\",\"B\",Master!BE190)","v":"B"},{"$f":"IF(Master!BP190=\"\",\"B\",Master!BP190)","v":"B"}]
[{"$f":"Master!A191","v":"HYD"},{"$f":"Master!B191","v":"WSDOT DES: STORMSHED INTERMEDIATE"},{"$f":"Master!C191","v":"WSDOT_DES_STORMSHED_INTERMEDIATE"},{"$f":"Master!D191","v":"ILT"},{"$f":"Master!E191","v":"Active"},{"$f":"Master!F191","v":0},{"$f":"Master!H191","v":0},{"$f":"IF(Master!M191=\"\",\"B\",Master!M191)","v":2},{"$f":"IF(Master!X191=\"\",\"B\",Master!X191)","v":2},{"$f":"IF(Master!AI191=\"\",\"B\",Master!AI191)","v":2},{"$f":"IF(Master!AT191=\"\",\"B\",Master!AT191)","v":2},{"$f":"IF(Master!BE191=\"\",\"B\",Master!BE191)","v":"B"},{"$f":"IF(Master!BP191=\"\",\"B\",Master!BP191)","v":"B"}]
[{"$f":"Master!A192","v":"Environmental"},null,null,null,null,null,null,{"$f":"IF(Master!M192=\"\",\"B\",Master!M192)","v":"B"},{"$f":"IF(Master!X192=\"\",\"B\",Master!X192)","v":"B"},{"$f":"IF(Master!AI192=\"\",\"B\",Master!AI192)","v":"B"},{"$f":"IF(Master!AT192=\"\",\"B\",Master!AT192)","v":"B"},{"$f":"IF(Master!BE192=\"\",\"B\",Master!BE192)","v":"B"},{"$f":"IF(Master!BP192=\"\",\"B\",Master!BP192)","v":"B"}]
[{"$f":"Master!A193","v":"ENV"},{"$f":"Master!B193","v":"WSDOT ENV: SPILL PLAN REVIEWER TRAINING (OLT)"},{"$f":"Master!C193","v":"WSDOT_BYZ_OLT"},{"$f":"Master!D193","v":"OLT"},{"$f":"Master!E193","v":"Active"},{"$f":"Master!F193","v":0},{"$f":"Master!G193","v":"NA"},{"$f":"IF(Master!M193=\"\",\"B\",Master!M193)","v":"B"},{"$f":"IF(Master!X193=\"\",\"B\",Master!X193)","v":"B"},{"$f":"IF(Master!AI193=\"\",\"B\",Master!AI193)","v":"B"},{"$f":"IF(Master!AT193=\"\",\"B\",Master!AT193)","v":"B"},{"$f":"IF(Master!BE193=\"\",\"B\",Master!BE193)","v":"B"},{"$f":"IF(Master!BP193=\"\",\"B\",Master!BP193)","v":"B"}]
[{"$f":"Master!A194","v":"ENV"},{"$f":"Master!B194","v":"WSDOT ENV: CONSTRUCTION SITE EROSION AND SEDIMENT CONTROL"},{"$f":"Master!C194","v":"WSDOT_BPW"},{"$f":"Master!D194","v":"ILT"},{"$f":"Master!E194","v":"Active"},{"$f":"Master!F194","v":0},{"$f":"Master!G194","v":"Once per year per Region or by request"},{"$f":"IF(Master!M194=\"\",\"B\",Master!M194)","v":1},{"$f":"IF(Master!X194=\"\",\"B\",Master!X194)","v":1},{"$f":"IF(Master!AI194=\"\",\"B\",Master!AI194)","v":1},{"$f":"IF(Master!AT194=\"\",\"B\",Master!AT194)","v":1},{"$f":"IF(Master!BE194=\"\",\"B\",Master!BE194)","v":1},{"$f":"IF(Master!BP194=\"\",\"B\",Master!BP194)","v":1}]
[{"$f":"Master!A195","v":"ENV"},{"$f":"Master!B195","v":"WSDOT ENV: CULTURAL RESOURCE TRAINING"},{"$f":"Master!C195","v":"WSDOT_B7T"},{"$f":"Master!D195","v":"ILT"},{"$f":"Master!E195","v":"Active"},{"$f":"Master!F195","v":0},{"$f":"Master!G195","v":"Offered 1-2 times per year"},{"$f":"IF(Master!M195=\"\",\"B\",Master!M195)","v":2},{"$f":"IF(Master!X195=\"\",\"B\",Master!X195)","v":2},{"$f":"IF(Master!AI195=\"\",\"B\",Master!AI195)","v":2},{"$f":"IF(Master!AT195=\"\",\"B\",Master!AT195)","v":2},{"$f":"IF(Master!BE195=\"\",\"B\",Master!BE195)","v":1},{"$f":"IF(Master!BP195=\"\",\"B\",Master!BP195)","v":1}]
[{"$f":"Master!A196","v":"ENV"},{"$f":"Master!B196","v":"WSDOT ENV: ENVIRONMENTAL JUSTICE INCLUSION TRAINING (OLT)"},{"$f":"Master!C196","v":"WSDOT_EJ1_OLT"},{"$f":"Master!D196","v":"OLT"},{"$f":"Master!E196","v":"Active"},{"$f":"Master!F196","v":0},{"$f":"Master!G196","v":"NA"},{"$f":"IF(Master!M196=\"\",\"B\",Master!M196)","v":1},{"$f":"IF(Master!X196=\"\",\"B\",Master!X196)","v":1},{"$f":"IF(Master!AI196=\"\",\"B\",Master!AI196)","v":1},{"$f":"IF(Master!AT196=\"\",\"B\",Master!AT196)","v":1},{"$f":"IF(Master!BE196=\"\",\"B\",Master!BE196)","v":1},{"$f":"IF(Master!BP196=\"\",\"B\",Master!BP196)","v":1}]
[{"$f":"Master!A197","v":"ENV"},{"$f":"Master!B197","v":"WSDOT ENV: ENVIRONMENTAL OVERVIEW - COMPLIANCE FOR CONSTRUCTION (OLT)"},{"$f":"Master!C197","v":"WSDOT_CR5_OLT"},{"$f":"Master!D197","v":"OLT"},{"$f":"Master!E197","v":"Active"},{"$f":"Master!F197","v":0},{"$f":"Master!G197","v":"NA"},{"$f":"IF(Master!M197=\"\",\"B\",Master!M197)","v":1},{"$f":"IF(Master!X197=\"\",\"B\",Master!X197)","v":1},{"$f":"IF(Master!AI197=\"\",\"B\",Master!AI197)","v":1},{"$f":"IF(Master!AT197=\"\",\"B\",Master!AT197)","v":1},{"$f":"IF(Master!BE197=\"\",\"B\",Master!BE197)","v":1},{"$f":"IF(Master!BP197=\"\",\"B\",Master!BP197)","v":1}]
[{"$f":"Master!A198","v":"ENV"},{"$f":"Master!B198","v":"WSDOT ENV: ESA (ENDANGERED SPECIES ACT) FOR NON-BIOLOGISTS (OLT)"},{"$f":"Master!C198","v":"WSDOT_EV9_OLT"},{"$f":"Master!D198","v":"OLT"},{"$f":"Master!E198","v":"Active"},{"$f":"Master!F198","v":0},{"$f":"Master!G198","v":"NA"},{"$f":"IF(Master!M198=\"\",\"B\",Master!M198)","v":1},{"$f":"IF(Master!X198=\"\",\"B\",Master!X198)","v":1},{"$f":"IF(Master!AI198=\"\",\"B\",Master!AI198)","v":1},{"$f":"IF(Master!AT198=\"\",\"B\",Master!AT198)","v":1},{"$f":"IF(Master!BE198=\"\",\"B\",Master!BE198)","v":1},{"$f":"IF(Master!BP198=\"\",\"B\",Master!BP198)","v":1}]
[{"$f":"Master!A199","v":"ENV"},{"$f":"Master!B199","v":"WSDOT ENV: NEPA/SEPA - MODULE 1 - OVERVIEW"},{"$f":"Master!C199","v":"WSDOT_DDV"},{"$f":"Master!D199","v":"ILT"},{"$f":"Master!E199","v":"Active"},{"$f":"Master!F199","v":0},{"$f":"Master!G199","v":"Once per year per Region or by request"},{"$f":"IF(Master!M199=\"\",\"B\",Master!M199)","v":2},{"$f":"IF(Master!X199=\"\",\"B\",Master!X199)","v":2},{"$f":"IF(Master!AI199=\"\",\"B\",Master!AI199)","v":2},{"$f":"IF(Master!AT199=\"\",\"B\",Master!AT199)","v":2},{"$f":"IF(Master!BE199=\"\",\"B\",Master!BE199)","v":1},{"$f":"IF(Master!BP199=\"\",\"B\",Master!BP199)","v":1}]
[{"$f":"Master!A200","v":"ENV"},{"$f":"Master!B200","v":"WSDOT ENV: NEPA/SEPA - MODULE 2 - DOCUMENTING CATEGORICAL EXCLUSIONS"},{"$f":"Master!C200","v":"WSDOT_ENV"},{"$f":"Master!D200","v":"ILT"},{"$f":"Master!E200","v":"Active"},{"$f":"Master!F200","v":0},{"$f":"Master!G200","v":"Once per year per Region or by request"},{"$f":"IF(Master!M200=\"\",\"B\",Master!M200)","v":2},{"$f":"IF(Master!X200=\"\",\"B\",Master!X200)","v":2},{"$f":"IF(Master!AI200=\"\",\"B\",Master!AI200)","v":2},{"$f":"IF(Master!AT200=\"\",\"B\",Master!AT200)","v":2},{"$f":"IF(Master!BE200=\"\",\"B\",Master!BE200)","v":1},{"$f":"IF(Master!BP200=\"\",\"B\",Master!BP200)","v":1}]
[{"$f":"Master!A201","v":"ENV"},{"$f":"Master!B201","v":"WSDOT ENV: NEPA/SEPA - MODULE 3 - DOCUMENTING EAs AND EISs"},{"$f":"Master!C201","v":"WSDOT_ENV_2"},{"$f":"Master!D201","v":"ILT"},{"$f":"Master!E201","v":"Active"},{"$f":"Master!F201","v":0},{"$f":"Master!G201","v":"Once per year per Region or by request"},{"$f":"IF(Master!M201=\"\",\"B\",Master!M201)","v":2},{"$f":"IF(Master!X201=\"\",\"B\",Master!X201)","v":2},{"$f":"IF(Master!AI201=\"\",\"B\",Master!AI201)","v":2},{"$f":"IF(Master!AT201=\"\",\"B\",Master!AT201)","v":2},{"$f":"IF(Master!BE201=\"\",\"B\",Master!BE201)","v":1},{"$f":"IF(Master!BP201=\"\",\"B\",Master!BP201)","v":1}]
[{"$f":"Master!A202","v":"ENV"},{"$f":"Master!B202","v":"WSDOT ENV: POISONOUS AND HARMFUL PLANTS IN WASHINGTON STATE"},{"$f":"Master!C202","v":"WSDOT_019_OLT"},{"$f":"Master!D202","v":"OLT"},{"$f":"Master!E202","v":"Active"},{"$f":"Master!F202","v":0},{"$f":"Master!G202","v":"NA"},{"$f":"IF(Master!M202=\"\",\"B\",Master!M202)","v":2},{"$f":"IF(Master!X202=\"\",\"B\",Master!X202)","v":2},{"$f":"IF(Master!AI202=\"\",\"B\",Master!AI202)","v":2},{"$f":"IF(Master!AT202=\"\",\"B\",Master!AT202)","v":2},{"$f":"IF(Master!BE202=\"\",\"B\",Master!BE202)","v":2},{"$f":"IF(Master!BP202=\"\",\"B\",Master!BP202)","v":2}]
[{"$f":"Master!A203","v":"Computer Aided Engineering"},null,null,null,null,null,null,{"$f":"IF(Master!M203=\"\",\"B\",Master!M203)","v":"B"},{"$f":"IF(Master!X203=\"\",\"B\",Master!X203)","v":"B"},{"$f":"IF(Master!AI203=\"\",\"B\",Master!AI203)","v":"B"},{"$f":"IF(Master!AT203=\"\",\"B\",Master!AT203)","v":"B"},{"$f":"IF(Master!BE203=\"\",\"B\",Master!BE203)","v":"B"},{"$f":"IF(Master!BP203=\"\",\"B\",Master!BP203)","v":"B"}]
[{"$f":"Master!A204","v":"CAE"},{"$f":"Master!B204","v":"WSDOT CAE: MICROSTATION - 101 ENTRY LEVEL"},{"$f":"Master!C204","v":"WSDOT_AX4"},{"$f":"Master!D204","v":"ILT"},{"$f":"Master!E204","v":"Active"},{"$f":"Master!F204","v":0},{"$f":"Master!H204","v":0},{"$f":"IF(Master!M204=\"\",\"B\",Master!M204)","v":2},{"$f":"IF(Master!X204=\"\",\"B\",Master!X204)","v":2},{"$f":"IF(Master!AI204=\"\",\"B\",Master!AI204)","v":2},{"$f":"IF(Master!AT204=\"\",\"B\",Master!AT204)","v":2},{"$f":"IF(Master!BE204=\"\",\"B\",Master!BE204)","v":2},{"$f":"IF(Master!BP204=\"\",\"B\",Master!BP204)","v":2}]
[{"$f":"Master!A205","v":"CAE"},{"$f":"Master!B205","v":"WSDOT CAE: MICROSTATION - 201 PRODUCTION LEVEL"},{"$f":"Master!C205","v":"WSDOT_AI6"},{"$f":"Master!D205","v":"ILT"},{"$f":"Master!E205","v":"Active"},{"$f":"Master!F205","v":0},{"$f":"Master!H205","v":0},{"$f":"IF(Master!M205=\"\",\"B\",Master!M205)","v":2},{"$f":"IF(Master!X205=\"\",\"B\",Master!X205)","v":2},{"$f":"IF(Master!AI205=\"\",\"B\",Master!AI205)","v":2},{"$f":"IF(Master!AT205=\"\",\"B\",Master!AT205)","v":2},{"$f":"IF(Master!BE205=\"\",\"B\",Master!BE205)","v":2},{"$f":"IF(Master!BP205=\"\",\"B\",Master!BP205)","v":2}]
[{"$f":"Master!A206","v":"CAE"},{"$f":"Master!B206","v":"WSDOT CAE: INROADS - 201 PRODUCTION LEVEL DESIGN"},{"$f":"Master!C206","v":"WSDOT_CRZ"},{"$f":"Master!D206","v":"ILT"},{"$f":"Master!E206","v":"Active"},{"$f":"Master!F206","v":0},{"$f":"Master!H206","v":0},{"$f":"IF(Master!M206=\"\",\"B\",Master!M206)","v":"B"},{"$f":"IF(Master!X206=\"\",\"B\",Master!X206)","v":"B"},{"$f":"IF(Master!AI206=\"\",\"B\",Master!AI206)","v":"B"},{"$f":"IF(Master!AT206=\"\",\"B\",Master!AT206)","v":"B"},{"$f":"IF(Master!BE206=\"\",\"B\",Master!BE206)","v":"B"},{"$f":"IF(Master!BP206=\"\",\"B\",Master!BP206)","v":"B"}]
[{"$f":"Master!A207","v":"CAE"},{"$f":"Master!B207","v":"WSDOT CAE: INROADS - 202 SURVEY DATA PROCESSING"},{"$f":"Master!C207","v":"WSDOT_CU1"},{"$f":"Master!D207","v":"ILT"},{"$f":"Master!E207","v":"Active"},{"$f":"Master!F207","v":0},{"$f":"Master!H207","v":0},{"$f":"IF(Master!M207=\"\",\"B\",Master!M207)","v":"B"},{"$f":"IF(Master!X207=\"\",\"B\",Master!X207)","v":"B"},{"$f":"IF(Master!AI207=\"\",\"B\",Master!AI207)","v":"B"},{"$f":"IF(Master!AT207=\"\",\"B\",Master!AT207)","v":"B"},{"$f":"IF(Master!BE207=\"\",\"B\",Master!BE207)","v":"B"},{"$f":"IF(Master!BP207=\"\",\"B\",Master!BP207)","v":"B"}]
[{"$f":"Master!A208","v":"CAE"},{"$f":"Master!B208","v":"WSDOT CAE: INROADS - 203 GEOMETRICS"},{"$f":"Master!C208","v":"WSDOT_DBF"},{"$f":"Master!D208","v":"ILT"},{"$f":"Master!E208","v":"Active"},{"$f":"Master!F208","v":0},{"$f":"Master!H208","v":0},{"$f":"IF(Master!M208=\"\",\"B\",Master!M208)","v":"B"},{"$f":"IF(Master!X208=\"\",\"B\",Master!X208)","v":"B"},{"$f":"IF(Master!AI208=\"\",\"B\",Master!AI208)","v":"B"},{"$f":"IF(Master!AT208=\"\",\"B\",Master!AT208)","v":"B"},{"$f":"IF(Master!BE208=\"\",\"B\",Master!BE208)","v":"B"},{"$f":"IF(Master!BP208=\"\",\"B\",Master!BP208)","v":"B"}]
[{"$f":"Master!A209","v":"CAE"},{"$f":"Master!B209","v":"WSDOT CAE: INROADS - 205 CONSTRUCTION PROCESSES"},{"$f":"Master!C209","v":"WSDOT_DH2"},{"$f":"Master!D209","v":"ILT"},{"$f":"Master!E209","v":"Active"},{"$f":"Master!F209","v":0},{"$f":"Master!H209","v":0},{"$f":"IF(Master!M209=\"\",\"B\",Master!M209)","v":"B"},{"$f":"IF(Master!X209=\"\",\"B\",Master!X209)","v":"B"},{"$f":"IF(Master!AI209=\"\",\"B\",Master!AI209)","v":"B"},{"$f":"IF(Master!AT209=\"\",\"B\",Master!AT209)","v":"B"},{"$f":"IF(Master!BE209=\"\",\"B\",Master!BE209)","v":"B"},{"$f":"IF(Master!BP209=\"\",\"B\",Master!BP209)","v":"B"}]
[{"$f":"Master!A210","v":"CAE"},{"$f":"Master!B210","v":"WSDOT CAE: INROADS - 251 INTERMEDIATE ROADWAY DESIGN"},{"$f":"Master!C210","v":"WSDOT_DDL"},{"$f":"Master!D210","v":"ILT"},{"$f":"Master!E210","v":"Active"},{"$f":"Master!F210","v":0},{"$f":"Master!H210","v":0},{"$f":"IF(Master!M210=\"\",\"B\",Master!M210)","v":"B"},{"$f":"IF(Master!X210=\"\",\"B\",Master!X210)","v":"B"},{"$f":"IF(Master!AI210=\"\",\"B\",Master!AI210)","v":"B"},{"$f":"IF(Master!AT210=\"\",\"B\",Master!AT210)","v":"B"},{"$f":"IF(Master!BE210=\"\",\"B\",Master!BE210)","v":"B"},{"$f":"IF(Master!BP210=\"\",\"B\",Master!BP210)","v":"B"}]
[{"$f":"Master!A211","v":"Survey"},null,null,null,null,null,null,{"$f":"IF(Master!M211=\"\",\"B\",Master!M211)","v":"B"},{"$f":"IF(Master!X211=\"\",\"B\",Master!X211)","v":"B"},{"$f":"IF(Master!AI211=\"\",\"B\",Master!AI211)","v":"B"},{"$f":"IF(Master!AT211=\"\",\"B\",Master!AT211)","v":"B"},{"$f":"IF(Master!BE211=\"\",\"B\",Master!BE211)","v":"B"},{"$f":"IF(Master!BP211=\"\",\"B\",Master!BP211)","v":"B"}]
[{"$f":"Master!A212","v":"SUR"},{"$f":"Master!B212","v":"WSDOT SUR: BASIC SURVEYING (SELF-STUDY)"},{"$f":"Master!C212","v":"WSDOT_APK"},{"$f":"Master!D212","v":"SS"},{"$f":"Master!E212","v":"Active"},{"$f":"Master!F212","v":0},{"$f":"Master!H212","v":0},{"$f":"IF(Master!M212=\"\",\"B\",Master!M212)","v":"R"},{"$f":"IF(Master!X212=\"\",\"B\",Master!X212)","v":"R"},{"$f":"IF(Master!AI212=\"\",\"B\",Master!AI212)","v":1},{"$f":"IF(Master!AT212=\"\",\"B\",Master!AT212)","v":1},{"$f":"IF(Master!BE212=\"\",\"B\",Master!BE212)","v":"B"},{"$f":"IF(Master!BP212=\"\",\"B\",Master!BP212)","v":"B"}]
[{"$f":"Master!A213","v":"SUR"},{"$f":"Master!B213","v":"WSDOT SUR: INTERMEDIATE SURVEYING"},{"$f":"Master!C213","v":"WSDOT A4U"},{"$f":"Master!D213","v":"ILT"},{"$f":"Master!E213","v":"Under Development"},{"$f":"Master!F213","v":"Q3 2019"},{"$f":"Master!H213","v":0},{"$f":"IF(Master!M213=\"\",\"B\",Master!M213)","v":"B"},{"$f":"IF(Master!X213=\"\",\"B\",Master!X213)","v":"B"},{"$f":"IF(Master!AI213=\"\",\"B\",Master!AI213)","v":"B"},{"$f":"IF(Master!AT213=\"\",\"B\",Master!AT213)","v":"B"},{"$f":"IF(Master!BE213=\"\",\"B\",Master!BE213)","v":"B"},{"$f":"IF(Master!BP213=\"\",\"B\",Master!BP213)","v":"B"}]
[{"$f":"Master!A214","v":"Traffic Operations Division"},null,null,null,null,null,null,{"$f":"IF(Master!M214=\"\",\"B\",Master!M214)","v":"B"},{"$f":"IF(Master!X214=\"\",\"B\",Master!X214)","v":"B"},{"$f":"IF(Master!AI214=\"\",\"B\",Master!AI214)","v":"B"},{"$f":"IF(Master!AT214=\"\",\"B\",Master!AT214)","v":"B"},{"$f":"IF(Master!BE214=\"\",\"B\",Master!BE214)","v":"B"},{"$f":"IF(Master!BP214=\"\",\"B\",Master!BP214)","v":"B"}]
[{"$f":"Master!A215","v":"TR"},{"$f":"Master!B215","v":"WSDOT TR: Work Zone Traffic Control Supervisor Re-Certification"},{"$f":"Master!C215","v":"WSDOT_BQD"},{"$f":"Master!D215","v":"OLT/ILT"},{"$f":"Master!E215","v":"Active"},{"$f":"Master!F215","v":0},{"$f":"Master!H215","v":0},{"$f":"IF(Master!M215=\"\",\"B\",Master!M215)","v":"B"},{"$f":"IF(Master!X215=\"\",\"B\",Master!X215)","v":"B"},{"$f":"IF(Master!AI215=\"\",\"B\",Master!AI215)","v":"B"},{"$f":"IF(Master!AT215=\"\",\"B\",Master!AT215)","v":"B"},{"$f":"IF(Master!BE215=\"\",\"B\",Master!BE215)","v":"B"},{"$f":"IF(Master!BP215=\"\",\"B\",Master!BP215)","v":"B"}]
[{"$f":"Master!A216","v":"TR"},{"$f":"Master!B216","v":"WSDOT TR: Work Zone Traffic Control Supervisor Certification"},{"$f":"Master!C216","v":"WSDOT_A42"},{"$f":"Master!D216","v":"OLT/ILT"},{"$f":"Master!E216","v":"Active"},{"$f":"Master!F216","v":0},{"$f":"Master!H216","v":0},{"$f":"IF(Master!M216=\"\",\"B\",Master!M216)","v":"B"},{"$f":"IF(Master!X216=\"\",\"B\",Master!X216)","v":"B"},{"$f":"IF(Master!AI216=\"\",\"B\",Master!AI216)","v":"B"},{"$f":"IF(Master!AT216=\"\",\"B\",Master!AT216)","v":"B"},{"$f":"IF(Master!BE216=\"\",\"B\",Master!BE216)","v":"B"},{"$f":"IF(Master!BP216=\"\",\"B\",Master!BP216)","v":"B"}]
[{"$f":"Master!A217","v":"TR"},{"$f":"Master!B217","v":"WSDOT TR: Work Zone Traffic Control Plan Design"},{"$f":"Master!C217","v":"WSDOT_DD7 (day one) and WSDOT_DBK (day two)"},{"$f":"Master!D217","v":"OLT/ILT"},{"$f":"Master!E217","v":"Active"},{"$f":"Master!F217","v":0},{"$f":"Master!H217","v":0},{"$f":"IF(Master!M217=\"\",\"B\",Master!M217)","v":"B"},{"$f":"IF(Master!X217=\"\",\"B\",Master!X217)","v":"B"},{"$f":"IF(Master!AI217=\"\",\"B\",Master!AI217)","v":"B"},{"$f":"IF(Master!AT217=\"\",\"B\",Master!AT217)","v":"B"},{"$f":"IF(Master!BE217=\"\",\"B\",Master!BE217)","v":"B"},{"$f":"IF(Master!BP217=\"\",\"B\",Master!BP217)","v":"B"}]
[{"$f":"Master!A218","v":"TR"},{"$f":"Master!B218","v":"**VISUM"},{"$f":"Master!C218","v":0},{"$f":"Master!D218","v":"OLT/ILT"},{"$f":"Master!E218","v":"Inactive"},{"$f":"Master!F218","v":"None"},{"$f":"Master!H218","v":"No technical lead within WSDOT available to teach"},{"$f":"IF(Master!M218=\"\",\"B\",Master!M218)","v":"B"},{"$f":"IF(Master!X218=\"\",\"B\",Master!X218)","v":"B"},{"$f":"IF(Master!AI218=\"\",\"B\",Master!AI218)","v":"B"},{"$f":"IF(Master!AT218=\"\",\"B\",Master!AT218)","v":"B"},{"$f":"IF(Master!BE218=\"\",\"B\",Master!BE218)","v":"B"},{"$f":"IF(Master!BP218=\"\",\"B\",Master!BP218)","v":"B"}]
[{"$f":"Master!A219","v":"TR"},{"$f":"Master!B219","v":"**VISSIM"},{"$f":"Master!C219","v":0},{"$f":"Master!D219","v":"OLT/ILT"},{"$f":"Master!E219","v":"Inactive"},{"$f":"Master!F219","v":"None"},{"$f":"Master!H219","v":"No technical lead within WSDOT available to teach"},{"$f":"IF(Master!M219=\"\",\"B\",Master!M219)","v":"B"},{"$f":"IF(Master!X219=\"\",\"B\",Master!X219)","v":"B"},{"$f":"IF(Master!AI219=\"\",\"B\",Master!AI219)","v":"B"},{"$f":"IF(Master!AT219=\"\",\"B\",Master!AT219)","v":"B"},{"$f":"IF(Master!BE219=\"\",\"B\",Master!BE219)","v":"B"},{"$f":"IF(Master!BP219=\"\",\"B\",Master!BP219)","v":"B"}]
[{"$f":"Master!A220","v":"TR"},{"$f":"Master!B220","v":"**SIDRA"},{"$f":"Master!C220","v":0},{"$f":"Master!D220","v":"OLT/ILT"},{"$f":"Master!E220","v":"Inactive"},{"$f":"Master!F220","v":"None"},{"$f":"Master!H220","v":"No technical lead within WSDOT available to teach"},{"$f":"IF(Master!M220=\"\",\"B\",Master!M220)","v":"B"},{"$f":"IF(Master!X220=\"\",\"B\",Master!X220)","v":"B"},{"$f":"IF(Master!AI220=\"\",\"B\",Master!AI220)","v":"B"},{"$f":"IF(Master!AT220=\"\",\"B\",Master!AT220)","v":"B"},{"$f":"IF(Master!BE220=\"\",\"B\",Master!BE220)","v":"B"},{"$f":"IF(Master!BP220=\"\",\"B\",Master!BP220)","v":"B"}]
[{"$f":"Master!A221","v":"TR"},{"$f":"Master!B221","v":"**SYNCHRO"},{"$f":"Master!C221","v":0},{"$f":"Master!D221","v":"OLT/ILT"},{"$f":"Master!E221","v":"Inactive"},{"$f":"Master!F221","v":"None"},{"$f":"Master!H221","v":"No technical lead within WSDOT available to teach"},{"$f":"IF(Master!M221=\"\",\"B\",Master!M221)","v":"B"},{"$f":"IF(Master!X221=\"\",\"B\",Master!X221)","v":"B"},{"$f":"IF(Master!AI221=\"\",\"B\",Master!AI221)","v":"B"},{"$f":"IF(Master!AT221=\"\",\"B\",Master!AT221)","v":"B"},{"$f":"IF(Master!BE221=\"\",\"B\",Master!BE221)","v":"B"},{"$f":"IF(Master!BP221=\"\",\"B\",Master!BP221)","v":"B"}]
[{"$f":"Master!A222","v":"TR"},{"$f":"Master!B222","v":"WSDOT PSHSM: Highway Safety Manual Level B"},{"$f":"Master!C222","v":"PSHSM_B01"},{"$f":"Master!D222","v":"OLT/ILT"},{"$f":"Master!E222","v":"Inactive"},{"$f":"Master!F222","v":"None"},{"$f":"Master!H222","v":"No technical lead within WSDOT available to teach"},{"$f":"IF(Master!M222=\"\",\"B\",Master!M222)","v":"B"},{"$f":"IF(Master!X222=\"\",\"B\",Master!X222)","v":"B"},{"$f":"IF(Master!AI222=\"\",\"B\",Master!AI222)","v":"B"},{"$f":"IF(Master!AT222=\"\",\"B\",Master!AT222)","v":"B"},{"$f":"IF(Master!BE222=\"\",\"B\",Master!BE222)","v":"B"},{"$f":"IF(Master!BP222=\"\",\"B\",Master!BP222)","v":"B"}]
[{"$f":"Master!A223","v":"TR"},{"$f":"Master!B223","v":"WSDOT PSHSM: Highway Safety Manual Level C1"},{"$f":"Master!C223","v":"PSHSM_C01"},{"$f":"Master!D223","v":"OLT/ILT"},{"$f":"Master!E223","v":"Inactive"},{"$f":"Master!F223","v":"None"},{"$f":"Master!H223","v":"No technical lead within WSDOT available to teach"},{"$f":"IF(Master!M223=\"\",\"B\",Master!M223)","v":"B"},{"$f":"IF(Master!X223=\"\",\"B\",Master!X223)","v":"B"},{"$f":"IF(Master!AI223=\"\",\"B\",Master!AI223)","v":"B"},{"$f":"IF(Master!AT223=\"\",\"B\",Master!AT223)","v":"B"},{"$f":"IF(Master!BE223=\"\",\"B\",Master!BE223)","v":"B"},{"$f":"IF(Master!BP223=\"\",\"B\",Master!BP223)","v":"B"}]
[{"$f":"Master!A224","v":"TR"},{"$f":"Master!B224","v":"WSDOT PSHSM: Highway Safety Manual Level C2"},{"$f":"Master!C224","v":"PSHSM C2"},{"$f":"Master!D224","v":"OLT/ILT"},{"$f":"Master!E224","v":"Inactive"},{"$f":"Master!F224","v":"None"},{"$f":"Master!H224","v":"No technical lead within WSDOT available to teach"},{"$f":"IF(Master!M224=\"\",\"B\",Master!M224)","v":"B"},{"$f":"IF(Master!X224=\"\",\"B\",Master!X224)","v":"B"},{"$f":"IF(Master!AI224=\"\",\"B\",Master!AI224)","v":"B"},{"$f":"IF(Master!AT224=\"\",\"B\",Master!AT224)","v":"B"},{"$f":"IF(Master!BE224=\"\",\"B\",Master!BE224)","v":"B"},{"$f":"IF(Master!BP224=\"\",\"B\",Master!BP224)","v":"B"}]
[{"$f":"Master!A225","v":"TR"},{"$f":"Master!B225","v":"WSDOT PSHSM: Highway Safety Manual Level C3"},{"$f":"Master!C225","v":"PSHSM C3"},{"$f":"Master!D225","v":"OLT/ILT"},{"$f":"Master!E225","v":"Inactive"},{"$f":"Master!F225","v":"None"},{"$f":"Master!H225","v":"No technical lead within WSDOT available to teach"},{"$f":"IF(Master!M225=\"\",\"B\",Master!M225)","v":"B"},{"$f":"IF(Master!X225=\"\",\"B\",Master!X225)","v":"B"},{"$f":"IF(Master!AI225=\"\",\"B\",Master!AI225)","v":"B"},{"$f":"IF(Master!AT225=\"\",\"B\",Master!AT225)","v":"B"},{"$f":"IF(Master!BE225=\"\",\"B\",Master!BE225)","v":"B"},{"$f":"IF(Master!BP225=\"\",\"B\",Master!BP225)","v":"B"}]
[{"$f":"Master!A226","v":"TR"},{"$f":"Master!B226","v":"WSDOT PSHSM: Highway Safety Manual Level D1"},{"$f":"Master!C226","v":"PSHSM D1"},{"$f":"Master!D226","v":"OLT/ILT"},{"$f":"Master!E226","v":"Inactive"},{"$f":"Master!F226","v":"None"},{"$f":"Master!H226","v":"No technical lead within WSDOT available to teach"},{"$f":"IF(Master!M226=\"\",\"B\",Master!M226)","v":"B"},{"$f":"IF(Master!X226=\"\",\"B\",Master!X226)","v":"B"},{"$f":"IF(Master!AI226=\"\",\"B\",Master!AI226)","v":"B"},{"$f":"IF(Master!AT226=\"\",\"B\",Master!AT226)","v":"B"},{"$f":"IF(Master!BE226=\"\",\"B\",Master!BE226)","v":"B"},{"$f":"IF(Master!BP226=\"\",\"B\",Master!BP226)","v":"B"}]
[{"$f":"Master!A227","v":"TR"},{"$f":"Master!B227","v":"**ILLUMINATION DESIGN FOR TRANSPORTATION APPLICATIONS"},{"$f":"Master!C227","v":0},{"$f":"Master!D227","v":"OLT/ILT"},{"$f":"Master!E227","v":"Under Development"},{"$f":"Master!F227","v":"Q2 2018"},{"$f":"Master!H227","v":0},{"$f":"IF(Master!M227=\"\",\"B\",Master!M227)","v":"B"},{"$f":"IF(Master!X227=\"\",\"B\",Master!X227)","v":"B"},{"$f":"IF(Master!AI227=\"\",\"B\",Master!AI227)","v":"B"},{"$f":"IF(Master!AT227=\"\",\"B\",Master!AT227)","v":"B"},{"$f":"IF(Master!BE227=\"\",\"B\",Master!BE227)","v":"B"},{"$f":"IF(Master!BP227=\"\",\"B\",Master!BP227)","v":"B"}]
[{"$f":"Master!A228","v":"TR"},{"$f":"Master!B228","v":"WSDOT TR: Power Supply Design for Transportation Applications"},{"$f":"Master!C228","v":"WSDOT_BZA"},{"$f":"Master!D228","v":"OLT/ILT"},{"$f":"Master!E228","v":"Active"},{"$f":"Master!F228","v":0},{"$f":"Master!H228","v":0},{"$f":"IF(Master!M228=\"\",\"B\",Master!M228)","v":"B"},{"$f":"IF(Master!X228=\"\",\"B\",Master!X228)","v":"B"},{"$f":"IF(Master!AI228=\"\",\"B\",Master!AI228)","v":"B"},{"$f":"IF(Master!AT228=\"\",\"B\",Master!AT228)","v":"B"},{"$f":"IF(Master!BE228=\"\",\"B\",Master!BE228)","v":"B"},{"$f":"IF(Master!BP228=\"\",\"B\",Master!BP228)","v":"B"}]
[{"$f":"Master!A229","v":"TR"},{"$f":"Master!B229","v":"**TRAFFIC SIGNAL LAYOUT AND CONDUCTOR TERMINATION"},{"$f":"Master!C229","v":0},{"$f":"Master!D229","v":"OLT/ILT"},{"$f":"Master!E229","v":"Inactive"},{"$f":"Master!F229","v":0},{"$f":"Master!H229","v":"No technical lead within WSDOT available to teach"},{"$f":"IF(Master!M229=\"\",\"B\",Master!M229)","v":"B"},{"$f":"IF(Master!X229=\"\",\"B\",Master!X229)","v":"B"},{"$f":"IF(Master!AI229=\"\",\"B\",Master!AI229)","v":"B"},{"$f":"IF(Master!AT229=\"\",\"B\",Master!AT229)","v":"B"},{"$f":"IF(Master!BE229=\"\",\"B\",Master!BE229)","v":"B"},{"$f":"IF(Master!BP229=\"\",\"B\",Master!BP229)","v":"B"}]
[{"$f":"Master!A230","v":"TR"},{"$f":"Master!B230","v":"**SIGN DESIGN"},{"$f":"Master!C230","v":0},{"$f":"Master!D230","v":"OLT/ILT"},{"$f":"Master!E230","v":"Inactive"},{"$f":"Master!F230","v":"None"},{"$f":"Master!H230","v":"No technical lead within WSDOT available to teach"},{"$f":"IF(Master!M230=\"\",\"B\",Master!M230)","v":"B"},{"$f":"IF(Master!X230=\"\",\"B\",Master!X230)","v":"B"},{"$f":"IF(Master!AI230=\"\",\"B\",Master!AI230)","v":"B"},{"$f":"IF(Master!AT230=\"\",\"B\",Master!AT230)","v":"B"},{"$f":"IF(Master!BE230=\"\",\"B\",Master!BE230)","v":"B"},{"$f":"IF(Master!BP230=\"\",\"B\",Master!BP230)","v":"B"}]
[{"$f":"Master!A231","v":"TR"},{"$f":"Master!B231","v":"WSDOT NHI: TR-Traffic Signal Design and Operations"},{"$f":"Master!C231","v":"WSDOT_TSD"},{"$f":"Master!D231","v":"OLT/ILT"},{"$f":"Master!E231","v":"Inactive"},{"$f":"Master!F231","v":"None"},{"$f":"Master!H231","v":"No technical lead within WSDOT available to teach"},{"$f":"IF(Master!M231=\"\",\"B\",Master!M231)","v":"B"},{"$f":"IF(Master!X231=\"\",\"B\",Master!X231)","v":"B"},{"$f":"IF(Master!AI231=\"\",\"B\",Master!AI231)","v":"B"},{"$f":"IF(Master!AT231=\"\",\"B\",Master!AT231)","v":"B"},{"$f":"IF(Master!BE231=\"\",\"B\",Master!BE231)","v":"B"},{"$f":"IF(Master!BP231=\"\",\"B\",Master!BP231)","v":"B"}]
[{"$f":"Master!A232","v":"TR"},{"$f":"Master!B232","v":"WSDOT NHI: TR-Traffic Signal Timing Concepts"},{"$f":"Master!C232","v":"WSDOT_STC"},{"$f":"Master!D232","v":"OLT/ILT"},{"$f":"Master!E232","v":"Inactive"},{"$f":"Master!F232","v":"None"},{"$f":"Master!H232","v":"No technical lead within WSDOT available to teach"},{"$f":"IF(Master!M232=\"\",\"B\",Master!M232)","v":"B"},{"$f":"IF(Master!X232=\"\",\"B\",Master!X232)","v":"B"},{"$f":"IF(Master!AI232=\"\",\"B\",Master!AI232)","v":"B"},{"$f":"IF(Master!AT232=\"\",\"B\",Master!AT232)","v":"B"},{"$f":"IF(Master!BE232=\"\",\"B\",Master!BE232)","v":"B"},{"$f":"IF(Master!BP232=\"\",\"B\",Master!BP232)","v":"B"}]
[{"$f":"Master!A233","v":"TR"},{"$f":"Master!B233","v":"**SYSTEMS ENGINEERING FOR SIGNAL SYSTEMS"},{"$f":"Master!C233","v":0},{"$f":"Master!D233","v":"OLT/ILT"},{"$f":"Master!E233","v":"Inactive"},{"$f":"Master!F233","v":"None"},{"$f":"Master!H233","v":"No technical lead within WSDOT available to teach"},{"$f":"IF(Master!M233=\"\",\"B\",Master!M233)","v":"B"},{"$f":"IF(Master!X233=\"\",\"B\",Master!X233)","v":"B"},{"$f":"IF(Master!AI233=\"\",\"B\",Master!AI233)","v":"B"},{"$f":"IF(Master!AT233=\"\",\"B\",Master!AT233)","v":"B"},{"$f":"IF(Master!BE233=\"\",\"B\",Master!BE233)","v":"B"},{"$f":"IF(Master!BP233=\"\",\"B\",Master!BP233)","v":"B"}]
[{"$f":"Master!A234","v":"TR"},{"$f":"Master!B234","v":"**TRAFFIC SIGNAL MANAGEMENT"},{"$f":"Master!C234","v":0},{"$f":"Master!D234","v":"OLT/ILT"},{"$f":"Master!E234","v":"Inactive"},{"$f":"Master!F234","v":"None"},{"$f":"Master!H234","v":"No technical lead within WSDOT available to teach"},{"$f":"IF(Master!M234=\"\",\"B\",Master!M234)","v":"B"},{"$f":"IF(Master!X234=\"\",\"B\",Master!X234)","v":"B"},{"$f":"IF(Master!AI234=\"\",\"B\",Master!AI234)","v":"B"},{"$f":"IF(Master!AT234=\"\",\"B\",Master!AT234)","v":"B"},{"$f":"IF(Master!BE234=\"\",\"B\",Master!BE234)","v":"B"},{"$f":"IF(Master!BP234=\"\",\"B\",Master!BP234)","v":"B"}]
[{"$f":"Master!A235","v":"TR"},{"$f":"Master!B235","v":"**ITS PROCUREMENT"},{"$f":"Master!C235","v":0},{"$f":"Master!D235","v":"OLT/ILT"},{"$f":"Master!E235","v":"Inactive"},{"$f":"Master!F235","v":"None"},{"$f":"Master!H235","v":"No technical lead within WSDOT available to teach"},{"$f":"IF(Master!M235=\"\",\"B\",Master!M235)","v":"B"},{"$f":"IF(Master!X235=\"\",\"B\",Master!X235)","v":"B"},{"$f":"IF(Master!AI235=\"\",\"B\",Master!AI235)","v":"B"},{"$f":"IF(Master!AT235=\"\",\"B\",Master!AT235)","v":"B"},{"$f":"IF(Master!BE235=\"\",\"B\",Master!BE235)","v":"B"},{"$f":"IF(Master!BP235=\"\",\"B\",Master!BP235)","v":"B"}]
[{"$f":"Master!A236","v":"TR"},{"$f":"Master!B236","v":"**BASICS OF TRANSPORTATION PLANNING"},{"$f":"Master!C236","v":0},{"$f":"Master!D236","v":"OLT/ILT"},{"$f":"Master!E236","v":"Inactive"},{"$f":"Master!F236","v":"None"},{"$f":"Master!H236","v":"No technical lead within WSDOT available to teach"},{"$f":"IF(Master!M236=\"\",\"B\",Master!M236)","v":"B"},{"$f":"IF(Master!X236=\"\",\"B\",Master!X236)","v":"B"},{"$f":"IF(Master!AI236=\"\",\"B\",Master!AI236)","v":"B"},{"$f":"IF(Master!AT236=\"\",\"B\",Master!AT236)","v":"B"},{"$f":"IF(Master!BE236=\"\",\"B\",Master!BE236)","v":"B"},{"$f":"IF(Master!BP236=\"\",\"B\",Master!BP236)","v":"B"}]
[{"$f":"Master!A237","v":"TR"},{"$f":"Master!B237","v":"**ADA/APS DESIGN"},{"$f":"Master!C237","v":0},{"$f":"Master!D237","v":"OLT/ILT"},{"$f":"Master!E237","v":"Inactive"},{"$f":"Master!F237","v":"None"},{"$f":"Master!H237","v":"No technical lead within WSDOT available to teach"},{"$f":"IF(Master!M237=\"\",\"B\",Master!M237)","v":"B"},{"$f":"IF(Master!X237=\"\",\"B\",Master!X237)","v":"B"},{"$f":"IF(Master!AI237=\"\",\"B\",Master!AI237)","v":"B"},{"$f":"IF(Master!AT237=\"\",\"B\",Master!AT237)","v":"B"},{"$f":"IF(Master!BE237=\"\",\"B\",Master!BE237)","v":"B"},{"$f":"IF(Master!BP237=\"\",\"B\",Master!BP237)","v":"B"}]
[{"$f":"Master!A238","v":"TR"},{"$f":"Master!B238","v":"**SIGNAL WARRANT ANALYSIS"},{"$f":"Master!C238","v":0},{"$f":"Master!D238","v":"OLT/ILT"},{"$f":"Master!E238","v":"Inactive"},{"$f":"Master!F238","v":"None"},{"$f":"Master!H238","v":"No technical lead within WSDOT available to teach"},{"$f":"IF(Master!M238=\"\",\"B\",Master!M238)","v":"B"},{"$f":"IF(Master!X238=\"\",\"B\",Master!X238)","v":"B"},{"$f":"IF(Master!AI238=\"\",\"B\",Master!AI238)","v":"B"},{"$f":"IF(Master!AT238=\"\",\"B\",Master!AT238)","v":"B"},{"$f":"IF(Master!BE238=\"\",\"B\",Master!BE238)","v":"B"},{"$f":"IF(Master!BP238=\"\",\"B\",Master!BP238)","v":"B"}]
[{"$f":"Master!A239","v":"TR"},{"$f":"Master!B239","v":"WSDOT TR: Introduction to ITS Design"},{"$f":"Master!C239","v":"WSDOT_DA6"},{"$f":"Master!D239","v":"OLT/ILT"},{"$f":"Master!E239","v":"Inactive"},{"$f":"Master!F239","v":"None"},{"$f":"Master!H239","v":"No technical lead within WSDOT available to teach"},{"$f":"IF(Master!M239=\"\",\"B\",Master!M239)","v":"B"},{"$f":"IF(Master!X239=\"\",\"B\",Master!X239)","v":"B"},{"$f":"IF(Master!AI239=\"\",\"B\",Master!AI239)","v":"B"},{"$f":"IF(Master!AT239=\"\",\"B\",Master!AT239)","v":"B"},{"$f":"IF(Master!BE239=\"\",\"B\",Master!BE239)","v":"B"},{"$f":"IF(Master!BP239=\"\",\"B\",Master!BP239)","v":"B"}]
[{"$f":"Master!A240","v":"TR"},{"$f":"Master!B240","v":"WSDOT TR: Intermediate/Advanced ITS Design"},{"$f":"Master!C240","v":"WSDOT_DA7"},{"$f":"Master!D240","v":"OLT/ILT"},{"$f":"Master!E240","v":"Inactive"},{"$f":"Master!F240","v":"None"},{"$f":"Master!H240","v":"No technical lead within WSDOT available to teach"},{"$f":"IF(Master!M240=\"\",\"B\",Master!M240)","v":"B"},{"$f":"IF(Master!X240=\"\",\"B\",Master!X240)","v":"B"},{"$f":"IF(Master!AI240=\"\",\"B\",Master!AI240)","v":"B"},{"$f":"IF(Master!AT240=\"\",\"B\",Master!AT240)","v":"B"},{"$f":"IF(Master!BE240=\"\",\"B\",Master!BE240)","v":"B"},{"$f":"IF(Master!BP240=\"\",\"B\",Master!BP240)","v":"B"}]
[{"$f":"Master!A241","v":"TR"},{"$f":"Master!B241","v":"**BASIC HIGHWAY CAPACITY FOR ENGINEERS AND PLANNERS"},{"$f":"Master!C241","v":0},{"$f":"Master!D241","v":"OLT/ILT"},{"$f":"Master!E241","v":"Inactive"},{"$f":"Master!F241","v":"None"},{"$f":"Master!H241","v":"No technical lead within WSDOT available to teach"},{"$f":"IF(Master!M241=\"\",\"B\",Master!M241)","v":"B"},{"$f":"IF(Master!X241=\"\",\"B\",Master!X241)","v":"B"},{"$f":"IF(Master!AI241=\"\",\"B\",Master!AI241)","v":"B"},{"$f":"IF(Master!AT241=\"\",\"B\",Master!AT241)","v":"B"},{"$f":"IF(Master!BE241=\"\",\"B\",Master!BE241)","v":"B"},{"$f":"IF(Master!BP241=\"\",\"B\",Master!BP241)","v":"B"}]
[{"$f":"Master!A242","v":"TR"},{"$f":"Master!B242","v":"WSDOT UW: Gen-Uniform Traffic Control Devices"},{"$f":"Master!C242","v":"WSDOT_BML"},{"$f":"Master!D242","v":"OLT/ILT"},{"$f":"Master!E242","v":"Inactive"},{"$f":"Master!F242","v":"None"},{"$f":"Master!H242","v":"No technical lead within WSDOT available to teach"},{"$f":"IF(Master!M242=\"\",\"B\",Master!M242)","v":"B"},{"$f":"IF(Master!X242=\"\",\"B\",Master!X242)","v":"B"},{"$f":"IF(Master!AI242=\"\",\"B\",Master!AI242)","v":"B"},{"$f":"IF(Master!AT242=\"\",\"B\",Master!AT242)","v":"B"},{"$f":"IF(Master!BE242=\"\",\"B\",Master!BE242)","v":"B"},{"$f":"IF(Master!BP242=\"\",\"B\",Master!BP242)","v":"B"}]
[{"$f":"Master!A243","v":"TR"},{"$f":"Master!B243","v":"WSDOT UW: TR-Advanced Highway Capacity Analysis"},{"$f":"Master!C243","v":"WSDOT_A3C"},{"$f":"Master!D243","v":"OLT/ILT"},{"$f":"Master!E243","v":"Inactive"},{"$f":"Master!F243","v":"None"},{"$f":"Master!H243","v":"No technical lead within WSDOT available to teach"},{"$f":"IF(Master!M243=\"\",\"B\",Master!M243)","v":"B"},{"$f":"IF(Master!X243=\"\",\"B\",Master!X243)","v":"B"},{"$f":"IF(Master!AI243=\"\",\"B\",Master!AI243)","v":"B"},{"$f":"IF(Master!AT243=\"\",\"B\",Master!AT243)","v":"B"},{"$f":"IF(Master!BE243=\"\",\"B\",Master!BE243)","v":"B"},{"$f":"IF(Master!BP243=\"\",\"B\",Master!BP243)","v":"B"}]
[{"$f":"Master!A244","v":"TR"},{"$f":"Master!B244","v":"WSDOT UW: TR-Fundamentals of Traffic Engineering"},{"$f":"Master!C244","v":"WSDOT_BS3"},{"$f":"Master!D244","v":"OLT/ILT"},{"$f":"Master!E244","v":"Inactive"},{"$f":"Master!F244","v":"None"},{"$f":"Master!H244","v":"No technical lead within WSDOT available to teach"},{"$f":"IF(Master!M244=\"\",\"B\",Master!M244)","v":"B"},{"$f":"IF(Master!X244=\"\",\"B\",Master!X244)","v":"B"},{"$f":"IF(Master!AI244=\"\",\"B\",Master!AI244)","v":"B"},{"$f":"IF(Master!AT244=\"\",\"B\",Master!AT244)","v":"B"},{"$f":"IF(Master!BE244=\"\",\"B\",Master!BE244)","v":"B"},{"$f":"IF(Master!BP244=\"\",\"B\",Master!BP244)","v":"B"}]
[{"$f":"Master!A245","v":"TR"},{"$f":"Master!B245","v":"WSDOT UW:TR-Traffic Engineering Operations"},{"$f":"Master!C245","v":"WSDOT_BS4"},{"$f":"Master!D245","v":"OLT/ILT"},{"$f":"Master!E245","v":"Inactive"},{"$f":"Master!F245","v":"None"},{"$f":"Master!H245","v":"No technical lead within WSDOT available to teach"},{"$f":"IF(Master!M245=\"\",\"B\",Master!M245)","v":"B"},{"$f":"IF(Master!X245=\"\",\"B\",Master!X245)","v":"B"},{"$f":"IF(Master!AI245=\"\",\"B\",Master!AI245)","v":"B"},{"$f":"IF(Master!AT245=\"\",\"B\",Master!AT245)","v":"B"},{"$f":"IF(Master!BE245=\"\",\"B\",Master!BE245)","v":"B"},{"$f":"IF(Master!BP245=\"\",\"B\",Master!BP245)","v":"B"}]
[{"$f":"Master!A246","v":0},{"$f":"Master!B246","v":"** no LMS course"},{"$f":"Master!C246","v":0},{"$f":"Master!D246","v":0},{"$f":"Master!E246","v":0},{"$f":"Master!F246","v":0},{"$f":"Master!H246","v":0}]
[{"$f":"Master!A247","v":0},{"$f":"Master!B247","v":"*** SS=Self Study, OLT=Online Training, ILT=Instructor Led Training"},{"$f":"Master!C247","v":0},{"$f":"Master!D247","v":0},{"$f":"Master!E247","v":0},{"$f":"Master!F247","v":0},{"$f":"Master!H247","v":0}]
[{"$f":"Master!A248","v":"ES"},{"$f":"Master!B248","v":"= Course offered by Department of Enterprise Services (DES). Contact LMS Helpdesk at 360-705-7060."},{"$f":"Master!C248","v":0},{"$f":"Master!D248","v":0},{"$f":"Master!E248","v":0},{"$f":"Master!F248","v":0},{"$f":"Master!H248","v":0}]
[{"$f":"Master!A249","v":"HR"},{"$f":"Master!B249","v":"= Course registration controlled by Human Resources. Contact LMS Helpdesk at 360-705-7060 to Register."},{"$f":"Master!C249","v":0},{"$f":"Master!D249","v":0},{"$f":"Master!E249","v":0},{"$f":"Master!F249","v":0},{"$f":"Master!H249","v":0}]
[{"$f":"Master!A250","v":0},{"$f":"Master!B250","v":0},{"$f":"Master!C250","v":0},{"$f":"Master!D250","v":0},{"$f":"Master!E250","v":0},{"$f":"Master!F250","v":0},{"$f":"Master!H250","v":0}]
[{"$f":"Master!A251","v":0},{"$f":"Master!B251","v":0},{"$f":"Master!C251","v":0},{"$f":"Master!D251","v":0},{"$f":"Master!E251","v":0},{"$f":"Master!F251","v":0},{"$f":"Master!H251","v":0}]
[{"$f":"Master!A252","v":0},{"$f":"Master!B252","v":0},{"$f":"Master!C252","v":0},{"$f":"Master!D252","v":0},{"$f":"Master!E252","v":0},{"$f":"Master!F252","v":0},{"$f":"Master!H252","v":0}]
[{"$f":"Master!A253","v":0},{"$f":"Master!B253","v":0},{"$f":"Master!C253","v":0},{"$f":"Master!D253","v":0},{"$f":"Master!E253","v":0},{"$f":"Master!F253","v":0},{"$f":"Master!H253","v":0}]
[{"$f":"Master!A254","v":0},{"$f":"Master!B254","v":0},{"$f":"Master!C254","v":0},{"$f":"Master!D254","v":0},{"$f":"Master!E254","v":0},{"$f":"Master!F254","v":0},{"$f":"Master!H254","v":0}]
[{"$f":"Master!A255","v":0},{"$f":"Master!B255","v":0},{"$f":"Master!C255","v":0},{"$f":"Master!D255","v":0},{"$f":"Master!E255","v":0},{"$f":"Master!F255","v":0},{"$f":"Master!H255","v":0}]
[{"$f":"Master!A256","v":0},{"$f":"Master!B256","v":0},{"$f":"Master!C256","v":0},{"$f":"Master!D256","v":0},{"$f":"Master!E256","v":0},{"$f":"Master!F256","v":0},{"$f":"Master!H256","v":0}]
[{"$f":"Master!A257","v":0},{"$f":"Master!B257","v":0},{"$f":"Master!C257","v":0},{"$f":"Master!D257","v":0},{"$f":"Master!E257","v":0},{"$f":"Master!F257","v":0},{"$f":"Master!H257","v":0}]
[{"$f":"Master!A258","v":0},{"$f":"Master!B258","v":0},{"$f":"Master!C258","v":0},{"$f":"Master!D258","v":0},{"$f":"Master!E258","v":0},{"$f":"Master!F258","v":0},{"$f":"Master!H258","v":0}]
[{"$f":"Master!A259","v":0},{"$f":"Master!B259","v":0},{"$f":"Master!C259","v":0},{"$f":"Master!D259","v":0},{"$f":"Master!E259","v":0},{"$f":"Master!F259","v":0},{"$f":"Master!H259","v":0}]
[{"$f":"Master!A260","v":0},{"$f":"Master!B260","v":0},{"$f":"Master!C260","v":0},{"$f":"Master!D260","v":0},{"$f":"Master!E260","v":0},{"$f":"Master!F260","v":0},{"$f":"Master!H260","v":0}]
[{"$f":"Master!A261","v":0},{"$f":"Master!B261","v":0},{"$f":"Master!C261","v":0},{"$f":"Master!D261","v":0},{"$f":"Master!E261","v":0},{"$f":"Master!F261","v":0},{"$f":"Master!H261","v":0}]
[{"$f":"Master!A262","v":0},{"$f":"Master!B262","v":0},{"$f":"Master!C262","v":0},{"$f":"Master!D262","v":0},{"$f":"Master!E262","v":0},{"$f":"Master!F262","v":0},{"$f":"Master!H262","v":0}]
[{"$f":"Master!A263","v":0},{"$f":"Master!B263","v":0},{"$f":"Master!C263","v":0},{"$f":"Master!D263","v":0},{"$f":"Master!E263","v":0},{"$f":"Master!F263","v":0},{"$f":"Master!H263","v":0}]
[{"$f":"Master!A264","v":0},{"$f":"Master!B264","v":0},{"$f":"Master!C264","v":0},{"$f":"Master!D264","v":0},{"$f":"Master!E264","v":0},{"$f":"Master!F264","v":0},{"$f":"Master!H264","v":0}]
[{"$f":"Master!A265","v":0},{"$f":"Master!B265","v":0},{"$f":"Master!C265","v":0},{"$f":"Master!D265","v":0},{"$f":"Master!E265","v":0},{"$f":"Master!F265","v":0},{"$f":"Master!H265","v":0}]
[{"$f":"Master!A266","v":0},{"$f":"Master!B266","v":0},{"$f":"Master!C266","v":0},{"$f":"Master!D266","v":0},{"$f":"Master!E266","v":0},{"$f":"Master!F266","v":0},{"$f":"Master!H266","v":0}]
[{"$f":"Master!A267","v":0},{"$f":"Master!B267","v":0},{"$f":"Master!C267","v":0},{"$f":"Master!D267","v":0},{"$f":"Master!E267","v":0},{"$f":"Master!F267","v":0},{"$f":"Master!H267","v":0}]
[{"$f":"Master!A268","v":0},{"$f":"Master!B268","v":0},{"$f":"Master!C268","v":0},{"$f":"Master!D268","v":0},{"$f":"Master!E268","v":0},{"$f":"Master!F268","v":0},{"$f":"Master!H268","v":0}]
[{"$f":"Master!A269","v":0},{"$f":"Master!B269","v":0},{"$f":"Master!C269","v":0},{"$f":"Master!D269","v":0},{"$f":"Master!E269","v":0},{"$f":"Master!F269","v":0},{"$f":"Master!H269","v":0}]
[{"$f":"Master!A270","v":0},{"$f":"Master!B270","v":0},{"$f":"Master!C270","v":0},{"$f":"Master!D270","v":0},{"$f":"Master!E270","v":0},{"$f":"Master!F270","v":0},{"$f":"Master!H270","v":0}]
[{"$f":"Master!A271","v":0},{"$f":"Master!B271","v":0},{"$f":"Master!C271","v":0},{"$f":"Master!D271","v":0},{"$f":"Master!E271","v":0},{"$f":"Master!F271","v":0},{"$f":"Master!H271","v":0}]
[{"$f":"Master!A272","v":0},{"$f":"Master!B272","v":0},{"$f":"Master!C272","v":0},{"$f":"Master!D272","v":0},{"$f":"Master!E272","v":0},{"$f":"Master!F272","v":0},{"$f":"Master!H272","v":0}]
[{"$f":"Master!A273","v":0},{"$f":"Master!B273","v":0},{"$f":"Master!C273","v":0},{"$f":"Master!D273","v":0},{"$f":"Master!E273","v":0},{"$f":"Master!F273","v":0},{"$f":"Master!H273","v":0}]
[{"$f":"Master!A274","v":0},{"$f":"Master!B274","v":0},{"$f":"Master!C274","v":0},{"$f":"Master!D274","v":0},{"$f":"Master!E274","v":0},{"$f":"Master!F274","v":0},{"$f":"Master!H274","v":0}]
[{"$f":"Master!A275","v":0},{"$f":"Master!B275","v":0},{"$f":"Master!C275","v":0},{"$f":"Master!D275","v":0},{"$f":"Master!E275","v":0},{"$f":"Master!F275","v":0},{"$f":"Master!H275","v":0}]
[{"$f":"Master!A276","v":0},{"$f":"Master!B276","v":0},{"$f":"Master!C276","v":0},{"$f":"Master!D276","v":0},{"$f":"Master!E276","v":0},{"$f":"Master!F276","v":0},{"$f":"Master!H276","v":0}]
[{"$f":"Master!A277","v":0},{"$f":"Master!B277","v":0},{"$f":"Master!C277","v":0},{"$f":"Master!D277","v":0},{"$f":"Master!E277","v":0},{"$f":"Master!F277","v":0},{"$f":"Master!H277","v":0}]
[{"$f":"Master!A278","v":0},{"$f":"Master!B278","v":0},{"$f":"Master!C278","v":0},{"$f":"Master!D278","v":0},{"$f":"Master!E278","v":0},{"$f":"Master!F278","v":0},{"$f":"Master!H278","v":0}]
[{"$f":"Master!A279","v":0},{"$f":"Master!B279","v":0},{"$f":"Master!C279","v":0},{"$f":"Master!D279","v":0},{"$f":"Master!E279","v":0},{"$f":"Master!F279","v":0},{"$f":"Master!H279","v":0}]
[{"$f":"Master!A280","v":0},{"$f":"Master!B280","v":0},{"$f":"Master!C280","v":0},{"$f":"Master!D280","v":0},{"$f":"Master!E280","v":0},{"$f":"Master!F280","v":0},{"$f":"Master!H280","v":0}]
[{"$f":"Master!A281","v":0},{"$f":"Master!B281","v":0},{"$f":"Master!C281","v":0},{"$f":"Master!D281","v":0},{"$f":"Master!E281","v":0},{"$f":"Master!F281","v":0},{"$f":"Master!H281","v":0}]
[{"$f":"Master!A282","v":0},{"$f":"Master!B282","v":0},{"$f":"Master!C282","v":0},{"$f":"Master!D282","v":0},{"$f":"Master!E282","v":0},{"$f":"Master!F282","v":0},{"$f":"Master!H282","v":0}]
[{"$f":"Master!A283","v":0},{"$f":"Master!B283","v":0},{"$f":"Master!C283","v":0},{"$f":"Master!D283","v":0},{"$f":"Master!E283","v":0},{"$f":"Master!F283","v":0},{"$f":"Master!H283","v":0}]

{"sheet":"MAT","index":15,"n_rows":283,"n_cols":13,"rows_kept":283,"cut":false,"hidden":false,"merged":[[191,0,191,6],[202,0,202,6],[210,0,210,6],[213,0,213,6],[85,0,85,6],[88,0,88,6],[95,0,95,6],[151,0,151,6],[152,0,152,6],[185,0,185,6],[83,0,83,6],[2,0,2,6],[13,0,13,6],[48,0,48,6],[49,0,49,6],[52,0,52,6],[55,0,55,6],[58,0,58,6],[60,0,60,6],[63,0,63,6],[70,0,70,6],[76,0,76,6]]}
[null,null,null,7,6]
["Responsible Division","LMS COURSE NAME"," LMS COURSE CODE","Self Study (SS), \nOnline (OLT), or \nInstructor Led (ILT)","TRAINING\nSTATUS","If training status is \"inactive\", when will the course be developed?","NOTES","TT1","TT2","TT3","TE1","TE2","TE3"]
["Mandatory",null,null,null,null,null,null,{"$f":"IF(Master!N3=\"\",\"B\",Master!N3)","v":"B"},{"$f":"IF(Master!Y3=\"\",\"B\",Master!Y3)","v":"B"},{"$f":"IF(Master!AJ3=\"\",\"B\",Master!AJ3)","v":"B"},{"$f":"IF(Master!AU3=\"\",\"B\",Master!AU3)","v":"B"},{"$f":"IF(Master!BF3=\"\",\"B\",Master!BF3)","v":"B"},{"$f":"IF(Master!BQ3=\"\",\"B\",Master!BQ3)","v":"B"}]
[{"$f":"Master!A4","v":"HR"},{"$f":"Master!B4","v":"WA-State Ethics in State Government"},{"$f":"Master!C4","v":"WA-State Ethics 8-7-2014-V6"},{"$f":"Master!D4","v":"OLT"},{"$f":"Master!E4","v":"Active"},{"$f":"Master!F4","v":0},{"$f":"Master!H4","v":"To register for this course, \ncall the LMS Helpdesk at \n360-705-7060."},{"$f":"IF(Master!N4=\"\",\"B\",Master!N4)","v":"M"},{"$f":"IF(Master!Y4=\"\",\"B\",Master!Y4)","v":"M"},{"$f":"IF(Master!AJ4=\"\",\"B\",Master!AJ4)","v":"M"},{"$f":"IF(Master!AU4=\"\",\"B\",Master!AU4)","v":"M"},{"$f":"IF(Master!BF4=\"\",\"B\",Master!BF4)","v":"M"},{"$f":"IF(Master!BQ4=\"\",\"B\",Master!BQ4)","v":"M"}]
[{"$f":"Master!A5","v":"HR"},{"$f":"Master!B5","v":"WSDOT Mandatory: Ethical Standards WSDOT Specific Training"},{"$f":"Master!C5","v":"WSDOT_BKB Specific"},{"$f":"Master!D5","v":"OLT"},{"$f":"Master!E5","v":"Active"},{"$f":"Master!F5","v":0},{"$f":"Master!H5","v":"To register for this course, \ncall the LMS Helpdesk at \n360-705-7060."},{"$f":"IF(Master!N5=\"\",\"B\",Master!N5)","v":"M"},{"$f":"IF(Master!Y5=\"\",\"B\",Master!Y5)","v":"M"},{"$f":"IF(Master!AJ5=\"\",\"B\",Master!AJ5)","v":"M"},{"$f":"IF(Master!AU5=\"\",\"B\",Master!AU5)","v":"M"},{"$f":"IF(Master!BF5=\"\",\"B\",Master!BF5)","v":"M"},{"$f":"IF(Master!BQ5=\"\",\"B\",Master!BQ5)","v":"M"}]
[{"$f":"Master!A6","v":"HR"},{"$f":"Master!B6","v":"WSDOT Mandatory: System Security Awareness For Transportation Employees (Self Study)"},{"$f":"Master!C6","v":"WSDOT_CJJ_UDT"},{"$f":"Master!D6","v":"SS"},{"$f":"Master!E6","v":"Active"},{"$f":"Master!F6","v":0},{"$f":"Master!H6","v":"To register for this course, \ncall the LMS Helpdesk at \n360-705-7060."},{"$f":"IF(Master!N6=\"\",\"B\",Master!N6)","v":"M"},{"$f":"IF(Master!Y6=\"\",\"B\",Master!Y6)","v":"M"},{"$f":"IF(Master!AJ6=\"\",\"B\",Master!AJ6)","v":"M"},{"$f":"IF(Master!AU6=\"\",\"B\",Master!AU6)","v":"M"},{"$f":"IF(Master!BF6=\"\",\"B\",Master!BF6)","v":"M"},{"$f":"IF(Master!BQ6=\"\",\"B\",Master!BQ6)","v":"M"}]
[{"$f":"Master!A7","v":"HR"},{"$f":"Master!B7","v":"WSDOT Mandatory: Violence That Affects The Workplace (Self Study)"},{"$f":"Master!C7","v":"WSDOT_B9V"},{"$f":"Master!D7","v":"SS"},{"$f":"Master!E7","v":"Active"},{"$f":"Master!F7","v":0},{"$f":"Master!H7","v":"To register for this course, \ncall the LMS Helpdesk at \n360-705-7060."},{"$f":"IF(Master!N7=\"\",\"B\",Master!N7)","v":"M"},{"$f":"IF(Master!Y7=\"\",\"B\",Master!Y7)","v":"M"},{"$f":"IF(Master!AJ7=\"\",\"B\",Master!AJ7)","v":"M"},{"$f":"IF(Master!AU7=\"\",\"B\",Master!AU7)","v":"M"},{"$f":"IF(Master!BF7=\"\",\"B\",Master!BF7)","v":"M"},{"$f":"IF(Master!BQ7=\"\",\"B\",Master!BQ7)","v":"M"}]
[{"$f":"Master!A8","v":"HR"},{"$f":"Master!B8","v":"WA-State IT Security Awareness Training"},{"$f":"Master!C8","v":"WA-State IT Security Awareness Training - Initial Training-8/16/2013"},{"$f":"Master!D8","v":"OLT"},{"$f":"Master!E8","v":"Active"},{"$f":"Master!F8","v":0},{"$f":"Master!H8","v":"To register for this course, \ncall the LMS Helpdesk at \n360-705-7060."},{"$f":"IF(Master!N8=\"\",\"B\",Master!N8)","v":"M"},{"$f":"IF(Master!Y8=\"\",\"B\",Master!Y8)","v":"M"},{"$f":"IF(Master!AJ8=\"\",\"B\",Master!AJ8)","v":"M"},{"$f":"IF(Master!AU8=\"\",\"B\",Master!AU8)","v":"M"},{"$f":"IF(Master!BF8=\"\",\"B\",Master!BF8)","v":"M"},{"$f":"IF(Master!BQ8=\"\",\"B\",Master!BQ8)","v":"M"}]
[{"$f":"Master!A9","v":"HR"},{"$f":"Master!B9","v":"WA-State Sexual Harassment Awareness and Prevention"},{"$f":"Master!C9","v":"DES_shap_2013_Updated_9-3-2014"},{"$f":"Master!D9","v":"OLT"},{"$f":"Master!E9","v":"Active"},{"$f":"Master!F9","v":0},{"$f":"Master!H9","v":"To register for this course, \ncall the LMS Helpdesk at \n360-705-7060."},{"$f":"IF(Master!N9=\"\",\"B\",Master!N9)","v":"M"},{"$f":"IF(Master!Y9=\"\",\"B\",Master!Y9)","v":"M"},{"$f":"IF(Master!AJ9=\"\",\"B\",Master!AJ9)","v":"M"},{"$f":"IF(Master!AU9=\"\",\"B\",Master!AU9)","v":"M"},{"$f":"IF(Master!BF9=\"\",\"B\",Master!BF9)","v":"M"},{"$f":"IF(Master!BQ9=\"\",\"B\",Master!BQ9)","v":"M"}]
[{"$f":"Master!A10","v":"HR"},{"$f":"Master!B10","v":"WSDOT Mandatory: Disability Awareness Step 1, Understanding the Americans with Disabilities Act (ADA)  "},{"$f":"Master!C10","v":"lchr_01_a15_lc_enus"},{"$f":"Master!D10","v":"OLT"},{"$f":"Master!E10","v":"Active"},{"$f":"Master!F10","v":0},{"$f":"Master!H10","v":"To register for this course, \ncall the LMS Helpdesk at \n360-705-7060."},{"$f":"IF(Master!N10=\"\",\"B\",Master!N10)","v":"M"},{"$f":"IF(Master!Y10=\"\",\"B\",Master!Y10)","v":"M"},{"$f":"IF(Master!AJ10=\"\",\"B\",Master!AJ10)","v":"M"},{"$f":"IF(Master!AU10=\"\",\"B\",Master!AU10)","v":"M"},{"$f":"IF(Master!BF10=\"\",\"B\",Master!BF10)","v":"M"},{"$f":"IF(Master!BQ10=\"\",\"B\",Master!BQ10)","v":"M"}]
[{"$f":"Master!A11","v":"HR"},{"$f":"Master!B11","v":"WSDOT Mandatory: Disability Awareness Step 2 of Learning Plan"},{"$f":"Master!C11","v":"WSDOT_CD8_UDT2"},{"$f":"Master!D11","v":"OLT"},{"$f":"Master!E11","v":"Active"},{"$f":"Master!F11","v":0},{"$f":"Master!H11","v":"To register for this course, \ncall the LMS Helpdesk at \n360-705-7060."},{"$f":"IF(Master!N11=\"\",\"B\",Master!N11)","v":"M"},{"$f":"IF(Master!Y11=\"\",\"B\",Master!Y11)","v":"M"},{"$f":"IF(Master!AJ11=\"\",\"B\",Master!AJ11)","v":"M"},{"$f":"IF(Master!AU11=\"\",\"B\",Master!AU11)","v":"M"},{"$f":"IF(Master!BF11=\"\",\"B\",Master!BF11)","v":"M"},{"$f":"IF(Master!BQ11=\"\",\"B\",Master!BQ11)","v":"M"}]
[{"$f":"Master!A12","v":"HR"},{"$f":"Master!B12","v":"WSDOT Mandatory: Discrimination In The Workplace (Self Study)"},{"$f":"Master!C12","v":"WSDOT_DIS"},{"$f":"Master!D12","v":"SS"},{"$f":"Master!E12","v":"Active"},{"$f":"Master!F12","v":0},{"$f":"Master!H12","v":"To register for this course, \ncall the LMS Helpdesk at \n360-705-7060."},{"$f":"IF(Master!N12=\"\",\"B\",Master!N12)","v":"M"},{"$f":"IF(Master!Y12=\"\",\"B\",Master!Y12)","v":"M"},{"$f":"IF(Master!AJ12=\"\",\"B\",Master!AJ12)","v":"M"},{"$f":"IF(Master!AU12=\"\",\"B\",Master!AU12)","v":"M"},{"$f":"IF(Master!BF12=\"\",\"B\",Master!BF12)","v":"M"},{"$f":"IF(Master!BQ12=\"\",\"B\",Master!BQ12)","v":"M"}]
[{"$f":"Master!A13","v":"HR"},{"$f":"Master!B13","v":"WSDOT Mandatory: Valuing Diversity Step 2, Promoting Respect in the Global Workplace – Employee Edition"},{"$f":"Master!C13","v":"WSDOT_lch_01_a09_lc_enus"},{"$f":"Master!D13","v":"OLT"},{"$f":"Master!E13","v":"Active"},{"$f":"Master!F13","v":0},{"$f":"Master!H13","v":"To register for this course, \ncall the LMS Helpdesk at \n360-705-7060."},{"$f":"IF(Master!N13=\"\",\"B\",Master!N13)","v":"M"},{"$f":"IF(Master!Y13=\"\",\"B\",Master!Y13)","v":"M"},{"$f":"IF(Master!AJ13=\"\",\"B\",Master!AJ13)","v":"M"},{"$f":"IF(Master!AU13=\"\",\"B\",Master!AU13)","v":"M"},{"$f":"IF(Master!BF13=\"\",\"B\",Master!BF13)","v":"M"},{"$f":"IF(Master!BQ13=\"\",\"B\",Master!BQ13)","v":"M"}]
[{"$f":"Master!A14","v":"General Knowledge"},null,null,null,null,null,null,{"$f":"IF(Master!N14=\"\",\"B\",Master!N14)","v":"B"},{"$f":"IF(Master!Y14=\"\",\"B\",Master!Y14)","v":"B"},{"$f":"IF(Master!AJ14=\"\",\"B\",Master!AJ14)","v":"B"},{"$f":"IF(Master!AU14=\"\",\"B\",Master!AU14)","v":"B"},{"$f":"IF(Master!BF14=\"\",\"B\",Master!BF14)","v":"B"},{"$f":"IF(Master!BQ14=\"\",\"B\",Master!BQ14)","v":"B"}]
[{"$f":"Master!A15","v":"GEN"},{"$f":"Master!B15","v":"**Legal Liability for Transportation Professionals - Entry"},{"$f":"Master!C15","v":0},{"$f":"Master!D15","v":"ILT"},{"$f":"Master!E15","v":"Inactive"},{"$f":"Master!F15","v":0},{"$f":"Master!H15","v":0},{"$f":"IF(Master!N15=\"\",\"B\",Master!N15)","v":1},{"$f":"IF(Master!Y15=\"\",\"B\",Master!Y15)","v":1},{"$f":"IF(Master!AJ15=\"\",\"B\",Master!AJ15)","v":1},{"$f":"IF(Master!AU15=\"\",\"B\",Master!AU15)","v":1},{"$f":"IF(Master!BF15=\"\",\"B\",Master!BF15)","v":1},{"$f":"IF(Master!BQ15=\"\",\"B\",Master!BQ15)","v":"B"}]
[{"$f":"Master!A16","v":"GEN"},{"$f":"Master!B16","v":"**Legal Liability for Transportation Professionals - In-Depth"},{"$f":"Master!C16","v":0},{"$f":"Master!D16","v":"ILT"},{"$f":"Master!E16","v":"Inactive"},{"$f":"Master!F16","v":0},{"$f":"Master!H16","v":0},{"$f":"IF(Master!N16=\"\",\"B\",Master!N16)","v":"B"},{"$f":"IF(Master!Y16=\"\",\"B\",Master!Y16)","v":"B"},{"$f":"IF(Master!AJ16=\"\",\"B\",Master!AJ16)","v":"B"},{"$f":"IF(Master!AU16=\"\",\"B\",Master!AU16)","v":"B"},{"$f":"IF(Master!BF16=\"\",\"B\",Master!BF16)","v":"B"},{"$f":"IF(Master!BQ16=\"\",\"B\",Master!BQ16)","v":1}]
[{"$f":"Master!A17","v":"GEN"},{"$f":"Master!B17","v":"WSDOT GEN: TECHNICAL MATHEMATICS I (SELF-STUDY)"},{"$f":"Master!C17","v":"WSDOT_AFN"},{"$f":"Master!D17","v":"SS"},{"$f":"Master!E17","v":"Active"},{"$f":"Master!F17","v":0},{"$f":"Master!H17","v":0},{"$f":"IF(Master!N17=\"\",\"B\",Master!N17)","v":"R"},{"$f":"IF(Master!Y17=\"\",\"B\",Master!Y17)","v":"R"},{"$f":"IF(Master!AJ17=\"\",\"B\",Master!AJ17)","v":"B"},{"$f":"IF(Master!AU17=\"\",\"B\",Master!AU17)","v":"B"},{"$f":"IF(Master!BF17=\"\",\"B\",Master!BF17)","v":"B"},{"$f":"IF(Master!BQ17=\"\",\"B\",Master!BQ17)","v":"B"}]
[{"$f":"Master!A18","v":"GEN"},{"$f":"Master!B18","v":"WSDOT GEN: TECHNICAL MATHEMATICS II (SELF-STUDY)"},{"$f":"Master!C18","v":"WSDOT_A7J"},{"$f":"Master!D18","v":"SS"},{"$f":"Master!E18","v":"Active"},{"$f":"Master!F18","v":0},{"$f":"Master!H18","v":0},{"$f":"IF(Master!N18=\"\",\"B\",Master!N18)","v":"R"},{"$f":"IF(Master!Y18=\"\",\"B\",Master!Y18)","v":"R"},{"$f":"IF(Master!AJ18=\"\",\"B\",Master!AJ18)","v":"B"},{"$f":"IF(Master!AU18=\"\",\"B\",Master!AU18)","v":"B"},{"$f":"IF(Master!BF18=\"\",\"B\",Master!BF18)","v":"B"},{"$f":"IF(Master!BQ18=\"\",\"B\",Master!BQ18)","v":"B"}]
[{"$f":"Master!A19","v":"SS"},{"$f":"Master!B19","v":"Finding Your Bearings as a Project Manager"},{"$f":"Master!C19","v":"apj_151_a01_bs_enus"},{"$f":"Master!D19","v":"OLT"},{"$f":"Master!E19","v":"Active"},{"$f":"Master!F19","v":0},{"$f":"Master!H19","v":0},{"$f":"IF(Master!N19=\"\",\"B\",Master!N19)","v":"R"},{"$f":"IF(Master!Y19=\"\",\"B\",Master!Y19)","v":"R"},{"$f":"IF(Master!AJ19=\"\",\"B\",Master!AJ19)","v":"B"},{"$f":"IF(Master!AU19=\"\",\"B\",Master!AU19)","v":"B"},{"$f":"IF(Master!BF19=\"\",\"B\",Master!BF19)","v":"B"},{"$f":"IF(Master!BQ19=\"\",\"B\",Master!BQ19)","v":"B"}]
[{"$f":"Master!A20","v":"SS"},{"$f":"Master!B20","v":"Getting to the Root of a Problem"},{"$f":"Master!C20","v":"apj_15_a01_bs_enus"},{"$f":"Master!D20","v":"OLT"},{"$f":"Master!E20","v":"Active"},{"$f":"Master!F20","v":0},{"$f":"Master!H20","v":0},{"$f":"IF(Master!N20=\"\",\"B\",Master!N20)","v":"R"},{"$f":"IF(Master!Y20=\"\",\"B\",Master!Y20)","v":"R"},{"$f":"IF(Master!AJ20=\"\",\"B\",Master!AJ20)","v":"B"},{"$f":"IF(Master!AU20=\"\",\"B\",Master!AU20)","v":"B"},{"$f":"IF(Master!BF20=\"\",\"B\",Master!BF20)","v":"B"},{"$f":"IF(Master!BQ20=\"\",\"B\",Master!BQ20)","v":"B"}]
[{"$f":"Master!A21","v":"SS"},{"$f":"Master!B21","v":"The Process Groups (PMBOK® Guide Fifth Edition)"},{"$f":"Master!C21","v":"apj_01_a03_bs_enus"},{"$f":"Master!D21","v":"OLT"},{"$f":"Master!E21","v":"Active"},{"$f":"Master!F21","v":0},{"$f":"Master!H21","v":0},{"$f":"IF(Master!N21=\"\",\"B\",Master!N21)","v":"R"},{"$f":"IF(Master!Y21=\"\",\"B\",Master!Y21)","v":"R"},{"$f":"IF(Master!AJ21=\"\",\"B\",Master!AJ21)","v":"B"},{"$f":"IF(Master!AU21=\"\",\"B\",Master!AU21)","v":"B"},{"$f":"IF(Master!BF21=\"\",\"B\",Master!BF21)","v":"B"},{"$f":"IF(Master!BQ21=\"\",\"B\",Master!BQ21)","v":"B"}]
[{"$f":"Master!A22","v":"SS"},{"$f":"Master!B22","v":"Solving Problems: Generating and Evaluating Alternatives"},{"$f":"Master!C22","v":"pd_29_a02_bs_enus"},{"$f":"Master!D22","v":"OLT"},{"$f":"Master!E22","v":"Active"},{"$f":"Master!F22","v":0},{"$f":"Master!H22","v":0},{"$f":"IF(Master!N22=\"\",\"B\",Master!N22)","v":"R"},{"$f":"IF(Master!Y22=\"\",\"B\",Master!Y22)","v":"R"},{"$f":"IF(Master!AJ22=\"\",\"B\",Master!AJ22)","v":"B"},{"$f":"IF(Master!AU22=\"\",\"B\",Master!AU22)","v":"B"},{"$f":"IF(Master!BF22=\"\",\"B\",Master!BF22)","v":"B"},{"$f":"IF(Master!BQ22=\"\",\"B\",Master!BQ22)","v":"B"}]
[{"$f":"Master!A23","v":"SS"},{"$f":"Master!B23","v":"Making and Carrying Out Tough Decisions"},{"$f":"Master!C23","v":"pd_29_a03_bs_enus"},{"$f":"Master!D23","v":"OLT"},{"$f":"Master!E23","v":"Active"},{"$f":"Master!F23","v":0},{"$f":"Master!H23","v":0},{"$f":"IF(Master!N23=\"\",\"B\",Master!N23)","v":"R"},{"$f":"IF(Master!Y23=\"\",\"B\",Master!Y23)","v":"R"},{"$f":"IF(Master!AJ23=\"\",\"B\",Master!AJ23)","v":"B"},{"$f":"IF(Master!AU23=\"\",\"B\",Master!AU23)","v":"B"},{"$f":"IF(Master!BF23=\"\",\"B\",Master!BF23)","v":"B"},{"$f":"IF(Master!BQ23=\"\",\"B\",Master!BQ23)","v":"B"}]
[{"$f":"Master!A24","v":"SS"},{"$f":"Master!B24","v":"Solving Problems: Framing the Problem"},{"$f":"Master!C24","v":"pd_29_a01_bs_enus"},{"$f":"Master!D24","v":"OLT"},{"$f":"Master!E24","v":"Active"},{"$f":"Master!F24","v":0},{"$f":"Master!H24","v":0},{"$f":"IF(Master!N24=\"\",\"B\",Master!N24)","v":"R"},{"$f":"IF(Master!Y24=\"\",\"B\",Master!Y24)","v":"R"},{"$f":"IF(Master!AJ24=\"\",\"B\",Master!AJ24)","v":"B"},{"$f":"IF(Master!AU24=\"\",\"B\",Master!AU24)","v":"B"},{"$f":"IF(Master!BF24=\"\",\"B\",Master!BF24)","v":"B"},{"$f":"IF(Master!BQ24=\"\",\"B\",Master!BQ24)","v":"B"}]
[{"$f":"Master!A25","v":"SS"},{"$f":"Master!B25","v":"Problem-Solving and Process Management Tools"},{"$f":"Master!C25","v":"oper_04_a07_bs_enus"},{"$f":"Master!D25","v":"OLT"},{"$f":"Master!E25","v":"Active"},{"$f":"Master!F25","v":0},{"$f":"Master!H25","v":0},{"$f":"IF(Master!N25=\"\",\"B\",Master!N25)","v":"R"},{"$f":"IF(Master!Y25=\"\",\"B\",Master!Y25)","v":"R"},{"$f":"IF(Master!AJ25=\"\",\"B\",Master!AJ25)","v":"B"},{"$f":"IF(Master!AU25=\"\",\"B\",Master!AU25)","v":"B"},{"$f":"IF(Master!BF25=\"\",\"B\",Master!BF25)","v":"B"},{"$f":"IF(Master!BQ25=\"\",\"B\",Master!BQ25)","v":"B"}]
[{"$f":"Master!A26","v":"SS"},{"$f":"Master!B26","v":"Basic Presentation Skills: Delivering a Presentation"},{"$f":"Master!C26","v":"comm_33_a03_bs_enus"},{"$f":"Master!D26","v":"OLT"},{"$f":"Master!E26","v":"Active"},{"$f":"Master!F26","v":0},{"$f":"Master!H26","v":0},{"$f":"IF(Master!N26=\"\",\"B\",Master!N26)","v":"R"},{"$f":"IF(Master!Y26=\"\",\"B\",Master!Y26)","v":"R"},{"$f":"IF(Master!AJ26=\"\",\"B\",Master!AJ26)","v":"B"},{"$f":"IF(Master!AU26=\"\",\"B\",Master!AU26)","v":"B"},{"$f":"IF(Master!BF26=\"\",\"B\",Master!BF26)","v":"B"},{"$f":"IF(Master!BQ26=\"\",\"B\",Master!BQ26)","v":"B"}]
[{"$f":"Master!A27","v":"SS"},{"$f":"Master!B27","v":"Basic Presentation Skills: Creating a Presentation"},{"$f":"Master!C27","v":"comm_33_a02_bs_enus"},{"$f":"Master!D27","v":"OLT"},{"$f":"Master!E27","v":"Active"},{"$f":"Master!F27","v":0},{"$f":"Master!H27","v":0},{"$f":"IF(Master!N27=\"\",\"B\",Master!N27)","v":"R"},{"$f":"IF(Master!Y27=\"\",\"B\",Master!Y27)","v":"R"},{"$f":"IF(Master!AJ27=\"\",\"B\",Master!AJ27)","v":"B"},{"$f":"IF(Master!AU27=\"\",\"B\",Master!AU27)","v":"B"},{"$f":"IF(Master!BF27=\"\",\"B\",Master!BF27)","v":"B"},{"$f":"IF(Master!BQ27=\"\",\"B\",Master!BQ27)","v":"B"}]
[{"$f":"Master!A28","v":"SS"},{"$f":"Master!B28","v":"Building the Foundation for an Effective Team"},{"$f":"Master!C28","v":"atm_01_a01_bs_enus"},{"$f":"Master!D28","v":"OLT"},{"$f":"Master!E28","v":"Active"},{"$f":"Master!F28","v":0},{"$f":"Master!H28","v":0},{"$f":"IF(Master!N28=\"\",\"B\",Master!N28)","v":"R"},{"$f":"IF(Master!Y28=\"\",\"B\",Master!Y28)","v":"R"},{"$f":"IF(Master!AJ28=\"\",\"B\",Master!AJ28)","v":"B"},{"$f":"IF(Master!AU28=\"\",\"B\",Master!AU28)","v":"B"},{"$f":"IF(Master!BF28=\"\",\"B\",Master!BF28)","v":"B"},{"$f":"IF(Master!BQ28=\"\",\"B\",Master!BQ28)","v":"B"}]
[{"$f":"Master!A29","v":"SS"},{"$f":"Master!B29","v":"Developing a Successful Team"},{"$f":"Master!C29","v":"atm_01_a02_bs_enus"},{"$f":"Master!D29","v":"OLT"},{"$f":"Master!E29","v":"Active"},{"$f":"Master!F29","v":0},{"$f":"Master!H29","v":0},{"$f":"IF(Master!N29=\"\",\"B\",Master!N29)","v":"R"},{"$f":"IF(Master!Y29=\"\",\"B\",Master!Y29)","v":"R"},{"$f":"IF(Master!AJ29=\"\",\"B\",Master!AJ29)","v":"B"},{"$f":"IF(Master!AU29=\"\",\"B\",Master!AU29)","v":"B"},{"$f":"IF(Master!BF29=\"\",\"B\",Master!BF29)","v":"B"},{"$f":"IF(Master!BQ29=\"\",\"B\",Master!BQ29)","v":"B"}]
[{"$f":"Master!A30","v":"SS"},{"$f":"Master!B30","v":"Encouraging Team Communication and Collaboration"},{"$f":"Master!C30","v":"atm_01_a03_bs_enus"},{"$f":"Master!D30","v":"OLT"},{"$f":"Master!E30","v":"Active"},{"$f":"Master!F30","v":0},{"$f":"Master!H30","v":0},{"$f":"IF(Master!N30=\"\",\"B\",Master!N30)","v":"R"},{"$f":"IF(Master!Y30=\"\",\"B\",Master!Y30)","v":"R"},{"$f":"IF(Master!AJ30=\"\",\"B\",Master!AJ30)","v":"B"},{"$f":"IF(Master!AU30=\"\",\"B\",Master!AU30)","v":"B"},{"$f":"IF(Master!BF30=\"\",\"B\",Master!BF30)","v":"B"},{"$f":"IF(Master!BQ30=\"\",\"B\",Master!BQ30)","v":"B"}]
[{"$f":"Master!A31","v":"SS"},{"$f":"Master!B31","v":"Handling Team Conflict"},{"$f":"Master!C31","v":"atm_01_a04_bs_enus"},{"$f":"Master!D31","v":"OLT"},{"$f":"Master!E31","v":"Active"},{"$f":"Master!F31","v":0},{"$f":"Master!H31","v":0},{"$f":"IF(Master!N31=\"\",\"B\",Master!N31)","v":"R"},{"$f":"IF(Master!Y31=\"\",\"B\",Master!Y31)","v":"R"},{"$f":"IF(Master!AJ31=\"\",\"B\",Master!AJ31)","v":"B"},{"$f":"IF(Master!AU31=\"\",\"B\",Master!AU31)","v":"B"},{"$f":"IF(Master!BF31=\"\",\"B\",Master!BF31)","v":"B"},{"$f":"IF(Master!BQ31=\"\",\"B\",Master!BQ31)","v":"B"}]
[{"$f":"Master!A32","v":"SS"},{"$f":"Master!B32","v":"Thinking Critically: Coming to Terms with Assumptions"},{"$f":"Master!C32","v":"pe_01_a01_bs_enus"},{"$f":"Master!D32","v":"OLT"},{"$f":"Master!E32","v":"Active"},{"$f":"Master!F32","v":0},{"$f":"Master!H32","v":0},{"$f":"IF(Master!N32=\"\",\"B\",Master!N32)","v":"R"},{"$f":"IF(Master!Y32=\"\",\"B\",Master!Y32)","v":"R"},{"$f":"IF(Master!AJ32=\"\",\"B\",Master!AJ32)","v":"B"},{"$f":"IF(Master!AU32=\"\",\"B\",Master!AU32)","v":"B"},{"$f":"IF(Master!BF32=\"\",\"B\",Master!BF32)","v":"B"},{"$f":"IF(Master!BQ32=\"\",\"B\",Master!BQ32)","v":"B"}]
[{"$f":"Master!A33","v":"SS"},{"$f":"Master!B33","v":"Thinking Critically: Getting Your Arms around Arguments"},{"$f":"Master!C33","v":"pe_01_a02_bs_enus"},{"$f":"Master!D33","v":"OLT"},{"$f":"Master!E33","v":"Active"},{"$f":"Master!F33","v":0},{"$f":"Master!H33","v":0},{"$f":"IF(Master!N33=\"\",\"B\",Master!N33)","v":"R"},{"$f":"IF(Master!Y33=\"\",\"B\",Master!Y33)","v":"R"},{"$f":"IF(Master!AJ33=\"\",\"B\",Master!AJ33)","v":"B"},{"$f":"IF(Master!AU33=\"\",\"B\",Master!AU33)","v":"B"},{"$f":"IF(Master!BF33=\"\",\"B\",Master!BF33)","v":"B"},{"$f":"IF(Master!BQ33=\"\",\"B\",Master!BQ33)","v":"B"}]
[{"$f":"Master!A34","v":"SS"},{"$f":"Master!B34","v":"Thinking Critically: Drawing Conclusions with Confidence"},{"$f":"Master!C34","v":"pe_01_a03_bs_enus"},{"$f":"Master!D34","v":"OLT"},{"$f":"Master!E34","v":"Active"},{"$f":"Master!F34","v":0},{"$f":"Master!H34","v":0},{"$f":"IF(Master!N34=\"\",\"B\",Master!N34)","v":"R"},{"$f":"IF(Master!Y34=\"\",\"B\",Master!Y34)","v":"R"},{"$f":"IF(Master!AJ34=\"\",\"B\",Master!AJ34)","v":"B"},{"$f":"IF(Master!AU34=\"\",\"B\",Master!AU34)","v":"B"},{"$f":"IF(Master!BF34=\"\",\"B\",Master!BF34)","v":"B"},{"$f":"IF(Master!BQ34=\"\",\"B\",Master!BQ34)","v":"B"}]
[{"$f":"Master!A35","v":"SS"},{"$f":"Master!B35","v":"Microsoft Excel 2016 Essentials: Creating, Editing, and Saving Workbooks"},{"$f":"Master!C35","v":"mo_beel_a01_dt_enus"},{"$f":"Master!D35","v":"OLT"},{"$f":"Master!E35","v":"Active"},{"$f":"Master!F35","v":0},{"$f":"Master!H35","v":0},{"$f":"IF(Master!N35=\"\",\"B\",Master!N35)","v":"R"},{"$f":"IF(Master!Y35=\"\",\"B\",Master!Y35)","v":"R"},{"$f":"IF(Master!AJ35=\"\",\"B\",Master!AJ35)","v":"B"},{"$f":"IF(Master!AU35=\"\",\"B\",Master!AU35)","v":"B"},{"$f":"IF(Master!BF35=\"\",\"B\",Master!BF35)","v":"B"},{"$f":"IF(Master!BQ35=\"\",\"B\",Master!BQ35)","v":"B"}]
[{"$f":"Master!A36","v":"SS"},{"$f":"Master!B36","v":"Microsoft Excel 2016 Essentials: Formulas and Functions"},{"$f":"Master!C36","v":"mo_beel_a04_dt_enus"},{"$f":"Master!D36","v":"OLT"},{"$f":"Master!E36","v":"Active"},{"$f":"Master!F36","v":0},{"$f":"Master!H36","v":0},{"$f":"IF(Master!N36=\"\",\"B\",Master!N36)","v":"R"},{"$f":"IF(Master!Y36=\"\",\"B\",Master!Y36)","v":"R"},{"$f":"IF(Master!AJ36=\"\",\"B\",Master!AJ36)","v":"B"},{"$f":"IF(Master!AU36=\"\",\"B\",Master!AU36)","v":"B"},{"$f":"IF(Master!BF36=\"\",\"B\",Master!BF36)","v":"B"},{"$f":"IF(Master!BQ36=\"\",\"B\",Master!BQ36)","v":"B"}]
[{"$f":"Master!A37","v":"SS"},{"$f":"Master!B37","v":"Microsoft Excel 2016 Essentials: Formatting Data"},{"$f":"Master!C37","v":"mo_beel_a02_dt_enus"},{"$f":"Master!D37","v":"OLT"},{"$f":"Master!E37","v":"Active"},{"$f":"Master!F37","v":0},{"$f":"Master!H37","v":0},{"$f":"IF(Master!N37=\"\",\"B\",Master!N37)","v":"R"},{"$f":"IF(Master!Y37=\"\",\"B\",Master!Y37)","v":"R"},{"$f":"IF(Master!AJ37=\"\",\"B\",Master!AJ37)","v":"B"},{"$f":"IF(Master!AU37=\"\",\"B\",Master!AU37)","v":"B"},{"$f":"IF(Master!BF37=\"\",\"B\",Master!BF37)","v":"B"},{"$f":"IF(Master!BQ37=\"\",\"B\",Master!BQ37)","v":"B"}]
[{"$f":"Master!A38","v":"SS"},{"$f":"Master!B38","v":"Microsoft Excel 2016 Essentials: Data Presentation Strategies"},{"$f":"Master!C38","v":"mo_beel_a03_dt_enus"},{"$f":"Master!D38","v":"OLT"},{"$f":"Master!E38","v":"Active"},{"$f":"Master!F38","v":0},{"$f":"Master!H38","v":0},{"$f":"IF(Master!N38=\"\",\"B\",Master!N38)","v":"R"},{"$f":"IF(Master!Y38=\"\",\"B\",Master!Y38)","v":"R"},{"$f":"IF(Master!AJ38=\"\",\"B\",Master!AJ38)","v":"B"},{"$f":"IF(Master!AU38=\"\",\"B\",Master!AU38)","v":"B"},{"$f":"IF(Master!BF38=\"\",\"B\",Master!BF38)","v":"B"},{"$f":"IF(Master!BQ38=\"\",\"B\",Master!BQ38)","v":"B"}]
[{"$f":"Master!A39","v":"SS"},{"$f":"Master!B39","v":"Microsoft Excel 2016 Essentials: Charts, Tables, and Images"},{"$f":"Master!C39","v":"mo_beel_a05_dt_enus"},{"$f":"Master!D39","v":"OLT"},{"$f":"Master!E39","v":"Active"},{"$f":"Master!F39","v":0},{"$f":"Master!H39","v":0},{"$f":"IF(Master!N39=\"\",\"B\",Master!N39)","v":"R"},{"$f":"IF(Master!Y39=\"\",\"B\",Master!Y39)","v":"R"},{"$f":"IF(Master!AJ39=\"\",\"B\",Master!AJ39)","v":"B"},{"$f":"IF(Master!AU39=\"\",\"B\",Master!AU39)","v":"B"},{"$f":"IF(Master!BF39=\"\",\"B\",Master!BF39)","v":"B"},{"$f":"IF(Master!BQ39=\"\",\"B\",Master!BQ39)","v":"B"}]
[{"$f":"Master!A40","v":"SS"},{"$f":"Master!B40","v":"Microsoft Office 2016 Intermediate Excel: Working with Data "},{"$f":"Master!C40","v":"mo_inel_a03_dt_enus"},{"$f":"Master!D40","v":"OLT"},{"$f":"Master!E40","v":"Active"},{"$f":"Master!F40","v":0},{"$f":"Master!H40","v":0},{"$f":"IF(Master!N40=\"\",\"B\",Master!N40)","v":2},{"$f":"IF(Master!Y40=\"\",\"B\",Master!Y40)","v":2},{"$f":"IF(Master!AJ40=\"\",\"B\",Master!AJ40)","v":2},{"$f":"IF(Master!AU40=\"\",\"B\",Master!AU40)","v":"B"},{"$f":"IF(Master!BF40=\"\",\"B\",Master!BF40)","v":"B"},{"$f":"IF(Master!BQ40=\"\",\"B\",Master!BQ40)","v":"B"}]
[{"$f":"Master!A41","v":"SS"},{"$f":"Master!B41","v":"Microsoft Office 2016 Intermediate Excel: Share, Review, and Collaborate "},{"$f":"Master!C41","v":"mo_inel_a06_dt_enus"},{"$f":"Master!D41","v":"OLT"},{"$f":"Master!E41","v":"Active"},{"$f":"Master!F41","v":0},{"$f":"Master!H41","v":0},{"$f":"IF(Master!N41=\"\",\"B\",Master!N41)","v":2},{"$f":"IF(Master!Y41=\"\",\"B\",Master!Y41)","v":2},{"$f":"IF(Master!AJ41=\"\",\"B\",Master!AJ41)","v":2},{"$f":"IF(Master!AU41=\"\",\"B\",Master!AU41)","v":"B"},{"$f":"IF(Master!BF41=\"\",\"B\",Master!BF41)","v":"B"},{"$f":"IF(Master!BQ41=\"\",\"B\",Master!BQ41)","v":"B"}]
[{"$f":"Master!A42","v":"SS"},{"$f":"Master!B42","v":"Microsoft Office 2016 Intermediate Excel: Creating Custom Visual Effects "},{"$f":"Master!C42","v":"mo_inel_a02_dt_enus"},{"$f":"Master!D42","v":"OLT"},{"$f":"Master!E42","v":"Active"},{"$f":"Master!F42","v":0},{"$f":"Master!H42","v":0},{"$f":"IF(Master!N42=\"\",\"B\",Master!N42)","v":2},{"$f":"IF(Master!Y42=\"\",\"B\",Master!Y42)","v":2},{"$f":"IF(Master!AJ42=\"\",\"B\",Master!AJ42)","v":2},{"$f":"IF(Master!AU42=\"\",\"B\",Master!AU42)","v":"B"},{"$f":"IF(Master!BF42=\"\",\"B\",Master!BF42)","v":"B"},{"$f":"IF(Master!BQ42=\"\",\"B\",Master!BQ42)","v":"B"}]
[{"$f":"Master!A43","v":"SS"},{"$f":"Master!B43","v":"Working with the Interface and Performing Basic Tasks in Word 2016 "},{"$f":"Master!C43","v":"mo_bewo_a01_dt_enus"},{"$f":"Master!D43","v":"OLT"},{"$f":"Master!E43","v":"Active"},{"$f":"Master!F43","v":0},{"$f":"Master!H43","v":0},{"$f":"IF(Master!N43=\"\",\"B\",Master!N43)","v":"R"},{"$f":"IF(Master!Y43=\"\",\"B\",Master!Y43)","v":"R"},{"$f":"IF(Master!AJ43=\"\",\"B\",Master!AJ43)","v":"B"},{"$f":"IF(Master!AU43=\"\",\"B\",Master!AU43)","v":"B"},{"$f":"IF(Master!BF43=\"\",\"B\",Master!BF43)","v":"B"},{"$f":"IF(Master!BQ43=\"\",\"B\",Master!BQ43)","v":"B"}]
[{"$f":"Master!A44","v":"SS"},{"$f":"Master!B44","v":"Formatting Text in Word 2016 "},{"$f":"Master!C44","v":"mo_bewo_a02_dt_enus"},{"$f":"Master!D44","v":"OLT"},{"$f":"Master!E44","v":"Active"},{"$f":"Master!F44","v":0},{"$f":"Master!H44","v":0},{"$f":"IF(Master!N44=\"\",\"B\",Master!N44)","v":"R"},{"$f":"IF(Master!Y44=\"\",\"B\",Master!Y44)","v":"R"},{"$f":"IF(Master!AJ44=\"\",\"B\",Master!AJ44)","v":"B"},{"$f":"IF(Master!AU44=\"\",\"B\",Master!AU44)","v":"B"},{"$f":"IF(Master!BF44=\"\",\"B\",Master!BF44)","v":"B"},{"$f":"IF(Master!BQ44=\"\",\"B\",Master!BQ44)","v":"B"}]
[{"$f":"Master!A45","v":"SS"},{"$f":"Master!B45","v":"Headers, Footers, Page Numbering, and Layout in Word 2016 "},{"$f":"Master!C45","v":"mo_bewo_a05_dt_enus"},{"$f":"Master!D45","v":"OLT"},{"$f":"Master!E45","v":"Active"},{"$f":"Master!F45","v":0},{"$f":"Master!H45","v":0},{"$f":"IF(Master!N45=\"\",\"B\",Master!N45)","v":"R"},{"$f":"IF(Master!Y45=\"\",\"B\",Master!Y45)","v":"R"},{"$f":"IF(Master!AJ45=\"\",\"B\",Master!AJ45)","v":"B"},{"$f":"IF(Master!AU45=\"\",\"B\",Master!AU45)","v":"B"},{"$f":"IF(Master!BF45=\"\",\"B\",Master!BF45)","v":"B"},{"$f":"IF(Master!BQ45=\"\",\"B\",Master!BQ45)","v":"B"}]
[{"$f":"Master!A46","v":"SS"},{"$f":"Master!B46","v":"Using the Navigation Pane and Creating Lists in Word 2016 "},{"$f":"Master!C46","v":"mo_bewo_a06_dt_enus"},{"$f":"Master!D46","v":"OLT"},{"$f":"Master!E46","v":"Active"},{"$f":"Master!F46","v":0},{"$f":"Master!H46","v":0},{"$f":"IF(Master!N46=\"\",\"B\",Master!N46)","v":"R"},{"$f":"IF(Master!Y46=\"\",\"B\",Master!Y46)","v":"R"},{"$f":"IF(Master!AJ46=\"\",\"B\",Master!AJ46)","v":"B"},{"$f":"IF(Master!AU46=\"\",\"B\",Master!AU46)","v":"B"},{"$f":"IF(Master!BF46=\"\",\"B\",Master!BF46)","v":"B"},{"$f":"IF(Master!BQ46=\"\",\"B\",Master!BQ46)","v":"B"}]
[{"$f":"Master!A47","v":"SS"},{"$f":"Master!B47","v":"Customizing Options and Using Document Views in Word 2016 "},{"$f":"Master!C47","v":"mo_bewo_a03_dt_enus"},{"$f":"Master!D47","v":"OLT"},{"$f":"Master!E47","v":"Active"},{"$f":"Master!F47","v":0},{"$f":"Master!H47","v":0},{"$f":"IF(Master!N47=\"\",\"B\",Master!N47)","v":2},{"$f":"IF(Master!Y47=\"\",\"B\",Master!Y47)","v":2},{"$f":"IF(Master!AJ47=\"\",\"B\",Master!AJ47)","v":2},{"$f":"IF(Master!AU47=\"\",\"B\",Master!AU47)","v":"B"},{"$f":"IF(Master!BF47=\"\",\"B\",Master!BF47)","v":"B"},{"$f":"IF(Master!BQ47=\"\",\"B\",Master!BQ47)","v":"B"}]
[{"$f":"Master!A48","v":"SS"},{"$f":"Master!B48","v":"Creating and Formatting Tables in Word 2016 "},{"$f":"Master!C48","v":"mo_bewo_a04_dt_enus"},{"$f":"Master!D48","v":"OLT"},{"$f":"Master!E48","v":"Active"},{"$f":"Master!F48","v":0},{"$f":"Master!H48","v":0},{"$f":"IF(Master!N48=\"\",\"B\",Master!N48)","v":2},{"$f":"IF(Master!Y48=\"\",\"B\",Master!Y48)","v":2},{"$f":"IF(Master!AJ48=\"\",\"B\",Master!AJ48)","v":2},{"$f":"IF(Master!AU48=\"\",\"B\",Master!AU48)","v":"B"},{"$f":"IF(Master!BF48=\"\",\"B\",Master!BF48)","v":"B"},{"$f":"IF(Master!BQ48=\"\",\"B\",Master!BQ48)","v":"B"}]
[{"$f":"Master!A49","v":"Human Resource"},null,null,null,null,null,null,{"$f":"IF(Master!N49=\"\",\"B\",Master!N49)","v":"B"},{"$f":"IF(Master!Y49=\"\",\"B\",Master!Y49)","v":"B"},{"$f":"IF(Master!AJ49=\"\",\"B\",Master!AJ49)","v":"B"},{"$f":"IF(Master!AU49=\"\",\"B\",Master!AU49)","v":"B"},{"$f":"IF(Master!BF49=\"\",\"B\",Master!BF49)","v":"B"},{"$f":"IF(Master!BQ49=\"\",\"B\",Master!BQ49)","v":"B"}]
[{"$f":"Master!A50","v":"Conflict Management - The following two courses are available"},null,null,null,null,null,null,{"$f":"IF(Master!N50=\"\",\"B\",Master!N50)","v":"B"},{"$f":"IF(Master!Y50=\"\",\"B\",Master!Y50)","v":"B"},{"$f":"IF(Master!AJ50=\"\",\"B\",Master!AJ50)","v":"B"},{"$f":"IF(Master!AU50=\"\",\"B\",Master!AU50)","v":"B"},{"$f":"IF(Master!BF50=\"\",\"B\",Master!BF50)","v":"B"},{"$f":"IF(Master!BQ50=\"\",\"B\",Master!BQ50)","v":"B"}]
[{"$f":"Master!A51","v":"SS"},{"$f":"Master!B51","v":"Preparing for a Difficult Conversation"},{"$f":"Master!C51","v":"mgmt_36_a01_bs_enus"},{"$f":"Master!D51","v":"OLT"},{"$f":"Master!E51","v":"Active"},{"$f":"Master!F51","v":0},{"$f":"Master!H51","v":"Take this course first."},{"$f":"IF(Master!N51=\"\",\"B\",Master!N51)","v":2},{"$f":"IF(Master!Y51=\"\",\"B\",Master!Y51)","v":2},{"$f":"IF(Master!AJ51=\"\",\"B\",Master!AJ51)","v":2},{"$f":"IF(Master!AU51=\"\",\"B\",Master!AU51)","v":1},{"$f":"IF(Master!BF51=\"\",\"B\",Master!BF51)","v":1},{"$f":"IF(Master!BQ51=\"\",\"B\",Master!BQ51)","v":1}]
[{"$f":"Master!A52","v":"ES"},{"$f":"Master!B52","v":"Managing Emotions in the Workplace"},{"$f":"Master!C52","v":"Enterprise Services Course\n1/2 Day - $100"},{"$f":"Master!D52","v":"ILT"},{"$f":"Master!E52","v":"Active"},{"$f":"Master!F52","v":0},{"$f":"Master!H52","v":"To register for this course, \ncall the LMS Helpdesk at \n360-705-7060."},{"$f":"IF(Master!N52=\"\",\"B\",Master!N52)","v":2},{"$f":"IF(Master!Y52=\"\",\"B\",Master!Y52)","v":2},{"$f":"IF(Master!AJ52=\"\",\"B\",Master!AJ52)","v":2},{"$f":"IF(Master!AU52=\"\",\"B\",Master!AU52)","v":1},{"$f":"IF(Master!BF52=\"\",\"B\",Master!BF52)","v":1},{"$f":"IF(Master!BQ52=\"\",\"B\",Master!BQ52)","v":1}]
[{"$f":"Master!A53","v":"Interpersonal Communications - The following two courses are available"},null,null,null,null,null,null,{"$f":"IF(Master!N53=\"\",\"B\",Master!N53)","v":"B"},{"$f":"IF(Master!Y53=\"\",\"B\",Master!Y53)","v":"B"},{"$f":"IF(Master!AJ53=\"\",\"B\",Master!AJ53)","v":"B"},{"$f":"IF(Master!AU53=\"\",\"B\",Master!AU53)","v":"B"},{"$f":"IF(Master!BF53=\"\",\"B\",Master!BF53)","v":"B"},{"$f":"IF(Master!BQ53=\"\",\"B\",Master!BQ53)","v":"B"}]
[{"$f":"Master!A54","v":"SS"},{"$f":"Master!B54","v":"Difficult People: Strategies to Keep Everyone Working Together"},{"$f":"Master!C54","v":"comm_46_a03_bs_enus"},{"$f":"Master!D54","v":"OLT"},{"$f":"Master!E54","v":"Active"},{"$f":"Master!F54","v":0},{"$f":"Master!H54","v":"Take this course first."},{"$f":"IF(Master!N54=\"\",\"B\",Master!N54)","v":1},{"$f":"IF(Master!Y54=\"\",\"B\",Master!Y54)","v":1},{"$f":"IF(Master!AJ54=\"\",\"B\",Master!AJ54)","v":1},{"$f":"IF(Master!AU54=\"\",\"B\",Master!AU54)","v":1},{"$f":"IF(Master!BF54=\"\",\"B\",Master!BF54)","v":1},{"$f":"IF(Master!BQ54=\"\",\"B\",Master!BQ54)","v":1}]
[{"$f":"Master!A55","v":"ES"},{"$f":"Master!B55","v":"Interpersonal Communication Skills"},{"$f":"Master!C55","v":"Enterprise Services Course\nTwo Days - $195"},{"$f":"Master!D55","v":"ILT"},{"$f":"Master!E55","v":"Active"},{"$f":"Master!F55","v":0},{"$f":"Master!H55","v":"To register for this course, \ncall the LMS Helpdesk at \n360-705-7060."},{"$f":"IF(Master!N55=\"\",\"B\",Master!N55)","v":1},{"$f":"IF(Master!Y55=\"\",\"B\",Master!Y55)","v":1},{"$f":"IF(Master!AJ55=\"\",\"B\",Master!AJ55)","v":1},{"$f":"IF(Master!AU55=\"\",\"B\",Master!AU55)","v":1},{"$f":"IF(Master!BF55=\"\",\"B\",Master!BF55)","v":1},{"$f":"IF(Master!BQ55=\"\",\"B\",Master!BQ55)","v":1}]
[{"$f":"Master!A56","v":"Interpersonal Communications - The following two courses are available"},null,null,null,null,null,null,{"$f":"IF(Master!N56=\"\",\"B\",Master!N56)","v":"B"},{"$f":"IF(Master!Y56=\"\",\"B\",Master!Y56)","v":"B"},{"$f":"IF(Master!AJ56=\"\",\"B\",Master!AJ56)","v":"B"},{"$f":"IF(Master!AU56=\"\",\"B\",Master!AU56)","v":"B"},{"$f":"IF(Master!BF56=\"\",\"B\",Master!BF56)","v":"B"},{"$f":"IF(Master!BQ56=\"\",\"B\",Master!BQ56)","v":"B"}]
[{"$f":"Master!A57","v":"SS"},{"$f":"Master!B57","v":"Active Listening Skills for Professionals"},{"$f":"Master!C57","v":"comm_43_a03_bs_enus"},{"$f":"Master!D57","v":"OLT"},{"$f":"Master!E57","v":"Active"},{"$f":"Master!F57","v":0},{"$f":"Master!H57","v":"Take this course first."},{"$f":"IF(Master!N57=\"\",\"B\",Master!N57)","v":1},{"$f":"IF(Master!Y57=\"\",\"B\",Master!Y57)","v":1},{"$f":"IF(Master!AJ57=\"\",\"B\",Master!AJ57)","v":1},{"$f":"IF(Master!AU57=\"\",\"B\",Master!AU57)","v":1},{"$f":"IF(Master!BF57=\"\",\"B\",Master!BF57)","v":1},{"$f":"IF(Master!BQ57=\"\",\"B\",Master!BQ57)","v":1}]
[{"$f":"Master!A58","v":"ES"},{"$f":"Master!B58","v":"Crucial Conversations"},{"$f":"Master!C58","v":"Enterprise Services Course\nTwo Days - $450"},{"$f":"Master!D58","v":"ILT"},{"$f":"Master!E58","v":"Active"},{"$f":"Master!F58","v":0},{"$f":"Master!H58","v":"To register for this course, \ncall the LMS Helpdesk at \n360-705-7060."},{"$f":"IF(Master!N58=\"\",\"B\",Master!N58)","v":1},{"$f":"IF(Master!Y58=\"\",\"B\",Master!Y58)","v":1},{"$f":"IF(Master!AJ58=\"\",\"B\",Master!AJ58)","v":1},{"$f":"IF(Master!AU58=\"\",\"B\",Master!AU58)","v":1},{"$f":"IF(Master!BF58=\"\",\"B\",Master!BF58)","v":1},{"$f":"IF(Master!BQ58=\"\",\"B\",Master!BQ58)","v":1}]
[{"$f":"Master!A59","v":"Oral Presentation Techniques"},null,null,null,null,null,null,{"$f":"IF(Master!N59=\"\",\"B\",Master!N59)","v":"B"},{"$f":"IF(Master!Y59=\"\",\"B\",Master!Y59)","v":"B"},{"$f":"IF(Master!AJ59=\"\",\"B\",Master!AJ59)","v":"B"},{"$f":"IF(Master!AU59=\"\",\"B\",Master!AU59)","v":"B"},{"$f":"IF(Master!BF59=\"\",\"B\",Master!BF59)","v":"B"},{"$f":"IF(Master!BQ59=\"\",\"B\",Master!BQ59)","v":"B"}]
[{"$f":"Master!A60","v":"ES"},{"$f":"Master!B60","v":"Presentation & Training Design & Delivery "},{"$f":"Master!C60","v":"Enterprise Services Course \nTwo Days - $205"},{"$f":"Master!D60","v":"ILT"},{"$f":"Master!E60","v":"Active"},{"$f":"Master!F60","v":0},{"$f":"Master!H60","v":"To register for this course, \ncall the LMS Helpdesk at \n360-705-7060."},{"$f":"IF(Master!N60=\"\",\"B\",Master!N60)","v":"B"},{"$f":"IF(Master!Y60=\"\",\"B\",Master!Y60)","v":"B"},{"$f":"IF(Master!AJ60=\"\",\"B\",Master!AJ60)","v":"B"},{"$f":"IF(Master!AU60=\"\",\"B\",Master!AU60)","v":"B"},{"$f":"IF(Master!BF60=\"\",\"B\",Master!BF60)","v":2},{"$f":"IF(Master!BQ60=\"\",\"B\",Master!BQ60)","v":1}]
[{"$f":"Master!A61","v":"Stress Management -  The following two courses are available"},null,null,null,null,null,null,{"$f":"IF(Master!N61=\"\",\"B\",Master!N61)","v":"B"},{"$f":"IF(Master!Y61=\"\",\"B\",Master!Y61)","v":"B"},{"$f":"IF(Master!AJ61=\"\",\"B\",Master!AJ61)","v":"B"},{"$f":"IF(Master!AU61=\"\",\"B\",Master!AU61)","v":"B"},{"$f":"IF(Master!BF61=\"\",\"B\",Master!BF61)","v":"B"},{"$f":"IF(Master!BQ61=\"\",\"B\",Master!BQ61)","v":"B"}]
[{"$f":"Master!A62","v":"SS"},{"$f":"Master!B62","v":"Conflict, Stress, and Time Management"},{"$f":"Master!C62","v":"cust_07_a03_bs_enus"},{"$f":"Master!D62","v":"OLT"},{"$f":"Master!E62","v":"Active"},{"$f":"Master!F62","v":0},{"$f":"Master!H62","v":"Take this course first."},{"$f":"IF(Master!N62=\"\",\"B\",Master!N62)","v":1},{"$f":"IF(Master!Y62=\"\",\"B\",Master!Y62)","v":1},{"$f":"IF(Master!AJ62=\"\",\"B\",Master!AJ62)","v":1},{"$f":"IF(Master!AU62=\"\",\"B\",Master!AU62)","v":1},{"$f":"IF(Master!BF62=\"\",\"B\",Master!BF62)","v":1},{"$f":"IF(Master!BQ62=\"\",\"B\",Master!BQ62)","v":1}]
[{"$f":"Master!A63","v":"ES"},{"$f":"Master!B63","v":"Managing Job Stress"},{"$f":"Master!C63","v":"Enterprise Services Course\nOne Day - $135"},{"$f":"Master!D63","v":"ILT"},{"$f":"Master!E63","v":"Active"},{"$f":"Master!F63","v":0},{"$f":"Master!H63","v":"To register for this course, \ncall the LMS Helpdesk at \n360-705-7060."},{"$f":"IF(Master!N63=\"\",\"B\",Master!N63)","v":1},{"$f":"IF(Master!Y63=\"\",\"B\",Master!Y63)","v":1},{"$f":"IF(Master!AJ63=\"\",\"B\",Master!AJ63)","v":1},{"$f":"IF(Master!AU63=\"\",\"B\",Master!AU63)","v":1},{"$f":"IF(Master!BF63=\"\",\"B\",Master!BF63)","v":1},{"$f":"IF(Master!BQ63=\"\",\"B\",Master!BQ63)","v":1}]
[{"$f":"Master!A64","v":"Time Management -  The following six courses are available"},null,null,null,null,null,null,{"$f":"IF(Master!N64=\"\",\"B\",Master!N64)","v":"B"},{"$f":"IF(Master!Y64=\"\",\"B\",Master!Y64)","v":"B"},{"$f":"IF(Master!AJ64=\"\",\"B\",Master!AJ64)","v":"B"},{"$f":"IF(Master!AU64=\"\",\"B\",Master!AU64)","v":"B"},{"$f":"IF(Master!BF64=\"\",\"B\",Master!BF64)","v":"B"},{"$f":"IF(Master!BQ64=\"\",\"B\",Master!BQ64)","v":"B"}]
[{"$f":"Master!A65","v":"SS"},{"$f":"Master!B65","v":"Getting Time under Control"},{"$f":"Master!C65","v":"_pc_ch_pach021"},{"$f":"Master!D65","v":"OLT"},{"$f":"Master!E65","v":"Active"},{"$f":"Master!F65","v":0},{"$f":"Master!H65","v":"Take this course before the Enterprise Services course"},{"$f":"IF(Master!N65=\"\",\"B\",Master!N65)","v":1},{"$f":"IF(Master!Y65=\"\",\"B\",Master!Y65)","v":1},{"$f":"IF(Master!AJ65=\"\",\"B\",Master!AJ65)","v":1},{"$f":"IF(Master!AU65=\"\",\"B\",Master!AU65)","v":1},{"$f":"IF(Master!BF65=\"\",\"B\",Master!BF65)","v":1},{"$f":"IF(Master!BQ65=\"\",\"B\",Master!BQ65)","v":1}]
[{"$f":"Master!A66","v":"SS"},{"$f":"Master!B66","v":"Make the Time You Need: Get Organized"},{"$f":"Master!C66","v":"apd_08_a02_bs_enus"},{"$f":"Master!D66","v":"OLT"},{"$f":"Master!E66","v":"Active"},{"$f":"Master!F66","v":0},{"$f":"Master!H66","v":"Take this course before the Enterprise Services course"},{"$f":"IF(Master!N66=\"\",\"B\",Master!N66)","v":1},{"$f":"IF(Master!Y66=\"\",\"B\",Master!Y66)","v":1},{"$f":"IF(Master!AJ66=\"\",\"B\",Master!AJ66)","v":1},{"$f":"IF(Master!AU66=\"\",\"B\",Master!AU66)","v":1},{"$f":"IF(Master!BF66=\"\",\"B\",Master!BF66)","v":1},{"$f":"IF(Master!BQ66=\"\",\"B\",Master!BQ66)","v":1}]
[{"$f":"Master!A67","v":"SS"},{"$f":"Master!B67","v":"Time Management: Too Much to Do and Too Little Time"},{"$f":"Master!C67","v":"pd_20_a01_bs_enus"},{"$f":"Master!D67","v":"OLT"},{"$f":"Master!E67","v":"Active"},{"$f":"Master!F67","v":0},{"$f":"Master!H67","v":"Take this course before the Enterprise Services course"},{"$f":"IF(Master!N67=\"\",\"B\",Master!N67)","v":1},{"$f":"IF(Master!Y67=\"\",\"B\",Master!Y67)","v":1},{"$f":"IF(Master!AJ67=\"\",\"B\",Master!AJ67)","v":1},{"$f":"IF(Master!AU67=\"\",\"B\",Master!AU67)","v":1},{"$f":"IF(Master!BF67=\"\",\"B\",Master!BF67)","v":1},{"$f":"IF(Master!BQ67=\"\",\"B\",Master!BQ67)","v":1}]
[{"$f":"Master!A68","v":"SS"},{"$f":"Master!B68","v":"Time Management: Quit Making Excuses and Make Time Instead"},{"$f":"Master!C68","v":"pd_20_a02_bs_enus"},{"$f":"Master!D68","v":"OLT"},{"$f":"Master!E68","v":"Active"},{"$f":"Master!F68","v":0},{"$f":"Master!H68","v":"Take this course before the Enterprise Services course"},{"$f":"IF(Master!N68=\"\",\"B\",Master!N68)","v":1},{"$f":"IF(Master!Y68=\"\",\"B\",Master!Y68)","v":1},{"$f":"IF(Master!AJ68=\"\",\"B\",Master!AJ68)","v":1},{"$f":"IF(Master!AU68=\"\",\"B\",Master!AU68)","v":1},{"$f":"IF(Master!BF68=\"\",\"B\",Master!BF68)","v":1},{"$f":"IF(Master!BQ68=\"\",\"B\",Master!BQ68)","v":1}]
[{"$f":"Master!A69","v":"SS"},{"$f":"Master!B69","v":"Time Management: Ready, Set…Focus!"},{"$f":"Master!C69","v":"pd_20_a03_bs_enus"},{"$f":"Master!D69","v":"OLT"},{"$f":"Master!E69","v":"Active"},{"$f":"Master!F69","v":0},{"$f":"Master!H69","v":"Take this course before the Enterprise Services course"},{"$f":"IF(Master!N69=\"\",\"B\",Master!N69)","v":1},{"$f":"IF(Master!Y69=\"\",\"B\",Master!Y69)","v":1},{"$f":"IF(Master!AJ69=\"\",\"B\",Master!AJ69)","v":1},{"$f":"IF(Master!AU69=\"\",\"B\",Master!AU69)","v":1},{"$f":"IF(Master!BF69=\"\",\"B\",Master!BF69)","v":1},{"$f":"IF(Master!BQ69=\"\",\"B\",Master!BQ69)","v":1}]
[{"$f":"Master!A70","v":"ES"},{"$f":"Master!B70","v":"Time Management"},{"$f":"Master!C70","v":"Enterprise Services Course\nOne Day - $135"},{"$f":"Master!D70","v":"ILT"},{"$f":"Master!E70","v":"Active"},{"$f":"Master!F70","v":0},{"$f":"Master!H70","v":"To register for this course, \ncall the LMS Helpdesk at \n360-705-7060."},{"$f":"IF(Master!N70=\"\",\"B\",Master!N70)","v":1},{"$f":"IF(Master!Y70=\"\",\"B\",Master!Y70)","v":1},{"$f":"IF(Master!AJ70=\"\",\"B\",Master!AJ70)","v":1},{"$f":"IF(Master!AU70=\"\",\"B\",Master!AU70)","v":1},{"$f":"IF(Master!BF70=\"\",\"B\",Master!BF70)","v":1},{"$f":"IF(Master!BQ70=\"\",\"B\",Master!BQ70)","v":1}]
[{"$f":"Master!A71","v":"Technical Writing -  The following five courses are available"},null,null,null,null,null,null,{"$f":"IF(Master!N71=\"\",\"B\",Master!N71)","v":"B"},{"$f":"IF(Master!Y71=\"\",\"B\",Master!Y71)","v":"B"},{"$f":"IF(Master!AJ71=\"\",\"B\",Master!AJ71)","v":"B"},{"$f":"IF(Master!AU71=\"\",\"B\",Master!AU71)","v":"B"},{"$f":"IF(Master!BF71=\"\",\"B\",Master!BF71)","v":"B"},{"$f":"IF(Master!BQ71=\"\",\"B\",Master!BQ71)","v":"B"}]
[{"$f":"Master!A72","v":"SS"},{"$f":"Master!B72","v":"Improving Your Technical Writing Skills"},{"$f":"Master!C72","v":"acm_06_a01_it_enus"},{"$f":"Master!D72","v":"OLT"},{"$f":"Master!E72","v":"Active"},{"$f":"Master!F72","v":0},{"$f":"Master!H72","v":0},{"$f":"IF(Master!N72=\"\",\"B\",Master!N72)","v":2},{"$f":"IF(Master!Y72=\"\",\"B\",Master!Y72)","v":2},{"$f":"IF(Master!AJ72=\"\",\"B\",Master!AJ72)","v":2},{"$f":"IF(Master!AU72=\"\",\"B\",Master!AU72)","v":2},{"$f":"IF(Master!BF72=\"\",\"B\",Master!BF72)","v":"B"},{"$f":"IF(Master!BQ72=\"\",\"B\",Master!BQ72)","v":"B"}]
[{"$f":"Master!A73","v":"SS"},{"$f":"Master!B73","v":"Writing for Technical Professionals: Effective Writing Techniques"},{"$f":"Master!C73","v":"ib_wstp_a02_it_enus"},{"$f":"Master!D73","v":"OLT"},{"$f":"Master!E73","v":"Active"},{"$f":"Master!F73","v":0},{"$f":"Master!H73","v":0},{"$f":"IF(Master!N73=\"\",\"B\",Master!N73)","v":2},{"$f":"IF(Master!Y73=\"\",\"B\",Master!Y73)","v":2},{"$f":"IF(Master!AJ73=\"\",\"B\",Master!AJ73)","v":2},{"$f":"IF(Master!AU73=\"\",\"B\",Master!AU73)","v":2},{"$f":"IF(Master!BF73=\"\",\"B\",Master!BF73)","v":"B"},{"$f":"IF(Master!BQ73=\"\",\"B\",Master!BQ73)","v":"B"}]
[{"$f":"Master!A74","v":"SS"},{"$f":"Master!B74","v":"Writing for Technical Professionals: Preparation and Planning"},{"$f":"Master!C74","v":"ib_wstp_a01_it_enus"},{"$f":"Master!D74","v":"OLT"},{"$f":"Master!E74","v":"Active"},{"$f":"Master!F74","v":0},{"$f":"Master!H74","v":0},{"$f":"IF(Master!N74=\"\",\"B\",Master!N74)","v":2},{"$f":"IF(Master!Y74=\"\",\"B\",Master!Y74)","v":2},{"$f":"IF(Master!AJ74=\"\",\"B\",Master!AJ74)","v":2},{"$f":"IF(Master!AU74=\"\",\"B\",Master!AU74)","v":2},{"$f":"IF(Master!BF74=\"\",\"B\",Master!BF74)","v":"B"},{"$f":"IF(Master!BQ74=\"\",\"B\",Master!BQ74)","v":"B"}]
[{"$f":"Master!A75","v":"ES"},{"$f":"Master!B75","v":"Technical Writing: Tricks of the Trade"},{"$f":"Master!C75","v":"Enterprise Services Course\nTwo Day Course - $185"},{"$f":"Master!D75","v":"ILT"},{"$f":"Master!E75","v":"Active"},{"$f":"Master!F75","v":0},{"$f":"Master!H75","v":"To register for this course, call the LMS Helpdesk at \n360-705-7060."},{"$f":"IF(Master!N75=\"\",\"B\",Master!N75)","v":2},{"$f":"IF(Master!Y75=\"\",\"B\",Master!Y75)","v":2},{"$f":"IF(Master!AJ75=\"\",\"B\",Master!AJ75)","v":2},{"$f":"IF(Master!AU75=\"\",\"B\",Master!AU75)","v":2},{"$f":"IF(Master!BF75=\"\",\"B\",Master!BF75)","v":"B"},{"$f":"IF(Master!BQ75=\"\",\"B\",Master!BQ75)","v":"B"}]
[{"$f":"Master!A76","v":"ES"},{"$f":"Master!B76","v":"Writing Skills"},{"$f":"Master!C76","v":"Enterprise Services Course\nOne Day - $145"},{"$f":"Master!D76","v":"ILT"},{"$f":"Master!E76","v":"Active"},{"$f":"Master!F76","v":0},{"$f":"Master!H76","v":"To register for this course, \ncall the LMS Helpdesk at \n360-705-7060."},{"$f":"IF(Master!N76=\"\",\"B\",Master!N76)","v":2},{"$f":"IF(Master!Y76=\"\",\"B\",Master!Y76)","v":2},{"$f":"IF(Master!AJ76=\"\",\"B\",Master!AJ76)","v":2},{"$f":"IF(Master!AU76=\"\",\"B\",Master!AU76)","v":2},{"$f":"IF(Master!BF76=\"\",\"B\",Master!BF76)","v":"B"},{"$f":"IF(Master!BQ76=\"\",\"B\",Master!BQ76)","v":"B"}]
[{"$f":"Master!A77","v":"Effective Meeting Management -  The following six courses are available"},null,null,null,null,null,null,{"$f":"IF(Master!N77=\"\",\"B\",Master!N77)","v":"B"},{"$f":"IF(Master!Y77=\"\",\"B\",Master!Y77)","v":"B"},{"$f":"IF(Master!AJ77=\"\",\"B\",Master!AJ77)","v":"B"},{"$f":"IF(Master!AU77=\"\",\"B\",Master!AU77)","v":"B"},{"$f":"IF(Master!BF77=\"\",\"B\",Master!BF77)","v":"B"},{"$f":"IF(Master!BQ77=\"\",\"B\",Master!BQ77)","v":"B"}]
[{"$f":"Master!A78","v":"SS"},{"$f":"Master!B78","v":"Dealing with Common Meeting Problems"},{"$f":"Master!C78","v":"comm_32_a03_bs_enus"},{"$f":"Master!D78","v":"OLT"},{"$f":"Master!E78","v":"Active"},{"$f":"Master!F78","v":0},{"$f":"Master!H78","v":0},{"$f":"IF(Master!N78=\"\",\"B\",Master!N78)","v":"B"},{"$f":"IF(Master!Y78=\"\",\"B\",Master!Y78)","v":"B"},{"$f":"IF(Master!AJ78=\"\",\"B\",Master!AJ78)","v":"B"},{"$f":"IF(Master!AU78=\"\",\"B\",Master!AU78)","v":"B"},{"$f":"IF(Master!BF78=\"\",\"B\",Master!BF78)","v":"B"},{"$f":"IF(Master!BQ78=\"\",\"B\",Master!BQ78)","v":"B"}]
[{"$f":"Master!A79","v":"SS"},{"$f":"Master!B79","v":"Preparing for Effective Business Meetings"},{"$f":"Master!C79","v":"comm_32_a01_bs_enus"},{"$f":"Master!D79","v":"OLT"},{"$f":"Master!E79","v":"Active"},{"$f":"Master!F79","v":0},{"$f":"Master!H79","v":0},{"$f":"IF(Master!N79=\"\",\"B\",Master!N79)","v":"B"},{"$f":"IF(Master!Y79=\"\",\"B\",Master!Y79)","v":"B"},{"$f":"IF(Master!AJ79=\"\",\"B\",Master!AJ79)","v":"B"},{"$f":"IF(Master!AU79=\"\",\"B\",Master!AU79)","v":"B"},{"$f":"IF(Master!BF79=\"\",\"B\",Master!BF79)","v":"B"},{"$f":"IF(Master!BQ79=\"\",\"B\",Master!BQ79)","v":"B"}]
[{"$f":"Master!A80","v":"SS"},{"$f":"Master!B80","v":"Planning Meetings Fit for Purpose"},{"$f":"Master!C80","v":"comm_50_a01_bs_enus"},{"$f":"Master!D80","v":"OLT"},{"$f":"Master!E80","v":"Active"},{"$f":"Master!F80","v":0},{"$f":"Master!H80","v":0},{"$f":"IF(Master!N80=\"\",\"B\",Master!N80)","v":"B"},{"$f":"IF(Master!Y80=\"\",\"B\",Master!Y80)","v":"B"},{"$f":"IF(Master!AJ80=\"\",\"B\",Master!AJ80)","v":"B"},{"$f":"IF(Master!AU80=\"\",\"B\",Master!AU80)","v":"B"},{"$f":"IF(Master!BF80=\"\",\"B\",Master!BF80)","v":"B"},{"$f":"IF(Master!BQ80=\"\",\"B\",Master!BQ80)","v":"B"}]
[{"$f":"Master!A81","v":"SS"},{"$f":"Master!B81","v":"Managing Effective Business Meetings"},{"$f":"Master!C81","v":"comm_32_a02_bs_enus"},{"$f":"Master!D81","v":"OLT"},{"$f":"Master!E81","v":"Active"},{"$f":"Master!F81","v":0},{"$f":"Master!H81","v":0},{"$f":"IF(Master!N81=\"\",\"B\",Master!N81)","v":"B"},{"$f":"IF(Master!Y81=\"\",\"B\",Master!Y81)","v":"B"},{"$f":"IF(Master!AJ81=\"\",\"B\",Master!AJ81)","v":"B"},{"$f":"IF(Master!AU81=\"\",\"B\",Master!AU81)","v":"B"},{"$f":"IF(Master!BF81=\"\",\"B\",Master!BF81)","v":"B"},{"$f":"IF(Master!BQ81=\"\",\"B\",Master!BQ81)","v":"B"}]
[{"$f":"Master!A82","v":"SS"},{"$f":"Master!B82","v":"Running Meetings in Better Directions"},{"$f":"Master!C82","v":"comm_50_a02_bs_enus"},{"$f":"Master!D82","v":"OLT"},{"$f":"Master!E82","v":"Active"},{"$f":"Master!F82","v":0},{"$f":"Master!H82","v":0},{"$f":"IF(Master!N82=\"\",\"B\",Master!N82)","v":"B"},{"$f":"IF(Master!Y82=\"\",\"B\",Master!Y82)","v":"B"},{"$f":"IF(Master!AJ82=\"\",\"B\",Master!AJ82)","v":"B"},{"$f":"IF(Master!AU82=\"\",\"B\",Master!AU82)","v":"B"},{"$f":"IF(Master!BF82=\"\",\"B\",Master!BF82)","v":"B"},{"$f":"IF(Master!BQ82=\"\",\"B\",Master!BQ82)","v":"B"}]
[{"$f":"Master!A83","v":"ES"},{"$f":"Master!B83","v":"Effective Meeting Management  (or one of the following five SkillSoft)"},{"$f":"Master!C83","v":"Enterprise Services Course\nOne Day - $165"},{"$f":"Master!D83","v":"ILT"},{"$f":"Master!E83","v":"Active"},{"$f":"Master!F83","v":0},{"$f":"Master!H83","v":"To register for this course, call the LMS Helpdesk at \n360-705-7060."},{"$f":"IF(Master!N83=\"\",\"B\",Master!N83)","v":"B"},{"$f":"IF(Master!Y83=\"\",\"B\",Master!Y83)","v":"B"},{"$f":"IF(Master!AJ83=\"\",\"B\",Master!AJ83)","v":"B"},{"$f":"IF(Master!AU83=\"\",\"B\",Master!AU83)","v":"B"},{"$f":"IF(Master!BF83=\"\",\"B\",Master!BF83)","v":"B"},{"$f":"IF(Master!BQ83=\"\",\"B\",Master!BQ83)","v":"B"}]
[{"$f":"Master!A84","v":"Enhanced Leadership for WSDOT"},null,null,null,null,null,null,{"$f":"IF(Master!N84=\"\",\"B\",Master!N84)","v":"B"},{"$f":"IF(Master!Y84=\"\",\"B\",Master!Y84)","v":"B"},{"$f":"IF(Master!AJ84=\"\",\"B\",Master!AJ84)","v":"B"},{"$f":"IF(Master!AU84=\"\",\"B\",Master!AU84)","v":"B"},{"$f":"IF(Master!BF84=\"\",\"B\",Master!BF84)","v":"B"},{"$f":"IF(Master!BQ84=\"\",\"B\",Master!BQ84)","v":"B"}]
[{"$f":"Master!A85","v":"ES"},{"$f":"Master!B85","v":"Leading Teams"},{"$f":"Master!C85","v":"Enterprise Services Course\nThree Days - $500"},{"$f":"Master!D85","v":"ILT"},{"$f":"Master!E85","v":"Active"},{"$f":"Master!F85","v":0},{"$f":"Master!H85","v":"To register for this course, \ncall the LMS Helpdesk at \n360-705-7060."},{"$f":"IF(Master!N85=\"\",\"B\",Master!N85)","v":"B"},{"$f":"IF(Master!Y85=\"\",\"B\",Master!Y85)","v":"B"},{"$f":"IF(Master!AJ85=\"\",\"B\",Master!AJ85)","v":"B"},{"$f":"IF(Master!AU85=\"\",\"B\",Master!AU85)","v":"B"},{"$f":"IF(Master!BF85=\"\",\"B\",Master!BF85)","v":"B"},{"$f":"IF(Master!BQ85=\"\",\"B\",Master!BQ85)","v":2}]
[{"$f":"Master!A86","v":"Entry Management Development"},null,null,null,null,null,null,{"$f":"IF(Master!N86=\"\",\"B\",Master!N86)","v":"B"},{"$f":"IF(Master!Y86=\"\",\"B\",Master!Y86)","v":"B"},{"$f":"IF(Master!AJ86=\"\",\"B\",Master!AJ86)","v":"B"},{"$f":"IF(Master!AU86=\"\",\"B\",Master!AU86)","v":"B"},{"$f":"IF(Master!BF86=\"\",\"B\",Master!BF86)","v":"B"},{"$f":"IF(Master!BQ86=\"\",\"B\",Master!BQ86)","v":"B"}]
[{"$f":"Master!A87","v":"ES"},{"$f":"Master!B87","v":"Leading Others"},{"$f":"Master!C87","v":"Enterprise Services Course\nFour Days - $500"},{"$f":"Master!D87","v":"ILT"},{"$f":"Master!E87","v":"Active"},{"$f":"Master!F87","v":0},{"$f":"Master!H87","v":"To register for this course, \ncall the LMS Helpdesk at \n360-705-7060."},{"$f":"IF(Master!N87=\"\",\"B\",Master!N87)","v":"B"},{"$f":"IF(Master!Y87=\"\",\"B\",Master!Y87)","v":"B"},{"$f":"IF(Master!AJ87=\"\",\"B\",Master!AJ87)","v":"B"},{"$f":"IF(Master!AU87=\"\",\"B\",Master!AU87)","v":"B"},{"$f":"IF(Master!BF87=\"\",\"B\",Master!BF87)","v":2},{"$f":"IF(Master!BQ87=\"\",\"B\",Master!BQ87)","v":1}]
[{"$f":"Master!A88","v":"ES"},{"$f":"Master!B88","v":"Supervision Essentials-Phase II (Prerequisite is Leading Others)"},{"$f":"Master!C88","v":"Enterprise Services Course\nTwo Days - $285"},{"$f":"Master!D88","v":"ILT"},{"$f":"Master!E88","v":"Active"},{"$f":"Master!F88","v":0},{"$f":"Master!H88","v":"To register for this course, \ncall the LMS Helpdesk at \n360-705-7060."},{"$f":"IF(Master!N88=\"\",\"B\",Master!N88)","v":"B"},{"$f":"IF(Master!Y88=\"\",\"B\",Master!Y88)","v":"B"},{"$f":"IF(Master!AJ88=\"\",\"B\",Master!AJ88)","v":"B"},{"$f":"IF(Master!AU88=\"\",\"B\",Master!AU88)","v":"B"},{"$f":"IF(Master!BF88=\"\",\"B\",Master!BF88)","v":"B"},{"$f":"IF(Master!BQ88=\"\",\"B\",Master!BQ88)","v":2}]
[{"$f":"Master!A89","v":"Safety"},null,null,null,null,null,null,{"$f":"IF(Master!N89=\"\",\"B\",Master!N89)","v":"B"},{"$f":"IF(Master!Y89=\"\",\"B\",Master!Y89)","v":"B"},{"$f":"IF(Master!AJ89=\"\",\"B\",Master!AJ89)","v":"B"},{"$f":"IF(Master!AU89=\"\",\"B\",Master!AU89)","v":"B"},{"$f":"IF(Master!BF89=\"\",\"B\",Master!BF89)","v":"B"},{"$f":"IF(Master!BQ89=\"\",\"B\",Master!BQ89)","v":"B"}]
[{"$f":"Master!A90","v":"SAFE"},{"$f":"Master!B90","v":"WSDOT SAFE: FALL PROTECTION"},{"$f":"Master!C90","v":"WSDOT_BN9"},{"$f":"Master!D90","v":"ILT"},{"$f":"Master!E90","v":"Active"},{"$f":"Master!F90","v":0},{"$f":"Master!H90","v":0},{"$f":"IF(Master!N90=\"\",\"B\",Master!N90)","v":"B"},{"$f":"IF(Master!Y90=\"\",\"B\",Master!Y90)","v":"B"},{"$f":"IF(Master!AJ90=\"\",\"B\",Master!AJ90)","v":"B"},{"$f":"IF(Master!AU90=\"\",\"B\",Master!AU90)","v":"B"},{"$f":"IF(Master!BF90=\"\",\"B\",Master!BF90)","v":"B"},{"$f":"IF(Master!BQ90=\"\",\"B\",Master!BQ90)","v":"B"}]
[{"$f":"Master!A91","v":"SAFE"},{"$f":"Master!B91","v":"WSDOT SAFE: FIRST AID"},{"$f":"Master!C91","v":"WSDOT_APS"},{"$f":"Master!D91","v":"ILT"},{"$f":"Master!E91","v":"Active"},{"$f":"Master!F91","v":0},{"$f":"Master!H91","v":0},{"$f":"IF(Master!N91=\"\",\"B\",Master!N91)","v":"R"},{"$f":"IF(Master!Y91=\"\",\"B\",Master!Y91)","v":"R"},{"$f":"IF(Master!AJ91=\"\",\"B\",Master!AJ91)","v":1},{"$f":"IF(Master!AU91=\"\",\"B\",Master!AU91)","v":1},{"$f":"IF(Master!BF91=\"\",\"B\",Master!BF91)","v":1},{"$f":"IF(Master!BQ91=\"\",\"B\",Master!BQ91)","v":1}]
[{"$f":"Master!A92","v":"SAFE"},{"$f":"Master!B92","v":"WSDOT SAFE: FLAGGING, TRAFFIC CONTROL"},{"$f":"Master!C92","v":"WSDOT_AFZ"},{"$f":"Master!D92","v":"ILT"},{"$f":"Master!E92","v":"Active"},{"$f":"Master!F92","v":0},{"$f":"Master!H92","v":0},{"$f":"IF(Master!N92=\"\",\"B\",Master!N92)","v":"R"},{"$f":"IF(Master!Y92=\"\",\"B\",Master!Y92)","v":"R"},{"$f":"IF(Master!AJ92=\"\",\"B\",Master!AJ92)","v":1},{"$f":"IF(Master!AU92=\"\",\"B\",Master!AU92)","v":1},{"$f":"IF(Master!BF92=\"\",\"B\",Master!BF92)","v":"B"},{"$f":"IF(Master!BQ92=\"\",\"B\",Master!BQ92)","v":"B"}]
[{"$f":"Master!A93","v":"SAFE"},{"$f":"Master!B93","v":"WSDOT SAFE: HAZARD COMMUNICATION STANDARD (HCS)"},{"$f":"Master!C93","v":"WSDOT_AEX"},{"$f":"Master!D93","v":"ILT"},{"$f":"Master!E93","v":"Active"},{"$f":"Master!F93","v":0},{"$f":"Master!H93","v":0},{"$f":"IF(Master!N93=\"\",\"B\",Master!N93)","v":2},{"$f":"IF(Master!Y93=\"\",\"B\",Master!Y93)","v":2},{"$f":"IF(Master!AJ93=\"\",\"B\",Master!AJ93)","v":2},{"$f":"IF(Master!AU93=\"\",\"B\",Master!AU93)","v":2},{"$f":"IF(Master!BF93=\"\",\"B\",Master!BF93)","v":2},{"$f":"IF(Master!BQ93=\"\",\"B\",Master!BQ93)","v":2}]
[{"$f":"Master!A94","v":"SAFE"},{"$f":"Master!B94","v":"WSDOT SAFE: HEARING CONSERVATION (ILT, and/or Self-Study)"},{"$f":"Master!C94","v":"WSDOT_ATS"},{"$f":"Master!D94","v":"OLT/ILT"},{"$f":"Master!E94","v":"Active"},{"$f":"Master!F94","v":0},{"$f":"Master!H94","v":0},{"$f":"IF(Master!N94=\"\",\"B\",Master!N94)","v":"R"},{"$f":"IF(Master!Y94=\"\",\"B\",Master!Y94)","v":"R"},{"$f":"IF(Master!AJ94=\"\",\"B\",Master!AJ94)","v":1},{"$f":"IF(Master!AU94=\"\",\"B\",Master!AU94)","v":1},{"$f":"IF(Master!BF94=\"\",\"B\",Master!BF94)","v":1},{"$f":"IF(Master!BQ94=\"\",\"B\",Master!BQ94)","v":1}]
[{"$f":"Master!A95","v":"SAFE"},{"$f":"Master!B95","v":"WSDOT SAFE: RESPIRATOR PROTECTION TRAINING"},{"$f":"Master!C95","v":"WSDOT_ARZ"},{"$f":"Master!D95","v":"ILT"},{"$f":"Master!E95","v":"Active"},{"$f":"Master!F95","v":0},{"$f":"Master!H95","v":0},{"$f":"IF(Master!N95=\"\",\"B\",Master!N95)","v":1},{"$f":"IF(Master!Y95=\"\",\"B\",Master!Y95)","v":1},{"$f":"IF(Master!AJ95=\"\",\"B\",Master!AJ95)","v":1},{"$f":"IF(Master!AU95=\"\",\"B\",Master!AU95)","v":1},{"$f":"IF(Master!BF95=\"\",\"B\",Master!BF95)","v":1},{"$f":"IF(Master!BQ95=\"\",\"B\",Master!BQ95)","v":1}]
[{"$f":"Master!A96","v":"Construction Division"},null,null,null,null,null,null,{"$f":"IF(Master!N96=\"\",\"B\",Master!N96)","v":"B"},{"$f":"IF(Master!Y96=\"\",\"B\",Master!Y96)","v":"B"},{"$f":"IF(Master!AJ96=\"\",\"B\",Master!AJ96)","v":"B"},{"$f":"IF(Master!AU96=\"\",\"B\",Master!AU96)","v":"B"},{"$f":"IF(Master!BF96=\"\",\"B\",Master!BF96)","v":"B"},{"$f":"IF(Master!BQ96=\"\",\"B\",Master!BQ96)","v":"B"}]
[{"$f":"Master!A97","v":"CN"},{"$f":"Master!B97","v":"WSDOT CN: AGGREGATE PRODUCTION & TESTING INSPECTION"},{"$f":"Master!C97","v":"WSDOT_ACA"},{"$f":"Master!D97","v":"ILT"},{"$f":"Master!E97","v":"Active"},{"$f":"Master!F97","v":0},{"$f":"Master!G97","v":0},{"$f":"IF(Master!H97=\"\",\"B\",Master!H97)","v":"B"},{"$f":"IF(Master!I97=\"\",\"B\",Master!I97)","v":"B"},{"$f":"IF(Master!J97=\"\",\"B\",Master!J97)","v":"B"},{"$f":"IF(Master!K97=\"\",\"B\",Master!K97)","v":"B"},{"$f":"IF(Master!L97=\"\",\"B\",Master!L97)","v":"B"},{"$f":"IF(Master!M97=\"\",\"B\",Master!M97)","v":"B"}]
[{"$f":"Master!A98","v":"CN"},{"$f":"Master!B98","v":"WSDOT CN: BITUMINOUS SURFACE TREATMENT INSPECTION"},{"$f":"Master!C98","v":"WSDOT_CN_BST_ACC"},{"$f":"Master!D98","v":"ILT"},{"$f":"Master!E98","v":"Active"},{"$f":"Master!F98","v":0},{"$f":"Master!G98","v":0},{"$f":"IF(Master!H98=\"\",\"B\",Master!H98)","v":"B"},{"$f":"IF(Master!I98=\"\",\"B\",Master!I98)","v":"B"},{"$f":"IF(Master!J98=\"\",\"B\",Master!J98)","v":2},{"$f":"IF(Master!K98=\"\",\"B\",Master!K98)","v":"B"},{"$f":"IF(Master!L98=\"\",\"B\",Master!L98)","v":"B"},{"$f":"IF(Master!M98=\"\",\"B\",Master!M98)","v":"B"}]
[{"$f":"Master!A99","v":"CN"},{"$f":"Master!B99","v":"WSDOT CN: ACCEPTANCE AND APPROVAL OF MATERIAL"},{"$f":"Master!C99","v":"WSDOT_CN_Acceptance_Material_CX8_OLT"},{"$f":"Master!D99","v":"OLT"},{"$f":"Master!E99","v":"Active"},{"$f":"Master!F99","v":0},{"$f":"Master!G99","v":0},{"$f":"IF(Master!H99=\"\",\"B\",Master!H99)","v":"B"},{"$f":"IF(Master!I99=\"\",\"B\",Master!I99)","v":"B"},{"$f":"IF(Master!J99=\"\",\"B\",Master!J99)","v":1},{"$f":"IF(Master!K99=\"\",\"B\",Master!K99)","v":2},{"$f":"IF(Master!L99=\"\",\"B\",Master!L99)","v":"B"},{"$f":"IF(Master!M99=\"\",\"B\",Master!M99)","v":"B"}]
[{"$f":"Master!A100","v":"CN"},{"$f":"Master!B100","v":"WSDOT CN: COMPOSING AN INSPECTOR'S DAILY REPORT"},{"$f":"Master!C100","v":"WSDOT_CZ9_OLT"},{"$f":"Master!D100","v":"OLT"},{"$f":"Master!E100","v":"Active"},{"$f":"Master!F100","v":0},{"$f":"Master!G100","v":0},{"$f":"IF(Master!H100=\"\",\"B\",Master!H100)","v":"B"},{"$f":"IF(Master!I100=\"\",\"B\",Master!I100)","v":"B"},{"$f":"IF(Master!J100=\"\",\"B\",Master!J100)","v":1},{"$f":"IF(Master!K100=\"\",\"B\",Master!K100)","v":2},{"$f":"IF(Master!L100=\"\",\"B\",Master!L100)","v":"B"},{"$f":"IF(Master!M100=\"\",\"B\",Master!M100)","v":"B"}]
[{"$f":"Master!A101","v":"CN"},{"$f":"Master!B101","v":"WSDOT CN: INSPECTING BRIDGE CONSTRUCTION"},{"$f":"Master!C101","v":"WSDOT_ACM"},{"$f":"Master!D101","v":"ILT"},{"$f":"Master!E101","v":"Active"},{"$f":"Master!F101","v":0},{"$f":"Master!G101","v":0},{"$f":"IF(Master!H101=\"\",\"B\",Master!H101)","v":"B"},{"$f":"IF(Master!I101=\"\",\"B\",Master!I101)","v":"B"},{"$f":"IF(Master!J101=\"\",\"B\",Master!J101)","v":2},{"$f":"IF(Master!K101=\"\",\"B\",Master!K101)","v":"B"},{"$f":"IF(Master!L101=\"\",\"B\",Master!L101)","v":"B"},{"$f":"IF(Master!M101=\"\",\"B\",Master!M101)","v":"B"}]
[{"$f":"Master!A102","v":"CN"},{"$f":"Master!B102","v":"WSDOT CN: CONSTRUCTION INSPECTION DOCUMENTATION"},{"$f":"Master!C102","v":"WSDOT_ACY"},{"$f":"Master!D102","v":"ILT"},{"$f":"Master!E102","v":"Active"},{"$f":"Master!F102","v":0},{"$f":"Master!G102","v":0},{"$f":"IF(Master!H102=\"\",\"B\",Master!H102)","v":"B"},{"$f":"IF(Master!I102=\"\",\"B\",Master!I102)","v":"B"},{"$f":"IF(Master!J102=\"\",\"B\",Master!J102)","v":1},{"$f":"IF(Master!K102=\"\",\"B\",Master!K102)","v":2},{"$f":"IF(Master!L102=\"\",\"B\",Master!L102)","v":"B"},{"$f":"IF(Master!M102=\"\",\"B\",Master!M102)","v":"B"}]
[{"$f":"Master!A103","v":"CN"},{"$f":"Master!B103","v":"WSDOT CN:CONSTRUCTION MATERIALS, APPROVAL AND ACCEPTANCE"},{"$f":"Master!C103","v":"WSDOT_DAP"},{"$f":"Master!D103","v":"ILT"},{"$f":"Master!E103","v":"Active"},{"$f":"Master!F103","v":0},{"$f":"Master!G103","v":0},{"$f":"IF(Master!H103=\"\",\"B\",Master!H103)","v":"B"},{"$f":"IF(Master!I103=\"\",\"B\",Master!I103)","v":"B"},{"$f":"IF(Master!J103=\"\",\"B\",Master!J103)","v":1},{"$f":"IF(Master!K103=\"\",\"B\",Master!K103)","v":2},{"$f":"IF(Master!L103=\"\",\"B\",Master!L103)","v":"B"},{"$f":"IF(Master!M103=\"\",\"B\",Master!M103)","v":"B"}]
[{"$f":"Master!A104","v":"CN"},{"$f":"Master!B104","v":"WSDOT CN: DRAINAGE INSPECTION"},{"$f":"Master!C104","v":"WSDOT_ACF"},{"$f":"Master!D104","v":"ILT"},{"$f":"Master!E104","v":"Active"},{"$f":"Master!F104","v":0},{"$f":"Master!G104","v":0},{"$f":"IF(Master!H104=\"\",\"B\",Master!H104)","v":"B"},{"$f":"IF(Master!I104=\"\",\"B\",Master!I104)","v":"B"},{"$f":"IF(Master!J104=\"\",\"B\",Master!J104)","v":2},{"$f":"IF(Master!K104=\"\",\"B\",Master!K104)","v":"B"},{"$f":"IF(Master!L104=\"\",\"B\",Master!L104)","v":"B"},{"$f":"IF(Master!M104=\"\",\"B\",Master!M104)","v":"B"}]
[{"$f":"Master!A105","v":"CN"},{"$f":"Master!B105","v":"WSDOT CN: EARTHWORK INSPECTION"},{"$f":"Master!C105","v":"WSDOT_Earthwork_OLT"},{"$f":"Master!D105","v":"OLT"},{"$f":"Master!E105","v":"Active"},{"$f":"Master!F105","v":0},{"$f":"Master!G105","v":0},{"$f":"IF(Master!H105=\"\",\"B\",Master!H105)","v":"B"},{"$f":"IF(Master!I105=\"\",\"B\",Master!I105)","v":"B"},{"$f":"IF(Master!J105=\"\",\"B\",Master!J105)","v":2},{"$f":"IF(Master!K105=\"\",\"B\",Master!K105)","v":"B"},{"$f":"IF(Master!L105=\"\",\"B\",Master!L105)","v":"B"},{"$f":"IF(Master!M105=\"\",\"B\",Master!M105)","v":"B"}]
[{"$f":"Master!A106","v":"CN"},{"$f":"Master!B106","v":"WSDOT CN: ELECTRICAL CONDUCTORS AND FIBER for ICP"},{"$f":"Master!C106","v":"WSDOT_ICP_Electrical_Conductors_Fiber_OLT"},{"$f":"Master!D106","v":"OLT"},{"$f":"Master!E106","v":"Active"},{"$f":"Master!F106","v":0},{"$f":"Master!G106","v":0},{"$f":"IF(Master!H106=\"\",\"B\",Master!H106)","v":"B"},{"$f":"IF(Master!I106=\"\",\"B\",Master!I106)","v":"B"},{"$f":"IF(Master!J106=\"\",\"B\",Master!J106)","v":"B"},{"$f":"IF(Master!K106=\"\",\"B\",Master!K106)","v":2},{"$f":"IF(Master!L106=\"\",\"B\",Master!L106)","v":"B"},{"$f":"IF(Master!M106=\"\",\"B\",Master!M106)","v":"B"}]
[{"$f":"Master!A107","v":"CN"},{"$f":"Master!B107","v":"WSDOT CN: ELECTRICAL-ILLUMINATION-SIGNALS & ITS INSPECTION"},{"$f":"Master!C107","v":"WSDOT_API"},{"$f":"Master!D107","v":"ILT"},{"$f":"Master!E107","v":"Active"},{"$f":"Master!F107","v":0},{"$f":"Master!G107","v":0},{"$f":"IF(Master!H107=\"\",\"B\",Master!H107)","v":"B"},{"$f":"IF(Master!I107=\"\",\"B\",Master!I107)","v":"B"},{"$f":"IF(Master!J107=\"\",\"B\",Master!J107)","v":"B"},{"$f":"IF(Master!K107=\"\",\"B\",Master!K107)","v":2},{"$f":"IF(Master!L107=\"\",\"B\",Master!L107)","v":"B"},{"$f":"IF(Master!M107=\"\",\"B\",Master!M107)","v":"B"}]
[{"$f":"Master!A108","v":"CN"},{"$f":"Master!B108","v":"WSDOT CN: EXCAVATION & EMBANKMENTS INSPECTION"},{"$f":"Master!C108","v":"WSDOT_AC3"},{"$f":"Master!D108","v":"ILT"},{"$f":"Master!E108","v":"Active"},{"$f":"Master!F108","v":0},{"$f":"Master!G108","v":0},{"$f":"IF(Master!H108=\"\",\"B\",Master!H108)","v":"B"},{"$f":"IF(Master!I108=\"\",\"B\",Master!I108)","v":"B"},{"$f":"IF(Master!J108=\"\",\"B\",Master!J108)","v":1},{"$f":"IF(Master!K108=\"\",\"B\",Master!K108)","v":"B"},{"$f":"IF(Master!L108=\"\",\"B\",Master!L108)","v":"B"},{"$f":"IF(Master!M108=\"\",\"B\",Master!M108)","v":"B"}]
[{"$f":"Master!A109","v":"CN"},{"$f":"Master!B109","v":"WSDOT CN: FIELD PAINTING STRUCTURAL STEEL"},{"$f":"Master!C109","v":"WSDOT_CN_Field_Painting_OLT"},{"$f":"Master!D109","v":"OLT"},{"$f":"Master!E109","v":"Active"},{"$f":"Master!F109","v":0},{"$f":"Master!G109","v":0},{"$f":"IF(Master!H109=\"\",\"B\",Master!H109)","v":"B"},{"$f":"IF(Master!I109=\"\",\"B\",Master!I109)","v":"B"},{"$f":"IF(Master!J109=\"\",\"B\",Master!J109)","v":"B"},{"$f":"IF(Master!K109=\"\",\"B\",Master!K109)","v":"B"},{"$f":"IF(Master!L109=\"\",\"B\",Master!L109)","v":"B"},{"$f":"IF(Master!M109=\"\",\"B\",Master!M109)","v":"B"}]
[{"$f":"Master!A110","v":"CN"},{"$f":"Master!B110","v":"WSDOT CN: FORCE ACCOUNT DOCUMENTATION AND PAYMENT"},{"$f":"Master!C110","v":"WSDOT_CN_ForceAccount_DG2_OLT"},{"$f":"Master!D110","v":"OLT"},{"$f":"Master!E110","v":"Active"},{"$f":"Master!F110","v":0},{"$f":"Master!G110","v":0},{"$f":"IF(Master!H110=\"\",\"B\",Master!H110)","v":"B"},{"$f":"IF(Master!I110=\"\",\"B\",Master!I110)","v":"B"},{"$f":"IF(Master!J110=\"\",\"B\",Master!J110)","v":1},{"$f":"IF(Master!K110=\"\",\"B\",Master!K110)","v":2},{"$f":"IF(Master!L110=\"\",\"B\",Master!L110)","v":"B"},{"$f":"IF(Master!M110=\"\",\"B\",Master!M110)","v":"B"}]
[{"$f":"Master!A111","v":"CN"},{"$f":"Master!B111","v":"WSDOT CN: FORMS AND FALSEWORK for ICP"},{"$f":"Master!C111","v":"WSDOT_ICP_Forms and Falsework_OLT"},{"$f":"Master!D111","v":"OLT"},{"$f":"Master!E111","v":"Active"},{"$f":"Master!F111","v":0},{"$f":"Master!G111","v":0},{"$f":"IF(Master!H111=\"\",\"B\",Master!H111)","v":"B"},{"$f":"IF(Master!I111=\"\",\"B\",Master!I111)","v":"B"},{"$f":"IF(Master!J111=\"\",\"B\",Master!J111)","v":2},{"$f":"IF(Master!K111=\"\",\"B\",Master!K111)","v":"B"},{"$f":"IF(Master!L111=\"\",\"B\",Master!L111)","v":"B"},{"$f":"IF(Master!M111=\"\",\"B\",Master!M111)","v":"B"}]
[{"$f":"Master!A112","v":"CN"},{"$f":"Master!B112","v":"WSDOT CN: GUARDRAIL INSTALLATION FOR INSPECTORS"},{"$f":"Master!C112","v":"WSDOT_DD4"},{"$f":"Master!D112","v":"ILT"},{"$f":"Master!E112","v":"Active"},{"$f":"Master!F112","v":0},{"$f":"Master!G112","v":0},{"$f":"IF(Master!H112=\"\",\"B\",Master!H112)","v":"B"},{"$f":"IF(Master!I112=\"\",\"B\",Master!I112)","v":"B"},{"$f":"IF(Master!J112=\"\",\"B\",Master!J112)","v":2},{"$f":"IF(Master!K112=\"\",\"B\",Master!K112)","v":"B"},{"$f":"IF(Master!L112=\"\",\"B\",Master!L112)","v":"B"},{"$f":"IF(Master!M112=\"\",\"B\",Master!M112)","v":"B"}]
[{"$f":"Master!A113","v":"CN"},{"$f":"Master!B113","v":"WSDOT CN: HAZMAT FOR THE PORTABLE NUCLEAR GAUGE"},{"$f":"Master!C113","v":"WSDOT Hazmat_for_Transportation_of_the_Nuclear_Gauge_ORG"},{"$f":"Master!D113","v":"OLT"},{"$f":"Master!E113","v":"Active"},{"$f":"Master!F113","v":0},{"$f":"Master!G113","v":0},{"$f":"IF(Master!H113=\"\",\"B\",Master!H113)","v":"B"},{"$f":"IF(Master!I113=\"\",\"B\",Master!I113)","v":"B"},{"$f":"IF(Master!J113=\"\",\"B\",Master!J113)","v":2},{"$f":"IF(Master!K113=\"\",\"B\",Master!K113)","v":"B"},{"$f":"IF(Master!L113=\"\",\"B\",Master!L113)","v":"B"},{"$f":"IF(Master!M113=\"\",\"B\",Master!M113)","v":"B"}]
[{"$f":"Master!A114","v":"CN"},{"$f":"Master!B114","v":"WSDOT CN: HMA PLACEMENT INSPECTION"},{"$f":"Master!C114","v":"WSDOT_HMAPlacement_OLT"},{"$f":"Master!D114","v":"OLT"},{"$f":"Master!E114","v":"Active"},{"$f":"Master!F114","v":0},{"$f":"Master!G114","v":0},{"$f":"IF(Master!H114=\"\",\"B\",Master!H114)","v":"B"},{"$f":"IF(Master!I114=\"\",\"B\",Master!I114)","v":"B"},{"$f":"IF(Master!J114=\"\",\"B\",Master!J114)","v":2},{"$f":"IF(Master!K114=\"\",\"B\",Master!K114)","v":"B"},{"$f":"IF(Master!L114=\"\",\"B\",Master!L114)","v":"B"},{"$f":"IF(Master!M114=\"\",\"B\",Master!M114)","v":"B"}]
[{"$f":"Master!A115","v":"CN"},{"$f":"Master!B115","v":"WSDOT CN: HOT MIX ASPHALT PLACEMENT"},{"$f":"Master!C115","v":"WSDOT_ACB"},{"$f":"Master!D115","v":"ILT"},{"$f":"Master!E115","v":"Active"},{"$f":"Master!F115","v":0},{"$f":"Master!G115","v":0},{"$f":"IF(Master!H115=\"\",\"B\",Master!H115)","v":"B"},{"$f":"IF(Master!I115=\"\",\"B\",Master!I115)","v":"B"},{"$f":"IF(Master!J115=\"\",\"B\",Master!J115)","v":2},{"$f":"IF(Master!K115=\"\",\"B\",Master!K115)","v":"B"},{"$f":"IF(Master!L115=\"\",\"B\",Master!L115)","v":"B"},{"$f":"IF(Master!M115=\"\",\"B\",Master!M115)","v":"B"}]
[{"$f":"Master!A116","v":"CN"},{"$f":"Master!B116","v":"WSDOT CN: HOT MIX ASPHALT PRODUCTION & TESTING"},{"$f":"Master!C116","v":"WSDOT_BG9"},{"$f":"Master!D116","v":"ILT"},{"$f":"Master!E116","v":"Active"},{"$f":"Master!F116","v":0},{"$f":"Master!G116","v":0},{"$f":"IF(Master!H116=\"\",\"B\",Master!H116)","v":"B"},{"$f":"IF(Master!I116=\"\",\"B\",Master!I116)","v":"B"},{"$f":"IF(Master!J116=\"\",\"B\",Master!J116)","v":2},{"$f":"IF(Master!K116=\"\",\"B\",Master!K116)","v":"B"},{"$f":"IF(Master!L116=\"\",\"B\",Master!L116)","v":"B"},{"$f":"IF(Master!M116=\"\",\"B\",Master!M116)","v":"B"}]
[{"$f":"Master!A117","v":"CN"},{"$f":"Master!B117","v":"WSDOT CN: INSPECTING BRIDGE CONSTRUCTION"},{"$f":"Master!C117","v":"WSDOT_ACM"},{"$f":"Master!D117","v":"ILT"},{"$f":"Master!E117","v":"Active"},{"$f":"Master!F117","v":0},{"$f":"Master!G117","v":0},{"$f":"IF(Master!H117=\"\",\"B\",Master!H117)","v":"B"},{"$f":"IF(Master!I117=\"\",\"B\",Master!I117)","v":"B"},{"$f":"IF(Master!J117=\"\",\"B\",Master!J117)","v":2},{"$f":"IF(Master!K117=\"\",\"B\",Master!K117)","v":"B"},{"$f":"IF(Master!L117=\"\",\"B\",Master!L117)","v":"B"},{"$f":"IF(Master!M117=\"\",\"B\",Master!M117)","v":"B"}]
[{"$f":"Master!A118","v":"CN"},{"$f":"Master!B118","v":"WSDOT CN: INSPECTION OF PEDESTRIAN FACILITIES"},{"$f":"Master!C118","v":"WSDOT_IFP_OLT"},{"$f":"Master!D118","v":"OLT"},{"$f":"Master!E118","v":"Active"},{"$f":"Master!F118","v":0},{"$f":"Master!G118","v":0},{"$f":"IF(Master!H118=\"\",\"B\",Master!H118)","v":"B"},{"$f":"IF(Master!I118=\"\",\"B\",Master!I118)","v":2},{"$f":"IF(Master!J118=\"\",\"B\",Master!J118)","v":2},{"$f":"IF(Master!K118=\"\",\"B\",Master!K118)","v":2},{"$f":"IF(Master!L118=\"\",\"B\",Master!L118)","v":2},{"$f":"IF(Master!M118=\"\",\"B\",Master!M118)","v":"B"}]
[{"$f":"Master!A119","v":"CN"},{"$f":"Master!B119","v":"WSDOT CN: INSPECTOR'S ROLE FOR CHANGE ORDER WORK"},{"$f":"Master!C119","v":"WSDOT_DH9_OLT"},{"$f":"Master!D119","v":"OLT"},{"$f":"Master!E119","v":"Active"},{"$f":"Master!F119","v":0},{"$f":"Master!G119","v":0},{"$f":"IF(Master!H119=\"\",\"B\",Master!H119)","v":"B"},{"$f":"IF(Master!I119=\"\",\"B\",Master!I119)","v":"B"},{"$f":"IF(Master!J119=\"\",\"B\",Master!J119)","v":1},{"$f":"IF(Master!K119=\"\",\"B\",Master!K119)","v":2},{"$f":"IF(Master!L119=\"\",\"B\",Master!L119)","v":"B"},{"$f":"IF(Master!M119=\"\",\"B\",Master!M119)","v":"B"}]
[{"$f":"Master!A120","v":"CN"},{"$f":"Master!B120","v":"WSDOT CN:INSPECTOR’S USE OF CONTRACT RESOURCES"},{"$f":"Master!C120","v":"WSDOT_UR1_OLT"},{"$f":"Master!D120","v":"OLT"},{"$f":"Master!E120","v":"Active"},{"$f":"Master!F120","v":0},{"$f":"Master!G120","v":0},{"$f":"IF(Master!H120=\"\",\"B\",Master!H120)","v":"B"},{"$f":"IF(Master!I120=\"\",\"B\",Master!I120)","v":"B"},{"$f":"IF(Master!J120=\"\",\"B\",Master!J120)","v":1},{"$f":"IF(Master!K120=\"\",\"B\",Master!K120)","v":2},{"$f":"IF(Master!L120=\"\",\"B\",Master!L120)","v":"B"},{"$f":"IF(Master!M120=\"\",\"B\",Master!M120)","v":"B"}]
[{"$f":"Master!A121","v":"CN"},{"$f":"Master!B121","v":"WSDOT CN: NHI CONTRACT ADMINISTRATION CORE CURRICULUM"},{"$f":"Master!C121","v":"WSDOT_NHI CONTRACT ADM"},{"$f":"Master!D121","v":"ILT"},{"$f":"Master!E121","v":"Active"},{"$f":"Master!F121","v":0},{"$f":"Master!G121","v":0},{"$f":"IF(Master!H121=\"\",\"B\",Master!H121)","v":"B"},{"$f":"IF(Master!I121=\"\",\"B\",Master!I121)","v":"B"},{"$f":"IF(Master!J121=\"\",\"B\",Master!J121)","v":"B"},{"$f":"IF(Master!K121=\"\",\"B\",Master!K121)","v":"B"},{"$f":"IF(Master!L121=\"\",\"B\",Master!L121)","v":"B"},{"$f":"IF(Master!M121=\"\",\"B\",Master!M121)","v":"B"}]
[{"$f":"Master!A122","v":"CN"},{"$f":"Master!B122","v":"WSDOT CN:NUCLEAR GAUGE SAFETY AND OPERATION"},{"$f":"Master!C122","v":"WSDOT_DCX_OLT"},{"$f":"Master!D122","v":"ILT"},{"$f":"Master!E122","v":"Active"},{"$f":"Master!F122","v":0},{"$f":"Master!G122","v":0},{"$f":"IF(Master!H122=\"\",\"B\",Master!H122)","v":"B"},{"$f":"IF(Master!I122=\"\",\"B\",Master!I122)","v":"B"},{"$f":"IF(Master!J122=\"\",\"B\",Master!J122)","v":2},{"$f":"IF(Master!K122=\"\",\"B\",Master!K122)","v":"B"},{"$f":"IF(Master!L122=\"\",\"B\",Master!L122)","v":"B"},{"$f":"IF(Master!M122=\"\",\"B\",Master!M122)","v":"B"}]
[{"$f":"Master!A123","v":"CN"},{"$f":"Master!B123","v":"WSDOT CN: NUCLEAR GAUGE, EMBANKMENT/SURFACING/PAVEMENT APPLICATIONS"},{"$f":"Master!C123","v":"WSDOT_ANQ"},{"$f":"Master!D123","v":"ILT"},{"$f":"Master!E123","v":"Active"},{"$f":"Master!F123","v":0},{"$f":"Master!G123","v":0},{"$f":"IF(Master!H123=\"\",\"B\",Master!H123)","v":"B"},{"$f":"IF(Master!I123=\"\",\"B\",Master!I123)","v":"B"},{"$f":"IF(Master!J123=\"\",\"B\",Master!J123)","v":2},{"$f":"IF(Master!K123=\"\",\"B\",Master!K123)","v":"B"},{"$f":"IF(Master!L123=\"\",\"B\",Master!L123)","v":"B"},{"$f":"IF(Master!M123=\"\",\"B\",Master!M123)","v":"B"}]
[{"$f":"Master!A124","v":"CN"},{"$f":"Master!B124","v":"WSDOT CN: PAVEMENT REHABILITATION"},{"$f":"Master!C124","v":"WSDOT_BQL"},{"$f":"Master!D124","v":"ILT"},{"$f":"Master!E124","v":"Active"},{"$f":"Master!F124","v":0},{"$f":"Master!G124","v":0},{"$f":"IF(Master!H124=\"\",\"B\",Master!H124)","v":"B"},{"$f":"IF(Master!I124=\"\",\"B\",Master!I124)","v":"B"},{"$f":"IF(Master!J124=\"\",\"B\",Master!J124)","v":"B"},{"$f":"IF(Master!K124=\"\",\"B\",Master!K124)","v":"B"},{"$f":"IF(Master!L124=\"\",\"B\",Master!L124)","v":"B"},{"$f":"IF(Master!M124=\"\",\"B\",Master!M124)","v":"B"}]
[{"$f":"Master!A125","v":"CN"},{"$f":"Master!B125","v":"WSDOT CN: PCC FIELD TESTING PROCEDURES"},{"$f":"Master!C125","v":"WSDOT_ABT"},{"$f":"Master!D125","v":"ILT"},{"$f":"Master!E125","v":"Active"},{"$f":"Master!F125","v":0},{"$f":"Master!G125","v":0},{"$f":"IF(Master!H125=\"\",\"B\",Master!H125)","v":"B"},{"$f":"IF(Master!I125=\"\",\"B\",Master!I125)","v":"B"},{"$f":"IF(Master!J125=\"\",\"B\",Master!J125)","v":"B"},{"$f":"IF(Master!K125=\"\",\"B\",Master!K125)","v":"B"},{"$f":"IF(Master!L125=\"\",\"B\",Master!L125)","v":"B"},{"$f":"IF(Master!M125=\"\",\"B\",Master!M125)","v":"B"}]
[{"$f":"Master!A126","v":"CN"},{"$f":"Master!B126","v":"WSDOT CN: PILE DRIVING INSPECTION"},{"$f":"Master!C126","v":"Piling_OLT"},{"$f":"Master!D126","v":"OLT"},{"$f":"Master!E126","v":"Active"},{"$f":"Master!F126","v":0},{"$f":"Master!G126","v":0},{"$f":"IF(Master!H126=\"\",\"B\",Master!H126)","v":"B"},{"$f":"IF(Master!I126=\"\",\"B\",Master!I126)","v":"B"},{"$f":"IF(Master!J126=\"\",\"B\",Master!J126)","v":"B"},{"$f":"IF(Master!K126=\"\",\"B\",Master!K126)","v":"B"},{"$f":"IF(Master!L126=\"\",\"B\",Master!L126)","v":"B"},{"$f":"IF(Master!M126=\"\",\"B\",Master!M126)","v":"B"}]
[{"$f":"Master!A127","v":"CN"},{"$f":"Master!B127","v":"WSDOT CN: PORTLAND CEMENT CONCRETE INSPECTION"},{"$f":"Master!C127","v":"WSDOT_PCC_OLT"},{"$f":"Master!D127","v":"OLT"},{"$f":"Master!E127","v":"Active"},{"$f":"Master!F127","v":0},{"$f":"Master!G127","v":0},{"$f":"IF(Master!H127=\"\",\"B\",Master!H127)","v":"B"},{"$f":"IF(Master!I127=\"\",\"B\",Master!I127)","v":"B"},{"$f":"IF(Master!J127=\"\",\"B\",Master!J127)","v":2},{"$f":"IF(Master!K127=\"\",\"B\",Master!K127)","v":"B"},{"$f":"IF(Master!L127=\"\",\"B\",Master!L127)","v":"B"},{"$f":"IF(Master!M127=\"\",\"B\",Master!M127)","v":"B"}]
[{"$f":"Master!A128","v":"CN"},{"$f":"Master!B128","v":"WSDOT CN: PRODUCING SOURCE DOCUMENTS"},{"$f":"Master!C128","v":"WSDOT_C1H_OLT"},{"$f":"Master!D128","v":"OLT"},{"$f":"Master!E128","v":"Active"},{"$f":"Master!F128","v":0},{"$f":"Master!G128","v":0},{"$f":"IF(Master!H128=\"\",\"B\",Master!H128)","v":"B"},{"$f":"IF(Master!I128=\"\",\"B\",Master!I128)","v":"B"},{"$f":"IF(Master!J128=\"\",\"B\",Master!J128)","v":"B"},{"$f":"IF(Master!K128=\"\",\"B\",Master!K128)","v":"B"},{"$f":"IF(Master!L128=\"\",\"B\",Master!L128)","v":"B"},{"$f":"IF(Master!M128=\"\",\"B\",Master!M128)","v":"B"}]
[{"$f":"Master!A129","v":"CN"},{"$f":"Master!B129","v":"WSDOT CN: SIGN BRIDGES AND CANTILEVER SIGNS"},{"$f":"Master!C129","v":"WSDOT_SBI_OLT"},{"$f":"Master!D129","v":"OLT"},{"$f":"Master!E129","v":"Active"},{"$f":"Master!F129","v":0},{"$f":"Master!G129","v":0},{"$f":"IF(Master!H129=\"\",\"B\",Master!H129)","v":"B"},{"$f":"IF(Master!I129=\"\",\"B\",Master!I129)","v":"B"},{"$f":"IF(Master!J129=\"\",\"B\",Master!J129)","v":2},{"$f":"IF(Master!K129=\"\",\"B\",Master!K129)","v":2},{"$f":"IF(Master!L129=\"\",\"B\",Master!L129)","v":"B"},{"$f":"IF(Master!M129=\"\",\"B\",Master!M129)","v":"B"}]
[{"$f":"Master!A130","v":"CN"},{"$f":"Master!B130","v":"WSDOT CN: SIGN INSPECTOR DUTIES"},{"$f":"Master!C130","v":"WSDOT_SID_OLT"},{"$f":"Master!D130","v":"OLT"},{"$f":"Master!E130","v":"Active"},{"$f":"Master!F130","v":0},{"$f":"Master!G130","v":0},{"$f":"IF(Master!H130=\"\",\"B\",Master!H130)","v":"B"},{"$f":"IF(Master!I130=\"\",\"B\",Master!I130)","v":"B"},{"$f":"IF(Master!J130=\"\",\"B\",Master!J130)","v":"B"},{"$f":"IF(Master!K130=\"\",\"B\",Master!K130)","v":2},{"$f":"IF(Master!L130=\"\",\"B\",Master!L130)","v":"B"},{"$f":"IF(Master!M130=\"\",\"B\",Master!M130)","v":"B"}]
[{"$f":"Master!A131","v":"CN"},{"$f":"Master!B131","v":"WSDOT CN: SIGN INSTALLATION INSPECTION"},{"$f":"Master!C131","v":"WSDOT_DFV"},{"$f":"Master!D131","v":"ILT"},{"$f":"Master!E131","v":"Active"},{"$f":"Master!F131","v":0},{"$f":"Master!G131","v":0},{"$f":"IF(Master!H131=\"\",\"B\",Master!H131)","v":"B"},{"$f":"IF(Master!I131=\"\",\"B\",Master!I131)","v":"B"},{"$f":"IF(Master!J131=\"\",\"B\",Master!J131)","v":"B"},{"$f":"IF(Master!K131=\"\",\"B\",Master!K131)","v":2},{"$f":"IF(Master!L131=\"\",\"B\",Master!L131)","v":"B"},{"$f":"IF(Master!M131=\"\",\"B\",Master!M131)","v":"B"}]
[{"$f":"Master!A132","v":"CN"},{"$f":"Master!B132","v":"WSDOT CN: SMALL AND LARGE SIGN INSPECTION REVIEW"},{"$f":"Master!C132","v":"WSDOT_SLR_OLT"},{"$f":"Master!D132","v":"OLT"},{"$f":"Master!E132","v":"Active"},{"$f":"Master!F132","v":0},{"$f":"Master!G132","v":0},{"$f":"IF(Master!H132=\"\",\"B\",Master!H132)","v":"B"},{"$f":"IF(Master!I132=\"\",\"B\",Master!I132)","v":"B"},{"$f":"IF(Master!J132=\"\",\"B\",Master!J132)","v":2},{"$f":"IF(Master!K132=\"\",\"B\",Master!K132)","v":2},{"$f":"IF(Master!L132=\"\",\"B\",Master!L132)","v":"B"},{"$f":"IF(Master!M132=\"\",\"B\",Master!M132)","v":"B"}]
[{"$f":"Master!A133","v":"CN"},{"$f":"Master!B133","v":"WSDOT CN: WORK ZONE TRAFFIC CONTROL"},{"$f":"Master!C133","v":"WSDOT_WZTC_OLT"},{"$f":"Master!D133","v":"OLT"},{"$f":"Master!E133","v":"Active"},{"$f":"Master!F133","v":0},{"$f":"Master!G133","v":0},{"$f":"IF(Master!H133=\"\",\"B\",Master!H133)","v":"B"},{"$f":"IF(Master!I133=\"\",\"B\",Master!I133)","v":"B"},{"$f":"IF(Master!J133=\"\",\"B\",Master!J133)","v":1},{"$f":"IF(Master!K133=\"\",\"B\",Master!K133)","v":1},{"$f":"IF(Master!L133=\"\",\"B\",Master!L133)","v":"B"},{"$f":"IF(Master!M133=\"\",\"B\",Master!M133)","v":"B"}]
[{"$f":"Master!A134","v":"CN"},{"$f":"Master!B134","v":"WSDOT DB: ALTERNATIVE TECHNICAL CONCEPT (ATC) REVIEW PROCESS"},{"$f":"Master!C134","v":"WSDOT_DB_ATC"},{"$f":"Master!D134","v":"ILT"},{"$f":"Master!E134","v":"Active"},{"$f":"Master!F134","v":0},{"$f":"Master!G134","v":0},{"$f":"IF(Master!H134=\"\",\"B\",Master!H134)","v":"B"},{"$f":"IF(Master!I134=\"\",\"B\",Master!I134)","v":"B"},{"$f":"IF(Master!J134=\"\",\"B\",Master!J134)","v":"B"},{"$f":"IF(Master!K134=\"\",\"B\",Master!K134)","v":"B"},{"$f":"IF(Master!L134=\"\",\"B\",Master!L134)","v":"B"},{"$f":"IF(Master!M134=\"\",\"B\",Master!M134)","v":"B"}]
[{"$f":"Master!A135","v":"CN"},{"$f":"Master!B135","v":"WSDOT DB: INTRODUCTION TO DESIGN-BUILD"},{"$f":"Master!C135","v":"WSDOT_DB_IDB"},{"$f":"Master!D135","v":"ILT"},{"$f":"Master!E135","v":"Active"},{"$f":"Master!F135","v":0},{"$f":"Master!G135","v":0},{"$f":"IF(Master!H135=\"\",\"B\",Master!H135)","v":"B"},{"$f":"IF(Master!I135=\"\",\"B\",Master!I135)","v":"B"},{"$f":"IF(Master!J135=\"\",\"B\",Master!J135)","v":"B"},{"$f":"IF(Master!K135=\"\",\"B\",Master!K135)","v":"B"},{"$f":"IF(Master!L135=\"\",\"B\",Master!L135)","v":"B"},{"$f":"IF(Master!M135=\"\",\"B\",Master!M135)","v":"B"}]
[{"$f":"Master!A136","v":"CN"},{"$f":"Master!B136","v":"WSDOT DB: DESIGN-BUILD BEST PRACTICES IN TRANSPORTATION"},{"$f":"Master!C136","v":"WSDOT_DB_BPT"},{"$f":"Master!D136","v":"ILT"},{"$f":"Master!E136","v":"Active"},{"$f":"Master!F136","v":0},{"$f":"Master!G136","v":0},{"$f":"IF(Master!H136=\"\",\"B\",Master!H136)","v":"B"},{"$f":"IF(Master!I136=\"\",\"B\",Master!I136)","v":"B"},{"$f":"IF(Master!J136=\"\",\"B\",Master!J136)","v":"B"},{"$f":"IF(Master!K136=\"\",\"B\",Master!K136)","v":"B"},{"$f":"IF(Master!L136=\"\",\"B\",Master!L136)","v":"B"},{"$f":"IF(Master!M136=\"\",\"B\",Master!M136)","v":"B"}]
[{"$f":"Master!A137","v":"CN"},{"$f":"Master!B137","v":"WSDOT DB: DESIGN-BUILD CLOSEOUT"},{"$f":"Master!C137","v":"WSDOT_DB_CO"},{"$f":"Master!D137","v":"ILT"},{"$f":"Master!E137","v":"Active"},{"$f":"Master!F137","v":0},{"$f":"Master!G137","v":0},{"$f":"IF(Master!H137=\"\",\"B\",Master!H137)","v":"B"},{"$f":"IF(Master!I137=\"\",\"B\",Master!I137)","v":"B"},{"$f":"IF(Master!J137=\"\",\"B\",Master!J137)","v":"B"},{"$f":"IF(Master!K137=\"\",\"B\",Master!K137)","v":"B"},{"$f":"IF(Master!L137=\"\",\"B\",Master!L137)","v":"B"},{"$f":"IF(Master!M137=\"\",\"B\",Master!M137)","v":"B"}]
[{"$f":"Master!A138","v":"CN"},{"$f":"Master!B138","v":"WSDOT DB: DESIGN-BUILD INSTRUCTIONS TO PROPOSERS (ITP) AND REQUEST FOR PROPOSALS (RFP)"},{"$f":"Master!C138","v":"WSDOT_DB_ITP_RFP"},{"$f":"Master!D138","v":"ILT"},{"$f":"Master!E138","v":"Active"},{"$f":"Master!F138","v":0},{"$f":"Master!G138","v":0},{"$f":"IF(Master!H138=\"\",\"B\",Master!H138)","v":"B"},{"$f":"IF(Master!I138=\"\",\"B\",Master!I138)","v":"B"},{"$f":"IF(Master!J138=\"\",\"B\",Master!J138)","v":"B"},{"$f":"IF(Master!K138=\"\",\"B\",Master!K138)","v":"B"},{"$f":"IF(Master!L138=\"\",\"B\",Master!L138)","v":"B"},{"$f":"IF(Master!M138=\"\",\"B\",Master!M138)","v":"B"}]
[{"$f":"Master!A139","v":"CN"},{"$f":"Master!B139","v":"WSDOT DB: DESIGN-BUILD OFFICE MANAGEMENT AND CONTRACT ADMINISTRATION"},{"$f":"Master!C139","v":"WSDOT_DB_CA"},{"$f":"Master!D139","v":"ILT"},{"$f":"Master!E139","v":"Active"},{"$f":"Master!F139","v":0},{"$f":"Master!G139","v":0},{"$f":"IF(Master!H139=\"\",\"B\",Master!H139)","v":"B"},{"$f":"IF(Master!I139=\"\",\"B\",Master!I139)","v":"B"},{"$f":"IF(Master!J139=\"\",\"B\",Master!J139)","v":"B"},{"$f":"IF(Master!K139=\"\",\"B\",Master!K139)","v":"B"},{"$f":"IF(Master!L139=\"\",\"B\",Master!L139)","v":"B"},{"$f":"IF(Master!M139=\"\",\"B\",Master!M139)","v":"B"}]
[{"$f":"Master!A140","v":"CN"},{"$f":"Master!B140","v":"WSDOT DB: DESIGN-BUILD STARTUP AND REQUEST FOR QUALIFICATIONS (RFQ\") DEVELOPMENT"},{"$f":"Master!C140","v":"WSDOT_DB_RFQ"},{"$f":"Master!D140","v":"ILT"},{"$f":"Master!E140","v":"Active"},{"$f":"Master!F140","v":0},{"$f":"Master!G140","v":0},{"$f":"IF(Master!H140=\"\",\"B\",Master!H140)","v":"B"},{"$f":"IF(Master!I140=\"\",\"B\",Master!I140)","v":"B"},{"$f":"IF(Master!J140=\"\",\"B\",Master!J140)","v":"B"},{"$f":"IF(Master!K140=\"\",\"B\",Master!K140)","v":"B"},{"$f":"IF(Master!L140=\"\",\"B\",Master!L140)","v":"B"},{"$f":"IF(Master!M140=\"\",\"B\",Master!M140)","v":"B"}]
[{"$f":"Master!A141","v":"CN"},{"$f":"Master!B141","v":"WSDOT DB: ENVIRONMENTAL IN DESIGN-BUILD"},{"$f":"Master!C141","v":"WSDOT_DB_E"},{"$f":"Master!D141","v":"ILT"},{"$f":"Master!E141","v":"Active"},{"$f":"Master!F141","v":0},{"$f":"Master!G141","v":0},{"$f":"IF(Master!H141=\"\",\"B\",Master!H141)","v":"B"},{"$f":"IF(Master!I141=\"\",\"B\",Master!I141)","v":"B"},{"$f":"IF(Master!J141=\"\",\"B\",Master!J141)","v":"B"},{"$f":"IF(Master!K141=\"\",\"B\",Master!K141)","v":"B"},{"$f":"IF(Master!L141=\"\",\"B\",Master!L141)","v":"B"},{"$f":"IF(Master!M141=\"\",\"B\",Master!M141)","v":"B"}]
[{"$f":"Master!A142","v":"CN"},{"$f":"Master!B142","v":"WSDOT DB: LESSONS LEARNED"},{"$f":"Master!C142","v":"WSDOT_DB_LL"},{"$f":"Master!D142","v":"ILT"},{"$f":"Master!E142","v":"Active"},{"$f":"Master!F142","v":0},{"$f":"Master!G142","v":0},{"$f":"IF(Master!H142=\"\",\"B\",Master!H142)","v":"B"},{"$f":"IF(Master!I142=\"\",\"B\",Master!I142)","v":"B"},{"$f":"IF(Master!J142=\"\",\"B\",Master!J142)","v":"B"},{"$f":"IF(Master!K142=\"\",\"B\",Master!K142)","v":"B"},{"$f":"IF(Master!L142=\"\",\"B\",Master!L142)","v":"B"},{"$f":"IF(Master!M142=\"\",\"B\",Master!M142)","v":"B"}]
[{"$f":"Master!A143","v":"CN"},{"$f":"Master!B143","v":"WSDOT DB: PROPOSAL EVALUATION"},{"$f":"Master!C143","v":"WSDOT_DB_PE"},{"$f":"Master!D143","v":"ILT"},{"$f":"Master!E143","v":"Active"},{"$f":"Master!F143","v":0},{"$f":"Master!G143","v":0},{"$f":"IF(Master!H143=\"\",\"B\",Master!H143)","v":"B"},{"$f":"IF(Master!I143=\"\",\"B\",Master!I143)","v":"B"},{"$f":"IF(Master!J143=\"\",\"B\",Master!J143)","v":"B"},{"$f":"IF(Master!K143=\"\",\"B\",Master!K143)","v":"B"},{"$f":"IF(Master!L143=\"\",\"B\",Master!L143)","v":"B"},{"$f":"IF(Master!M143=\"\",\"B\",Master!M143)","v":"B"}]
[{"$f":"Master!A144","v":"CN"},{"$f":"Master!B144","v":"WSDOT DB: QUALITY IN DESIGN-BUILD"},{"$f":"Master!C144","v":"WSDOT_DB_Q"},{"$f":"Master!D144","v":"ILT"},{"$f":"Master!E144","v":"Active"},{"$f":"Master!F144","v":0},{"$f":"Master!G144","v":0},{"$f":"IF(Master!H144=\"\",\"B\",Master!H144)","v":"B"},{"$f":"IF(Master!I144=\"\",\"B\",Master!I144)","v":"B"},{"$f":"IF(Master!J144=\"\",\"B\",Master!J144)","v":"B"},{"$f":"IF(Master!K144=\"\",\"B\",Master!K144)","v":"B"},{"$f":"IF(Master!L144=\"\",\"B\",Master!L144)","v":"B"},{"$f":"IF(Master!M144=\"\",\"B\",Master!M144)","v":"B"}]
[{"$f":"Master!A145","v":"CN"},{"$f":"Master!B145","v":"WSDOT DB: STATEMENT OF QUALIFICATIONS (SOQ) EVALUATION"},{"$f":"Master!C145","v":"WSDOT_DB_SOQE"},{"$f":"Master!D145","v":"ILT"},{"$f":"Master!E145","v":"Active"},{"$f":"Master!F145","v":0},{"$f":"Master!G145","v":0},{"$f":"IF(Master!H145=\"\",\"B\",Master!H145)","v":"B"},{"$f":"IF(Master!I145=\"\",\"B\",Master!I145)","v":"B"},{"$f":"IF(Master!J145=\"\",\"B\",Master!J145)","v":"B"},{"$f":"IF(Master!K145=\"\",\"B\",Master!K145)","v":"B"},{"$f":"IF(Master!L145=\"\",\"B\",Master!L145)","v":"B"},{"$f":"IF(Master!M145=\"\",\"B\",Master!M145)","v":"B"}]
[{"$f":"Master!A146","v":"CN"},{"$f":"Master!B146","v":"**WSDOT DB: EVALUATION"},{"$f":"Master!C146","v":0},{"$f":"Master!D146","v":"ILT"},{"$f":"Master!E146","v":"Under Development"},{"$f":"Master!F146","v":"Q1 2019"},{"$f":"Master!G146","v":0},{"$f":"IF(Master!H146=\"\",\"B\",Master!H146)","v":"B"},{"$f":"IF(Master!I146=\"\",\"B\",Master!I146)","v":"B"},{"$f":"IF(Master!J146=\"\",\"B\",Master!J146)","v":"B"},{"$f":"IF(Master!K146=\"\",\"B\",Master!K146)","v":"B"},{"$f":"IF(Master!L146=\"\",\"B\",Master!L146)","v":"B"},{"$f":"IF(Master!M146=\"\",\"B\",Master!M146)","v":"B"}]
[{"$f":"Master!A147","v":"CN"},{"$f":"Master!B147","v":"WSDOT DB: DESIGN-BUILD INVOICE PROCESSING"},{"$f":"Master!C147","v":0},{"$f":"Master!D147","v":"ILT"},{"$f":"Master!E147","v":"Active"},{"$f":"Master!F147","v":0},{"$f":"Master!G147","v":0},{"$f":"IF(Master!H147=\"\",\"B\",Master!H147)","v":"B"},{"$f":"IF(Master!I147=\"\",\"B\",Master!I147)","v":"B"},{"$f":"IF(Master!J147=\"\",\"B\",Master!J147)","v":"B"},{"$f":"IF(Master!K147=\"\",\"B\",Master!K147)","v":"B"},{"$f":"IF(Master!L147=\"\",\"B\",Master!L147)","v":"B"},{"$f":"IF(Master!M147=\"\",\"B\",Master!M147)","v":"B"}]
[{"$f":"Master!A148","v":"CN"},{"$f":"Master!B148","v":"WSDOT DB: INTERNAL AND EXTERNAL DEBRIEFING"},{"$f":"Master!C148","v":0},{"$f":"Master!D148","v":"ILT"},{"$f":"Master!E148","v":"Active"},{"$f":"Master!F148","v":0},{"$f":"Master!G148","v":0},{"$f":"IF(Master!H148=\"\",\"B\",Master!H148)","v":"B"},{"$f":"IF(Master!I148=\"\",\"B\",Master!I148)","v":"B"},{"$f":"IF(Master!J148=\"\",\"B\",Master!J148)","v":"B"},{"$f":"IF(Master!K148=\"\",\"B\",Master!K148)","v":"B"},{"$f":"IF(Master!L148=\"\",\"B\",Master!L148)","v":"B"},{"$f":"IF(Master!M148=\"\",\"B\",Master!M148)","v":"B"}]
[{"$f":"Master!A149","v":"CN"},{"$f":"Master!B149","v":"WSDOT DB: DESIGN-BUILD QUALITY VERIFICATION"},{"$f":"Master!C149","v":0},{"$f":"Master!D149","v":"ILT"},{"$f":"Master!E149","v":"Active"},{"$f":"Master!F149","v":0},{"$f":"Master!G149","v":0},{"$f":"IF(Master!H149=\"\",\"B\",Master!H149)","v":"B"},{"$f":"IF(Master!I149=\"\",\"B\",Master!I149)","v":"B"},{"$f":"IF(Master!J149=\"\",\"B\",Master!J149)","v":"B"},{"$f":"IF(Master!K149=\"\",\"B\",Master!K149)","v":"B"},{"$f":"IF(Master!L149=\"\",\"B\",Master!L149)","v":"B"},{"$f":"IF(Master!M149=\"\",\"B\",Master!M149)","v":"B"}]
[{"$f":"Master!A150","v":"CN"},{"$f":"Master!B150","v":"**WSDOT DB: QV ADMINISTRATION"},{"$f":"Master!C150","v":0},{"$f":"Master!D150","v":"ILT"},{"$f":"Master!E150","v":"Under Development"},{"$f":"Master!F150","v":"Q1 2019"},{"$f":"Master!G150","v":0},{"$f":"IF(Master!H150=\"\",\"B\",Master!H150)","v":"B"},{"$f":"IF(Master!I150=\"\",\"B\",Master!I150)","v":"B"},{"$f":"IF(Master!J150=\"\",\"B\",Master!J150)","v":"B"},{"$f":"IF(Master!K150=\"\",\"B\",Master!K150)","v":"B"},{"$f":"IF(Master!L150=\"\",\"B\",Master!L150)","v":"B"},{"$f":"IF(Master!M150=\"\",\"B\",Master!M150)","v":"B"}]
[{"$f":"Master!A151","v":"CN"},{"$f":"Master!B151","v":"**WSDOT DB: RISK ANALYSIS AND ALLOCATION FOR DB CONTRACTS"},{"$f":"Master!C151","v":0},{"$f":"Master!D151","v":"ILT"},{"$f":"Master!E151","v":"Under Development"},{"$f":"Master!F151","v":"Q1 2019"},{"$f":"Master!G151","v":0},{"$f":"IF(Master!H151=\"\",\"B\",Master!H151)","v":"B"},{"$f":"IF(Master!I151=\"\",\"B\",Master!I151)","v":"B"},{"$f":"IF(Master!J151=\"\",\"B\",Master!J151)","v":"B"},{"$f":"IF(Master!K151=\"\",\"B\",Master!K151)","v":"B"},{"$f":"IF(Master!L151=\"\",\"B\",Master!L151)","v":"B"},{"$f":"IF(Master!M151=\"\",\"B\",Master!M151)","v":"B"}]
[{"$f":"Master!A152","v":"Development Division"},null,null,null,null,null,null,{"$f":"IF(Master!N152=\"\",\"B\",Master!N152)","v":"B"},{"$f":"IF(Master!Y152=\"\",\"B\",Master!Y152)","v":"B"},{"$f":"IF(Master!AJ152=\"\",\"B\",Master!AJ152)","v":"B"},{"$f":"IF(Master!AU152=\"\",\"B\",Master!AU152)","v":"B"},{"$f":"IF(Master!BF152=\"\",\"B\",Master!BF152)","v":"B"},{"$f":"IF(Master!BQ152=\"\",\"B\",Master!BQ152)","v":"B"}]
[{"$f":"Master!A153","v":"Design"},null,null,null,null,null,null,{"$f":"IF(Master!N153=\"\",\"B\",Master!N153)","v":"B"},{"$f":"IF(Master!Y153=\"\",\"B\",Master!Y153)","v":"B"},{"$f":"IF(Master!AJ153=\"\",\"B\",Master!AJ153)","v":"B"},{"$f":"IF(Master!AU153=\"\",\"B\",Master!AU153)","v":"B"},{"$f":"IF(Master!BF153=\"\",\"B\",Master!BF153)","v":"B"},{"$f":"IF(Master!BQ153=\"\",\"B\",Master!BQ153)","v":"B"}]
[{"$f":"Master!A154","v":"DES"},{"$f":"Master!B154","v":"CONTRACT PLANS REVIEW (SELF-STUDY)"},{"$f":"Master!C154","v":"Paper and Pencil"},{"$f":"Master!D154","v":"SS"},{"$f":"Master!E154","v":"Active"},{"$f":"Master!F154","v":0},{"$f":"Master!H154","v":"E-Learning option as well.  Updated in 2013."},{"$f":"IF(Master!N154=\"\",\"B\",Master!N154)","v":"R"},{"$f":"IF(Master!Y154=\"\",\"B\",Master!Y154)","v":"R"},{"$f":"IF(Master!AJ154=\"\",\"B\",Master!AJ154)","v":1},{"$f":"IF(Master!AU154=\"\",\"B\",Master!AU154)","v":1},{"$f":"IF(Master!BF154=\"\",\"B\",Master!BF154)","v":"B"},{"$f":"IF(Master!BQ154=\"\",\"B\",Master!BQ154)","v":"B"}]
[{"$f":"Master!A155","v":"DES"},{"$f":"Master!B155","v":"CONTRACT PLANS READING (SELF-STUDY)"},{"$f":"Master!C155","v":"Paper and Pencil"},{"$f":"Master!D155","v":"SS"},{"$f":"Master!E155","v":"Active"},{"$f":"Master!F155","v":0},{"$f":"Master!H155","v":"Obtain material through Staff Development."},{"$f":"IF(Master!N155=\"\",\"B\",Master!N155)","v":"R"},{"$f":"IF(Master!Y155=\"\",\"B\",Master!Y155)","v":"R"},{"$f":"IF(Master!AJ155=\"\",\"B\",Master!AJ155)","v":1},{"$f":"IF(Master!AU155=\"\",\"B\",Master!AU155)","v":1},{"$f":"IF(Master!BF155=\"\",\"B\",Master!BF155)","v":"B"},{"$f":"IF(Master!BQ155=\"\",\"B\",Master!BQ155)","v":"B"}]
[{"$f":"Master!A156","v":"DES"},{"$f":"Master!B156","v":"WSDOT DES: CONTRACT PLANS & ESTIMATE PREPARATION"},{"$f":"Master!C156","v":"WSDOT_A4J"},{"$f":"Master!D156","v":"ILT"},{"$f":"Master!E156","v":"Inactive"},{"$f":"Master!F156","v":"None"},{"$f":"Master!H156","v":0},{"$f":"IF(Master!N156=\"\",\"B\",Master!N156)","v":"B"},{"$f":"IF(Master!Y156=\"\",\"B\",Master!Y156)","v":"B"},{"$f":"IF(Master!AJ156=\"\",\"B\",Master!AJ156)","v":"B"},{"$f":"IF(Master!AU156=\"\",\"B\",Master!AU156)","v":"B"},{"$f":"IF(Master!BF156=\"\",\"B\",Master!BF156)","v":"B"},{"$f":"IF(Master!BQ156=\"\",\"B\",Master!BQ156)","v":"B"}]
[{"$f":"Master!A157","v":"DES"},{"$f":"Master!B157","v":"WSDOT DES: CONTRACT PROVISION PREPARATION"},{"$f":"Master!C157","v":"WSDOT_BGN"},{"$f":"Master!D157","v":"ILT"},{"$f":"Master!E157","v":"Inactive"},{"$f":"Master!F157","v":"None"},{"$f":"Master!H157","v":0},{"$f":"IF(Master!N157=\"\",\"B\",Master!N157)","v":"B"},{"$f":"IF(Master!Y157=\"\",\"B\",Master!Y157)","v":"B"},{"$f":"IF(Master!AJ157=\"\",\"B\",Master!AJ157)","v":"B"},{"$f":"IF(Master!AU157=\"\",\"B\",Master!AU157)","v":"B"},{"$f":"IF(Master!BF157=\"\",\"B\",Master!BF157)","v":"B"},{"$f":"IF(Master!BQ157=\"\",\"B\",Master!BQ157)","v":"B"}]
[{"$f":"Master!A158","v":"DES"},{"$f":"Master!B158","v":"WSDOT DESIGN DOCUMENTATION"},{"$f":"Master!C158","v":"WSDOT DES: Design Documentation"},{"$f":"Master!D158","v":"ILT"},{"$f":"Master!E158","v":"Active"},{"$f":"Master!F158","v":0},{"$f":"Master!H158","v":"Contact ASDE; course material is at https://www.wsdot.wa.gov/Design/Support.htm."},{"$f":"IF(Master!N158=\"\",\"B\",Master!N158)","v":"B"},{"$f":"IF(Master!Y158=\"\",\"B\",Master!Y158)","v":"B"},{"$f":"IF(Master!AJ158=\"\",\"B\",Master!AJ158)","v":"B"},{"$f":"IF(Master!AU158=\"\",\"B\",Master!AU158)","v":"B"},{"$f":"IF(Master!BF158=\"\",\"B\",Master!BF158)","v":"B"},{"$f":"IF(Master!BQ158=\"\",\"B\",Master!BQ158)","v":"B"}]
[{"$f":"Master!A159","v":"DES"},{"$f":"Master!B159","v":"WSDOT DES: INTERSECTION DESIGN"},{"$f":"Master!C159","v":"WSDOT_CBD"},{"$f":"Master!D159","v":"ILT"},{"$f":"Master!E159","v":"Active"},{"$f":"Master!F159","v":0},{"$f":"Master!H159","v":"Course  updated in 2019,  delivered to all regions; class delivered by request."},{"$f":"IF(Master!N159=\"\",\"B\",Master!N159)","v":"B"},{"$f":"IF(Master!Y159=\"\",\"B\",Master!Y159)","v":"B"},{"$f":"IF(Master!AJ159=\"\",\"B\",Master!AJ159)","v":"B"},{"$f":"IF(Master!AU159=\"\",\"B\",Master!AU159)","v":"B"},{"$f":"IF(Master!BF159=\"\",\"B\",Master!BF159)","v":"B"},{"$f":"IF(Master!BQ159=\"\",\"B\",Master!BQ159)","v":"B"}]
[{"$f":"Master!A160","v":"DES"},{"$f":"Master!B160","v":"WSDOT DES: PROJECT DEVELOPMENT PROCESS"},{"$f":"Master!C160","v":"WSDOT_CF4"},{"$f":"Master!D160","v":"ILT"},{"$f":"Master!E160","v":"Active"},{"$f":"Master!F160","v":"None"},{"$f":"Master!H160","v":"Updated January 2020; will deliver to regions by 6/30/2021"},{"$f":"IF(Master!N160=\"\",\"B\",Master!N160)","v":"B"},{"$f":"IF(Master!Y160=\"\",\"B\",Master!Y160)","v":"B"},{"$f":"IF(Master!AJ160=\"\",\"B\",Master!AJ160)","v":"B"},{"$f":"IF(Master!AU160=\"\",\"B\",Master!AU160)","v":"B"},{"$f":"IF(Master!BF160=\"\",\"B\",Master!BF160)","v":"B"},{"$f":"IF(Master!BQ160=\"\",\"B\",Master!BQ160)","v":"B"}]
[{"$f":"Master!A161","v":"DES"},{"$f":"Master!B161","v":"WSDOT PM: SCHEDULING BASICS"},{"$f":"Master!C161","v":"WSDOT_CB5"},{"$f":"Master!D161","v":"ILT"},{"$f":"Master!E161","v":"Inactive"},{"$f":"Master!F161","v":"None"},{"$f":"Master!H161","v":0},{"$f":"IF(Master!N161=\"\",\"B\",Master!N161)","v":"B"},{"$f":"IF(Master!Y161=\"\",\"B\",Master!Y161)","v":"B"},{"$f":"IF(Master!AJ161=\"\",\"B\",Master!AJ161)","v":"B"},{"$f":"IF(Master!AU161=\"\",\"B\",Master!AU161)","v":"B"},{"$f":"IF(Master!BF161=\"\",\"B\",Master!BF161)","v":"B"},{"$f":"IF(Master!BQ161=\"\",\"B\",Master!BQ161)","v":"B"}]
[{"$f":"Master!A162","v":"DES"},{"$f":"Master!B162","v":"AASHTO T3 CPM SCHEDULING"},{"$f":"Master!C162","v":"Resources:\nCPM Scheduling (2 PDHs)\nCPM Scheduling (3 PDHs)"},{"$f":"Master!D162","v":"OLT"},{"$f":"Master!E162","v":"Active"},{"$f":"Master!F162","v":0},{"$f":"Master!H162","v":"The online CPM training is free for WSDOT employees. To sign up, create an AASHTO account (use your WSDOT email address for the username) then navigate to the CPM training and add it to your cart. Follow the instructions that are emailed to you. There are a variety of other courses available to WSDOT employees at no cost."}]
[{"$f":"Master!A163","v":"DES"},{"$f":"Master!B163","v":"WSDOT DES: RIGHT OF WAY PLANS PREPARATION"},{"$f":"Master!C163","v":"WSDOT_BCN"},{"$f":"Master!D163","v":"ILT"},{"$f":"Master!E163","v":"Inactive"},{"$f":"Master!F163","v":"None"},{"$f":"Master!H163","v":0},{"$f":"IF(Master!N163=\"\",\"B\",Master!N163)","v":"B"},{"$f":"IF(Master!Y163=\"\",\"B\",Master!Y163)","v":"B"},{"$f":"IF(Master!AJ163=\"\",\"B\",Master!AJ163)","v":"B"},{"$f":"IF(Master!AU163=\"\",\"B\",Master!AU163)","v":"B"},{"$f":"IF(Master!BF163=\"\",\"B\",Master!BF163)","v":"B"},{"$f":"IF(Master!BQ163=\"\",\"B\",Master!BQ163)","v":"B"}]
[{"$f":"Master!A164","v":"DES"},{"$f":"Master!B164","v":"WSDOT DES: ROADSIDE SAFETY"},{"$f":"Master!C164","v":"WSDOT_B74"},{"$f":"Master!D164","v":"ILT"},{"$f":"Master!E164","v":"Inactive"},{"$f":"Master!F164","v":"None"},{"$f":"Master!H164","v":0},{"$f":"IF(Master!N164=\"\",\"B\",Master!N164)","v":"B"},{"$f":"IF(Master!Y164=\"\",\"B\",Master!Y164)","v":"B"},{"$f":"IF(Master!AJ164=\"\",\"B\",Master!AJ164)","v":"B"},{"$f":"IF(Master!AU164=\"\",\"B\",Master!AU164)","v":"B"},{"$f":"IF(Master!BF164=\"\",\"B\",Master!BF164)","v":"B"},{"$f":"IF(Master!BQ164=\"\",\"B\",Master!BQ164)","v":"B"}]
[{"$f":"Master!A165","v":"DES"},{"$f":"Master!B165","v":"WSDOT DES: ROADWAY GEOMETRIC DESIGN"},{"$f":"Master!C165","v":"WSDOT_BWE"},{"$f":"Master!D165","v":"ILT"},{"$f":"Master!E165","v":"Inactive"},{"$f":"Master!F165","v":"None"},{"$f":"Master!H165","v":0},{"$f":"IF(Master!N165=\"\",\"B\",Master!N165)","v":"B"},{"$f":"IF(Master!Y165=\"\",\"B\",Master!Y165)","v":"B"},{"$f":"IF(Master!AJ165=\"\",\"B\",Master!AJ165)","v":"B"},{"$f":"IF(Master!AU165=\"\",\"B\",Master!AU165)","v":"B"},{"$f":"IF(Master!BF165=\"\",\"B\",Master!BF165)","v":"B"},{"$f":"IF(Master!BQ165=\"\",\"B\",Master!BQ165)","v":"B"}]
[{"$f":"Master!A166","v":"DES"},{"$f":"Master!B166","v":"WSDOT DES: INTERCHANGE DESIGN"},{"$f":"Master!C166","v":"WSDOT_CFU"},{"$f":"Master!D166","v":"ILT"},{"$f":"Master!E166","v":"Inactive"},{"$f":"Master!F166","v":"None"},{"$f":"Master!H166","v":"FHWA delivered their interchange training at WSDOT in 2019; course delivery depends on demand."},{"$f":"IF(Master!N166=\"\",\"B\",Master!N166)","v":"B"},{"$f":"IF(Master!Y166=\"\",\"B\",Master!Y166)","v":"B"},{"$f":"IF(Master!AJ166=\"\",\"B\",Master!AJ166)","v":"B"},{"$f":"IF(Master!AU166=\"\",\"B\",Master!AU166)","v":"B"},{"$f":"IF(Master!BF166=\"\",\"B\",Master!BF166)","v":"B"},{"$f":"IF(Master!BQ166=\"\",\"B\",Master!BQ166)","v":"B"}]
[{"$f":"Master!A167","v":"DES"},{"$f":"Master!B167","v":"WSDOT DES: ACCESS MANAGEMENT"},{"$f":"Master!C167","v":"WSDOT_DAS"},{"$f":"Master!D167","v":"ILT"},{"$f":"Master!E167","v":"Active"},{"$f":"Master!F167","v":0},{"$f":"Master!H167","v":"Being updated, but current class can be given at any time"},{"$f":"IF(Master!N167=\"\",\"B\",Master!N167)","v":"B"},{"$f":"IF(Master!Y167=\"\",\"B\",Master!Y167)","v":"B"},{"$f":"IF(Master!AJ167=\"\",\"B\",Master!AJ167)","v":"B"},{"$f":"IF(Master!AU167=\"\",\"B\",Master!AU167)","v":"B"},{"$f":"IF(Master!BF167=\"\",\"B\",Master!BF167)","v":"B"},{"$f":"IF(Master!BQ167=\"\",\"B\",Master!BQ167)","v":"B"}]
[{"$f":"Master!A168","v":"DES"},{"$f":"Master!B168","v":"ALTERNATIVES COMPARISON WORKSHOP"},{"$f":"Master!C168","v":"None"},{"$f":"Master!D168","v":"ILT"},{"$f":"Master!E168","v":"Inactive"},{"$f":"Master!F168","v":"None"},{"$f":"Master!H168","v":0},{"$f":"IF(Master!N168=\"\",\"B\",Master!N168)","v":"B"},{"$f":"IF(Master!Y168=\"\",\"B\",Master!Y168)","v":"B"},{"$f":"IF(Master!AJ168=\"\",\"B\",Master!AJ168)","v":"B"},{"$f":"IF(Master!AU168=\"\",\"B\",Master!AU168)","v":"B"},{"$f":"IF(Master!BF168=\"\",\"B\",Master!BF168)","v":"B"},{"$f":"IF(Master!BQ168=\"\",\"B\",Master!BQ168)","v":"B"}]
[{"$f":"Master!A169","v":"DES"},{"$f":"Master!B169","v":"WSDOT DES: COST ESTIMATING"},{"$f":"Master!C169","v":"WSDOT_CZV"},{"$f":"Master!D169","v":"ILT"},{"$f":"Master!E169","v":"Active"},{"$f":"Master!F169","v":0},{"$f":"Master!H169","v":"This class was updated in 2019 and delivered to all regions 2019-2020; this class can be delivered by request."},{"$f":"IF(Master!N169=\"\",\"B\",Master!N169)","v":"B"},{"$f":"IF(Master!Y169=\"\",\"B\",Master!Y169)","v":"B"},{"$f":"IF(Master!AJ169=\"\",\"B\",Master!AJ169)","v":"B"},{"$f":"IF(Master!AU169=\"\",\"B\",Master!AU169)","v":"B"},{"$f":"IF(Master!BF169=\"\",\"B\",Master!BF169)","v":"B"},{"$f":"IF(Master!BQ169=\"\",\"B\",Master!BQ169)","v":"B"}]
[{"$f":"Master!A170","v":"DES"},{"$f":"Master!B170","v":"RISK MANAGEMENT"},{"$f":"Master!C170","v":"None"},{"$f":"Master!D170","v":"ILT"},{"$f":"Master!E170","v":"Inactive"},{"$f":"Master!F170","v":"None"},{"$f":"Master!H170","v":"Available by arrangement; contact Mark Gabel or Mark Suijka."},{"$f":"IF(Master!N170=\"\",\"B\",Master!N170)","v":"B"},{"$f":"IF(Master!Y170=\"\",\"B\",Master!Y170)","v":"B"},{"$f":"IF(Master!AJ170=\"\",\"B\",Master!AJ170)","v":"B"},{"$f":"IF(Master!AU170=\"\",\"B\",Master!AU170)","v":"B"},{"$f":"IF(Master!BF170=\"\",\"B\",Master!BF170)","v":"B"},{"$f":"IF(Master!BQ170=\"\",\"B\",Master!BQ170)","v":"B"}]
[{"$f":"Master!A171","v":"DES"},{"$f":"Master!B171","v":"MANAGING PROJECT DELIVERY"},{"$f":"Master!C171","v":"None"},{"$f":"Master!D171","v":0},{"$f":"Master!E171","v":"Inactive"},{"$f":"Master!F171","v":"None"},{"$f":"Master!H171","v":"PM courses abailable through SkillSoft:  https://wsdot.skillport.com/skillportfe/main.action#whatshappening"},{"$f":"IF(Master!N171=\"\",\"B\",Master!N171)","v":"B"},{"$f":"IF(Master!Y171=\"\",\"B\",Master!Y171)","v":"B"},{"$f":"IF(Master!AJ171=\"\",\"B\",Master!AJ171)","v":"B"},{"$f":"IF(Master!AU171=\"\",\"B\",Master!AU171)","v":"B"},{"$f":"IF(Master!BF171=\"\",\"B\",Master!BF171)","v":"B"},{"$f":"IF(Master!BQ171=\"\",\"B\",Master!BQ171)","v":"B"}]
[{"$f":"Master!A172","v":"DES"},{"$f":"Master!B172","v":"HUMAN FACTORS IN TRANSPORTATION DESIGN"},{"$f":"Master!C172","v":"None"},{"$f":"Master!D172","v":"ILT"},{"$f":"Master!E172","v":"Inactive"},{"$f":"Master!F172","v":"None"},{"$f":"Master!H172","v":"Partly covered in the HSM Training"},{"$f":"IF(Master!N172=\"\",\"B\",Master!N172)","v":"B"},{"$f":"IF(Master!Y172=\"\",\"B\",Master!Y172)","v":"B"},{"$f":"IF(Master!AJ172=\"\",\"B\",Master!AJ172)","v":"B"},{"$f":"IF(Master!AU172=\"\",\"B\",Master!AU172)","v":"B"},{"$f":"IF(Master!BF172=\"\",\"B\",Master!BF172)","v":"B"},{"$f":"IF(Master!BQ172=\"\",\"B\",Master!BQ172)","v":"B"}]
[{"$f":"Master!A173","v":"DES"},{"$f":"Master!B173","v":"WSDOT DES: [YYYY] DESIGN MANUAL TRAINING"},{"$f":"Master!C173","v":"WSDOT_DMUT01202016"},{"$f":"Master!D173","v":"ILT"},{"$f":"Master!E173","v":"Active"},{"$f":"Master!F173","v":0},{"$f":"Master!H173","v":0},{"$f":"IF(Master!N173=\"\",\"B\",Master!N173)","v":"B"},{"$f":"IF(Master!Y173=\"\",\"B\",Master!Y173)","v":"B"},{"$f":"IF(Master!AJ173=\"\",\"B\",Master!AJ173)","v":"B"},{"$f":"IF(Master!AU173=\"\",\"B\",Master!AU173)","v":"B"},{"$f":"IF(Master!BF173=\"\",\"B\",Master!BF173)","v":"B"},{"$f":"IF(Master!BQ173=\"\",\"B\",Master!BQ173)","v":"B"}]
[{"$f":"Master!A174","v":"DES"},{"$f":"Master!B174","v":"WSDOT DES: DESIGN MANUAL DIVISION 11 PRACTICAL DESIGN"},{"$f":"Master!C174","v":"DMUT_ORG"},{"$f":"Master!D174","v":"OLT"},{"$f":"Master!E174","v":"Active"},{"$f":"Master!F174","v":0},{"$f":"Master!H174","v":"Available in LMS for credit, also at https://www.wsdot.wa.gov/LocalPrograms/Training/eTraining.htm "},{"$f":"IF(Master!N174=\"\",\"B\",Master!N174)","v":"B"},{"$f":"IF(Master!Y174=\"\",\"B\",Master!Y174)","v":"B"},{"$f":"IF(Master!AJ174=\"\",\"B\",Master!AJ174)","v":"B"},{"$f":"IF(Master!AU174=\"\",\"B\",Master!AU174)","v":"B"},{"$f":"IF(Master!BF174=\"\",\"B\",Master!BF174)","v":"B"},{"$f":"IF(Master!BQ174=\"\",\"B\",Master!BQ174)","v":"B"}]
[{"$f":"Master!A175","v":"DES"},{"$f":"Master!B175","v":"WSDOT PS 201 MULTIMODAL MAKING THE CASE MODULE1 OLT"},{"$f":"Master!C175","v":"Module_1:_Why_Multimodal?_ORG"},{"$f":"Master!D175","v":"OLT"},{"$f":"Master!E175","v":"Active"},{"$f":"Master!F175","v":0},{"$f":"Master!H175","v":0},{"$f":"IF(Master!N175=\"\",\"B\",Master!N175)","v":"B"},{"$f":"IF(Master!Y175=\"\",\"B\",Master!Y175)","v":"B"},{"$f":"IF(Master!AJ175=\"\",\"B\",Master!AJ175)","v":"B"},{"$f":"IF(Master!AU175=\"\",\"B\",Master!AU175)","v":"B"},{"$f":"IF(Master!BF175=\"\",\"B\",Master!BF175)","v":"B"},{"$f":"IF(Master!BQ175=\"\",\"B\",Master!BQ175)","v":"B"}]
[{"$f":"Master!A176","v":"DES"},{"$f":"Master!B176","v":"WSDOT PS 201 MULTIMODAL LAND USE MODULE2 OLT"},{"$f":"Master!C176","v":"Module_2_Land_Use_&_Transportation_ORG"},{"$f":"Master!D176","v":"OLT"},{"$f":"Master!E176","v":"Active"},{"$f":"Master!F176","v":0},{"$f":"Master!H176","v":0},{"$f":"IF(Master!N176=\"\",\"B\",Master!N176)","v":"B"},{"$f":"IF(Master!Y176=\"\",\"B\",Master!Y176)","v":"B"},{"$f":"IF(Master!AJ176=\"\",\"B\",Master!AJ176)","v":"B"},{"$f":"IF(Master!AU176=\"\",\"B\",Master!AU176)","v":"B"},{"$f":"IF(Master!BF176=\"\",\"B\",Master!BF176)","v":"B"},{"$f":"IF(Master!BQ176=\"\",\"B\",Master!BQ176)","v":"B"}]
[{"$f":"Master!A177","v":"DES"},{"$f":"Master!B177","v":"WSDOT PS 201 MULTIMODAL PHASES AND NEEDS MODULE3 OLT"},{"$f":"Master!C177","v":"Module_3_Phases_and_Needs_ORG"},{"$f":"Master!D177","v":"OLT"},{"$f":"Master!E177","v":" Active"},{"$f":"Master!F177","v":0},{"$f":"Master!H177","v":0},{"$f":"IF(Master!N177=\"\",\"B\",Master!N177)","v":"B"},{"$f":"IF(Master!Y177=\"\",\"B\",Master!Y177)","v":"B"},{"$f":"IF(Master!AJ177=\"\",\"B\",Master!AJ177)","v":"B"},{"$f":"IF(Master!AU177=\"\",\"B\",Master!AU177)","v":"B"},{"$f":"IF(Master!BF177=\"\",\"B\",Master!BF177)","v":"B"},{"$f":"IF(Master!BQ177=\"\",\"B\",Master!BQ177)","v":"B"}]
[{"$f":"Master!A178","v":"DES"},{"$f":"Master!B178","v":"WSDOT PS 201 MULTIMODAL PERFORMANCE BASICS MODULE4 OLT"},{"$f":"Master!C178","v":"Module_4_Performance_Basics_ORG"},{"$f":"Master!D178","v":"OLT"},{"$f":"Master!E178","v":"Active"},{"$f":"Master!F178","v":0},{"$f":"Master!H178","v":0},{"$f":"IF(Master!N178=\"\",\"B\",Master!N178)","v":"B"},{"$f":"IF(Master!Y178=\"\",\"B\",Master!Y178)","v":"B"},{"$f":"IF(Master!AJ178=\"\",\"B\",Master!AJ178)","v":"B"},{"$f":"IF(Master!AU178=\"\",\"B\",Master!AU178)","v":"B"},{"$f":"IF(Master!BF178=\"\",\"B\",Master!BF178)","v":"B"},{"$f":"IF(Master!BQ178=\"\",\"B\",Master!BQ178)","v":"B"}]
[{"$f":"Master!A179","v":"DES"},{"$f":"Master!B179","v":"WSDOT PS 201 MULTIMODAL TRANSIT MODULE5 OLT"},{"$f":"Master!C179","v":"Module_5_Transit_ORG"},{"$f":"Master!D179","v":"OLT"},{"$f":"Master!E179","v":"Active"},{"$f":"Master!F179","v":0},{"$f":"Master!H179","v":0},{"$f":"IF(Master!N179=\"\",\"B\",Master!N179)","v":"B"},{"$f":"IF(Master!Y179=\"\",\"B\",Master!Y179)","v":"B"},{"$f":"IF(Master!AJ179=\"\",\"B\",Master!AJ179)","v":"B"},{"$f":"IF(Master!AU179=\"\",\"B\",Master!AU179)","v":"B"},{"$f":"IF(Master!BF179=\"\",\"B\",Master!BF179)","v":"B"},{"$f":"IF(Master!BQ179=\"\",\"B\",Master!BQ179)","v":"B"}]
[{"$f":"Master!A180","v":"DES"},{"$f":"Master!B180","v":"WSDOT PS 201 MULTIMODAL WALKING MODULE6 OLT"},{"$f":"Master!C180","v":"Module_6_People_Walking_ORG"},{"$f":"Master!D180","v":"OLT"},{"$f":"Master!E180","v":"Active"},{"$f":"Master!F180","v":0},{"$f":"Master!H180","v":0},{"$f":"IF(Master!N180=\"\",\"B\",Master!N180)","v":"B"},{"$f":"IF(Master!Y180=\"\",\"B\",Master!Y180)","v":"B"},{"$f":"IF(Master!AJ180=\"\",\"B\",Master!AJ180)","v":"B"},{"$f":"IF(Master!AU180=\"\",\"B\",Master!AU180)","v":"B"},{"$f":"IF(Master!BF180=\"\",\"B\",Master!BF180)","v":"B"},{"$f":"IF(Master!BQ180=\"\",\"B\",Master!BQ180)","v":"B"}]
[{"$f":"Master!A181","v":"DES"},{"$f":"Master!B181","v":"WSDOT PS 201 MULTIMODAL BIKING MODULE7 OLT"},{"$f":"Master!C181","v":"Module_7_People_Biking_ORG"},{"$f":"Master!D181","v":"OLT"},{"$f":"Master!E181","v":"Active"},{"$f":"Master!F181","v":0},{"$f":"Master!H181","v":0},{"$f":"IF(Master!N181=\"\",\"B\",Master!N181)","v":"B"},{"$f":"IF(Master!Y181=\"\",\"B\",Master!Y181)","v":"B"},{"$f":"IF(Master!AJ181=\"\",\"B\",Master!AJ181)","v":"B"},{"$f":"IF(Master!AU181=\"\",\"B\",Master!AU181)","v":"B"},{"$f":"IF(Master!BF181=\"\",\"B\",Master!BF181)","v":"B"},{"$f":"IF(Master!BQ181=\"\",\"B\",Master!BQ181)","v":"B"}]
[{"$f":"Master!A182","v":"DES"},{"$f":"Master!B182","v":"WSDOT PS 201 MULTIMODAL FREIGHT MODULE8 OLT"},{"$f":"Master!C182","v":"Module_8_Freight_Transportation_ORG"},{"$f":"Master!D182","v":"OLT"},{"$f":"Master!E182","v":"Active"},{"$f":"Master!F182","v":0},{"$f":"Master!H182","v":0},{"$f":"IF(Master!N182=\"\",\"B\",Master!N182)","v":"B"},{"$f":"IF(Master!Y182=\"\",\"B\",Master!Y182)","v":"B"},{"$f":"IF(Master!AJ182=\"\",\"B\",Master!AJ182)","v":"B"},{"$f":"IF(Master!AU182=\"\",\"B\",Master!AU182)","v":"B"},{"$f":"IF(Master!BF182=\"\",\"B\",Master!BF182)","v":"B"},{"$f":"IF(Master!BQ182=\"\",\"B\",Master!BQ182)","v":"B"}]
[{"$f":"Master!A183","v":"DES"},{"$f":"Master!B183","v":"WSDOT PS 201 MULTIMODAL CONFLICTS AND HUBS MODULE9 OLT"},{"$f":"Master!C183","v":"Module_9_Modal_Conflicts_and_Hubs_ORG"},{"$f":"Master!D183","v":"OLT"},{"$f":"Master!E183","v":"Active"},{"$f":"Master!F183","v":0},{"$f":"Master!H183","v":0},{"$f":"IF(Master!N183=\"\",\"B\",Master!N183)","v":"B"},{"$f":"IF(Master!Y183=\"\",\"B\",Master!Y183)","v":"B"},{"$f":"IF(Master!AJ183=\"\",\"B\",Master!AJ183)","v":"B"},{"$f":"IF(Master!AU183=\"\",\"B\",Master!AU183)","v":"B"},{"$f":"IF(Master!BF183=\"\",\"B\",Master!BF183)","v":"B"},{"$f":"IF(Master!BQ183=\"\",\"B\",Master!BQ183)","v":"B"}]
[{"$f":"Master!A184","v":"DES"},{"$f":"Master!B184","v":"WSDOT PRACTICAL SOLUTIONS OVERVIEW OLT"},{"$f":"Master!C184","v":"Practical_Solutions_Overview_ORG"},{"$f":"Master!D184","v":"OLT"},{"$f":"Master!E184","v":"Active"},{"$f":"Master!F184","v":0},{"$f":"Master!H184","v":0},{"$f":"IF(Master!N184=\"\",\"B\",Master!N184)","v":2},{"$f":"IF(Master!Y184=\"\",\"B\",Master!Y184)","v":2},{"$f":"IF(Master!AJ184=\"\",\"B\",Master!AJ184)","v":2},{"$f":"IF(Master!AU184=\"\",\"B\",Master!AU184)","v":2},{"$f":"IF(Master!BF184=\"\",\"B\",Master!BF184)","v":2},{"$f":"IF(Master!BQ184=\"\",\"B\",Master!BQ184)","v":2}]
[{"$f":"Master!A185","v":"DES"},{"$f":"Master!B185","v":"WSDOT PS 101: PRACTICAL SOLUTIONS APPROACH TO PROJECT DEVELOPMENT OVERVIEW"},{"$f":"Master!C185","v":"WSDOT_PS101"},{"$f":"Master!D185","v":"ILT"},{"$f":"Master!E185","v":"Inactive"},{"$f":"Master!F185","v":0},{"$f":"Master!H185","v":0},{"$f":"IF(Master!N185=\"\",\"B\",Master!N185)","v":2},{"$f":"IF(Master!Y185=\"\",\"B\",Master!Y185)","v":2},{"$f":"IF(Master!AJ185=\"\",\"B\",Master!AJ185)","v":2},{"$f":"IF(Master!AU185=\"\",\"B\",Master!AU185)","v":2},{"$f":"IF(Master!BF185=\"\",\"B\",Master!BF185)","v":2},{"$f":"IF(Master!BQ185=\"\",\"B\",Master!BQ185)","v":2}]
[{"$f":"Master!A186","v":"Hydraulics"},null,null,null,null,null,null,{"$f":"IF(Master!N186=\"\",\"B\",Master!N186)","v":"B"},{"$f":"IF(Master!Y186=\"\",\"B\",Master!Y186)","v":"B"},{"$f":"IF(Master!AJ186=\"\",\"B\",Master!AJ186)","v":"B"},{"$f":"IF(Master!AU186=\"\",\"B\",Master!AU186)","v":"B"},{"$f":"IF(Master!BF186=\"\",\"B\",Master!BF186)","v":"B"},{"$f":"IF(Master!BQ186=\"\",\"B\",Master!BQ186)","v":"B"}]
[{"$f":"Master!A187","v":"HYD"},{"$f":"Master!B187","v":"WSDOT DES: HYDRAULICS AND HYDROLOGY"},{"$f":"Master!C187","v":"WSDOT_DES_HYDRAULICS_AND_HYDROLOGY"},{"$f":"Master!D187","v":"ILT"},{"$f":"Master!E187","v":"Active"},{"$f":"Master!F187","v":0},{"$f":"Master!H187","v":0},{"$f":"IF(Master!N187=\"\",\"B\",Master!N187)","v":"B"},{"$f":"IF(Master!Y187=\"\",\"B\",Master!Y187)","v":"B"},{"$f":"IF(Master!AJ187=\"\",\"B\",Master!AJ187)","v":"B"},{"$f":"IF(Master!AU187=\"\",\"B\",Master!AU187)","v":"B"},{"$f":"IF(Master!BF187=\"\",\"B\",Master!BF187)","v":"B"},{"$f":"IF(Master!BQ187=\"\",\"B\",Master!BQ187)","v":"B"}]
[{"$f":"Master!A188","v":"HYD"},{"$f":"Master!B188","v":"WSDOT DES: 2014 HIGHWAY RUNOFF MANUAL TRAINING"},{"$f":"Master!C188","v":"WSDOT_DBI"},{"$f":"Master!D188","v":"ILT"},{"$f":"Master!E188","v":"Active"},{"$f":"Master!F188","v":0},{"$f":"Master!H188","v":0},{"$f":"IF(Master!N188=\"\",\"B\",Master!N188)","v":"B"},{"$f":"IF(Master!Y188=\"\",\"B\",Master!Y188)","v":"B"},{"$f":"IF(Master!AJ188=\"\",\"B\",Master!AJ188)","v":"B"},{"$f":"IF(Master!AU188=\"\",\"B\",Master!AU188)","v":"B"},{"$f":"IF(Master!BF188=\"\",\"B\",Master!BF188)","v":"B"},{"$f":"IF(Master!BQ188=\"\",\"B\",Master!BQ188)","v":"B"}]
[{"$f":"Master!A189","v":"HYD"},{"$f":"Master!B189","v":"WSDOT_MGSFLOOD_TRAINING"},{"$f":"Master!C189","v":"WSDOT_MGSFLOOD_TRAINING"},{"$f":"Master!D189","v":"ILT"},{"$f":"Master!E189","v":"Active"},{"$f":"Master!F189","v":0},{"$f":"Master!H189","v":0},{"$f":"IF(Master!N189=\"\",\"B\",Master!N189)","v":"B"},{"$f":"IF(Master!Y189=\"\",\"B\",Master!Y189)","v":"B"},{"$f":"IF(Master!AJ189=\"\",\"B\",Master!AJ189)","v":"B"},{"$f":"IF(Master!AU189=\"\",\"B\",Master!AU189)","v":"B"},{"$f":"IF(Master!BF189=\"\",\"B\",Master!BF189)","v":"B"},{"$f":"IF(Master!BQ189=\"\",\"B\",Master!BQ189)","v":"B"}]
[{"$f":"Master!A190","v":"HYD"},{"$f":"Master!B190","v":"WSDOT DES: STORMSHED BEGINNING"},{"$f":"Master!C190","v":"WSDOT_DES_STORMSHED_BEGINNING"},{"$f":"Master!D190","v":"ILT"},{"$f":"Master!E190","v":"Active"},{"$f":"Master!F190","v":0},{"$f":"Master!H190","v":0},{"$f":"IF(Master!N190=\"\",\"B\",Master!N190)","v":"B"},{"$f":"IF(Master!Y190=\"\",\"B\",Master!Y190)","v":"B"},{"$f":"IF(Master!AJ190=\"\",\"B\",Master!AJ190)","v":"B"},{"$f":"IF(Master!AU190=\"\",\"B\",Master!AU190)","v":"B"},{"$f":"IF(Master!BF190=\"\",\"B\",Master!BF190)","v":"B"},{"$f":"IF(Master!BQ190=\"\",\"B\",Master!BQ190)","v":"B"}]
[{"$f":"Master!A191","v":"HYD"},{"$f":"Master!B191","v":"WSDOT DES: STORMSHED INTERMEDIATE"},{"$f":"Master!C191","v":"WSDOT_DES_STORMSHED_INTERMEDIATE"},{"$f":"Master!D191","v":"ILT"},{"$f":"Master!E191","v":"Active"},{"$f":"Master!F191","v":0},{"$f":"Master!H191","v":0},{"$f":"IF(Master!N191=\"\",\"B\",Master!N191)","v":"B"},{"$f":"IF(Master!Y191=\"\",\"B\",Master!Y191)","v":"B"},{"$f":"IF(Master!AJ191=\"\",\"B\",Master!AJ191)","v":"B"},{"$f":"IF(Master!AU191=\"\",\"B\",Master!AU191)","v":"B"},{"$f":"IF(Master!BF191=\"\",\"B\",Master!BF191)","v":"B"},{"$f":"IF(Master!BQ191=\"\",\"B\",Master!BQ191)","v":"B"}]
[{"$f":"Master!A192","v":"Environmental"},null,null,null,null,null,null,{"$f":"IF(Master!N192=\"\",\"B\",Master!N192)","v":"B"},{"$f":"IF(Master!Y192=\"\",\"B\",Master!Y192)","v":"B"},{"$f":"IF(Master!AJ192=\"\",\"B\",Master!AJ192)","v":"B"},{"$f":"IF(Master!AU192=\"\",\"B\",Master!AU192)","v":"B"},{"$f":"IF(Master!BF192=\"\",\"B\",Master!BF192)","v":"B"},{"$f":"IF(Master!BQ192=\"\",\"B\",Master!BQ192)","v":"B"}]
[{"$f":"Master!A193","v":"ENV"},{"$f":"Master!B193","v":"WSDOT ENV: SPILL PLAN REVIEWER TRAINING (OLT)"},{"$f":"Master!C193","v":"WSDOT_BYZ_OLT"},{"$f":"Master!D193","v":"OLT"},{"$f":"Master!E193","v":"Active"},{"$f":"Master!F193","v":0},{"$f":"Master!G193","v":"NA"},{"$f":"IF(Master!N193=\"\",\"B\",Master!N193)","v":"B"},{"$f":"IF(Master!Y193=\"\",\"B\",Master!Y193)","v":"B"},{"$f":"IF(Master!AJ193=\"\",\"B\",Master!AJ193)","v":"B"},{"$f":"IF(Master!AU193=\"\",\"B\",Master!AU193)","v":"B"},{"$f":"IF(Master!BF193=\"\",\"B\",Master!BF193)","v":"B"},{"$f":"IF(Master!BQ193=\"\",\"B\",Master!BQ193)","v":"B"}]
[{"$f":"Master!A194","v":"ENV"},{"$f":"Master!B194","v":"WSDOT ENV: CONSTRUCTION SITE EROSION AND SEDIMENT CONTROL"},{"$f":"Master!C194","v":"WSDOT_BPW"},{"$f":"Master!D194","v":"ILT"},{"$f":"Master!E194","v":"Active"},{"$f":"Master!F194","v":0},{"$f":"Master!G194","v":"Once per year per Region or by request"},{"$f":"IF(Master!N194=\"\",\"B\",Master!N194)","v":"B"},{"$f":"IF(Master!Y194=\"\",\"B\",Master!Y194)","v":"B"},{"$f":"IF(Master!AJ194=\"\",\"B\",Master!AJ194)","v":"B"},{"$f":"IF(Master!AU194=\"\",\"B\",Master!AU194)","v":"B"},{"$f":"IF(Master!BF194=\"\",\"B\",Master!BF194)","v":"B"},{"$f":"IF(Master!BQ194=\"\",\"B\",Master!BQ194)","v":"B"}]
[{"$f":"Master!A195","v":"ENV"},{"$f":"Master!B195","v":"WSDOT ENV: CULTURAL RESOURCE TRAINING"},{"$f":"Master!C195","v":"WSDOT_B7T"},{"$f":"Master!D195","v":"ILT"},{"$f":"Master!E195","v":"Active"},{"$f":"Master!F195","v":0},{"$f":"Master!G195","v":"Offered 1-2 times per year"},{"$f":"IF(Master!N195=\"\",\"B\",Master!N195)","v":"B"},{"$f":"IF(Master!Y195=\"\",\"B\",Master!Y195)","v":"B"},{"$f":"IF(Master!AJ195=\"\",\"B\",Master!AJ195)","v":"B"},{"$f":"IF(Master!AU195=\"\",\"B\",Master!AU195)","v":"B"},{"$f":"IF(Master!BF195=\"\",\"B\",Master!BF195)","v":"B"},{"$f":"IF(Master!BQ195=\"\",\"B\",Master!BQ195)","v":"B"}]
[{"$f":"Master!A196","v":"ENV"},{"$f":"Master!B196","v":"WSDOT ENV: ENVIRONMENTAL JUSTICE INCLUSION TRAINING (OLT)"},{"$f":"Master!C196","v":"WSDOT_EJ1_OLT"},{"$f":"Master!D196","v":"OLT"},{"$f":"Master!E196","v":"Active"},{"$f":"Master!F196","v":0},{"$f":"Master!G196","v":"NA"},{"$f":"IF(Master!N196=\"\",\"B\",Master!N196)","v":1},{"$f":"IF(Master!Y196=\"\",\"B\",Master!Y196)","v":1},{"$f":"IF(Master!AJ196=\"\",\"B\",Master!AJ196)","v":1},{"$f":"IF(Master!AU196=\"\",\"B\",Master!AU196)","v":1},{"$f":"IF(Master!BF196=\"\",\"B\",Master!BF196)","v":1},{"$f":"IF(Master!BQ196=\"\",\"B\",Master!BQ196)","v":1}]
[{"$f":"Master!A197","v":"ENV"},{"$f":"Master!B197","v":"WSDOT ENV: ENVIRONMENTAL OVERVIEW - COMPLIANCE FOR CONSTRUCTION (OLT)"},{"$f":"Master!C197","v":"WSDOT_CR5_OLT"},{"$f":"Master!D197","v":"OLT"},{"$f":"Master!E197","v":"Active"},{"$f":"Master!F197","v":0},{"$f":"Master!G197","v":"NA"},{"$f":"IF(Master!N197=\"\",\"B\",Master!N197)","v":"B"},{"$f":"IF(Master!Y197=\"\",\"B\",Master!Y197)","v":"B"},{"$f":"IF(Master!AJ197=\"\",\"B\",Master!AJ197)","v":"B"},{"$f":"IF(Master!AU197=\"\",\"B\",Master!AU197)","v":"B"},{"$f":"IF(Master!BF197=\"\",\"B\",Master!BF197)","v":"B"},{"$f":"IF(Master!BQ197=\"\",\"B\",Master!BQ197)","v":"B"}]
[{"$f":"Master!A198","v":"ENV"},{"$f":"Master!B198","v":"WSDOT ENV: ESA (ENDANGERED SPECIES ACT) FOR NON-BIOLOGISTS (OLT)"},{"$f":"Master!C198","v":"WSDOT_EV9_OLT"},{"$f":"Master!D198","v":"OLT"},{"$f":"Master!E198","v":"Active"},{"$f":"Master!F198","v":0},{"$f":"Master!G198","v":"NA"},{"$f":"IF(Master!N198=\"\",\"B\",Master!N198)","v":"B"},{"$f":"IF(Master!Y198=\"\",\"B\",Master!Y198)","v":"B"},{"$f":"IF(Master!AJ198=\"\",\"B\",Master!AJ198)","v":"B"},{"$f":"IF(Master!AU198=\"\",\"B\",Master!AU198)","v":"B"},{"$f":"IF(Master!BF198=\"\",\"B\",Master!BF198)","v":"B"},{"$f":"IF(Master!BQ198=\"\",\"B\",Master!BQ198)","v":"B"}]
[{"$f":"Master!A199","v":"ENV"},{"$f":"Master!B199","v":"WSDOT ENV: NEPA/SEPA - MODULE 1 - OVERVIEW"},{"$f":"Master!C199","v":"WSDOT_DDV"},{"$f":"Master!D199","v":"ILT"},{"$f":"Master!E199","v":"Active"},{"$f":"Master!F199","v":0},{"$f":"Master!G199","v":"Once per year per Region or by request"},{"$f":"IF(Master!N199=\"\",\"B\",Master!N199)","v":"B"},{"$f":"IF(Master!Y199=\"\",\"B\",Master!Y199)","v":"B"},{"$f":"IF(Master!AJ199=\"\",\"B\",Master!AJ199)","v":"B"},{"$f":"IF(Master!AU199=\"\",\"B\",Master!AU199)","v":"B"},{"$f":"IF(Master!BF199=\"\",\"B\",Master!BF199)","v":"B"},{"$f":"IF(Master!BQ199=\"\",\"B\",Master!BQ199)","v":"B"}]
[{"$f":"Master!A200","v":"ENV"},{"$f":"Master!B200","v":"WSDOT ENV: NEPA/SEPA - MODULE 2 - DOCUMENTING CATEGORICAL EXCLUSIONS"},{"$f":"Master!C200","v":"WSDOT_ENV"},{"$f":"Master!D200","v":"ILT"},{"$f":"Master!E200","v":"Active"},{"$f":"Master!F200","v":0},{"$f":"Master!G200","v":"Once per year per Region or by request"},{"$f":"IF(Master!N200=\"\",\"B\",Master!N200)","v":"B"},{"$f":"IF(Master!Y200=\"\",\"B\",Master!Y200)","v":"B"},{"$f":"IF(Master!AJ200=\"\",\"B\",Master!AJ200)","v":"B"},{"$f":"IF(Master!AU200=\"\",\"B\",Master!AU200)","v":"B"},{"$f":"IF(Master!BF200=\"\",\"B\",Master!BF200)","v":"B"},{"$f":"IF(Master!BQ200=\"\",\"B\",Master!BQ200)","v":"B"}]
[{"$f":"Master!A201","v":"ENV"},{"$f":"Master!B201","v":"WSDOT ENV: NEPA/SEPA - MODULE 3 - DOCUMENTING EAs AND EISs"},{"$f":"Master!C201","v":"WSDOT_ENV_2"},{"$f":"Master!D201","v":"ILT"},{"$f":"Master!E201","v":"Active"},{"$f":"Master!F202","v":0},{"$f":"Master!G201","v":"Once per year per Region or by request"},{"$f":"IF(Master!N201=\"\",\"B\",Master!N201)","v":"B"},{"$f":"IF(Master!Y201=\"\",\"B\",Master!Y201)","v":"B"},{"$f":"IF(Master!AJ201=\"\",\"B\",Master!AJ201)","v":"B"},{"$f":"IF(Master!AU201=\"\",\"B\",Master!AU201)","v":"B"},{"$f":"IF(Master!BF201=\"\",\"B\",Master!BF201)","v":"B"},{"$f":"IF(Master!BQ201=\"\",\"B\",Master!BQ201)","v":"B"}]
[{"$f":"Master!A202","v":"ENV"},{"$f":"Master!B202","v":"WSDOT ENV: POISONOUS AND HARMFUL PLANTS IN WASHINGTON STATE"},{"$f":"Master!C202","v":"WSDOT_019_OLT"},{"$f":"Master!D202","v":"OLT"},{"$f":"Master!E202","v":"Active"},{"$f":"Master!F203","v":0},{"$f":"Master!G202","v":"NA"},{"$f":"IF(Master!N202=\"\",\"B\",Master!N202)","v":"B"},{"$f":"IF(Master!Y202=\"\",\"B\",Master!Y202)","v":"B"},{"$f":"IF(Master!AJ202=\"\",\"B\",Master!AJ202)","v":"B"},{"$f":"IF(Master!AU202=\"\",\"B\",Master!AU202)","v":"B"},{"$f":"IF(Master!BF202=\"\",\"B\",Master!BF202)","v":"B"},{"$f":"IF(Master!BQ202=\"\",\"B\",Master!BQ202)","v":"B"}]
[{"$f":"Master!A203","v":"Computer Aided Engineering"},null,null,null,null,null,null,{"$f":"IF(Master!N203=\"\",\"B\",Master!N203)","v":"B"},{"$f":"IF(Master!Y203=\"\",\"B\",Master!Y203)","v":"B"},{"$f":"IF(Master!AJ203=\"\",\"B\",Master!AJ203)","v":"B"},{"$f":"IF(Master!AU203=\"\",\"B\",Master!AU203)","v":"B"},{"$f":"IF(Master!BF203=\"\",\"B\",Master!BF203)","v":"B"},{"$f":"IF(Master!BQ203=\"\",\"B\",Master!BQ203)","v":"B"}]
[{"$f":"Master!A204","v":"CAE"},{"$f":"Master!B204","v":"WSDOT CAE: MICROSTATION - 101 ENTRY LEVEL"},{"$f":"Master!C204","v":"WSDOT_AX4"},{"$f":"Master!D204","v":"ILT"},{"$f":"Master!E204","v":"Active"},{"$f":"Master!F204","v":0},{"$f":"Master!H204","v":0},{"$f":"IF(Master!N204=\"\",\"B\",Master!N204)","v":"B"},{"$f":"IF(Master!Y204=\"\",\"B\",Master!Y204)","v":"B"},{"$f":"IF(Master!AJ204=\"\",\"B\",Master!AJ204)","v":"B"},{"$f":"IF(Master!AU204=\"\",\"B\",Master!AU204)","v":"B"},{"$f":"IF(Master!BF204=\"\",\"B\",Master!BF204)","v":"B"},{"$f":"IF(Master!BQ204=\"\",\"B\",Master!BQ204)","v":"B"}]
[{"$f":"Master!A205","v":"CAE"},{"$f":"Master!B205","v":"WSDOT CAE: MICROSTATION - 201 PRODUCTION LEVEL"},{"$f":"Master!C205","v":"WSDOT_AI6"},{"$f":"Master!D205","v":"ILT"},{"$f":"Master!E205","v":"Active"},{"$f":"Master!F205","v":0},{"$f":"Master!H205","v":0},{"$f":"IF(Master!N205=\"\",\"B\",Master!N205)","v":"B"},{"$f":"IF(Master!Y205=\"\",\"B\",Master!Y205)","v":"B"},{"$f":"IF(Master!AJ205=\"\",\"B\",Master!AJ205)","v":"B"},{"$f":"IF(Master!AU205=\"\",\"B\",Master!AU205)","v":"B"},{"$f":"IF(Master!BF205=\"\",\"B\",Master!BF205)","v":"B"},{"$f":"IF(Master!BQ205=\"\",\"B\",Master!BQ205)","v":"B"}]
[{"$f":"Master!A206","v":"CAE"},{"$f":"Master!B206","v":"WSDOT CAE: INROADS - 201 PRODUCTION LEVEL DESIGN"},{"$f":"Master!C206","v":"WSDOT_CRZ"},{"$f":"Master!D206","v":"ILT"},{"$f":"Master!E206","v":"Active"},{"$f":"Master!F206","v":0},{"$f":"Master!H206","v":0},{"$f":"IF(Master!N206=\"\",\"B\",Master!N206)","v":"B"},{"$f":"IF(Master!Y206=\"\",\"B\",Master!Y206)","v":"B"},{"$f":"IF(Master!AJ206=\"\",\"B\",Master!AJ206)","v":"B"},{"$f":"IF(Master!AU206=\"\",\"B\",Master!AU206)","v":"B"},{"$f":"IF(Master!BF206=\"\",\"B\",Master!BF206)","v":"B"},{"$f":"IF(Master!BQ206=\"\",\"B\",Master!BQ206)","v":"B"}]
[{"$f":"Master!A207","v":"CAE"},{"$f":"Master!B207","v":"WSDOT CAE: INROADS - 202 SURVEY DATA PROCESSING"},{"$f":"Master!C207","v":"WSDOT_CU1"},{"$f":"Master!D207","v":"ILT"},{"$f":"Master!E207","v":"Active"},{"$f":"Master!F207","v":0},{"$f":"Master!H207","v":0},{"$f":"IF(Master!N207=\"\",\"B\",Master!N207)","v":"B"},{"$f":"IF(Master!Y207=\"\",\"B\",Master!Y207)","v":"B"},{"$f":"IF(Master!AJ207=\"\",\"B\",Master!AJ207)","v":"B"},{"$f":"IF(Master!AU207=\"\",\"B\",Master!AU207)","v":"B"},{"$f":"IF(Master!BF207=\"\",\"B\",Master!BF207)","v":"B"},{"$f":"IF(Master!BQ207=\"\",\"B\",Master!BQ207)","v":"B"}]
[{"$f":"Master!A208","v":"CAE"},{"$f":"Master!B208","v":"WSDOT CAE: INROADS - 203 GEOMETRICS"},{"$f":"Master!C208","v":"WSDOT_DBF"},{"$f":"Master!D208","v":"ILT"},{"$f":"Master!E208","v":"Active"},{"$f":"Master!F208","v":0},{"$f":"Master!H208","v":0},{"$f":"IF(Master!N208=\"\",\"B\",Master!N208)","v":"B"},{"$f":"IF(Master!Y208=\"\",\"B\",Master!Y208)","v":"B"},{"$f":"IF(Master!AJ208=\"\",\"B\",Master!AJ208)","v":"B"},{"$f":"IF(Master!AU208=\"\",\"B\",Master!AU208)","v":"B"},{"$f":"IF(Master!BF208=\"\",\"B\",Master!BF208)","v":"B"},{"$f":"IF(Master!BQ208=\"\",\"B\",Master!BQ208)","v":"B"}]
[{"$f":"Master!A209","v":"CAE"},{"$f":"Master!B209","v":"WSDOT CAE: INROADS - 205 CONSTRUCTION PROCESSES"},{"$f":"Master!C209","v":"WSDOT_DH2"},{"$f":"Master!D209","v":"ILT"},{"$f":"Master!E209","v":"Active"},{"$f":"Master!F209","v":0},{"$f":"Master!H209","v":0},{"$f":"IF(Master!N209=\"\",\"B\",Master!N209)","v":"B"},{"$f":"IF(Master!Y209=\"\",\"B\",Master!Y209)","v":"B"},{"$f":"IF(Master!AJ209=\"\",\"B\",Master!AJ209)","v":"B"},{"$f":"IF(Master!AU209=\"\",\"B\",Master!AU209)","v":"B"},{"$f":"IF(Master!BF209=\"\",\"B\",Master!BF209)","v":"B"},{"$f":"IF(Master!BQ209=\"\",\"B\",Master!BQ209)","v":"B"}]
[{"$f":"Master!A210","v":"CAE"},{"$f":"Master!B210","v":"WSDOT CAE: INROADS - 251 INTERMEDIATE ROADWAY DESIGN"},{"$f":"Master!C210","v":"WSDOT_DDL"},{"$f":"Master!D210","v":"ILT"},{"$f":"Master!E210","v":"Active"},{"$f":"Master!F210","v":0},{"$f":"Master!H210","v":0},{"$f":"IF(Master!N210=\"\",\"B\",Master!N210)","v":"B"},{"$f":"IF(Master!Y210=\"\",\"B\",Master!Y210)","v":"B"},{"$f":"IF(Master!AJ210=\"\",\"B\",Master!AJ210)","v":"B"},{"$f":"IF(Master!AU210=\"\",\"B\",Master!AU210)","v":"B"},{"$f":"IF(Master!BF210=\"\",\"B\",Master!BF210)","v":"B"},{"$f":"IF(Master!BQ210=\"\",\"B\",Master!BQ210)","v":"B"}]
[{"$f":"Master!A211","v":"Survey"},null,null,null,null,null,null,{"$f":"IF(Master!N211=\"\",\"B\",Master!N211)","v":"B"},{"$f":"IF(Master!Y211=\"\",\"B\",Master!Y211)","v":"B"},{"$f":"IF(Master!AJ211=\"\",\"B\",Master!AJ211)","v":"B"},{"$f":"IF(Master!AU211=\"\",\"B\",Master!AU211)","v":"B"},{"$f":"IF(Master!BF211=\"\",\"B\",Master!BF211)","v":"B"},{"$f":"IF(Master!BQ211=\"\",\"B\",Master!BQ211)","v":"B"}]
[{"$f":"Master!A212","v":"SUR"},{"$f":"Master!B212","v":"WSDOT SUR: BASIC SURVEYING (SELF-STUDY)"},{"$f":"Master!C212","v":"WSDOT_APK"},{"$f":"Master!D212","v":"SS"},{"$f":"Master!E212","v":"Active"},{"$f":"Master!F212","v":0},{"$f":"Master!H212","v":0},{"$f":"IF(Master!N212=\"\",\"B\",Master!N212)","v":"R"},{"$f":"IF(Master!Y212=\"\",\"B\",Master!Y212)","v":"R"},{"$f":"IF(Master!AJ212=\"\",\"B\",Master!AJ212)","v":2},{"$f":"IF(Master!AU212=\"\",\"B\",Master!AU212)","v":2},{"$f":"IF(Master!BF212=\"\",\"B\",Master!BF212)","v":"B"},{"$f":"IF(Master!BQ212=\"\",\"B\",Master!BQ212)","v":"B"}]
[{"$f":"Master!A213","v":"SUR"},{"$f":"Master!B213","v":"WSDOT SUR: INTERMEDIATE SURVEYING"},{"$f":"Master!C213","v":"WSDOT A4U"},{"$f":"Master!D213","v":"ILT"},{"$f":"Master!E213","v":"Under Development"},{"$f":"Master!F213","v":"Q3 2019"},{"$f":"Master!H213","v":0},{"$f":"IF(Master!N213=\"\",\"B\",Master!N213)","v":"B"},{"$f":"IF(Master!Y213=\"\",\"B\",Master!Y213)","v":"B"},{"$f":"IF(Master!AJ213=\"\",\"B\",Master!AJ213)","v":"B"},{"$f":"IF(Master!AU213=\"\",\"B\",Master!AU213)","v":"B"},{"$f":"IF(Master!BF213=\"\",\"B\",Master!BF213)","v":"B"},{"$f":"IF(Master!BQ213=\"\",\"B\",Master!BQ213)","v":"B"}]
[{"$f":"Master!A214","v":"Traffic Operations Division"},null,null,null,null,null,null,{"$f":"IF(Master!N214=\"\",\"B\",Master!N214)","v":"B"},{"$f":"IF(Master!Y214=\"\",\"B\",Master!Y214)","v":"B"},{"$f":"IF(Master!AJ214=\"\",\"B\",Master!AJ214)","v":"B"},{"$f":"IF(Master!AU214=\"\",\"B\",Master!AU214)","v":"B"},{"$f":"IF(Master!BF214=\"\",\"B\",Master!BF214)","v":"B"},{"$f":"IF(Master!BQ214=\"\",\"B\",Master!BQ214)","v":"B"}]
[{"$f":"Master!A215","v":"TR"},{"$f":"Master!B215","v":"WSDOT TR: Work Zone Traffic Control Supervisor Re-Certification"},{"$f":"Master!C215","v":"WSDOT_BQD"},{"$f":"Master!D215","v":"OLT/ILT"},{"$f":"Master!E215","v":"Active"},{"$f":"Master!F215","v":0},{"$f":"Master!H215","v":0},{"$f":"IF(Master!N215=\"\",\"B\",Master!N215)","v":"B"},{"$f":"IF(Master!Y215=\"\",\"B\",Master!Y215)","v":"B"},{"$f":"IF(Master!AJ215=\"\",\"B\",Master!AJ215)","v":"B"},{"$f":"IF(Master!AU215=\"\",\"B\",Master!AU215)","v":"B"},{"$f":"IF(Master!BF215=\"\",\"B\",Master!BF215)","v":"B"},{"$f":"IF(Master!BQ215=\"\",\"B\",Master!BQ215)","v":"B"}]
[{"$f":"Master!A216","v":"TR"},{"$f":"Master!B216","v":"WSDOT TR: Work Zone Traffic Control Supervisor Certification"},{"$f":"Master!C216","v":"WSDOT_A42"},{"$f":"Master!D216","v":"OLT/ILT"},{"$f":"Master!E216","v":"Active"},{"$f":"Master!F216","v":0},{"$f":"Master!H216","v":0},{"$f":"IF(Master!N216=\"\",\"B\",Master!N216)","v":"B"},{"$f":"IF(Master!Y216=\"\",\"B\",Master!Y216)","v":"B"},{"$f":"IF(Master!AJ216=\"\",\"B\",Master!AJ216)","v":"B"},{"$f":"IF(Master!AU216=\"\",\"B\",Master!AU216)","v":"B"},{"$f":"IF(Master!BF216=\"\",\"B\",Master!BF216)","v":"B"},{"$f":"IF(Master!BQ216=\"\",\"B\",Master!BQ216)","v":"B"}]
[{"$f":"Master!A217","v":"TR"},{"$f":"Master!B217","v":"WSDOT TR: Work Zone Traffic Control Plan Design"},{"$f":"Master!C217","v":"WSDOT_DD7 (day one) and WSDOT_DBK (day two)"},{"$f":"Master!D217","v":"OLT/ILT"},{"$f":"Master!E217","v":"Active"},{"$f":"Master!F217","v":0},{"$f":"Master!H217","v":0},{"$f":"IF(Master!N217=\"\",\"B\",Master!N217)","v":"B"},{"$f":"IF(Master!Y217=\"\",\"B\",Master!Y217)","v":"B"},{"$f":"IF(Master!AJ217=\"\",\"B\",Master!AJ217)","v":"B"},{"$f":"IF(Master!AU217=\"\",\"B\",Master!AU217)","v":"B"},{"$f":"IF(Master!BF217=\"\",\"B\",Master!BF217)","v":"B"},{"$f":"IF(Master!BQ217=\"\",\"B\",Master!BQ217)","v":"B"}]
[{"$f":"Master!A218","v":"TR"},{"$f":"Master!B218","v":"**VISUM"},{"$f":"Master!C218","v":0},{"$f":"Master!D218","v":"OLT/ILT"},{"$f":"Master!E218","v":"Inactive"},{"$f":"Master!F218","v":"None"},{"$f":"Master!H218","v":"No technical lead within WSDOT available to teach"},{"$f":"IF(Master!N218=\"\",\"B\",Master!N218)","v":"B"},{"$f":"IF(Master!Y218=\"\",\"B\",Master!Y218)","v":"B"},{"$f":"IF(Master!AJ218=\"\",\"B\",Master!AJ218)","v":"B"},{"$f":"IF(Master!AU218=\"\",\"B\",Master!AU218)","v":"B"},{"$f":"IF(Master!BF218=\"\",\"B\",Master!BF218)","v":"B"},{"$f":"IF(Master!BQ218=\"\",\"B\",Master!BQ218)","v":"B"}]
[{"$f":"Master!A219","v":"TR"},{"$f":"Master!B219","v":"**VISSIM"},{"$f":"Master!C219","v":0},{"$f":"Master!D219","v":"OLT/ILT"},{"$f":"Master!E219","v":"Inactive"},{"$f":"Master!F219","v":"None"},{"$f":"Master!H219","v":"No technical lead within WSDOT available to teach"},{"$f":"IF(Master!N219=\"\",\"B\",Master!N219)","v":"B"},{"$f":"IF(Master!Y219=\"\",\"B\",Master!Y219)","v":"B"},{"$f":"IF(Master!AJ219=\"\",\"B\",Master!AJ219)","v":"B"},{"$f":"IF(Master!AU219=\"\",\"B\",Master!AU219)","v":"B"},{"$f":"IF(Master!BF219=\"\",\"B\",Master!BF219)","v":"B"},{"$f":"IF(Master!BQ219=\"\",\"B\",Master!BQ219)","v":"B"}]
[{"$f":"Master!A220","v":"TR"},{"$f":"Master!B220","v":"**SIDRA"},{"$f":"Master!C220","v":0},{"$f":"Master!D220","v":"OLT/ILT"},{"$f":"Master!E220","v":"Inactive"},{"$f":"Master!F220","v":"None"},{"$f":"Master!H220","v":"No technical lead within WSDOT available to teach"},{"$f":"IF(Master!N220=\"\",\"B\",Master!N220)","v":"B"},{"$f":"IF(Master!Y220=\"\",\"B\",Master!Y220)","v":"B"},{"$f":"IF(Master!AJ220=\"\",\"B\",Master!AJ220)","v":"B"},{"$f":"IF(Master!AU220=\"\",\"B\",Master!AU220)","v":"B"},{"$f":"IF(Master!BF220=\"\",\"B\",Master!BF220)","v":"B"},{"$f":"IF(Master!BQ220=\"\",\"B\",Master!BQ220)","v":"B"}]
[{"$f":"Master!A221","v":"TR"},{"$f":"Master!B221","v":"**SYNCHRO"},{"$f":"Master!C221","v":0},{"$f":"Master!D221","v":"OLT/ILT"},{"$f":"Master!E221","v":"Inactive"},{"$f":"Master!F221","v":"None"},{"$f":"Master!H221","v":"No technical lead within WSDOT available to teach"},{"$f":"IF(Master!N221=\"\",\"B\",Master!N221)","v":"B"},{"$f":"IF(Master!Y221=\"\",\"B\",Master!Y221)","v":"B"},{"$f":"IF(Master!AJ221=\"\",\"B\",Master!AJ221)","v":"B"},{"$f":"IF(Master!AU221=\"\",\"B\",Master!AU221)","v":"B"},{"$f":"IF(Master!BF221=\"\",\"B\",Master!BF221)","v":"B"},{"$f":"IF(Master!BQ221=\"\",\"B\",Master!BQ221)","v":"B"}]
[{"$f":"Master!A222","v":"TR"},{"$f":"Master!B222","v":"WSDOT PSHSM: Highway Safety Manual Level B"},{"$f":"Master!C222","v":"PSHSM_B01"},{"$f":"Master!D222","v":"OLT/ILT"},{"$f":"Master!E222","v":"Inactive"},{"$f":"Master!F222","v":"None"},{"$f":"Master!H222","v":"No technical lead within WSDOT available to teach"},{"$f":"IF(Master!N222=\"\",\"B\",Master!N222)","v":"B"},{"$f":"IF(Master!Y222=\"\",\"B\",Master!Y222)","v":"B"},{"$f":"IF(Master!AJ222=\"\",\"B\",Master!AJ222)","v":"B"},{"$f":"IF(Master!AU222=\"\",\"B\",Master!AU222)","v":"B"},{"$f":"IF(Master!BF222=\"\",\"B\",Master!BF222)","v":"B"},{"$f":"IF(Master!BQ222=\"\",\"B\",Master!BQ222)","v":"B"}]
[{"$f":"Master!A223","v":"TR"},{"$f":"Master!B223","v":"WSDOT PSHSM: Highway Safety Manual Level C1"},{"$f":"Master!C223","v":"PSHSM_C01"},{"$f":"Master!D223","v":"OLT/ILT"},{"$f":"Master!E223","v":"Inactive"},{"$f":"Master!F223","v":"None"},{"$f":"Master!H223","v":"No technical lead within WSDOT available to teach"},{"$f":"IF(Master!N223=\"\",\"B\",Master!N223)","v":"B"},{"$f":"IF(Master!Y223=\"\",\"B\",Master!Y223)","v":"B"},{"$f":"IF(Master!AJ223=\"\",\"B\",Master!AJ223)","v":"B"},{"$f":"IF(Master!AU223=\"\",\"B\",Master!AU223)","v":"B"},{"$f":"IF(Master!BF223=\"\",\"B\",Master!BF223)","v":"B"},{"$f":"IF(Master!BQ223=\"\",\"B\",Master!BQ223)","v":"B"}]
[{"$f":"Master!A224","v":"TR"},{"$f":"Master!B224","v":"WSDOT PSHSM: Highway Safety Manual Level C2"},{"$f":"Master!C224","v":"PSHSM C2"},{"$f":"Master!D224","v":"OLT/ILT"},{"$f":"Master!E224","v":"Inactive"},{"$f":"Master!F224","v":"None"},{"$f":"Master!H224","v":"No technical lead within WSDOT available to teach"},{"$f":"IF(Master!N224=\"\",\"B\",Master!N224)","v":"B"},{"$f":"IF(Master!Y224=\"\",\"B\",Master!Y224)","v":"B"},{"$f":"IF(Master!AJ224=\"\",\"B\",Master!AJ224)","v":"B"},{"$f":"IF(Master!AU224=\"\",\"B\",Master!AU224)","v":"B"},{"$f":"IF(Master!BF224=\"\",\"B\",Master!BF224)","v":"B"},{"$f":"IF(Master!BQ224=\"\",\"B\",Master!BQ224)","v":"B"}]
[{"$f":"Master!A225","v":"TR"},{"$f":"Master!B225","v":"WSDOT PSHSM: Highway Safety Manual Level C3"},{"$f":"Master!C225","v":"PSHSM C3"},{"$f":"Master!D225","v":"OLT/ILT"},{"$f":"Master!E225","v":"Inactive"},{"$f":"Master!F225","v":"None"},{"$f":"Master!H225","v":"No technical lead within WSDOT available to teach"},{"$f":"IF(Master!N225=\"\",\"B\",Master!N225)","v":"B"},{"$f":"IF(Master!Y225=\"\",\"B\",Master!Y225)","v":"B"},{"$f":"IF(Master!AJ225=\"\",\"B\",Master!AJ225)","v":"B"},{"$f":"IF(Master!AU225=\"\",\"B\",Master!AU225)","v":"B"},{"$f":"IF(Master!BF225=\"\",\"B\",Master!BF225)","v":"B"},{"$f":"IF(Master!BQ225=\"\",\"B\",Master!BQ225)","v":"B"}]
[{"$f":"Master!A226","v":"TR"},{"$f":"Master!B226","v":"WSDOT PSHSM: Highway Safety Manual Level D1"},{"$f":"Master!C226","v":"PSHSM D1"},{"$f":"Master!D226","v":"OLT/ILT"},{"$f":"Master!E226","v":"Inactive"},{"$f":"Master!F226","v":"None"},{"$f":"Master!H226","v":"No technical lead within WSDOT available to teach"},{"$f":"IF(Master!N226=\"\",\"B\",Master!N226)","v":"B"},{"$f":"IF(Master!Y226=\"\",\"B\",Master!Y226)","v":"B"},{"$f":"IF(Master!AJ226=\"\",\"B\",Master!AJ226)","v":"B"},{"$f":"IF(Master!AU226=\"\",\"B\",Master!AU226)","v":"B"},{"$f":"IF(Master!BF226=\"\",\"B\",Master!BF226)","v":"B"},{"$f":"IF(Master!BQ226=\"\",\"B\",Master!BQ226)","v":"B"}]
[{"$f":"Master!A227","v":"TR"},{"$f":"Master!B227","v":"**ILLUMINATION DESIGN FOR TRANSPORTATION APPLICATIONS"},{"$f":"Master!C227","v":0},{"$f":"Master!D227","v":"OLT/ILT"},{"$f":"Master!E227","v":"Under Development"},{"$f":"Master!F227","v":"Q2 2018"},{"$f":"Master!H227","v":0},{"$f":"IF(Master!N227=\"\",\"B\",Master!N227)","v":"B"},{"$f":"IF(Master!Y227=\"\",\"B\",Master!Y227)","v":"B"},{"$f":"IF(Master!AJ227=\"\",\"B\",Master!AJ227)","v":"B"},{"$f":"IF(Master!AU227=\"\",\"B\",Master!AU227)","v":"B"},{"$f":"IF(Master!BF227=\"\",\"B\",Master!BF227)","v":"B"},{"$f":"IF(Master!BQ227=\"\",\"B\",Master!BQ227)","v":"B"}]
[{"$f":"Master!A228","v":"TR"},{"$f":"Master!B228","v":"WSDOT TR: Power Supply Design for Transportation Applications"},{"$f":"Master!C228","v":"WSDOT_BZA"},{"$f":"Master!D228","v":"OLT/ILT"},{"$f":"Master!E228","v":"Active"},{"$f":"Master!F228","v":0},{"$f":"Master!H228","v":0},{"$f":"IF(Master!N228=\"\",\"B\",Master!N228)","v":"B"},{"$f":"IF(Master!Y228=\"\",\"B\",Master!Y228)","v":"B"},{"$f":"IF(Master!AJ228=\"\",\"B\",Master!AJ228)","v":"B"},{"$f":"IF(Master!AU228=\"\",\"B\",Master!AU228)","v":"B"},{"$f":"IF(Master!BF228=\"\",\"B\",Master!BF228)","v":"B"},{"$f":"IF(Master!BQ228=\"\",\"B\",Master!BQ228)","v":"B"}]
[{"$f":"Master!A229","v":"TR"},{"$f":"Master!B229","v":"**TRAFFIC SIGNAL LAYOUT AND CONDUCTOR TERMINATION"},{"$f":"Master!C229","v":0},{"$f":"Master!D229","v":"OLT/ILT"},{"$f":"Master!E229","v":"Inactive"},{"$f":"Master!F229","v":0},{"$f":"Master!H229","v":"No technical lead within WSDOT available to teach"},{"$f":"IF(Master!N229=\"\",\"B\",Master!N229)","v":"B"},{"$f":"IF(Master!Y229=\"\",\"B\",Master!Y229)","v":"B"},{"$f":"IF(Master!AJ229=\"\",\"B\",Master!AJ229)","v":"B"},{"$f":"IF(Master!AU229=\"\",\"B\",Master!AU229)","v":"B"},{"$f":"IF(Master!BF229=\"\",\"B\",Master!BF229)","v":"B"},{"$f":"IF(Master!BQ229=\"\",\"B\",Master!BQ229)","v":"B"}]
[{"$f":"Master!A230","v":"TR"},{"$f":"Master!B230","v":"**SIGN DESIGN"},{"$f":"Master!C230","v":0},{"$f":"Master!D230","v":"OLT/ILT"},{"$f":"Master!E230","v":"Inactive"},{"$f":"Master!F230","v":"None"},{"$f":"Master!H230","v":"No technical lead within WSDOT available to teach"},{"$f":"IF(Master!N230=\"\",\"B\",Master!N230)","v":"B"},{"$f":"IF(Master!Y230=\"\",\"B\",Master!Y230)","v":"B"},{"$f":"IF(Master!AJ230=\"\",\"B\",Master!AJ230)","v":"B"},{"$f":"IF(Master!AU230=\"\",\"B\",Master!AU230)","v":"B"},{"$f":"IF(Master!BF230=\"\",\"B\",Master!BF230)","v":"B"},{"$f":"IF(Master!BQ230=\"\",\"B\",Master!BQ230)","v":"B"}]
[{"$f":"Master!A231","v":"TR"},{"$f":"Master!B231","v":"WSDOT NHI: TR-Traffic Signal Design and Operations"},{"$f":"Master!C231","v":"WSDOT_TSD"},{"$f":"Master!D231","v":"OLT/ILT"},{"$f":"Master!E231","v":"Inactive"},{"$f":"Master!F231","v":"None"},{"$f":"Master!H231","v":"No technical lead within WSDOT available to teach"},{"$f":"IF(Master!N231=\"\",\"B\",Master!N231)","v":"B"},{"$f":"IF(Master!Y231=\"\",\"B\",Master!Y231)","v":"B"},{"$f":"IF(Master!AJ231=\"\",\"B\",Master!AJ231)","v":"B"},{"$f":"IF(Master!AU231=\"\",\"B\",Master!AU231)","v":"B"},{"$f":"IF(Master!BF231=\"\",\"B\",Master!BF231)","v":"B"},{"$f":"IF(Master!BQ231=\"\",\"B\",Master!BQ231)","v":"B"}]
[{"$f":"Master!A232","v":"TR"},{"$f":"Master!B232","v":"WSDOT NHI: TR-Traffic Signal Timing Concepts"},{"$f":"Master!C232","v":"WSDOT_STC"},{"$f":"Master!D232","v":"OLT/ILT"},{"$f":"Master!E232","v":"Inactive"},{"$f":"Master!F232","v":"None"},{"$f":"Master!H232","v":"No technical lead within WSDOT available to teach"},{"$f":"IF(Master!N232=\"\",\"B\",Master!N232)","v":"B"},{"$f":"IF(Master!Y232=\"\",\"B\",Master!Y232)","v":"B"},{"$f":"IF(Master!AJ232=\"\",\"B\",Master!AJ232)","v":"B"},{"$f":"IF(Master!AU232=\"\",\"B\",Master!AU232)","v":"B"},{"$f":"IF(Master!BF232=\"\",\"B\",Master!BF232)","v":"B"},{"$f":"IF(Master!BQ232=\"\",\"B\",Master!BQ232)","v":"B"}]
[{"$f":"Master!A233","v":"TR"},{"$f":"Master!B233","v":"**SYSTEMS ENGINEERING FOR SIGNAL SYSTEMS"},{"$f":"Master!C233","v":0},{"$f":"Master!D233","v":"OLT/ILT"},{"$f":"Master!E233","v":"Inactive"},{"$f":"Master!F233","v":"None"},{"$f":"Master!H233","v":"No technical lead within WSDOT available to teach"},{"$f":"IF(Master!N233=\"\",\"B\",Master!N233)","v":"B"},{"$f":"IF(Master!Y233=\"\",\"B\",Master!Y233)","v":"B"},{"$f":"IF(Master!AJ233=\"\",\"B\",Master!AJ233)","v":"B"},{"$f":"IF(Master!AU233=\"\",\"B\",Master!AU233)","v":"B"},{"$f":"IF(Master!BF233=\"\",\"B\",Master!BF233)","v":"B"},{"$f":"IF(Master!BQ233=\"\",\"B\",Master!BQ233)","v":"B"}]
[{"$f":"Master!A234","v":"TR"},{"$f":"Master!B234","v":"**TRAFFIC SIGNAL MANAGEMENT"},{"$f":"Master!C234","v":0},{"$f":"Master!D234","v":"OLT/ILT"},{"$f":"Master!E234","v":"Inactive"},{"$f":"Master!F234","v":"None"},{"$f":"Master!H234","v":"No technical lead within WSDOT available to teach"},{"$f":"IF(Master!N234=\"\",\"B\",Master!N234)","v":"B"},{"$f":"IF(Master!Y234=\"\",\"B\",Master!Y234)","v":"B"},{"$f":"IF(Master!AJ234=\"\",\"B\",Master!AJ234)","v":"B"},{"$f":"IF(Master!AU234=\"\",\"B\",Master!AU234)","v":"B"},{"$f":"IF(Master!BF234=\"\",\"B\",Master!BF234)","v":"B"},{"$f":"IF(Master!BQ234=\"\",\"B\",Master!BQ234)","v":"B"}]
[{"$f":"Master!A235","v":"TR"},{"$f":"Master!B235","v":"**ITS PROCUREMENT"},{"$f":"Master!C235","v":0},{"$f":"Master!D235","v":"OLT/ILT"},{"$f":"Master!E235","v":"Inactive"},{"$f":"Master!F235","v":"None"},{"$f":"Master!H235","v":"No technical lead within WSDOT available to teach"},{"$f":"IF(Master!N235=\"\",\"B\",Master!N235)","v":"B"},{"$f":"IF(Master!Y235=\"\",\"B\",Master!Y235)","v":"B"},{"$f":"IF(Master!AJ235=\"\",\"B\",Master!AJ235)","v":"B"},{"$f":"IF(Master!AU235=\"\",\"B\",Master!AU235)","v":"B"},{"$f":"IF(Master!BF235=\"\",\"B\",Master!BF235)","v":"B"},{"$f":"IF(Master!BQ235=\"\",\"B\",Master!BQ235)","v":"B"}]
[{"$f":"Master!A236","v":"TR"},{"$f":"Master!B236","v":"**BASICS OF TRANSPORTATION PLANNING"},{"$f":"Master!C236","v":0},{"$f":"Master!D236","v":"OLT/ILT"},{"$f":"Master!E236","v":"Inactive"},{"$f":"Master!F236","v":"None"},{"$f":"Master!H236","v":"No technical lead within WSDOT available to teach"},{"$f":"IF(Master!N236=\"\",\"B\",Master!N236)","v":"B"},{"$f":"IF(Master!Y236=\"\",\"B\",Master!Y236)","v":"B"},{"$f":"IF(Master!AJ236=\"\",\"B\",Master!AJ236)","v":"B"},{"$f":"IF(Master!AU236=\"\",\"B\",Master!AU236)","v":"B"},{"$f":"IF(Master!BF236=\"\",\"B\",Master!BF236)","v":"B"},{"$f":"IF(Master!BQ236=\"\",\"B\",Master!BQ236)","v":"B"}]
[{"$f":"Master!A237","v":"TR"},{"$f":"Master!B237","v":"**ADA/APS DESIGN"},{"$f":"Master!C237","v":0},{"$f":"Master!D237","v":"OLT/ILT"},{"$f":"Master!E237","v":"Inactive"},{"$f":"Master!F237","v":"None"},{"$f":"Master!H237","v":"No technical lead within WSDOT available to teach"},{"$f":"IF(Master!N237=\"\",\"B\",Master!N237)","v":"B"},{"$f":"IF(Master!Y237=\"\",\"B\",Master!Y237)","v":"B"},{"$f":"IF(Master!AJ237=\"\",\"B\",Master!AJ237)","v":"B"},{"$f":"IF(Master!AU237=\"\",\"B\",Master!AU237)","v":"B"},{"$f":"IF(Master!BF237=\"\",\"B\",Master!BF237)","v":"B"},{"$f":"IF(Master!BQ237=\"\",\"B\",Master!BQ237)","v":"B"}]
[{"$f":"Master!A238","v":"TR"},{"$f":"Master!B238","v":"**SIGNAL WARRANT ANALYSIS"},{"$f":"Master!C238","v":0},{"$f":"Master!D238","v":"OLT/ILT"},{"$f":"Master!E238","v":"Inactive"},{"$f":"Master!F238","v":"None"},{"$f":"Master!H238","v":"No technical lead within WSDOT available to teach"},{"$f":"IF(Master!N238=\"\",\"B\",Master!N238)","v":"B"},{"$f":"IF(Master!Y238=\"\",\"B\",Master!Y238)","v":"B"},{"$f":"IF(Master!AJ238=\"\",\"B\",Master!AJ238)","v":"B"},{"$f":"IF(Master!AU238=\"\",\"B\",Master!AU238)","v":"B"},{"$f":"IF(Master!BF238=\"\",\"B\",Master!BF238)","v":"B"},{"$f":"IF(Master!BQ238=\"\",\"B\",Master!BQ238)","v":"B"}]
[{"$f":"Master!A239","v":"TR"},{"$f":"Master!B239","v":"WSDOT TR: Introduction to ITS Design"},{"$f":"Master!C239","v":"WSDOT_DA6"},{"$f":"Master!D239","v":"OLT/ILT"},{"$f":"Master!E239","v":"Inactive"},{"$f":"Master!F239","v":"None"},{"$f":"Master!H239","v":"No technical lead within WSDOT available to teach"},{"$f":"IF(Master!N239=\"\",\"B\",Master!N239)","v":"B"},{"$f":"IF(Master!Y239=\"\",\"B\",Master!Y239)","v":"B"},{"$f":"IF(Master!AJ239=\"\",\"B\",Master!AJ239)","v":"B"},{"$f":"IF(Master!AU239=\"\",\"B\",Master!AU239)","v":"B"},{"$f":"IF(Master!BF239=\"\",\"B\",Master!BF239)","v":"B"},{"$f":"IF(Master!BQ239=\"\",\"B\",Master!BQ239)","v":"B"}]
[{"$f":"Master!A240","v":"TR"},{"$f":"Master!B240","v":"WSDOT TR: Intermediate/Advanced ITS Design"},{"$f":"Master!C240","v":"WSDOT_DA7"},{"$f":"Master!D240","v":"OLT/ILT"},{"$f":"Master!E240","v":"Inactive"},{"$f":"Master!F240","v":"None"},{"$f":"Master!H240","v":"No technical lead within WSDOT available to teach"},{"$f":"IF(Master!N240=\"\",\"B\",Master!N240)","v":"B"},{"$f":"IF(Master!Y240=\"\",\"B\",Master!Y240)","v":"B"},{"$f":"IF(Master!AJ240=\"\",\"B\",Master!AJ240)","v":"B"},{"$f":"IF(Master!AU240=\"\",\"B\",Master!AU240)","v":"B"},{"$f":"IF(Master!BF240=\"\",\"B\",Master!BF240)","v":"B"},{"$f":"IF(Master!BQ240=\"\",\"B\",Master!BQ240)","v":"B"}]
[{"$f":"Master!A241","v":"TR"},{"$f":"Master!B241","v":"**BASIC HIGHWAY CAPACITY FOR ENGINEERS AND PLANNERS"},{"$f":"Master!C241","v":0},{"$f":"Master!D241","v":"OLT/ILT"},{"$f":"Master!E241","v":"Inactive"},{"$f":"Master!F241","v":"None"},{"$f":"Master!H241","v":"No technical lead within WSDOT available to teach"},{"$f":"IF(Master!N241=\"\",\"B\",Master!N241)","v":"B"},{"$f":"IF(Master!Y241=\"\",\"B\",Master!Y241)","v":"B"},{"$f":"IF(Master!AJ241=\"\",\"B\",Master!AJ241)","v":"B"},{"$f":"IF(Master!AU241=\"\",\"B\",Master!AU241)","v":"B"},{"$f":"IF(Master!BF241=\"\",\"B\",Master!BF241)","v":"B"},{"$f":"IF(Master!BQ241=\"\",\"B\",Master!BQ241)","v":"B"}]
[{"$f":"Master!A242","v":"TR"},{"$f":"Master!B242","v":"WSDOT UW: Gen-Uniform Traffic Control Devices"},{"$f":"Master!C242","v":"WSDOT_BML"},{"$f":"Master!D242","v":"OLT/ILT"},{"$f":"Master!E242","v":"Inactive"},{"$f":"Master!F242","v":"None"},{"$f":"Master!H242","v":"No technical lead within WSDOT available to teach"},{"$f":"IF(Master!N242=\"\",\"B\",Master!N242)","v":"B"},{"$f":"IF(Master!Y242=\"\",\"B\",Master!Y242)","v":"B"},{"$f":"IF(Master!AJ242=\"\",\"B\",Master!AJ242)","v":"B"},{"$f":"IF(Master!AU242=\"\",\"B\",Master!AU242)","v":"B"},{"$f":"IF(Master!BF242=\"\",\"B\",Master!BF242)","v":"B"},{"$f":"IF(Master!BQ242=\"\",\"B\",Master!BQ242)","v":"B"}]
[{"$f":"Master!A243","v":"TR"},{"$f":"Master!B243","v":"WSDOT UW: TR-Advanced Highway Capacity Analysis"},{"$f":"Master!C243","v":"WSDOT_A3C"},{"$f":"Master!D243","v":"OLT/ILT"},{"$f":"Master!E243","v":"Inactive"},{"$f":"Master!F243","v":"None"},{"$f":"Master!H243","v":"No technical lead within WSDOT available to teach"},{"$f":"IF(Master!N243=\"\",\"B\",Master!N243)","v":"B"},{"$f":"IF(Master!Y243=\"\",\"B\",Master!Y243)","v":"B"},{"$f":"IF(Master!AJ243=\"\",\"B\",Master!AJ243)","v":"B"},{"$f":"IF(Master!AU243=\"\",\"B\",Master!AU243)","v":"B"},{"$f":"IF(Master!BF243=\"\",\"B\",Master!BF243)","v":"B"},{"$f":"IF(Master!BQ243=\"\",\"B\",Master!BQ243)","v":"B"}]
[{"$f":"Master!A244","v":"TR"},{"$f":"Master!B244","v":"WSDOT UW: TR-Fundamentals of Traffic Engineering"},{"$f":"Master!C244","v":"WSDOT_BS3"},{"$f":"Master!D244","v":"OLT/ILT"},{"$f":"Master!E244","v":"Inactive"},{"$f":"Master!F244","v":"None"},{"$f":"Master!H244","v":"No technical lead within WSDOT available to teach"},{"$f":"IF(Master!N244=\"\",\"B\",Master!N244)","v":"B"},{"$f":"IF(Master!Y244=\"\",\"B\",Master!Y244)","v":"B"},{"$f":"IF(Master!AJ244=\"\",\"B\",Master!AJ244)","v":"B"},{"$f":"IF(Master!AU244=\"\",\"B\",Master!AU244)","v":"B"},{"$f":"IF(Master!BF244=\"\",\"B\",Master!BF244)","v":"B"},{"$f":"IF(Master!BQ244=\"\",\"B\",Master!BQ244)","v":"B"}]
[{"$f":"Master!A245","v":"TR"},{"$f":"Master!B245","v":"WSDOT UW:TR-Traffic Engineering Operations"},{"$f":"Master!C245","v":"WSDOT_BS4"},{"$f":"Master!D245","v":"OLT/ILT"},{"$f":"Master!E245","v":"Inactive"},{"$f":"Master!F245","v":"None"},{"$f":"Master!H245","v":"No technical lead within WSDOT available to teach"},{"$f":"IF(Master!N245=\"\",\"B\",Master!N245)","v":"B"},{"$f":"IF(Master!Y245=\"\",\"B\",Master!Y245)","v":"B"},{"$f":"IF(Master!AJ245=\"\",\"B\",Master!AJ245)","v":"B"},{"$f":"IF(Master!AU245=\"\",\"B\",Master!AU245)","v":"B"},{"$f":"IF(Master!BF245=\"\",\"B\",Master!BF245)","v":"B"},{"$f":"IF(Master!BQ245=\"\",\"B\",Master!BQ245)","v":"B"}]
[{"$f":"Master!A246","v":0},{"$f":"Master!B246","v":"** no LMS course"},{"$f":"Master!C246","v":0},{"$f":"Master!D246","v":0},{"$f":"Master!E246","v":0},{"$f":"Master!F246","v":0},{"$f":"Master!H246","v":0}]
[{"$f":"Master!A247","v":0},{"$f":"Master!B247","v":"*** SS=Self Study, OLT=Online Training, ILT=Instructor Led Training"},{"$f":"Master!C247","v":0},{"$f":"Master!D247","v":0},{"$f":"Master!E247","v":0},{"$f":"Master!F247","v":0},{"$f":"Master!H247","v":0}]
[{"$f":"Master!A248","v":"ES"},{"$f":"Master!B248","v":"= Course offered by Department of Enterprise Services (DES). Contact LMS Helpdesk at 360-705-7060."},{"$f":"Master!C248","v":0},{"$f":"Master!D248","v":0},{"$f":"Master!E248","v":0},{"$f":"Master!F248","v":0},{"$f":"Master!H248","v":0}]
[{"$f":"Master!A249","v":"HR"},{"$f":"Master!B249","v":"= Course registration controlled by Human Resources. Contact LMS Helpdesk at 360-705-7060 to Register."},{"$f":"Master!C249","v":0},{"$f":"Master!D249","v":0},{"$f":"Master!E249","v":0},{"$f":"Master!F249","v":0},{"$f":"Master!H249","v":0}]
[{"$f":"Master!A250","v":0},{"$f":"Master!B250","v":0},{"$f":"Master!C250","v":0},{"$f":"Master!D250","v":0},{"$f":"Master!E250","v":0},{"$f":"Master!F250","v":0},{"$f":"Master!H250","v":0}]
[{"$f":"Master!A251","v":0},{"$f":"Master!B251","v":0},{"$f":"Master!C251","v":0},{"$f":"Master!D251","v":0},{"$f":"Master!E251","v":0},{"$f":"Master!F251","v":0},{"$f":"Master!H251","v":0}]
[{"$f":"Master!A252","v":0},{"$f":"Master!B252","v":0},{"$f":"Master!C252","v":0},{"$f":"Master!D252","v":0},{"$f":"Master!E252","v":0},{"$f":"Master!F252","v":0},{"$f":"Master!H252","v":0}]
[{"$f":"Master!A253","v":0},{"$f":"Master!B253","v":0},{"$f":"Master!C253","v":0},{"$f":"Master!D253","v":0},{"$f":"Master!E253","v":0},{"$f":"Master!F253","v":0},{"$f":"Master!H253","v":0}]
[{"$f":"Master!A254","v":0},{"$f":"Master!B254","v":0},{"$f":"Master!C254","v":0},{"$f":"Master!D254","v":0},{"$f":"Master!E254","v":0},{"$f":"Master!F254","v":0},{"$f":"Master!H254","v":0}]
[{"$f":"Master!A255","v":0},{"$f":"Master!B255","v":0},{"$f":"Master!C255","v":0},{"$f":"Master!D255","v":0},{"$f":"Master!E255","v":0},{"$f":"Master!F255","v":0},{"$f":"Master!H255","v":0}]
[{"$f":"Master!A256","v":0},{"$f":"Master!B256","v":0},{"$f":"Master!C256","v":0},{"$f":"Master!D256","v":0},{"$f":"Master!E256","v":0},{"$f":"Master!F256","v":0},{"$f":"Master!H256","v":0}]
[{"$f":"Master!A257","v":0},{"$f":"Master!B257","v":0},{"$f":"Master!C257","v":0},{"$f":"Master!D257","v":0},{"$f":"Master!E257","v":0},{"$f":"Master!F257","v":0},{"$f":"Master!H257","v":0}]
[{"$f":"Master!A258","v":0},{"$f":"Master!B258","v":0},{"$f":"Master!C258","v":0},{"$f":"Master!D258","v":0},{"$f":"Master!E258","v":0},{"$f":"Master!F258","v":0},{"$f":"Master!H258","v":0}]
[{"$f":"Master!A259","v":0},{"$f":"Master!B259","v":0},{"$f":"Master!C259","v":0},{"$f":"Master!D259","v":0},{"$f":"Master!E259","v":0},{"$f":"Master!F259","v":0},{"$f":"Master!H259","v":0}]
[{"$f":"Master!A260","v":0},{"$f":"Master!B260","v":0},{"$f":"Master!C260","v":0},{"$f":"Master!D260","v":0},{"$f":"Master!E260","v":0},{"$f":"Master!F260","v":0},{"$f":"Master!H260","v":0}]
[{"$f":"Master!A261","v":0},{"$f":"Master!B261","v":0},{"$f":"Master!C261","v":0},{"$f":"Master!D261","v":0},{"$f":"Master!E261","v":0},{"$f":"Master!F261","v":0},{"$f":"Master!H261","v":0}]
[{"$f":"Master!A262","v":0},{"$f":"Master!B262","v":0},{"$f":"Master!C262","v":0},{"$f":"Master!D262","v":0},{"$f":"Master!E262","v":0},{"$f":"Master!F262","v":0},{"$f":"Master!H262","v":0}]
[{"$f":"Master!A263","v":0},{"$f":"Master!B263","v":0},{"$f":"Master!C263","v":0},{"$f":"Master!D263","v":0},{"$f":"Master!E263","v":0},{"$f":"Master!F263","v":0},{"$f":"Master!H263","v":0}]
[{"$f":"Master!A264","v":0},{"$f":"Master!B264","v":0},{"$f":"Master!C264","v":0},{"$f":"Master!D264","v":0},{"$f":"Master!E264","v":0},{"$f":"Master!F264","v":0},{"$f":"Master!H264","v":0}]
[{"$f":"Master!A265","v":0},{"$f":"Master!B265","v":0},{"$f":"Master!C265","v":0},{"$f":"Master!D265","v":0},{"$f":"Master!E265","v":0},{"$f":"Master!F265","v":0},{"$f":"Master!H265","v":0}]
[{"$f":"Master!A266","v":0},{"$f":"Master!B266","v":0},{"$f":"Master!C266","v":0},{"$f":"Master!D266","v":0},{"$f":"Master!E266","v":0},{"$f":"Master!F266","v":0},{"$f":"Master!H266","v":0}]
[{"$f":"Master!A267","v":0},{"$f":"Master!B267","v":0},{"$f":"Master!C267","v":0},{"$f":"Master!D267","v":0},{"$f":"Master!E267","v":0},{"$f":"Master!F267","v":0},{"$f":"Master!H267","v":0}]
[{"$f":"Master!A268","v":0},{"$f":"Master!B268","v":0},{"$f":"Master!C268","v":0},{"$f":"Master!D268","v":0},{"$f":"Master!E268","v":0},{"$f":"Master!F268","v":0},{"$f":"Master!H268","v":0}]
[{"$f":"Master!A269","v":0},{"$f":"Master!B269","v":0},{"$f":"Master!C269","v":0},{"$f":"Master!D269","v":0},{"$f":"Master!E269","v":0},{"$f":"Master!F269","v":0},{"$f":"Master!H269","v":0}]
[{"$f":"Master!A270","v":0},{"$f":"Master!B270","v":0},{"$f":"Master!C270","v":0},{"$f":"Master!D270","v":0},{"$f":"Master!E270","v":0},{"$f":"Master!F270","v":0},{"$f":"Master!H270","v":0}]
[{"$f":"Master!A271","v":0},{"$f":"Master!B271","v":0},{"$f":"Master!C271","v":0},{"$f":"Master!D271","v":0},{"$f":"Master!E271","v":0},{"$f":"Master!F271","v":0},{"$f":"Master!H271","v":0}]
[{"$f":"Master!A272","v":0},{"$f":"Master!B272","v":0},{"$f":"Master!C272","v":0},{"$f":"Master!D272","v":0},{"$f":"Master!E272","v":0},{"$f":"Master!F272","v":0},{"$f":"Master!H272","v":0}]
[{"$f":"Master!A273","v":0},{"$f":"Master!B273","v":0},{"$f":"Master!C273","v":0},{"$f":"Master!D273","v":0},{"$f":"Master!E273","v":0},{"$f":"Master!F273","v":0},{"$f":"Master!H273","v":0}]
[{"$f":"Master!A274","v":0},{"$f":"Master!B274","v":0},{"$f":"Master!C274","v":0},{"$f":"Master!D274","v":0},{"$f":"Master!E274","v":0},{"$f":"Master!F274","v":0},{"$f":"Master!H274","v":0}]
[{"$f":"Master!A275","v":0},{"$f":"Master!B275","v":0},{"$f":"Master!C275","v":0},{"$f":"Master!D275","v":0},{"$f":"Master!E275","v":0},{"$f":"Master!F275","v":0},{"$f":"Master!H275","v":0}]
[{"$f":"Master!A276","v":0},{"$f":"Master!B276","v":0},{"$f":"Master!C276","v":0},{"$f":"Master!D276","v":0},{"$f":"Master!E276","v":0},{"$f":"Master!F276","v":0},{"$f":"Master!H276","v":0}]
[{"$f":"Master!A277","v":0},{"$f":"Master!B277","v":0},{"$f":"Master!C277","v":0},{"$f":"Master!D277","v":0},{"$f":"Master!E277","v":0},{"$f":"Master!F277","v":0},{"$f":"Master!H277","v":0}]
[{"$f":"Master!A278","v":0},{"$f":"Master!B278","v":0},{"$f":"Master!C278","v":0},{"$f":"Master!D278","v":0},{"$f":"Master!E278","v":0},{"$f":"Master!F278","v":0},{"$f":"Master!H278","v":0}]
[{"$f":"Master!A279","v":0},{"$f":"Master!B279","v":0},{"$f":"Master!C279","v":0},{"$f":"Master!D279","v":0},{"$f":"Master!E279","v":0},{"$f":"Master!F279","v":0},{"$f":"Master!H279","v":0}]
[{"$f":"Master!A280","v":0},{"$f":"Master!B280","v":0},{"$f":"Master!C280","v":0},{"$f":"Master!D280","v":0},{"$f":"Master!E280","v":0},{"$f":"Master!F280","v":0},{"$f":"Master!H280","v":0}]
[{"$f":"Master!A281","v":0},{"$f":"Master!B281","v":0},{"$f":"Master!C281","v":0},{"$f":"Master!D281","v":0},{"$f":"Master!E281","v":0},{"$f":"Master!F281","v":0},{"$f":"Master!H281","v":0}]
[{"$f":"Master!A282","v":0},{"$f":"Master!B282","v":0},{"$f":"Master!C282","v":0},{"$f":"Master!D282","v":0},{"$f":"Master!E282","v":0},{"$f":"Master!F282","v":0},{"$f":"Master!H282","v":0}]
[{"$f":"Master!A283","v":0},{"$f":"Master!B283","v":0},{"$f":"Master!C283","v":0},{"$f":"Master!D283","v":0},{"$f":"Master!E283","v":0},{"$f":"Master!F283","v":0},{"$f":"Master!H283","v":0}]

{"sheet":"GTM","index":16,"n_rows":283,"n_cols":13,"rows_kept":283,"cut":false,"hidden":false,"merged":[[191,0,191,6],[202,0,202,6],[210,0,210,6],[213,0,213,6],[85,0,85,6],[88,0,88,6],[95,0,95,6],[151,0,151,6],[152,0,152,6],[185,0,185,6],[83,0,83,6],[2,0,2,6],[13,0,13,6],[48,0,48,6],[49,0,49,6],[52,0,52,6],[55,0,55,6],[58,0,58,6],[60,0,60,6],[63,0,63,6],[70,0,70,6],[76,0,76,6]]}
[null,null,null,4,6]
["Responsible Division","LMS COURSE NAME"," LMS COURSE CODE","Self Study (SS), \nOnline (OLT), or \nInstructor Led (ILT)","TRAINING\nSTATUS","If training status is \"inactive\", when will the course be developed?","NOTES","TT1","TT2","TT3","TE1","TE2","TE3"]
["Mandatory",null,null,null,null,null,null,{"$f":"IF(Master!O3=\"\",\"B\",Master!O3)","v":"B"},{"$f":"IF(Master!Z3=\"\",\"B\",Master!Z3)","v":"B"},{"$f":"IF(Master!AK3=\"\",\"B\",Master!AK3)","v":"B"},{"$f":"IF(Master!AV3=\"\",\"B\",Master!AV3)","v":"B"},{"$f":"IF(Master!BG3=\"\",\"B\",Master!BG3)","v":"B"},{"$f":"IF(Master!BR3=\"\",\"B\",Master!BR3)","v":"B"}]
[{"$f":"Master!A4","v":"HR"},{"$f":"Master!B4","v":"WA-State Ethics in State Government"},{"$f":"Master!C4","v":"WA-State Ethics 8-7-2014-V6"},{"$f":"Master!D4","v":"OLT"},{"$f":"Master!E4","v":"Active"},{"$f":"Master!F4","v":0},{"$f":"Master!H4","v":"To register for this course, \ncall the LMS Helpdesk at \n360-705-7060."},{"$f":"IF(Master!O4=\"\",\"B\",Master!O4)","v":"M"},{"$f":"IF(Master!Z4=\"\",\"B\",Master!Z4)","v":"M"},{"$f":"IF(Master!AK4=\"\",\"B\",Master!AK4)","v":"M"},{"$f":"IF(Master!AV4=\"\",\"B\",Master!AV4)","v":"M"},{"$f":"IF(Master!BG4=\"\",\"B\",Master!BG4)","v":"M"},{"$f":"IF(Master!BR4=\"\",\"B\",Master!BR4)","v":"M"}]
[{"$f":"Master!A5","v":"HR"},{"$f":"Master!B5","v":"WSDOT Mandatory: Ethical Standards WSDOT Specific Training"},{"$f":"Master!C5","v":"WSDOT_BKB Specific"},{"$f":"Master!D5","v":"OLT"},{"$f":"Master!E5","v":"Active"},{"$f":"Master!F5","v":0},{"$f":"Master!H5","v":"To register for this course, \ncall the LMS Helpdesk at \n360-705-7060."},{"$f":"IF(Master!O5=\"\",\"B\",Master!O5)","v":"M"},{"$f":"IF(Master!Z5=\"\",\"B\",Master!Z5)","v":"M"},{"$f":"IF(Master!AK5=\"\",\"B\",Master!AK5)","v":"M"},{"$f":"IF(Master!AV5=\"\",\"B\",Master!AV5)","v":"M"},{"$f":"IF(Master!BG5=\"\",\"B\",Master!BG5)","v":"M"},{"$f":"IF(Master!BR5=\"\",\"B\",Master!BR5)","v":"M"}]
[{"$f":"Master!A6","v":"HR"},{"$f":"Master!B6","v":"WSDOT Mandatory: System Security Awareness For Transportation Employees (Self Study)"},{"$f":"Master!C6","v":"WSDOT_CJJ_UDT"},{"$f":"Master!D6","v":"SS"},{"$f":"Master!E6","v":"Active"},{"$f":"Master!F6","v":0},{"$f":"Master!H6","v":"To register for this course, \ncall the LMS Helpdesk at \n360-705-7060."},{"$f":"IF(Master!O6=\"\",\"B\",Master!O6)","v":"M"},{"$f":"IF(Master!Z6=\"\",\"B\",Master!Z6)","v":"M"},{"$f":"IF(Master!AK6=\"\",\"B\",Master!AK6)","v":"M"},{"$f":"IF(Master!AV6=\"\",\"B\",Master!AV6)","v":"M"},{"$f":"IF(Master!BG6=\"\",\"B\",Master!BG6)","v":"M"},{"$f":"IF(Master!BR6=\"\",\"B\",Master!BR6)","v":"M"}]
[{"$f":"Master!A7","v":"HR"},{"$f":"Master!B7","v":"WSDOT Mandatory: Violence That Affects The Workplace (Self Study)"},{"$f":"Master!C7","v":"WSDOT_B9V"},{"$f":"Master!D7","v":"SS"},{"$f":"Master!E7","v":"Active"},{"$f":"Master!F7","v":0},{"$f":"Master!H7","v":"To register for this course, \ncall the LMS Helpdesk at \n360-705-7060."},{"$f":"IF(Master!O7=\"\",\"B\",Master!O7)","v":"M"},{"$f":"IF(Master!Z7=\"\",\"B\",Master!Z7)","v":"M"},{"$f":"IF(Master!AK7=\"\",\"B\",Master!AK7)","v":"M"},{"$f":"IF(Master!AV7=\"\",\"B\",Master!AV7)","v":"M"},{"$f":"IF(Master!BG7=\"\",\"B\",Master!BG7)","v":"M"},{"$f":"IF(Master!BR7=\"\",\"B\",Master!BR7)","v":"M"}]
[{"$f":"Master!A8","v":"HR"},{"$f":"Master!B8","v":"WA-State IT Security Awareness Training"},{"$f":"Master!C8","v":"WA-State IT Security Awareness Training - Initial Training-8/16/2013"},{"$f":"Master!D8","v":"OLT"},{"$f":"Master!E8","v":"Active"},{"$f":"Master!F8","v":0},{"$f":"Master!H8","v":"To register for this course, \ncall the LMS Helpdesk at \n360-705-7060."},{"$f":"IF(Master!O8=\"\",\"B\",Master!O8)","v":"M"},{"$f":"IF(Master!Z8=\"\",\"B\",Master!Z8)","v":"M"},{"$f":"IF(Master!AK8=\"\",\"B\",Master!AK8)","v":"M"},{"$f":"IF(Master!AV8=\"\",\"B\",Master!AV8)","v":"M"},{"$f":"IF(Master!BG8=\"\",\"B\",Master!BG8)","v":"M"},{"$f":"IF(Master!BR8=\"\",\"B\",Master!BR8)","v":"M"}]
[{"$f":"Master!A9","v":"HR"},{"$f":"Master!B9","v":"WA-State Sexual Harassment Awareness and Prevention"},{"$f":"Master!C9","v":"DES_shap_2013_Updated_9-3-2014"},{"$f":"Master!D9","v":"OLT"},{"$f":"Master!E9","v":"Active"},{"$f":"Master!F9","v":0},{"$f":"Master!H9","v":"To register for this course, \ncall the LMS Helpdesk at \n360-705-7060."},{"$f":"IF(Master!O9=\"\",\"B\",Master!O9)","v":"M"},{"$f":"IF(Master!Z9=\"\",\"B\",Master!Z9)","v":"M"},{"$f":"IF(Master!AK9=\"\",\"B\",Master!AK9)","v":"M"},{"$f":"IF(Master!AV9=\"\",\"B\",Master!AV9)","v":"M"},{"$f":"IF(Master!BG9=\"\",\"B\",Master!BG9)","v":"M"},{"$f":"IF(Master!BR9=\"\",\"B\",Master!BR9)","v":"M"}]
[{"$f":"Master!A10","v":"HR"},{"$f":"Master!B10","v":"WSDOT Mandatory: Disability Awareness Step 1, Understanding the Americans with Disabilities Act (ADA)  "},{"$f":"Master!C10","v":"lchr_01_a15_lc_enus"},{"$f":"Master!D10","v":"OLT"},{"$f":"Master!E10","v":"Active"},{"$f":"Master!F10","v":0},{"$f":"Master!H10","v":"To register for this course, \ncall the LMS Helpdesk at \n360-705-7060."},{"$f":"IF(Master!O10=\"\",\"B\",Master!O10)","v":"M"},{"$f":"IF(Master!Z10=\"\",\"B\",Master!Z10)","v":"M"},{"$f":"IF(Master!AK10=\"\",\"B\",Master!AK10)","v":"M"},{"$f":"IF(Master!AV10=\"\",\"B\",Master!AV10)","v":"M"},{"$f":"IF(Master!BG10=\"\",\"B\",Master!BG10)","v":"M"},{"$f":"IF(Master!BR10=\"\",\"B\",Master!BR10)","v":"M"}]
[{"$f":"Master!A11","v":"HR"},{"$f":"Master!B11","v":"WSDOT Mandatory: Disability Awareness Step 2 of Learning Plan"},{"$f":"Master!C11","v":"WSDOT_CD8_UDT2"},{"$f":"Master!D11","v":"OLT"},{"$f":"Master!E11","v":"Active"},{"$f":"Master!F11","v":0},{"$f":"Master!H11","v":"To register for this course, \ncall the LMS Helpdesk at \n360-705-7060."},{"$f":"IF(Master!O11=\"\",\"B\",Master!O11)","v":"M"},{"$f":"IF(Master!Z11=\"\",\"B\",Master!Z11)","v":"M"},{"$f":"IF(Master!AK11=\"\",\"B\",Master!AK11)","v":"M"},{"$f":"IF(Master!AV11=\"\",\"B\",Master!AV11)","v":"M"},{"$f":"IF(Master!BG11=\"\",\"B\",Master!BG11)","v":"M"},{"$f":"IF(Master!BR11=\"\",\"B\",Master!BR11)","v":"M"}]
[{"$f":"Master!A12","v":"HR"},{"$f":"Master!B12","v":"WSDOT Mandatory: Discrimination In The Workplace (Self Study)"},{"$f":"Master!C12","v":"WSDOT_DIS"},{"$f":"Master!D12","v":"SS"},{"$f":"Master!E12","v":"Active"},{"$f":"Master!F12","v":0},{"$f":"Master!H12","v":"To register for this course, \ncall the LMS Helpdesk at \n360-705-7060."},{"$f":"IF(Master!O12=\"\",\"B\",Master!O12)","v":"M"},{"$f":"IF(Master!Z12=\"\",\"B\",Master!Z12)","v":"M"},{"$f":"IF(Master!AK12=\"\",\"B\",Master!AK12)","v":"M"},{"$f":"IF(Master!AV12=\"\",\"B\",Master!AV12)","v":"M"},{"$f":"IF(Master!BG12=\"\",\"B\",Master!BG12)","v":"M"},{"$f":"IF(Master!BR12=\"\",\"B\",Master!BR12)","v":"M"}]
[{"$f":"Master!A13","v":"HR"},{"$f":"Master!B13","v":"WSDOT Mandatory: Valuing Diversity Step 2, Promoting Respect in the Global Workplace – Employee Edition"},{"$f":"Master!C13","v":"WSDOT_lch_01_a09_lc_enus"},{"$f":"Master!D13","v":"OLT"},{"$f":"Master!E13","v":"Active"},{"$f":"Master!F13","v":0},{"$f":"Master!H13","v":"To register for this course, \ncall the LMS Helpdesk at \n360-705-7060."},{"$f":"IF(Master!O13=\"\",\"B\",Master!O13)","v":"M"},{"$f":"IF(Master!Z13=\"\",\"B\",Master!Z13)","v":"M"},{"$f":"IF(Master!AK13=\"\",\"B\",Master!AK13)","v":"M"},{"$f":"IF(Master!AV13=\"\",\"B\",Master!AV13)","v":"M"},{"$f":"IF(Master!BG13=\"\",\"B\",Master!BG13)","v":"M"},{"$f":"IF(Master!BR13=\"\",\"B\",Master!BR13)","v":"M"}]
[{"$f":"Master!A14","v":"General Knowledge"},null,null,null,null,null,null,{"$f":"IF(Master!O14=\"\",\"B\",Master!O14)","v":"B"},{"$f":"IF(Master!Z14=\"\",\"B\",Master!Z14)","v":"B"},{"$f":"IF(Master!AK14=\"\",\"B\",Master!AK14)","v":"B"},{"$f":"IF(Master!AV14=\"\",\"B\",Master!AV14)","v":"B"},{"$f":"IF(Master!BG14=\"\",\"B\",Master!BG14)","v":"B"},{"$f":"IF(Master!BR14=\"\",\"B\",Master!BR14)","v":"B"}]
[{"$f":"Master!A15","v":"GEN"},{"$f":"Master!B15","v":"**Legal Liability for Transportation Professionals - Entry"},{"$f":"Master!C15","v":0},{"$f":"Master!D15","v":"ILT"},{"$f":"Master!E15","v":"Inactive"},{"$f":"Master!F15","v":0},{"$f":"Master!H15","v":0},{"$f":"IF(Master!O15=\"\",\"B\",Master!O15)","v":1},{"$f":"IF(Master!Z15=\"\",\"B\",Master!Z15)","v":1},{"$f":"IF(Master!AK15=\"\",\"B\",Master!AK15)","v":1},{"$f":"IF(Master!AV15=\"\",\"B\",Master!AV15)","v":1},{"$f":"IF(Master!BG15=\"\",\"B\",Master!BG15)","v":1},{"$f":"IF(Master!BR15=\"\",\"B\",Master!BR15)","v":"B"}]
[{"$f":"Master!A16","v":"GEN"},{"$f":"Master!B16","v":"**Legal Liability for Transportation Professionals - In-Depth"},{"$f":"Master!C16","v":0},{"$f":"Master!D16","v":"ILT"},{"$f":"Master!E16","v":"Inactive"},{"$f":"Master!F16","v":0},{"$f":"Master!H16","v":0},{"$f":"IF(Master!O16=\"\",\"B\",Master!O16)","v":"B"},{"$f":"IF(Master!Z16=\"\",\"B\",Master!Z16)","v":"B"},{"$f":"IF(Master!AK16=\"\",\"B\",Master!AK16)","v":"B"},{"$f":"IF(Master!AV16=\"\",\"B\",Master!AV16)","v":"B"},{"$f":"IF(Master!BG16=\"\",\"B\",Master!BG16)","v":"B"},{"$f":"IF(Master!BR16=\"\",\"B\",Master!BR16)","v":1}]
[{"$f":"Master!A17","v":"GEN"},{"$f":"Master!B17","v":"WSDOT GEN: TECHNICAL MATHEMATICS I (SELF-STUDY)"},{"$f":"Master!C17","v":"WSDOT_AFN"},{"$f":"Master!D17","v":"SS"},{"$f":"Master!E17","v":"Active"},{"$f":"Master!F17","v":0},{"$f":"Master!H17","v":0},{"$f":"IF(Master!O17=\"\",\"B\",Master!O17)","v":"R"},{"$f":"IF(Master!Z17=\"\",\"B\",Master!Z17)","v":"R"},{"$f":"IF(Master!AK17=\"\",\"B\",Master!AK17)","v":"B"},{"$f":"IF(Master!AV17=\"\",\"B\",Master!AV17)","v":"B"},{"$f":"IF(Master!BG17=\"\",\"B\",Master!BG17)","v":"B"},{"$f":"IF(Master!BR17=\"\",\"B\",Master!BR17)","v":"B"}]
[{"$f":"Master!A18","v":"GEN"},{"$f":"Master!B18","v":"WSDOT GEN: TECHNICAL MATHEMATICS II (SELF-STUDY)"},{"$f":"Master!C18","v":"WSDOT_A7J"},{"$f":"Master!D18","v":"SS"},{"$f":"Master!E18","v":"Active"},{"$f":"Master!F18","v":0},{"$f":"Master!H18","v":0},{"$f":"IF(Master!O18=\"\",\"B\",Master!O18)","v":"R"},{"$f":"IF(Master!Z18=\"\",\"B\",Master!Z18)","v":"R"},{"$f":"IF(Master!AK18=\"\",\"B\",Master!AK18)","v":"B"},{"$f":"IF(Master!AV18=\"\",\"B\",Master!AV18)","v":"B"},{"$f":"IF(Master!BG18=\"\",\"B\",Master!BG18)","v":"B"},{"$f":"IF(Master!BR18=\"\",\"B\",Master!BR18)","v":"B"}]
[{"$f":"Master!A19","v":"SS"},{"$f":"Master!B19","v":"Finding Your Bearings as a Project Manager"},{"$f":"Master!C19","v":"apj_151_a01_bs_enus"},{"$f":"Master!D19","v":"OLT"},{"$f":"Master!E19","v":"Active"},{"$f":"Master!F19","v":0},{"$f":"Master!H19","v":0},{"$f":"IF(Master!O19=\"\",\"B\",Master!O19)","v":"R"},{"$f":"IF(Master!Z19=\"\",\"B\",Master!Z19)","v":"R"},{"$f":"IF(Master!AK19=\"\",\"B\",Master!AK19)","v":"B"},{"$f":"IF(Master!AV19=\"\",\"B\",Master!AV19)","v":"B"},{"$f":"IF(Master!BG19=\"\",\"B\",Master!BG19)","v":"B"},{"$f":"IF(Master!BR19=\"\",\"B\",Master!BR19)","v":"B"}]
[{"$f":"Master!A20","v":"SS"},{"$f":"Master!B20","v":"Getting to the Root of a Problem"},{"$f":"Master!C20","v":"apj_15_a01_bs_enus"},{"$f":"Master!D20","v":"OLT"},{"$f":"Master!E20","v":"Active"},{"$f":"Master!F20","v":0},{"$f":"Master!H20","v":0},{"$f":"IF(Master!O20=\"\",\"B\",Master!O20)","v":"R"},{"$f":"IF(Master!Z20=\"\",\"B\",Master!Z20)","v":"R"},{"$f":"IF(Master!AK20=\"\",\"B\",Master!AK20)","v":"B"},{"$f":"IF(Master!AV20=\"\",\"B\",Master!AV20)","v":"B"},{"$f":"IF(Master!BG20=\"\",\"B\",Master!BG20)","v":"B"},{"$f":"IF(Master!BR20=\"\",\"B\",Master!BR20)","v":"B"}]
[{"$f":"Master!A21","v":"SS"},{"$f":"Master!B21","v":"The Process Groups (PMBOK® Guide Fifth Edition)"},{"$f":"Master!C21","v":"apj_01_a03_bs_enus"},{"$f":"Master!D21","v":"OLT"},{"$f":"Master!E21","v":"Active"},{"$f":"Master!F21","v":0},{"$f":"Master!H21","v":0},{"$f":"IF(Master!O21=\"\",\"B\",Master!O21)","v":"R"},{"$f":"IF(Master!Z21=\"\",\"B\",Master!Z21)","v":"R"},{"$f":"IF(Master!AK21=\"\",\"B\",Master!AK21)","v":"B"},{"$f":"IF(Master!AV21=\"\",\"B\",Master!AV21)","v":"B"},{"$f":"IF(Master!BG21=\"\",\"B\",Master!BG21)","v":"B"},{"$f":"IF(Master!BR21=\"\",\"B\",Master!BR21)","v":"B"}]
[{"$f":"Master!A22","v":"SS"},{"$f":"Master!B22","v":"Solving Problems: Generating and Evaluating Alternatives"},{"$f":"Master!C22","v":"pd_29_a02_bs_enus"},{"$f":"Master!D22","v":"OLT"},{"$f":"Master!E22","v":"Active"},{"$f":"Master!F22","v":0},{"$f":"Master!H22","v":0},{"$f":"IF(Master!O22=\"\",\"B\",Master!O22)","v":"R"},{"$f":"IF(Master!Z22=\"\",\"B\",Master!Z22)","v":"R"},{"$f":"IF(Master!AK22=\"\",\"B\",Master!AK22)","v":"B"},{"$f":"IF(Master!AV22=\"\",\"B\",Master!AV22)","v":"B"},{"$f":"IF(Master!BG22=\"\",\"B\",Master!BG22)","v":"B"},{"$f":"IF(Master!BR22=\"\",\"B\",Master!BR22)","v":"B"}]
[{"$f":"Master!A23","v":"SS"},{"$f":"Master!B23","v":"Making and Carrying Out Tough Decisions"},{"$f":"Master!C23","v":"pd_29_a03_bs_enus"},{"$f":"Master!D23","v":"OLT"},{"$f":"Master!E23","v":"Active"},{"$f":"Master!F23","v":0},{"$f":"Master!H23","v":0},{"$f":"IF(Master!O23=\"\",\"B\",Master!O23)","v":"R"},{"$f":"IF(Master!Z23=\"\",\"B\",Master!Z23)","v":"R"},{"$f":"IF(Master!AK23=\"\",\"B\",Master!AK23)","v":"B"},{"$f":"IF(Master!AV23=\"\",\"B\",Master!AV23)","v":"B"},{"$f":"IF(Master!BG23=\"\",\"B\",Master!BG23)","v":"B"},{"$f":"IF(Master!BR23=\"\",\"B\",Master!BR23)","v":"B"}]
[{"$f":"Master!A24","v":"SS"},{"$f":"Master!B24","v":"Solving Problems: Framing the Problem"},{"$f":"Master!C24","v":"pd_29_a01_bs_enus"},{"$f":"Master!D24","v":"OLT"},{"$f":"Master!E24","v":"Active"},{"$f":"Master!F24","v":0},{"$f":"Master!H24","v":0},{"$f":"IF(Master!O24=\"\",\"B\",Master!O24)","v":"R"},{"$f":"IF(Master!Z24=\"\",\"B\",Master!Z24)","v":"R"},{"$f":"IF(Master!AK24=\"\",\"B\",Master!AK24)","v":"B"},{"$f":"IF(Master!AV24=\"\",\"B\",Master!AV24)","v":"B"},{"$f":"IF(Master!BG24=\"\",\"B\",Master!BG24)","v":"B"},{"$f":"IF(Master!BR24=\"\",\"B\",Master!BR24)","v":"B"}]
[{"$f":"Master!A25","v":"SS"},{"$f":"Master!B25","v":"Problem-Solving and Process Management Tools"},{"$f":"Master!C25","v":"oper_04_a07_bs_enus"},{"$f":"Master!D25","v":"OLT"},{"$f":"Master!E25","v":"Active"},{"$f":"Master!F25","v":0},{"$f":"Master!H25","v":0},{"$f":"IF(Master!O25=\"\",\"B\",Master!O25)","v":"R"},{"$f":"IF(Master!Z25=\"\",\"B\",Master!Z25)","v":"R"},{"$f":"IF(Master!AK25=\"\",\"B\",Master!AK25)","v":"B"},{"$f":"IF(Master!AV25=\"\",\"B\",Master!AV25)","v":"B"},{"$f":"IF(Master!BG25=\"\",\"B\",Master!BG25)","v":"B"},{"$f":"IF(Master!BR25=\"\",\"B\",Master!BR25)","v":"B"}]
[{"$f":"Master!A26","v":"SS"},{"$f":"Master!B26","v":"Basic Presentation Skills: Delivering a Presentation"},{"$f":"Master!C26","v":"comm_33_a03_bs_enus"},{"$f":"Master!D26","v":"OLT"},{"$f":"Master!E26","v":"Active"},{"$f":"Master!F26","v":0},{"$f":"Master!H26","v":0},{"$f":"IF(Master!O26=\"\",\"B\",Master!O26)","v":"R"},{"$f":"IF(Master!Z26=\"\",\"B\",Master!Z26)","v":"R"},{"$f":"IF(Master!AK26=\"\",\"B\",Master!AK26)","v":"B"},{"$f":"IF(Master!AV26=\"\",\"B\",Master!AV26)","v":"B"},{"$f":"IF(Master!BG26=\"\",\"B\",Master!BG26)","v":"B"},{"$f":"IF(Master!BR26=\"\",\"B\",Master!BR26)","v":"B"}]
[{"$f":"Master!A27","v":"SS"},{"$f":"Master!B27","v":"Basic Presentation Skills: Creating a Presentation"},{"$f":"Master!C27","v":"comm_33_a02_bs_enus"},{"$f":"Master!D27","v":"OLT"},{"$f":"Master!E27","v":"Active"},{"$f":"Master!F27","v":0},{"$f":"Master!H27","v":0},{"$f":"IF(Master!O27=\"\",\"B\",Master!O27)","v":"R"},{"$f":"IF(Master!Z27=\"\",\"B\",Master!Z27)","v":"R"},{"$f":"IF(Master!AK27=\"\",\"B\",Master!AK27)","v":"B"},{"$f":"IF(Master!AV27=\"\",\"B\",Master!AV27)","v":"B"},{"$f":"IF(Master!BG27=\"\",\"B\",Master!BG27)","v":"B"},{"$f":"IF(Master!BR27=\"\",\"B\",Master!BR27)","v":"B"}]
[{"$f":"Master!A28","v":"SS"},{"$f":"Master!B28","v":"Building the Foundation for an Effective Team"},{"$f":"Master!C28","v":"atm_01_a01_bs_enus"},{"$f":"Master!D28","v":"OLT"},{"$f":"Master!E28","v":"Active"},{"$f":"Master!F28","v":0},{"$f":"Master!H28","v":0},{"$f":"IF(Master!O28=\"\",\"B\",Master!O28)","v":"R"},{"$f":"IF(Master!Z28=\"\",\"B\",Master!Z28)","v":"R"},{"$f":"IF(Master!AK28=\"\",\"B\",Master!AK28)","v":"B"},{"$f":"IF(Master!AV28=\"\",\"B\",Master!AV28)","v":"B"},{"$f":"IF(Master!BG28=\"\",\"B\",Master!BG28)","v":"B"},{"$f":"IF(Master!BR28=\"\",\"B\",Master!BR28)","v":"B"}]
[{"$f":"Master!A29","v":"SS"},{"$f":"Master!B29","v":"Developing a Successful Team"},{"$f":"Master!C29","v":"atm_01_a02_bs_enus"},{"$f":"Master!D29","v":"OLT"},{"$f":"Master!E29","v":"Active"},{"$f":"Master!F29","v":0},{"$f":"Master!H29","v":0},{"$f":"IF(Master!O29=\"\",\"B\",Master!O29)","v":"R"},{"$f":"IF(Master!Z29=\"\",\"B\",Master!Z29)","v":"R"},{"$f":"IF(Master!AK29=\"\",\"B\",Master!AK29)","v":"B"},{"$f":"IF(Master!AV29=\"\",\"B\",Master!AV29)","v":"B"},{"$f":"IF(Master!BG29=\"\",\"B\",Master!BG29)","v":"B"},{"$f":"IF(Master!BR29=\"\",\"B\",Master!BR29)","v":"B"}]
[{"$f":"Master!A30","v":"SS"},{"$f":"Master!B30","v":"Encouraging Team Communication and Collaboration"},{"$f":"Master!C30","v":"atm_01_a03_bs_enus"},{"$f":"Master!D30","v":"OLT"},{"$f":"Master!E30","v":"Active"},{"$f":"Master!F30","v":0},{"$f":"Master!H30","v":0},{"$f":"IF(Master!O30=\"\",\"B\",Master!O30)","v":"R"},{"$f":"IF(Master!Z30=\"\",\"B\",Master!Z30)","v":"R"},{"$f":"IF(Master!AK30=\"\",\"B\",Master!AK30)","v":"B"},{"$f":"IF(Master!AV30=\"\",\"B\",Master!AV30)","v":"B"},{"$f":"IF(Master!BG30=\"\",\"B\",Master!BG30)","v":"B"},{"$f":"IF(Master!BR30=\"\",\"B\",Master!BR30)","v":"B"}]
[{"$f":"Master!A31","v":"SS"},{"$f":"Master!B31","v":"Handling Team Conflict"},{"$f":"Master!C31","v":"atm_01_a04_bs_enus"},{"$f":"Master!D31","v":"OLT"},{"$f":"Master!E31","v":"Active"},{"$f":"Master!F31","v":0},{"$f":"Master!H31","v":0},{"$f":"IF(Master!O31=\"\",\"B\",Master!O31)","v":"R"},{"$f":"IF(Master!Z31=\"\",\"B\",Master!Z31)","v":"R"},{"$f":"IF(Master!AK31=\"\",\"B\",Master!AK31)","v":"B"},{"$f":"IF(Master!AV31=\"\",\"B\",Master!AV31)","v":"B"},{"$f":"IF(Master!BG31=\"\",\"B\",Master!BG31)","v":"B"},{"$f":"IF(Master!BR31=\"\",\"B\",Master!BR31)","v":"B"}]
[{"$f":"Master!A32","v":"SS"},{"$f":"Master!B32","v":"Thinking Critically: Coming to Terms with Assumptions"},{"$f":"Master!C32","v":"pe_01_a01_bs_enus"},{"$f":"Master!D32","v":"OLT"},{"$f":"Master!E32","v":"Active"},{"$f":"Master!F32","v":0},{"$f":"Master!H32","v":0},{"$f":"IF(Master!O32=\"\",\"B\",Master!O32)","v":"R"},{"$f":"IF(Master!Z32=\"\",\"B\",Master!Z32)","v":"R"},{"$f":"IF(Master!AK32=\"\",\"B\",Master!AK32)","v":"B"},{"$f":"IF(Master!AV32=\"\",\"B\",Master!AV32)","v":"B"},{"$f":"IF(Master!BG32=\"\",\"B\",Master!BG32)","v":"B"},{"$f":"IF(Master!BR32=\"\",\"B\",Master!BR32)","v":"B"}]
[{"$f":"Master!A33","v":"SS"},{"$f":"Master!B33","v":"Thinking Critically: Getting Your Arms around Arguments"},{"$f":"Master!C33","v":"pe_01_a02_bs_enus"},{"$f":"Master!D33","v":"OLT"},{"$f":"Master!E33","v":"Active"},{"$f":"Master!F33","v":0},{"$f":"Master!H33","v":0},{"$f":"IF(Master!O33=\"\",\"B\",Master!O33)","v":"R"},{"$f":"IF(Master!Z33=\"\",\"B\",Master!Z33)","v":"R"},{"$f":"IF(Master!AK33=\"\",\"B\",Master!AK33)","v":"B"},{"$f":"IF(Master!AV33=\"\",\"B\",Master!AV33)","v":"B"},{"$f":"IF(Master!BG33=\"\",\"B\",Master!BG33)","v":"B"},{"$f":"IF(Master!BR33=\"\",\"B\",Master!BR33)","v":"B"}]
[{"$f":"Master!A34","v":"SS"},{"$f":"Master!B34","v":"Thinking Critically: Drawing Conclusions with Confidence"},{"$f":"Master!C34","v":"pe_01_a03_bs_enus"},{"$f":"Master!D34","v":"OLT"},{"$f":"Master!E34","v":"Active"},{"$f":"Master!F34","v":0},{"$f":"Master!H34","v":0},{"$f":"IF(Master!O34=\"\",\"B\",Master!O34)","v":"R"},{"$f":"IF(Master!Z34=\"\",\"B\",Master!Z34)","v":"R"},{"$f":"IF(Master!AK34=\"\",\"B\",Master!AK34)","v":"B"},{"$f":"IF(Master!AV34=\"\",\"B\",Master!AV34)","v":"B"},{"$f":"IF(Master!BG34=\"\",\"B\",Master!BG34)","v":"B"},{"$f":"IF(Master!BR34=\"\",\"B\",Master!BR34)","v":"B"}]
[{"$f":"Master!A35","v":"SS"},{"$f":"Master!B35","v":"Microsoft Excel 2016 Essentials: Creating, Editing, and Saving Workbooks"},{"$f":"Master!C35","v":"mo_beel_a01_dt_enus"},{"$f":"Master!D35","v":"OLT"},{"$f":"Master!E35","v":"Active"},{"$f":"Master!F35","v":0},{"$f":"Master!H35","v":0},{"$f":"IF(Master!O35=\"\",\"B\",Master!O35)","v":"R"},{"$f":"IF(Master!Z35=\"\",\"B\",Master!Z35)","v":"R"},{"$f":"IF(Master!AK35=\"\",\"B\",Master!AK35)","v":"B"},{"$f":"IF(Master!AV35=\"\",\"B\",Master!AV35)","v":"B"},{"$f":"IF(Master!BG35=\"\",\"B\",Master!BG35)","v":"B"},{"$f":"IF(Master!BR35=\"\",\"B\",Master!BR35)","v":"B"}]
[{"$f":"Master!A36","v":"SS"},{"$f":"Master!B36","v":"Microsoft Excel 2016 Essentials: Formulas and Functions"},{"$f":"Master!C36","v":"mo_beel_a04_dt_enus"},{"$f":"Master!D36","v":"OLT"},{"$f":"Master!E36","v":"Active"},{"$f":"Master!F36","v":0},{"$f":"Master!H36","v":0},{"$f":"IF(Master!O36=\"\",\"B\",Master!O36)","v":"R"},{"$f":"IF(Master!Z36=\"\",\"B\",Master!Z36)","v":"R"},{"$f":"IF(Master!AK36=\"\",\"B\",Master!AK36)","v":"B"},{"$f":"IF(Master!AV36=\"\",\"B\",Master!AV36)","v":"B"},{"$f":"IF(Master!BG36=\"\",\"B\",Master!BG36)","v":"B"},{"$f":"IF(Master!BR36=\"\",\"B\",Master!BR36)","v":"B"}]
[{"$f":"Master!A37","v":"SS"},{"$f":"Master!B37","v":"Microsoft Excel 2016 Essentials: Formatting Data"},{"$f":"Master!C37","v":"mo_beel_a02_dt_enus"},{"$f":"Master!D37","v":"OLT"},{"$f":"Master!E37","v":"Active"},{"$f":"Master!F37","v":0},{"$f":"Master!H37","v":0},{"$f":"IF(Master!O37=\"\",\"B\",Master!O37)","v":"R"},{"$f":"IF(Master!Z37=\"\",\"B\",Master!Z37)","v":"R"},{"$f":"IF(Master!AK37=\"\",\"B\",Master!AK37)","v":"B"},{"$f":"IF(Master!AV37=\"\",\"B\",Master!AV37)","v":"B"},{"$f":"IF(Master!BG37=\"\",\"B\",Master!BG37)","v":"B"},{"$f":"IF(Master!BR37=\"\",\"B\",Master!BR37)","v":"B"}]
[{"$f":"Master!A38","v":"SS"},{"$f":"Master!B38","v":"Microsoft Excel 2016 Essentials: Data Presentation Strategies"},{"$f":"Master!C38","v":"mo_beel_a03_dt_enus"},{"$f":"Master!D38","v":"OLT"},{"$f":"Master!E38","v":"Active"},{"$f":"Master!F38","v":0},{"$f":"Master!H38","v":0},{"$f":"IF(Master!O38=\"\",\"B\",Master!O38)","v":"R"},{"$f":"IF(Master!Z38=\"\",\"B\",Master!Z38)","v":"R"},{"$f":"IF(Master!AK38=\"\",\"B\",Master!AK38)","v":"B"},{"$f":"IF(Master!AV38=\"\",\"B\",Master!AV38)","v":"B"},{"$f":"IF(Master!BG38=\"\",\"B\",Master!BG38)","v":"B"},{"$f":"IF(Master!BR38=\"\",\"B\",Master!BR38)","v":"B"}]
[{"$f":"Master!A39","v":"SS"},{"$f":"Master!B39","v":"Microsoft Excel 2016 Essentials: Charts, Tables, and Images"},{"$f":"Master!C39","v":"mo_beel_a05_dt_enus"},{"$f":"Master!D39","v":"OLT"},{"$f":"Master!E39","v":"Active"},{"$f":"Master!F39","v":0},{"$f":"Master!H39","v":0},{"$f":"IF(Master!O39=\"\",\"B\",Master!O39)","v":"R"},{"$f":"IF(Master!Z39=\"\",\"B\",Master!Z39)","v":"R"},{"$f":"IF(Master!AK39=\"\",\"B\",Master!AK39)","v":"B"},{"$f":"IF(Master!AV39=\"\",\"B\",Master!AV39)","v":"B"},{"$f":"IF(Master!BG39=\"\",\"B\",Master!BG39)","v":"B"},{"$f":"IF(Master!BR39=\"\",\"B\",Master!BR39)","v":"B"}]
[{"$f":"Master!A40","v":"SS"},{"$f":"Master!B40","v":"Microsoft Office 2016 Intermediate Excel: Working with Data "},{"$f":"Master!C40","v":"mo_inel_a03_dt_enus"},{"$f":"Master!D40","v":"OLT"},{"$f":"Master!E40","v":"Active"},{"$f":"Master!F40","v":0},{"$f":"Master!H40","v":0},{"$f":"IF(Master!O40=\"\",\"B\",Master!O40)","v":2},{"$f":"IF(Master!Z40=\"\",\"B\",Master!Z40)","v":2},{"$f":"IF(Master!AK40=\"\",\"B\",Master!AK40)","v":2},{"$f":"IF(Master!AV40=\"\",\"B\",Master!AV40)","v":"B"},{"$f":"IF(Master!BG40=\"\",\"B\",Master!BG40)","v":"B"},{"$f":"IF(Master!BR40=\"\",\"B\",Master!BR40)","v":"B"}]
[{"$f":"Master!A41","v":"SS"},{"$f":"Master!B41","v":"Microsoft Office 2016 Intermediate Excel: Share, Review, and Collaborate "},{"$f":"Master!C41","v":"mo_inel_a06_dt_enus"},{"$f":"Master!D41","v":"OLT"},{"$f":"Master!E41","v":"Active"},{"$f":"Master!F41","v":0},{"$f":"Master!H41","v":0},{"$f":"IF(Master!O41=\"\",\"B\",Master!O41)","v":2},{"$f":"IF(Master!Z41=\"\",\"B\",Master!Z41)","v":2},{"$f":"IF(Master!AK41=\"\",\"B\",Master!AK41)","v":2},{"$f":"IF(Master!AV41=\"\",\"B\",Master!AV41)","v":"B"},{"$f":"IF(Master!BG41=\"\",\"B\",Master!BG41)","v":"B"},{"$f":"IF(Master!BR41=\"\",\"B\",Master!BR41)","v":"B"}]
[{"$f":"Master!A42","v":"SS"},{"$f":"Master!B42","v":"Microsoft Office 2016 Intermediate Excel: Creating Custom Visual Effects "},{"$f":"Master!C42","v":"mo_inel_a02_dt_enus"},{"$f":"Master!D42","v":"OLT"},{"$f":"Master!E42","v":"Active"},{"$f":"Master!F42","v":0},{"$f":"Master!H42","v":0},{"$f":"IF(Master!O42=\"\",\"B\",Master!O42)","v":2},{"$f":"IF(Master!Z42=\"\",\"B\",Master!Z42)","v":2},{"$f":"IF(Master!AK42=\"\",\"B\",Master!AK42)","v":2},{"$f":"IF(Master!AV42=\"\",\"B\",Master!AV42)","v":"B"},{"$f":"IF(Master!BG42=\"\",\"B\",Master!BG42)","v":"B"},{"$f":"IF(Master!BR42=\"\",\"B\",Master!BR42)","v":"B"}]
[{"$f":"Master!A43","v":"SS"},{"$f":"Master!B43","v":"Working with the Interface and Performing Basic Tasks in Word 2016 "},{"$f":"Master!C43","v":"mo_bewo_a01_dt_enus"},{"$f":"Master!D43","v":"OLT"},{"$f":"Master!E43","v":"Active"},{"$f":"Master!F43","v":0},{"$f":"Master!H43","v":0},{"$f":"IF(Master!O43=\"\",\"B\",Master!O43)","v":"R"},{"$f":"IF(Master!Z43=\"\",\"B\",Master!Z43)","v":"R"},{"$f":"IF(Master!AK43=\"\",\"B\",Master!AK43)","v":"B"},{"$f":"IF(Master!AV43=\"\",\"B\",Master!AV43)","v":"B"},{"$f":"IF(Master!BG43=\"\",\"B\",Master!BG43)","v":"B"},{"$f":"IF(Master!BR43=\"\",\"B\",Master!BR43)","v":"B"}]
[{"$f":"Master!A44","v":"SS"},{"$f":"Master!B44","v":"Formatting Text in Word 2016 "},{"$f":"Master!C44","v":"mo_bewo_a02_dt_enus"},{"$f":"Master!D44","v":"OLT"},{"$f":"Master!E44","v":"Active"},{"$f":"Master!F44","v":0},{"$f":"Master!H44","v":0},{"$f":"IF(Master!O44=\"\",\"B\",Master!O44)","v":"R"},{"$f":"IF(Master!Z44=\"\",\"B\",Master!Z44)","v":"R"},{"$f":"IF(Master!AK44=\"\",\"B\",Master!AK44)","v":"B"},{"$f":"IF(Master!AV44=\"\",\"B\",Master!AV44)","v":"B"},{"$f":"IF(Master!BG44=\"\",\"B\",Master!BG44)","v":"B"},{"$f":"IF(Master!BR44=\"\",\"B\",Master!BR44)","v":"B"}]
[{"$f":"Master!A45","v":"SS"},{"$f":"Master!B45","v":"Headers, Footers, Page Numbering, and Layout in Word 2016 "},{"$f":"Master!C45","v":"mo_bewo_a05_dt_enus"},{"$f":"Master!D45","v":"OLT"},{"$f":"Master!E45","v":"Active"},{"$f":"Master!F45","v":0},{"$f":"Master!H45","v":0},{"$f":"IF(Master!O45=\"\",\"B\",Master!O45)","v":"R"},{"$f":"IF(Master!Z45=\"\",\"B\",Master!Z45)","v":"R"},{"$f":"IF(Master!AK45=\"\",\"B\",Master!AK45)","v":"B"},{"$f":"IF(Master!AV45=\"\",\"B\",Master!AV45)","v":"B"},{"$f":"IF(Master!BG45=\"\",\"B\",Master!BG45)","v":"B"},{"$f":"IF(Master!BR45=\"\",\"B\",Master!BR45)","v":"B"}]
[{"$f":"Master!A46","v":"SS"},{"$f":"Master!B46","v":"Using the Navigation Pane and Creating Lists in Word 2016 "},{"$f":"Master!C46","v":"mo_bewo_a06_dt_enus"},{"$f":"Master!D46","v":"OLT"},{"$f":"Master!E46","v":"Active"},{"$f":"Master!F46","v":0},{"$f":"Master!H46","v":0},{"$f":"IF(Master!O46=\"\",\"B\",Master!O46)","v":"R"},{"$f":"IF(Master!Z46=\"\",\"B\",Master!Z46)","v":"R"},{"$f":"IF(Master!AK46=\"\",\"B\",Master!AK46)","v":"B"},{"$f":"IF(Master!AV46=\"\",\"B\",Master!AV46)","v":"B"},{"$f":"IF(Master!BG46=\"\",\"B\",Master!BG46)","v":"B"},{"$f":"IF(Master!BR46=\"\",\"B\",Master!BR46)","v":"B"}]
[{"$f":"Master!A47","v":"SS"},{"$f":"Master!B47","v":"Customizing Options and Using Document Views in Word 2016 "},{"$f":"Master!C47","v":"mo_bewo_a03_dt_enus"},{"$f":"Master!D47","v":"OLT"},{"$f":"Master!E47","v":"Active"},{"$f":"Master!F47","v":0},{"$f":"Master!H47","v":0},{"$f":"IF(Master!O47=\"\",\"B\",Master!O47)","v":2},{"$f":"IF(Master!Z47=\"\",\"B\",Master!Z47)","v":2},{"$f":"IF(Master!AK47=\"\",\"B\",Master!AK47)","v":2},{"$f":"IF(Master!AV47=\"\",\"B\",Master!AV47)","v":"B"},{"$f":"IF(Master!BG47=\"\",\"B\",Master!BG47)","v":"B"},{"$f":"IF(Master!BR47=\"\",\"B\",Master!BR47)","v":"B"}]
[{"$f":"Master!A48","v":"SS"},{"$f":"Master!B48","v":"Creating and Formatting Tables in Word 2016 "},{"$f":"Master!C48","v":"mo_bewo_a04_dt_enus"},{"$f":"Master!D48","v":"OLT"},{"$f":"Master!E48","v":"Active"},{"$f":"Master!F48","v":0},{"$f":"Master!H48","v":0},{"$f":"IF(Master!O48=\"\",\"B\",Master!O48)","v":2},{"$f":"IF(Master!Z48=\"\",\"B\",Master!Z48)","v":2},{"$f":"IF(Master!AK48=\"\",\"B\",Master!AK48)","v":2},{"$f":"IF(Master!AV48=\"\",\"B\",Master!AV48)","v":"B"},{"$f":"IF(Master!BG48=\"\",\"B\",Master!BG48)","v":"B"},{"$f":"IF(Master!BR48=\"\",\"B\",Master!BR48)","v":"B"}]
[{"$f":"Master!A49","v":"Human Resource"},null,null,null,null,null,null,{"$f":"IF(Master!O49=\"\",\"B\",Master!O49)","v":"B"},{"$f":"IF(Master!Z49=\"\",\"B\",Master!Z49)","v":"B"},{"$f":"IF(Master!AK49=\"\",\"B\",Master!AK49)","v":"B"},{"$f":"IF(Master!AV49=\"\",\"B\",Master!AV49)","v":"B"},{"$f":"IF(Master!BG49=\"\",\"B\",Master!BG49)","v":"B"},{"$f":"IF(Master!BR49=\"\",\"B\",Master!BR49)","v":"B"}]
[{"$f":"Master!A50","v":"Conflict Management - The following two courses are available"},null,null,null,null,null,null,{"$f":"IF(Master!O50=\"\",\"B\",Master!O50)","v":"B"},{"$f":"IF(Master!Z50=\"\",\"B\",Master!Z50)","v":"B"},{"$f":"IF(Master!AK50=\"\",\"B\",Master!AK50)","v":"B"},{"$f":"IF(Master!AV50=\"\",\"B\",Master!AV50)","v":"B"},{"$f":"IF(Master!BG50=\"\",\"B\",Master!BG50)","v":"B"},{"$f":"IF(Master!BR50=\"\",\"B\",Master!BR50)","v":"B"}]
[{"$f":"Master!A51","v":"SS"},{"$f":"Master!B51","v":"Preparing for a Difficult Conversation"},{"$f":"Master!C51","v":"mgmt_36_a01_bs_enus"},{"$f":"Master!D51","v":"OLT"},{"$f":"Master!E51","v":"Active"},{"$f":"Master!F51","v":0},{"$f":"Master!H51","v":"Take this course first."},{"$f":"IF(Master!O51=\"\",\"B\",Master!O51)","v":2},{"$f":"IF(Master!Z51=\"\",\"B\",Master!Z51)","v":2},{"$f":"IF(Master!AK51=\"\",\"B\",Master!AK51)","v":2},{"$f":"IF(Master!AV51=\"\",\"B\",Master!AV51)","v":1},{"$f":"IF(Master!BG51=\"\",\"B\",Master!BG51)","v":1},{"$f":"IF(Master!BR51=\"\",\"B\",Master!BR51)","v":1}]
[{"$f":"Master!A52","v":"ES"},{"$f":"Master!B52","v":"Managing Emotions in the Workplace"},{"$f":"Master!C52","v":"Enterprise Services Course\n1/2 Day - $100"},{"$f":"Master!D52","v":"ILT"},{"$f":"Master!E52","v":"Active"},{"$f":"Master!F52","v":0},{"$f":"Master!H52","v":"To register for this course, \ncall the LMS Helpdesk at \n360-705-7060."},{"$f":"IF(Master!O52=\"\",\"B\",Master!O52)","v":2},{"$f":"IF(Master!Z52=\"\",\"B\",Master!Z52)","v":2},{"$f":"IF(Master!AK52=\"\",\"B\",Master!AK52)","v":2},{"$f":"IF(Master!AV52=\"\",\"B\",Master!AV52)","v":1},{"$f":"IF(Master!BG52=\"\",\"B\",Master!BG52)","v":1},{"$f":"IF(Master!BR52=\"\",\"B\",Master!BR52)","v":1}]
[{"$f":"Master!A53","v":"Interpersonal Communications - The following two courses are available"},null,null,null,null,null,null,{"$f":"IF(Master!O53=\"\",\"B\",Master!O53)","v":"B"},{"$f":"IF(Master!Z53=\"\",\"B\",Master!Z53)","v":"B"},{"$f":"IF(Master!AK53=\"\",\"B\",Master!AK53)","v":"B"},{"$f":"IF(Master!AV53=\"\",\"B\",Master!AV53)","v":"B"},{"$f":"IF(Master!BG53=\"\",\"B\",Master!BG53)","v":"B"},{"$f":"IF(Master!BR53=\"\",\"B\",Master!BR53)","v":"B"}]
[{"$f":"Master!A54","v":"SS"},{"$f":"Master!B54","v":"Difficult People: Strategies to Keep Everyone Working Together"},{"$f":"Master!C54","v":"comm_46_a03_bs_enus"},{"$f":"Master!D54","v":"OLT"},{"$f":"Master!E54","v":"Active"},{"$f":"Master!F54","v":0},{"$f":"Master!H54","v":"Take this course first."},{"$f":"IF(Master!O54=\"\",\"B\",Master!O54)","v":1},{"$f":"IF(Master!Z54=\"\",\"B\",Master!Z54)","v":1},{"$f":"IF(Master!AK54=\"\",\"B\",Master!AK54)","v":1},{"$f":"IF(Master!AV54=\"\",\"B\",Master!AV54)","v":1},{"$f":"IF(Master!BG54=\"\",\"B\",Master!BG54)","v":1},{"$f":"IF(Master!BR54=\"\",\"B\",Master!BR54)","v":1}]
[{"$f":"Master!A55","v":"ES"},{"$f":"Master!B55","v":"Interpersonal Communication Skills"},{"$f":"Master!C55","v":"Enterprise Services Course\nTwo Days - $195"},{"$f":"Master!D55","v":"ILT"},{"$f":"Master!E55","v":"Active"},{"$f":"Master!F55","v":0},{"$f":"Master!H55","v":"To register for this course, \ncall the LMS Helpdesk at \n360-705-7060."},{"$f":"IF(Master!O55=\"\",\"B\",Master!O55)","v":1},{"$f":"IF(Master!Z55=\"\",\"B\",Master!Z55)","v":1},{"$f":"IF(Master!AK55=\"\",\"B\",Master!AK55)","v":1},{"$f":"IF(Master!AV55=\"\",\"B\",Master!AV55)","v":1},{"$f":"IF(Master!BG55=\"\",\"B\",Master!BG55)","v":1},{"$f":"IF(Master!BR55=\"\",\"B\",Master!BR55)","v":1}]
[{"$f":"Master!A56","v":"Interpersonal Communications - The following two courses are available"},null,null,null,null,null,null,{"$f":"IF(Master!O56=\"\",\"B\",Master!O56)","v":"B"},{"$f":"IF(Master!Z56=\"\",\"B\",Master!Z56)","v":"B"},{"$f":"IF(Master!AK56=\"\",\"B\",Master!AK56)","v":"B"},{"$f":"IF(Master!AV56=\"\",\"B\",Master!AV56)","v":"B"},{"$f":"IF(Master!BG56=\"\",\"B\",Master!BG56)","v":"B"},{"$f":"IF(Master!BR56=\"\",\"B\",Master!BR56)","v":"B"}]
[{"$f":"Master!A57","v":"SS"},{"$f":"Master!B57","v":"Active Listening Skills for Professionals"},{"$f":"Master!C57","v":"comm_43_a03_bs_enus"},{"$f":"Master!D57","v":"OLT"},{"$f":"Master!E57","v":"Active"},{"$f":"Master!F57","v":0},{"$f":"Master!H57","v":"Take this course first."},{"$f":"IF(Master!O57=\"\",\"B\",Master!O57)","v":1},{"$f":"IF(Master!Z57=\"\",\"B\",Master!Z57)","v":1},{"$f":"IF(Master!AK57=\"\",\"B\",Master!AK57)","v":1},{"$f":"IF(Master!AV57=\"\",\"B\",Master!AV57)","v":1},{"$f":"IF(Master!BG57=\"\",\"B\",Master!BG57)","v":1},{"$f":"IF(Master!BR57=\"\",\"B\",Master!BR57)","v":1}]
[{"$f":"Master!A58","v":"ES"},{"$f":"Master!B58","v":"Crucial Conversations"},{"$f":"Master!C58","v":"Enterprise Services Course\nTwo Days - $450"},{"$f":"Master!D58","v":"ILT"},{"$f":"Master!E58","v":"Active"},{"$f":"Master!F58","v":0},{"$f":"Master!H58","v":"To register for this course, \ncall the LMS Helpdesk at \n360-705-7060."},{"$f":"IF(Master!O58=\"\",\"B\",Master!O58)","v":1},{"$f":"IF(Master!Z58=\"\",\"B\",Master!Z58)","v":1},{"$f":"IF(Master!AK58=\"\",\"B\",Master!AK58)","v":1},{"$f":"IF(Master!AV58=\"\",\"B\",Master!AV58)","v":1},{"$f":"IF(Master!BG58=\"\",\"B\",Master!BG58)","v":1},{"$f":"IF(Master!BR58=\"\",\"B\",Master!BR58)","v":1}]
[{"$f":"Master!A59","v":"Oral Presentation Techniques"},null,null,null,null,null,null,{"$f":"IF(Master!O59=\"\",\"B\",Master!O59)","v":"B"},{"$f":"IF(Master!Z59=\"\",\"B\",Master!Z59)","v":"B"},{"$f":"IF(Master!AK59=\"\",\"B\",Master!AK59)","v":"B"},{"$f":"IF(Master!AV59=\"\",\"B\",Master!AV59)","v":"B"},{"$f":"IF(Master!BG59=\"\",\"B\",Master!BG59)","v":"B"},{"$f":"IF(Master!BR59=\"\",\"B\",Master!BR59)","v":"B"}]
[{"$f":"Master!A60","v":"ES"},{"$f":"Master!B60","v":"Presentation & Training Design & Delivery "},{"$f":"Master!C60","v":"Enterprise Services Course \nTwo Days - $205"},{"$f":"Master!D60","v":"ILT"},{"$f":"Master!E60","v":"Active"},{"$f":"Master!F60","v":0},{"$f":"Master!H60","v":"To register for this course, \ncall the LMS Helpdesk at \n360-705-7060."},{"$f":"IF(Master!O60=\"\",\"B\",Master!O60)","v":"B"},{"$f":"IF(Master!Z60=\"\",\"B\",Master!Z60)","v":"B"},{"$f":"IF(Master!AK60=\"\",\"B\",Master!AK60)","v":"B"},{"$f":"IF(Master!AV60=\"\",\"B\",Master!AV60)","v":"B"},{"$f":"IF(Master!BG60=\"\",\"B\",Master!BG60)","v":2},{"$f":"IF(Master!BR60=\"\",\"B\",Master!BR60)","v":1}]
[{"$f":"Master!A61","v":"Stress Management -  The following two courses are available"},null,null,null,null,null,null,{"$f":"IF(Master!O61=\"\",\"B\",Master!O61)","v":"B"},{"$f":"IF(Master!Z61=\"\",\"B\",Master!Z61)","v":"B"},{"$f":"IF(Master!AK61=\"\",\"B\",Master!AK61)","v":"B"},{"$f":"IF(Master!AV61=\"\",\"B\",Master!AV61)","v":"B"},{"$f":"IF(Master!BG61=\"\",\"B\",Master!BG61)","v":"B"},{"$f":"IF(Master!BR61=\"\",\"B\",Master!BR61)","v":"B"}]
[{"$f":"Master!A62","v":"SS"},{"$f":"Master!B62","v":"Conflict, Stress, and Time Management"},{"$f":"Master!C62","v":"cust_07_a03_bs_enus"},{"$f":"Master!D62","v":"OLT"},{"$f":"Master!E62","v":"Active"},{"$f":"Master!F62","v":0},{"$f":"Master!H62","v":"Take this course first."},{"$f":"IF(Master!O62=\"\",\"B\",Master!O62)","v":1},{"$f":"IF(Master!Z62=\"\",\"B\",Master!Z62)","v":1},{"$f":"IF(Master!AK62=\"\",\"B\",Master!AK62)","v":1},{"$f":"IF(Master!AV62=\"\",\"B\",Master!AV62)","v":1},{"$f":"IF(Master!BG62=\"\",\"B\",Master!BG62)","v":1},{"$f":"IF(Master!BR62=\"\",\"B\",Master!BR62)","v":1}]
[{"$f":"Master!A63","v":"ES"},{"$f":"Master!B63","v":"Managing Job Stress"},{"$f":"Master!C63","v":"Enterprise Services Course\nOne Day - $135"},{"$f":"Master!D63","v":"ILT"},{"$f":"Master!E63","v":"Active"},{"$f":"Master!F63","v":0},{"$f":"Master!H63","v":"To register for this course, \ncall the LMS Helpdesk at \n360-705-7060."},{"$f":"IF(Master!O63=\"\",\"B\",Master!O63)","v":1},{"$f":"IF(Master!Z63=\"\",\"B\",Master!Z63)","v":1},{"$f":"IF(Master!AK63=\"\",\"B\",Master!AK63)","v":1},{"$f":"IF(Master!AV63=\"\",\"B\",Master!AV63)","v":1},{"$f":"IF(Master!BG63=\"\",\"B\",Master!BG63)","v":1},{"$f":"IF(Master!BR63=\"\",\"B\",Master!BR63)","v":1}]
[{"$f":"Master!A64","v":"Time Management -  The following six courses are available"},null,null,null,null,null,null,{"$f":"IF(Master!O64=\"\",\"B\",Master!O64)","v":"B"},{"$f":"IF(Master!Z64=\"\",\"B\",Master!Z64)","v":"B"},{"$f":"IF(Master!AK64=\"\",\"B\",Master!AK64)","v":"B"},{"$f":"IF(Master!AV64=\"\",\"B\",Master!AV64)","v":"B"},{"$f":"IF(Master!BG64=\"\",\"B\",Master!BG64)","v":"B"},{"$f":"IF(Master!BR64=\"\",\"B\",Master!BR64)","v":"B"}]
[{"$f":"Master!A65","v":"SS"},{"$f":"Master!B65","v":"Getting Time under Control"},{"$f":"Master!C65","v":"_pc_ch_pach021"},{"$f":"Master!D65","v":"OLT"},{"$f":"Master!E65","v":"Active"},{"$f":"Master!F65","v":0},{"$f":"Master!H65","v":"Take this course before the Enterprise Services course"},{"$f":"IF(Master!O65=\"\",\"B\",Master!O65)","v":1},{"$f":"IF(Master!Z65=\"\",\"B\",Master!Z65)","v":1},{"$f":"IF(Master!AK65=\"\",\"B\",Master!AK65)","v":1},{"$f":"IF(Master!AV65=\"\",\"B\",Master!AV65)","v":1},{"$f":"IF(Master!BG65=\"\",\"B\",Master!BG65)","v":1},{"$f":"IF(Master!BR65=\"\",\"B\",Master!BR65)","v":1}]
[{"$f":"Master!A66","v":"SS"},{"$f":"Master!B66","v":"Make the Time You Need: Get Organized"},{"$f":"Master!C66","v":"apd_08_a02_bs_enus"},{"$f":"Master!D66","v":"OLT"},{"$f":"Master!E66","v":"Active"},{"$f":"Master!F66","v":0},{"$f":"Master!H66","v":"Take this course before the Enterprise Services course"},{"$f":"IF(Master!O66=\"\",\"B\",Master!O66)","v":1},{"$f":"IF(Master!Z66=\"\",\"B\",Master!Z66)","v":1},{"$f":"IF(Master!AK66=\"\",\"B\",Master!AK66)","v":1},{"$f":"IF(Master!AV66=\"\",\"B\",Master!AV66)","v":1},{"$f":"IF(Master!BG66=\"\",\"B\",Master!BG66)","v":1},{"$f":"IF(Master!BR66=\"\",\"B\",Master!BR66)","v":1}]
[{"$f":"Master!A67","v":"SS"},{"$f":"Master!B67","v":"Time Management: Too Much to Do and Too Little Time"},{"$f":"Master!C67","v":"pd_20_a01_bs_enus"},{"$f":"Master!D67","v":"OLT"},{"$f":"Master!E67","v":"Active"},{"$f":"Master!F67","v":0},{"$f":"Master!H67","v":"Take this course before the Enterprise Services course"},{"$f":"IF(Master!O67=\"\",\"B\",Master!O67)","v":1},{"$f":"IF(Master!Z67=\"\",\"B\",Master!Z67)","v":1},{"$f":"IF(Master!AK67=\"\",\"B\",Master!AK67)","v":1},{"$f":"IF(Master!AV67=\"\",\"B\",Master!AV67)","v":1},{"$f":"IF(Master!BG67=\"\",\"B\",Master!BG67)","v":1},{"$f":"IF(Master!BR67=\"\",\"B\",Master!BR67)","v":1}]
[{"$f":"Master!A68","v":"SS"},{"$f":"Master!B68","v":"Time Management: Quit Making Excuses and Make Time Instead"},{"$f":"Master!C68","v":"pd_20_a02_bs_enus"},{"$f":"Master!D68","v":"OLT"},{"$f":"Master!E68","v":"Active"},{"$f":"Master!F68","v":0},{"$f":"Master!H68","v":"Take this course before the Enterprise Services course"},{"$f":"IF(Master!O68=\"\",\"B\",Master!O68)","v":1},{"$f":"IF(Master!Z68=\"\",\"B\",Master!Z68)","v":1},{"$f":"IF(Master!AK68=\"\",\"B\",Master!AK68)","v":1},{"$f":"IF(Master!AV68=\"\",\"B\",Master!AV68)","v":1},{"$f":"IF(Master!BG68=\"\",\"B\",Master!BG68)","v":1},{"$f":"IF(Master!BR68=\"\",\"B\",Master!BR68)","v":1}]
[{"$f":"Master!A69","v":"SS"},{"$f":"Master!B69","v":"Time Management: Ready, Set…Focus!"},{"$f":"Master!C69","v":"pd_20_a03_bs_enus"},{"$f":"Master!D69","v":"OLT"},{"$f":"Master!E69","v":"Active"},{"$f":"Master!F69","v":0},{"$f":"Master!H69","v":"Take this course before the Enterprise Services course"},{"$f":"IF(Master!O69=\"\",\"B\",Master!O69)","v":1},{"$f":"IF(Master!Z69=\"\",\"B\",Master!Z69)","v":1},{"$f":"IF(Master!AK69=\"\",\"B\",Master!AK69)","v":1},{"$f":"IF(Master!AV69=\"\",\"B\",Master!AV69)","v":1},{"$f":"IF(Master!BG69=\"\",\"B\",Master!BG69)","v":1},{"$f":"IF(Master!BR69=\"\",\"B\",Master!BR69)","v":1}]
[{"$f":"Master!A70","v":"ES"},{"$f":"Master!B70","v":"Time Management"},{"$f":"Master!C70","v":"Enterprise Services Course\nOne Day - $135"},{"$f":"Master!D70","v":"ILT"},{"$f":"Master!E70","v":"Active"},{"$f":"Master!F70","v":0},{"$f":"Master!H70","v":"To register for this course, \ncall the LMS Helpdesk at \n360-705-7060."},{"$f":"IF(Master!O70=\"\",\"B\",Master!O70)","v":1},{"$f":"IF(Master!Z70=\"\",\"B\",Master!Z70)","v":1},{"$f":"IF(Master!AK70=\"\",\"B\",Master!AK70)","v":1},{"$f":"IF(Master!AV70=\"\",\"B\",Master!AV70)","v":1},{"$f":"IF(Master!BG70=\"\",\"B\",Master!BG70)","v":1},{"$f":"IF(Master!BR70=\"\",\"B\",Master!BR70)","v":1}]
[{"$f":"Master!A71","v":"Technical Writing -  The following five courses are available"},null,null,null,null,null,null,{"$f":"IF(Master!O71=\"\",\"B\",Master!O71)","v":"B"},{"$f":"IF(Master!Z71=\"\",\"B\",Master!Z71)","v":"B"},{"$f":"IF(Master!AK71=\"\",\"B\",Master!AK71)","v":"B"},{"$f":"IF(Master!AV71=\"\",\"B\",Master!AV71)","v":"B"},{"$f":"IF(Master!BG71=\"\",\"B\",Master!BG71)","v":"B"},{"$f":"IF(Master!BR71=\"\",\"B\",Master!BR71)","v":"B"}]
[{"$f":"Master!A72","v":"SS"},{"$f":"Master!B72","v":"Improving Your Technical Writing Skills"},{"$f":"Master!C72","v":"acm_06_a01_it_enus"},{"$f":"Master!D72","v":"OLT"},{"$f":"Master!E72","v":"Active"},{"$f":"Master!F72","v":0},{"$f":"Master!H72","v":0},{"$f":"IF(Master!O72=\"\",\"B\",Master!O72)","v":2},{"$f":"IF(Master!Z72=\"\",\"B\",Master!Z72)","v":2},{"$f":"IF(Master!AK72=\"\",\"B\",Master!AK72)","v":2},{"$f":"IF(Master!AV72=\"\",\"B\",Master!AV72)","v":2},{"$f":"IF(Master!BG72=\"\",\"B\",Master!BG72)","v":"B"},{"$f":"IF(Master!BR72=\"\",\"B\",Master!BR72)","v":"B"}]
[{"$f":"Master!A73","v":"SS"},{"$f":"Master!B73","v":"Writing for Technical Professionals: Effective Writing Techniques"},{"$f":"Master!C73","v":"ib_wstp_a02_it_enus"},{"$f":"Master!D73","v":"OLT"},{"$f":"Master!E73","v":"Active"},{"$f":"Master!F73","v":0},{"$f":"Master!H73","v":0},{"$f":"IF(Master!O73=\"\",\"B\",Master!O73)","v":2},{"$f":"IF(Master!Z73=\"\",\"B\",Master!Z73)","v":2},{"$f":"IF(Master!AK73=\"\",\"B\",Master!AK73)","v":2},{"$f":"IF(Master!AV73=\"\",\"B\",Master!AV73)","v":2},{"$f":"IF(Master!BG73=\"\",\"B\",Master!BG73)","v":"B"},{"$f":"IF(Master!BR73=\"\",\"B\",Master!BR73)","v":"B"}]
[{"$f":"Master!A74","v":"SS"},{"$f":"Master!B74","v":"Writing for Technical Professionals: Preparation and Planning"},{"$f":"Master!C74","v":"ib_wstp_a01_it_enus"},{"$f":"Master!D74","v":"OLT"},{"$f":"Master!E74","v":"Active"},{"$f":"Master!F74","v":0},{"$f":"Master!H74","v":0},{"$f":"IF(Master!O74=\"\",\"B\",Master!O74)","v":2},{"$f":"IF(Master!Z74=\"\",\"B\",Master!Z74)","v":2},{"$f":"IF(Master!AK74=\"\",\"B\",Master!AK74)","v":2},{"$f":"IF(Master!AV74=\"\",\"B\",Master!AV74)","v":2},{"$f":"IF(Master!BG74=\"\",\"B\",Master!BG74)","v":"B"},{"$f":"IF(Master!BR74=\"\",\"B\",Master!BR74)","v":"B"}]
[{"$f":"Master!A75","v":"ES"},{"$f":"Master!B75","v":"Technical Writing: Tricks of the Trade"},{"$f":"Master!C75","v":"Enterprise Services Course\nTwo Day Course - $185"},{"$f":"Master!D75","v":"ILT"},{"$f":"Master!E75","v":"Active"},{"$f":"Master!F75","v":0},{"$f":"Master!H75","v":"To register for this course, call the LMS Helpdesk at \n360-705-7060."},{"$f":"IF(Master!O75=\"\",\"B\",Master!O75)","v":2},{"$f":"IF(Master!Z75=\"\",\"B\",Master!Z75)","v":2},{"$f":"IF(Master!AK75=\"\",\"B\",Master!AK75)","v":2},{"$f":"IF(Master!AV75=\"\",\"B\",Master!AV75)","v":2},{"$f":"IF(Master!BG75=\"\",\"B\",Master!BG75)","v":"B"},{"$f":"IF(Master!BR75=\"\",\"B\",Master!BR75)","v":"B"}]
[{"$f":"Master!A76","v":"ES"},{"$f":"Master!B76","v":"Writing Skills"},{"$f":"Master!C76","v":"Enterprise Services Course\nOne Day - $145"},{"$f":"Master!D76","v":"ILT"},{"$f":"Master!E76","v":"Active"},{"$f":"Master!F76","v":0},{"$f":"Master!H76","v":"To register for this course, \ncall the LMS Helpdesk at \n360-705-7060."},{"$f":"IF(Master!O76=\"\",\"B\",Master!O76)","v":2},{"$f":"IF(Master!Z76=\"\",\"B\",Master!Z76)","v":2},{"$f":"IF(Master!AK76=\"\",\"B\",Master!AK76)","v":2},{"$f":"IF(Master!AV76=\"\",\"B\",Master!AV76)","v":2},{"$f":"IF(Master!BG76=\"\",\"B\",Master!BG76)","v":"B"},{"$f":"IF(Master!BR76=\"\",\"B\",Master!BR76)","v":"B"}]
[{"$f":"Master!A77","v":"Effective Meeting Management -  The following six courses are available"},null,null,null,null,null,null,{"$f":"IF(Master!O77=\"\",\"B\",Master!O77)","v":"B"},{"$f":"IF(Master!Z77=\"\",\"B\",Master!Z77)","v":"B"},{"$f":"IF(Master!AK77=\"\",\"B\",Master!AK77)","v":"B"},{"$f":"IF(Master!AV77=\"\",\"B\",Master!AV77)","v":"B"},{"$f":"IF(Master!BG77=\"\",\"B\",Master!BG77)","v":"B"},{"$f":"IF(Master!BR77=\"\",\"B\",Master!BR77)","v":"B"}]
[{"$f":"Master!A78","v":"SS"},{"$f":"Master!B78","v":"Dealing with Common Meeting Problems"},{"$f":"Master!C78","v":"comm_32_a03_bs_enus"},{"$f":"Master!D78","v":"OLT"},{"$f":"Master!E78","v":"Active"},{"$f":"Master!F78","v":0},{"$f":"Master!H78","v":0},{"$f":"IF(Master!O78=\"\",\"B\",Master!O78)","v":"B"},{"$f":"IF(Master!Z78=\"\",\"B\",Master!Z78)","v":"B"},{"$f":"IF(Master!AK78=\"\",\"B\",Master!AK78)","v":"B"},{"$f":"IF(Master!AV78=\"\",\"B\",Master!AV78)","v":"B"},{"$f":"IF(Master!BG78=\"\",\"B\",Master!BG78)","v":"B"},{"$f":"IF(Master!BR78=\"\",\"B\",Master!BR78)","v":"B"}]
[{"$f":"Master!A79","v":"SS"},{"$f":"Master!B79","v":"Preparing for Effective Business Meetings"},{"$f":"Master!C79","v":"comm_32_a01_bs_enus"},{"$f":"Master!D79","v":"OLT"},{"$f":"Master!E79","v":"Active"},{"$f":"Master!F79","v":0},{"$f":"Master!H79","v":0},{"$f":"IF(Master!O79=\"\",\"B\",Master!O79)","v":"B"},{"$f":"IF(Master!Z79=\"\",\"B\",Master!Z79)","v":"B"},{"$f":"IF(Master!AK79=\"\",\"B\",Master!AK79)","v":"B"},{"$f":"IF(Master!AV79=\"\",\"B\",Master!AV79)","v":"B"},{"$f":"IF(Master!BG79=\"\",\"B\",Master!BG79)","v":"B"},{"$f":"IF(Master!BR79=\"\",\"B\",Master!BR79)","v":"B"}]
[{"$f":"Master!A80","v":"SS"},{"$f":"Master!B80","v":"Planning Meetings Fit for Purpose"},{"$f":"Master!C80","v":"comm_50_a01_bs_enus"},{"$f":"Master!D80","v":"OLT"},{"$f":"Master!E80","v":"Active"},{"$f":"Master!F80","v":0},{"$f":"Master!H80","v":0},{"$f":"IF(Master!O80=\"\",\"B\",Master!O80)","v":"B"},{"$f":"IF(Master!Z80=\"\",\"B\",Master!Z80)","v":"B"},{"$f":"IF(Master!AK80=\"\",\"B\",Master!AK80)","v":"B"},{"$f":"IF(Master!AV80=\"\",\"B\",Master!AV80)","v":"B"},{"$f":"IF(Master!BG80=\"\",\"B\",Master!BG80)","v":"B"},{"$f":"IF(Master!BR80=\"\",\"B\",Master!BR80)","v":"B"}]
[{"$f":"Master!A81","v":"SS"},{"$f":"Master!B81","v":"Managing Effective Business Meetings"},{"$f":"Master!C81","v":"comm_32_a02_bs_enus"},{"$f":"Master!D81","v":"OLT"},{"$f":"Master!E81","v":"Active"},{"$f":"Master!F81","v":0},{"$f":"Master!H81","v":0},{"$f":"IF(Master!O81=\"\",\"B\",Master!O81)","v":"B"},{"$f":"IF(Master!Z81=\"\",\"B\",Master!Z81)","v":"B"},{"$f":"IF(Master!AK81=\"\",\"B\",Master!AK81)","v":"B"},{"$f":"IF(Master!AV81=\"\",\"B\",Master!AV81)","v":"B"},{"$f":"IF(Master!BG81=\"\",\"B\",Master!BG81)","v":"B"},{"$f":"IF(Master!BR81=\"\",\"B\",Master!BR81)","v":"B"}]
[{"$f":"Master!A82","v":"SS"},{"$f":"Master!B82","v":"Running Meetings in Better Directions"},{"$f":"Master!C82","v":"comm_50_a02_bs_enus"},{"$f":"Master!D82","v":"OLT"},{"$f":"Master!E82","v":"Active"},{"$f":"Master!F82","v":0},{"$f":"Master!H82","v":0},{"$f":"IF(Master!O82=\"\",\"B\",Master!O82)","v":"B"},{"$f":"IF(Master!Z82=\"\",\"B\",Master!Z82)","v":"B"},{"$f":"IF(Master!AK82=\"\",\"B\",Master!AK82)","v":"B"},{"$f":"IF(Master!AV82=\"\",\"B\",Master!AV82)","v":"B"},{"$f":"IF(Master!BG82=\"\",\"B\",Master!BG82)","v":"B"},{"$f":"IF(Master!BR82=\"\",\"B\",Master!BR82)","v":"B"}]
[{"$f":"Master!A83","v":"ES"},{"$f":"Master!B83","v":"Effective Meeting Management  (or one of the following five SkillSoft)"},{"$f":"Master!C83","v":"Enterprise Services Course\nOne Day - $165"},{"$f":"Master!D83","v":"ILT"},{"$f":"Master!E83","v":"Active"},{"$f":"Master!F83","v":0},{"$f":"Master!H83","v":"To register for this course, call the LMS Helpdesk at \n360-705-7060."},{"$f":"IF(Master!O83=\"\",\"B\",Master!O83)","v":"B"},{"$f":"IF(Master!Z83=\"\",\"B\",Master!Z83)","v":"B"},{"$f":"IF(Master!AK83=\"\",\"B\",Master!AK83)","v":"B"},{"$f":"IF(Master!AV83=\"\",\"B\",Master!AV83)","v":"B"},{"$f":"IF(Master!BG83=\"\",\"B\",Master!BG83)","v":"B"},{"$f":"IF(Master!BR83=\"\",\"B\",Master!BR83)","v":"B"}]
[{"$f":"Master!A84","v":"Enhanced Leadership for WSDOT"},null,null,null,null,null,null,{"$f":"IF(Master!O84=\"\",\"B\",Master!O84)","v":"B"},{"$f":"IF(Master!Z84=\"\",\"B\",Master!Z84)","v":"B"},{"$f":"IF(Master!AK84=\"\",\"B\",Master!AK84)","v":"B"},{"$f":"IF(Master!AV84=\"\",\"B\",Master!AV84)","v":"B"},{"$f":"IF(Master!BG84=\"\",\"B\",Master!BG84)","v":"B"},{"$f":"IF(Master!BR84=\"\",\"B\",Master!BR84)","v":"B"}]
[{"$f":"Master!A85","v":"ES"},{"$f":"Master!B85","v":"Leading Teams"},{"$f":"Master!C85","v":"Enterprise Services Course\nThree Days - $500"},{"$f":"Master!D85","v":"ILT"},{"$f":"Master!E85","v":"Active"},{"$f":"Master!F85","v":0},{"$f":"Master!H85","v":"To register for this course, \ncall the LMS Helpdesk at \n360-705-7060."},{"$f":"IF(Master!O85=\"\",\"B\",Master!O85)","v":"B"},{"$f":"IF(Master!Z85=\"\",\"B\",Master!Z85)","v":"B"},{"$f":"IF(Master!AK85=\"\",\"B\",Master!AK85)","v":"B"},{"$f":"IF(Master!AV85=\"\",\"B\",Master!AV85)","v":"B"},{"$f":"IF(Master!BG85=\"\",\"B\",Master!BG85)","v":"B"},{"$f":"IF(Master!BR85=\"\",\"B\",Master!BR85)","v":2}]
[{"$f":"Master!A86","v":"Entry Management Development"},null,null,null,null,null,null,{"$f":"IF(Master!O86=\"\",\"B\",Master!O86)","v":"B"},{"$f":"IF(Master!Z86=\"\",\"B\",Master!Z86)","v":"B"},{"$f":"IF(Master!AK86=\"\",\"B\",Master!AK86)","v":"B"},{"$f":"IF(Master!AV86=\"\",\"B\",Master!AV86)","v":"B"},{"$f":"IF(Master!BG86=\"\",\"B\",Master!BG86)","v":"B"},{"$f":"IF(Master!BR86=\"\",\"B\",Master!BR86)","v":"B"}]
[{"$f":"Master!A87","v":"ES"},{"$f":"Master!B87","v":"Leading Others"},{"$f":"Master!C87","v":"Enterprise Services Course\nFour Days - $500"},{"$f":"Master!D87","v":"ILT"},{"$f":"Master!E87","v":"Active"},{"$f":"Master!F87","v":0},{"$f":"Master!H87","v":"To register for this course, \ncall the LMS Helpdesk at \n360-705-7060."},{"$f":"IF(Master!O87=\"\",\"B\",Master!O87)","v":"B"},{"$f":"IF(Master!Z87=\"\",\"B\",Master!Z87)","v":"B"},{"$f":"IF(Master!AK87=\"\",\"B\",Master!AK87)","v":"B"},{"$f":"IF(Master!AV87=\"\",\"B\",Master!AV87)","v":"B"},{"$f":"IF(Master!BG87=\"\",\"B\",Master!BG87)","v":2},{"$f":"IF(Master!BR87=\"\",\"B\",Master!BR87)","v":1}]
[{"$f":"Master!A88","v":"ES"},{"$f":"Master!B88","v":"Supervision Essentials-Phase II (Prerequisite is Leading Others)"},{"$f":"Master!C88","v":"Enterprise Services Course\nTwo Days - $285"},{"$f":"Master!D88","v":"ILT"},{"$f":"Master!E88","v":"Active"},{"$f":"Master!F88","v":0},{"$f":"Master!H88","v":"To register for this course, \ncall the LMS Helpdesk at \n360-705-7060."},{"$f":"IF(Master!O88=\"\",\"B\",Master!O88)","v":"B"},{"$f":"IF(Master!Z88=\"\",\"B\",Master!Z88)","v":"B"},{"$f":"IF(Master!AK88=\"\",\"B\",Master!AK88)","v":"B"},{"$f":"IF(Master!AV88=\"\",\"B\",Master!AV88)","v":"B"},{"$f":"IF(Master!BG88=\"\",\"B\",Master!BG88)","v":"B"},{"$f":"IF(Master!BR88=\"\",\"B\",Master!BR88)","v":2}]
[{"$f":"Master!A89","v":"Safety"},null,null,null,null,null,null,{"$f":"IF(Master!O89=\"\",\"B\",Master!O89)","v":"B"},{"$f":"IF(Master!Z89=\"\",\"B\",Master!Z89)","v":"B"},{"$f":"IF(Master!AK89=\"\",\"B\",Master!AK89)","v":"B"},{"$f":"IF(Master!AV89=\"\",\"B\",Master!AV89)","v":"B"},{"$f":"IF(Master!BG89=\"\",\"B\",Master!BG89)","v":"B"},{"$f":"IF(Master!BR89=\"\",\"B\",Master!BR89)","v":"B"}]
[{"$f":"Master!A90","v":"SAFE"},{"$f":"Master!B90","v":"WSDOT SAFE: FALL PROTECTION"},{"$f":"Master!C90","v":"WSDOT_BN9"},{"$f":"Master!D90","v":"ILT"},{"$f":"Master!E90","v":"Active"},{"$f":"Master!F90","v":0},{"$f":"Master!H90","v":0},{"$f":"IF(Master!O90=\"\",\"B\",Master!O90)","v":2},{"$f":"IF(Master!Z90=\"\",\"B\",Master!Z90)","v":2},{"$f":"IF(Master!AK90=\"\",\"B\",Master!AK90)","v":2},{"$f":"IF(Master!AV90=\"\",\"B\",Master!AV90)","v":2},{"$f":"IF(Master!BG90=\"\",\"B\",Master!BG90)","v":"B"},{"$f":"IF(Master!BR90=\"\",\"B\",Master!BR90)","v":"B"}]
[{"$f":"Master!A91","v":"SAFE"},{"$f":"Master!B91","v":"WSDOT SAFE: FIRST AID"},{"$f":"Master!C91","v":"WSDOT_APS"},{"$f":"Master!D91","v":"ILT"},{"$f":"Master!E91","v":"Active"},{"$f":"Master!F91","v":0},{"$f":"Master!H91","v":0},{"$f":"IF(Master!O91=\"\",\"B\",Master!O91)","v":"R"},{"$f":"IF(Master!Z91=\"\",\"B\",Master!Z91)","v":"R"},{"$f":"IF(Master!AK91=\"\",\"B\",Master!AK91)","v":1},{"$f":"IF(Master!AV91=\"\",\"B\",Master!AV91)","v":1},{"$f":"IF(Master!BG91=\"\",\"B\",Master!BG91)","v":1},{"$f":"IF(Master!BR91=\"\",\"B\",Master!BR91)","v":1}]
[{"$f":"Master!A92","v":"SAFE"},{"$f":"Master!B92","v":"WSDOT SAFE: FLAGGING, TRAFFIC CONTROL"},{"$f":"Master!C92","v":"WSDOT_AFZ"},{"$f":"Master!D92","v":"ILT"},{"$f":"Master!E92","v":"Active"},{"$f":"Master!F92","v":0},{"$f":"Master!H92","v":0},{"$f":"IF(Master!O92=\"\",\"B\",Master!O92)","v":"R"},{"$f":"IF(Master!Z92=\"\",\"B\",Master!Z92)","v":"R"},{"$f":"IF(Master!AK92=\"\",\"B\",Master!AK92)","v":1},{"$f":"IF(Master!AV92=\"\",\"B\",Master!AV92)","v":1},{"$f":"IF(Master!BG92=\"\",\"B\",Master!BG92)","v":"B"},{"$f":"IF(Master!BR92=\"\",\"B\",Master!BR92)","v":"B"}]
[{"$f":"Master!A93","v":"SAFE"},{"$f":"Master!B93","v":"WSDOT SAFE: HAZARD COMMUNICATION STANDARD (HCS)"},{"$f":"Master!C93","v":"WSDOT_AEX"},{"$f":"Master!D93","v":"ILT"},{"$f":"Master!E93","v":"Active"},{"$f":"Master!F93","v":0},{"$f":"Master!H93","v":0},{"$f":"IF(Master!O93=\"\",\"B\",Master!O93)","v":2},{"$f":"IF(Master!Z93=\"\",\"B\",Master!Z93)","v":2},{"$f":"IF(Master!AK93=\"\",\"B\",Master!AK93)","v":2},{"$f":"IF(Master!AV93=\"\",\"B\",Master!AV93)","v":2},{"$f":"IF(Master!BG93=\"\",\"B\",Master!BG93)","v":2},{"$f":"IF(Master!BR93=\"\",\"B\",Master!BR93)","v":2}]
[{"$f":"Master!A94","v":"SAFE"},{"$f":"Master!B94","v":"WSDOT SAFE: HEARING CONSERVATION (ILT, and/or Self-Study)"},{"$f":"Master!C94","v":"WSDOT_ATS"},{"$f":"Master!D94","v":"OLT/ILT"},{"$f":"Master!E94","v":"Active"},{"$f":"Master!F94","v":0},{"$f":"Master!H94","v":0},{"$f":"IF(Master!O94=\"\",\"B\",Master!O94)","v":"R"},{"$f":"IF(Master!Z94=\"\",\"B\",Master!Z94)","v":"R"},{"$f":"IF(Master!AK94=\"\",\"B\",Master!AK94)","v":2},{"$f":"IF(Master!AV94=\"\",\"B\",Master!AV94)","v":2},{"$f":"IF(Master!BG94=\"\",\"B\",Master!BG94)","v":2},{"$f":"IF(Master!BR94=\"\",\"B\",Master!BR94)","v":2}]
[{"$f":"Master!A95","v":"SAFE"},{"$f":"Master!B95","v":"WSDOT SAFE: RESPIRATOR PROTECTION TRAINING"},{"$f":"Master!C95","v":"WSDOT_ARZ"},{"$f":"Master!D95","v":"ILT"},{"$f":"Master!E95","v":"Active"},{"$f":"Master!F95","v":0},{"$f":"Master!H95","v":0},{"$f":"IF(Master!O95=\"\",\"B\",Master!O95)","v":"B"},{"$f":"IF(Master!Z95=\"\",\"B\",Master!Z95)","v":"B"},{"$f":"IF(Master!AK95=\"\",\"B\",Master!AK95)","v":"B"},{"$f":"IF(Master!AV95=\"\",\"B\",Master!AV95)","v":"B"},{"$f":"IF(Master!BG95=\"\",\"B\",Master!BG95)","v":"B"},{"$f":"IF(Master!BR95=\"\",\"B\",Master!BR95)","v":"B"}]
[{"$f":"Master!A96","v":"Construction Division"},null,null,null,null,null,null,{"$f":"IF(Master!O96=\"\",\"B\",Master!O96)","v":"B"},{"$f":"IF(Master!Z96=\"\",\"B\",Master!Z96)","v":"B"},{"$f":"IF(Master!AK96=\"\",\"B\",Master!AK96)","v":"B"},{"$f":"IF(Master!AV96=\"\",\"B\",Master!AV96)","v":"B"},{"$f":"IF(Master!BG96=\"\",\"B\",Master!BG96)","v":"B"},{"$f":"IF(Master!BR96=\"\",\"B\",Master!BR96)","v":"B"}]
[{"$f":"Master!A97","v":"CN"},{"$f":"Master!B97","v":"WSDOT CN: AGGREGATE PRODUCTION & TESTING INSPECTION"},{"$f":"Master!C97","v":"WSDOT_ACA"},{"$f":"Master!D97","v":"ILT"},{"$f":"Master!E97","v":"Active"},{"$f":"Master!F97","v":0},{"$f":"Master!G97","v":0},{"$f":"IF(Master!H97=\"\",\"B\",Master!H97)","v":"B"},{"$f":"IF(Master!I97=\"\",\"B\",Master!I97)","v":"B"},{"$f":"IF(Master!J97=\"\",\"B\",Master!J97)","v":"B"},{"$f":"IF(Master!K97=\"\",\"B\",Master!K97)","v":"B"},{"$f":"IF(Master!L97=\"\",\"B\",Master!L97)","v":"B"},{"$f":"IF(Master!M97=\"\",\"B\",Master!M97)","v":"B"}]
[{"$f":"Master!A98","v":"CN"},{"$f":"Master!B98","v":"WSDOT CN: BITUMINOUS SURFACE TREATMENT INSPECTION"},{"$f":"Master!C98","v":"WSDOT_CN_BST_ACC"},{"$f":"Master!D98","v":"ILT"},{"$f":"Master!E98","v":"Active"},{"$f":"Master!F98","v":0},{"$f":"Master!G98","v":0},{"$f":"IF(Master!H98=\"\",\"B\",Master!H98)","v":"B"},{"$f":"IF(Master!I98=\"\",\"B\",Master!I98)","v":"B"},{"$f":"IF(Master!J98=\"\",\"B\",Master!J98)","v":2},{"$f":"IF(Master!K98=\"\",\"B\",Master!K98)","v":"B"},{"$f":"IF(Master!L98=\"\",\"B\",Master!L98)","v":"B"},{"$f":"IF(Master!M98=\"\",\"B\",Master!M98)","v":"B"}]
[{"$f":"Master!A99","v":"CN"},{"$f":"Master!B99","v":"WSDOT CN: ACCEPTANCE AND APPROVAL OF MATERIAL"},{"$f":"Master!C99","v":"WSDOT_CN_Acceptance_Material_CX8_OLT"},{"$f":"Master!D99","v":"OLT"},{"$f":"Master!E99","v":"Active"},{"$f":"Master!F99","v":0},{"$f":"Master!G99","v":0},{"$f":"IF(Master!H99=\"\",\"B\",Master!H99)","v":"B"},{"$f":"IF(Master!I99=\"\",\"B\",Master!I99)","v":"B"},{"$f":"IF(Master!J99=\"\",\"B\",Master!J99)","v":1},{"$f":"IF(Master!K99=\"\",\"B\",Master!K99)","v":2},{"$f":"IF(Master!L99=\"\",\"B\",Master!L99)","v":"B"},{"$f":"IF(Master!M99=\"\",\"B\",Master!M99)","v":"B"}]
[{"$f":"Master!A100","v":"CN"},{"$f":"Master!B100","v":"WSDOT CN: COMPOSING AN INSPECTOR'S DAILY REPORT"},{"$f":"Master!C100","v":"WSDOT_CZ9_OLT"},{"$f":"Master!D100","v":"OLT"},{"$f":"Master!E100","v":"Active"},{"$f":"Master!F100","v":0},{"$f":"Master!G100","v":0},{"$f":"IF(Master!H100=\"\",\"B\",Master!H100)","v":"B"},{"$f":"IF(Master!I100=\"\",\"B\",Master!I100)","v":"B"},{"$f":"IF(Master!J100=\"\",\"B\",Master!J100)","v":1},{"$f":"IF(Master!K100=\"\",\"B\",Master!K100)","v":2},{"$f":"IF(Master!L100=\"\",\"B\",Master!L100)","v":"B"},{"$f":"IF(Master!M100=\"\",\"B\",Master!M100)","v":"B"}]
[{"$f":"Master!A101","v":"CN"},{"$f":"Master!B101","v":"WSDOT CN: INSPECTING BRIDGE CONSTRUCTION"},{"$f":"Master!C101","v":"WSDOT_ACM"},{"$f":"Master!D101","v":"ILT"},{"$f":"Master!E101","v":"Active"},{"$f":"Master!F101","v":0},{"$f":"Master!G101","v":0},{"$f":"IF(Master!H101=\"\",\"B\",Master!H101)","v":"B"},{"$f":"IF(Master!I101=\"\",\"B\",Master!I101)","v":"B"},{"$f":"IF(Master!J101=\"\",\"B\",Master!J101)","v":2},{"$f":"IF(Master!K101=\"\",\"B\",Master!K101)","v":"B"},{"$f":"IF(Master!L101=\"\",\"B\",Master!L101)","v":"B"},{"$f":"IF(Master!M101=\"\",\"B\",Master!M101)","v":"B"}]
[{"$f":"Master!A102","v":"CN"},{"$f":"Master!B102","v":"WSDOT CN: CONSTRUCTION INSPECTION DOCUMENTATION"},{"$f":"Master!C102","v":"WSDOT_ACY"},{"$f":"Master!D102","v":"ILT"},{"$f":"Master!E102","v":"Active"},{"$f":"Master!F102","v":0},{"$f":"Master!G102","v":0},{"$f":"IF(Master!H102=\"\",\"B\",Master!H102)","v":"B"},{"$f":"IF(Master!I102=\"\",\"B\",Master!I102)","v":"B"},{"$f":"IF(Master!J102=\"\",\"B\",Master!J102)","v":1},{"$f":"IF(Master!K102=\"\",\"B\",Master!K102)","v":2},{"$f":"IF(Master!L102=\"\",\"B\",Master!L102)","v":"B"},{"$f":"IF(Master!M102=\"\",\"B\",Master!M102)","v":"B"}]
[{"$f":"Master!A103","v":"CN"},{"$f":"Master!B103","v":"WSDOT CN:CONSTRUCTION MATERIALS, APPROVAL AND ACCEPTANCE"},{"$f":"Master!C103","v":"WSDOT_DAP"},{"$f":"Master!D103","v":"ILT"},{"$f":"Master!E103","v":"Active"},{"$f":"Master!F103","v":0},{"$f":"Master!G103","v":0},{"$f":"IF(Master!H103=\"\",\"B\",Master!H103)","v":"B"},{"$f":"IF(Master!I103=\"\",\"B\",Master!I103)","v":"B"},{"$f":"IF(Master!J103=\"\",\"B\",Master!J103)","v":1},{"$f":"IF(Master!K103=\"\",\"B\",Master!K103)","v":2},{"$f":"IF(Master!L103=\"\",\"B\",Master!L103)","v":"B"},{"$f":"IF(Master!M103=\"\",\"B\",Master!M103)","v":"B"}]
[{"$f":"Master!A104","v":"CN"},{"$f":"Master!B104","v":"WSDOT CN: DRAINAGE INSPECTION"},{"$f":"Master!C104","v":"WSDOT_ACF"},{"$f":"Master!D104","v":"ILT"},{"$f":"Master!E104","v":"Active"},{"$f":"Master!F104","v":0},{"$f":"Master!G104","v":0},{"$f":"IF(Master!H104=\"\",\"B\",Master!H104)","v":"B"},{"$f":"IF(Master!I104=\"\",\"B\",Master!I104)","v":"B"},{"$f":"IF(Master!J104=\"\",\"B\",Master!J104)","v":2},{"$f":"IF(Master!K104=\"\",\"B\",Master!K104)","v":"B"},{"$f":"IF(Master!L104=\"\",\"B\",Master!L104)","v":"B"},{"$f":"IF(Master!M104=\"\",\"B\",Master!M104)","v":"B"}]
[{"$f":"Master!A105","v":"CN"},{"$f":"Master!B105","v":"WSDOT CN: EARTHWORK INSPECTION"},{"$f":"Master!C105","v":"WSDOT_Earthwork_OLT"},{"$f":"Master!D105","v":"OLT"},{"$f":"Master!E105","v":"Active"},{"$f":"Master!F105","v":0},{"$f":"Master!G105","v":0},{"$f":"IF(Master!H105=\"\",\"B\",Master!H105)","v":"B"},{"$f":"IF(Master!I105=\"\",\"B\",Master!I105)","v":"B"},{"$f":"IF(Master!J105=\"\",\"B\",Master!J105)","v":2},{"$f":"IF(Master!K105=\"\",\"B\",Master!K105)","v":"B"},{"$f":"IF(Master!L105=\"\",\"B\",Master!L105)","v":"B"},{"$f":"IF(Master!M105=\"\",\"B\",Master!M105)","v":"B"}]
[{"$f":"Master!A106","v":"CN"},{"$f":"Master!B106","v":"WSDOT CN: ELECTRICAL CONDUCTORS AND FIBER for ICP"},{"$f":"Master!C106","v":"WSDOT_ICP_Electrical_Conductors_Fiber_OLT"},{"$f":"Master!D106","v":"OLT"},{"$f":"Master!E106","v":"Active"},{"$f":"Master!F106","v":0},{"$f":"Master!G106","v":0},{"$f":"IF(Master!H106=\"\",\"B\",Master!H106)","v":"B"},{"$f":"IF(Master!I106=\"\",\"B\",Master!I106)","v":"B"},{"$f":"IF(Master!J106=\"\",\"B\",Master!J106)","v":"B"},{"$f":"IF(Master!K106=\"\",\"B\",Master!K106)","v":2},{"$f":"IF(Master!L106=\"\",\"B\",Master!L106)","v":"B"},{"$f":"IF(Master!M106=\"\",\"B\",Master!M106)","v":"B"}]
[{"$f":"Master!A107","v":"CN"},{"$f":"Master!B107","v":"WSDOT CN: ELECTRICAL-ILLUMINATION-SIGNALS & ITS INSPECTION"},{"$f":"Master!C107","v":"WSDOT_API"},{"$f":"Master!D107","v":"ILT"},{"$f":"Master!E107","v":"Active"},{"$f":"Master!F107","v":0},{"$f":"Master!G107","v":0},{"$f":"IF(Master!H107=\"\",\"B\",Master!H107)","v":"B"},{"$f":"IF(Master!I107=\"\",\"B\",Master!I107)","v":"B"},{"$f":"IF(Master!J107=\"\",\"B\",Master!J107)","v":"B"},{"$f":"IF(Master!K107=\"\",\"B\",Master!K107)","v":2},{"$f":"IF(Master!L107=\"\",\"B\",Master!L107)","v":"B"},{"$f":"IF(Master!M107=\"\",\"B\",Master!M107)","v":"B"}]
[{"$f":"Master!A108","v":"CN"},{"$f":"Master!B108","v":"WSDOT CN: EXCAVATION & EMBANKMENTS INSPECTION"},{"$f":"Master!C108","v":"WSDOT_AC3"},{"$f":"Master!D108","v":"ILT"},{"$f":"Master!E108","v":"Active"},{"$f":"Master!F108","v":0},{"$f":"Master!G108","v":0},{"$f":"IF(Master!H108=\"\",\"B\",Master!H108)","v":"B"},{"$f":"IF(Master!I108=\"\",\"B\",Master!I108)","v":"B"},{"$f":"IF(Master!J108=\"\",\"B\",Master!J108)","v":1},{"$f":"IF(Master!K108=\"\",\"B\",Master!K108)","v":"B"},{"$f":"IF(Master!L108=\"\",\"B\",Master!L108)","v":"B"},{"$f":"IF(Master!M108=\"\",\"B\",Master!M108)","v":"B"}]
[{"$f":"Master!A109","v":"CN"},{"$f":"Master!B109","v":"WSDOT CN: FIELD PAINTING STRUCTURAL STEEL"},{"$f":"Master!C109","v":"WSDOT_CN_Field_Painting_OLT"},{"$f":"Master!D109","v":"OLT"},{"$f":"Master!E109","v":"Active"},{"$f":"Master!F109","v":0},{"$f":"Master!G109","v":0},{"$f":"IF(Master!H109=\"\",\"B\",Master!H109)","v":"B"},{"$f":"IF(Master!I109=\"\",\"B\",Master!I109)","v":"B"},{"$f":"IF(Master!J109=\"\",\"B\",Master!J109)","v":"B"},{"$f":"IF(Master!K109=\"\",\"B\",Master!K109)","v":"B"},{"$f":"IF(Master!L109=\"\",\"B\",Master!L109)","v":"B"},{"$f":"IF(Master!M109=\"\",\"B\",Master!M109)","v":"B"}]
[{"$f":"Master!A110","v":"CN"},{"$f":"Master!B110","v":"WSDOT CN: FORCE ACCOUNT DOCUMENTATION AND PAYMENT"},{"$f":"Master!C110","v":"WSDOT_CN_ForceAccount_DG2_OLT"},{"$f":"Master!D110","v":"OLT"},{"$f":"Master!E110","v":"Active"},{"$f":"Master!F110","v":0},{"$f":"Master!G110","v":0},{"$f":"IF(Master!H110=\"\",\"B\",Master!H110)","v":"B"},{"$f":"IF(Master!I110=\"\",\"B\",Master!I110)","v":"B"},{"$f":"IF(Master!J110=\"\",\"B\",Master!J110)","v":1},{"$f":"IF(Master!K110=\"\",\"B\",Master!K110)","v":2},{"$f":"IF(Master!L110=\"\",\"B\",Master!L110)","v":"B"},{"$f":"IF(Master!M110=\"\",\"B\",Master!M110)","v":"B"}]
[{"$f":"Master!A111","v":"CN"},{"$f":"Master!B111","v":"WSDOT CN: FORMS AND FALSEWORK for ICP"},{"$f":"Master!C111","v":"WSDOT_ICP_Forms and Falsework_OLT"},{"$f":"Master!D111","v":"OLT"},{"$f":"Master!E111","v":"Active"},{"$f":"Master!F111","v":0},{"$f":"Master!G111","v":0},{"$f":"IF(Master!H111=\"\",\"B\",Master!H111)","v":"B"},{"$f":"IF(Master!I111=\"\",\"B\",Master!I111)","v":"B"},{"$f":"IF(Master!J111=\"\",\"B\",Master!J111)","v":2},{"$f":"IF(Master!K111=\"\",\"B\",Master!K111)","v":"B"},{"$f":"IF(Master!L111=\"\",\"B\",Master!L111)","v":"B"},{"$f":"IF(Master!M111=\"\",\"B\",Master!M111)","v":"B"}]
[{"$f":"Master!A112","v":"CN"},{"$f":"Master!B112","v":"WSDOT CN: GUARDRAIL INSTALLATION FOR INSPECTORS"},{"$f":"Master!C112","v":"WSDOT_DD4"},{"$f":"Master!D112","v":"ILT"},{"$f":"Master!E112","v":"Active"},{"$f":"Master!F112","v":0},{"$f":"Master!G112","v":0},{"$f":"IF(Master!H112=\"\",\"B\",Master!H112)","v":"B"},{"$f":"IF(Master!I112=\"\",\"B\",Master!I112)","v":"B"},{"$f":"IF(Master!J112=\"\",\"B\",Master!J112)","v":2},{"$f":"IF(Master!K112=\"\",\"B\",Master!K112)","v":"B"},{"$f":"IF(Master!L112=\"\",\"B\",Master!L112)","v":"B"},{"$f":"IF(Master!M112=\"\",\"B\",Master!M112)","v":"B"}]
[{"$f":"Master!A113","v":"CN"},{"$f":"Master!B113","v":"WSDOT CN: HAZMAT FOR THE PORTABLE NUCLEAR GAUGE"},{"$f":"Master!C113","v":"WSDOT Hazmat_for_Transportation_of_the_Nuclear_Gauge_ORG"},{"$f":"Master!D113","v":"OLT"},{"$f":"Master!E113","v":"Active"},{"$f":"Master!F113","v":0},{"$f":"Master!G113","v":0},{"$f":"IF(Master!H113=\"\",\"B\",Master!H113)","v":"B"},{"$f":"IF(Master!I113=\"\",\"B\",Master!I113)","v":"B"},{"$f":"IF(Master!J113=\"\",\"B\",Master!J113)","v":2},{"$f":"IF(Master!K113=\"\",\"B\",Master!K113)","v":"B"},{"$f":"IF(Master!L113=\"\",\"B\",Master!L113)","v":"B"},{"$f":"IF(Master!M113=\"\",\"B\",Master!M113)","v":"B"}]
[{"$f":"Master!A114","v":"CN"},{"$f":"Master!B114","v":"WSDOT CN: HMA PLACEMENT INSPECTION"},{"$f":"Master!C114","v":"WSDOT_HMAPlacement_OLT"},{"$f":"Master!D114","v":"OLT"},{"$f":"Master!E114","v":"Active"},{"$f":"Master!F114","v":0},{"$f":"Master!G114","v":0},{"$f":"IF(Master!H114=\"\",\"B\",Master!H114)","v":"B"},{"$f":"IF(Master!I114=\"\",\"B\",Master!I114)","v":"B"},{"$f":"IF(Master!J114=\"\",\"B\",Master!J114)","v":2},{"$f":"IF(Master!K114=\"\",\"B\",Master!K114)","v":"B"},{"$f":"IF(Master!L114=\"\",\"B\",Master!L114)","v":"B"},{"$f":"IF(Master!M114=\"\",\"B\",Master!M114)","v":"B"}]
[{"$f":"Master!A115","v":"CN"},{"$f":"Master!B115","v":"WSDOT CN: HOT MIX ASPHALT PLACEMENT"},{"$f":"Master!C115","v":"WSDOT_ACB"},{"$f":"Master!D115","v":"ILT"},{"$f":"Master!E115","v":"Active"},{"$f":"Master!F115","v":0},{"$f":"Master!G115","v":0},{"$f":"IF(Master!H115=\"\",\"B\",Master!H115)","v":"B"},{"$f":"IF(Master!I115=\"\",\"B\",Master!I115)","v":"B"},{"$f":"IF(Master!J115=\"\",\"B\",Master!J115)","v":2},{"$f":"IF(Master!K115=\"\",\"B\",Master!K115)","v":"B"},{"$f":"IF(Master!L115=\"\",\"B\",Master!L115)","v":"B"},{"$f":"IF(Master!M115=\"\",\"B\",Master!M115)","v":"B"}]
[{"$f":"Master!A116","v":"CN"},{"$f":"Master!B116","v":"WSDOT CN: HOT MIX ASPHALT PRODUCTION & TESTING"},{"$f":"Master!C116","v":"WSDOT_BG9"},{"$f":"Master!D116","v":"ILT"},{"$f":"Master!E116","v":"Active"},{"$f":"Master!F116","v":0},{"$f":"Master!G116","v":0},{"$f":"IF(Master!H116=\"\",\"B\",Master!H116)","v":"B"},{"$f":"IF(Master!I116=\"\",\"B\",Master!I116)","v":"B"},{"$f":"IF(Master!J116=\"\",\"B\",Master!J116)","v":2},{"$f":"IF(Master!K116=\"\",\"B\",Master!K116)","v":"B"},{"$f":"IF(Master!L116=\"\",\"B\",Master!L116)","v":"B"},{"$f":"IF(Master!M116=\"\",\"B\",Master!M116)","v":"B"}]
[{"$f":"Master!A117","v":"CN"},{"$f":"Master!B117","v":"WSDOT CN: INSPECTING BRIDGE CONSTRUCTION"},{"$f":"Master!C117","v":"WSDOT_ACM"},{"$f":"Master!D117","v":"ILT"},{"$f":"Master!E117","v":"Active"},{"$f":"Master!F117","v":0},{"$f":"Master!G117","v":0},{"$f":"IF(Master!H117=\"\",\"B\",Master!H117)","v":"B"},{"$f":"IF(Master!I117=\"\",\"B\",Master!I117)","v":"B"},{"$f":"IF(Master!J117=\"\",\"B\",Master!J117)","v":2},{"$f":"IF(Master!K117=\"\",\"B\",Master!K117)","v":"B"},{"$f":"IF(Master!L117=\"\",\"B\",Master!L117)","v":"B"},{"$f":"IF(Master!M117=\"\",\"B\",Master!M117)","v":"B"}]
[{"$f":"Master!A118","v":"CN"},{"$f":"Master!B118","v":"WSDOT CN: INSPECTION OF PEDESTRIAN FACILITIES"},{"$f":"Master!C118","v":"WSDOT_IFP_OLT"},{"$f":"Master!D118","v":"OLT"},{"$f":"Master!E118","v":"Active"},{"$f":"Master!F118","v":0},{"$f":"Master!G118","v":0},{"$f":"IF(Master!H118=\"\",\"B\",Master!H118)","v":"B"},{"$f":"IF(Master!I118=\"\",\"B\",Master!I118)","v":2},{"$f":"IF(Master!J118=\"\",\"B\",Master!J118)","v":2},{"$f":"IF(Master!K118=\"\",\"B\",Master!K118)","v":2},{"$f":"IF(Master!L118=\"\",\"B\",Master!L118)","v":2},{"$f":"IF(Master!M118=\"\",\"B\",Master!M118)","v":"B"}]
[{"$f":"Master!A119","v":"CN"},{"$f":"Master!B119","v":"WSDOT CN: INSPECTOR'S ROLE FOR CHANGE ORDER WORK"},{"$f":"Master!C119","v":"WSDOT_DH9_OLT"},{"$f":"Master!D119","v":"OLT"},{"$f":"Master!E119","v":"Active"},{"$f":"Master!F119","v":0},{"$f":"Master!G119","v":0},{"$f":"IF(Master!H119=\"\",\"B\",Master!H119)","v":"B"},{"$f":"IF(Master!I119=\"\",\"B\",Master!I119)","v":"B"},{"$f":"IF(Master!J119=\"\",\"B\",Master!J119)","v":1},{"$f":"IF(Master!K119=\"\",\"B\",Master!K119)","v":2},{"$f":"IF(Master!L119=\"\",\"B\",Master!L119)","v":"B"},{"$f":"IF(Master!M119=\"\",\"B\",Master!M119)","v":"B"}]
[{"$f":"Master!A120","v":"CN"},{"$f":"Master!B120","v":"WSDOT CN:INSPECTOR’S USE OF CONTRACT RESOURCES"},{"$f":"Master!C120","v":"WSDOT_UR1_OLT"},{"$f":"Master!D120","v":"OLT"},{"$f":"Master!E120","v":"Active"},{"$f":"Master!F120","v":0},{"$f":"Master!G120","v":0},{"$f":"IF(Master!H120=\"\",\"B\",Master!H120)","v":"B"},{"$f":"IF(Master!I120=\"\",\"B\",Master!I120)","v":"B"},{"$f":"IF(Master!J120=\"\",\"B\",Master!J120)","v":1},{"$f":"IF(Master!K120=\"\",\"B\",Master!K120)","v":2},{"$f":"IF(Master!L120=\"\",\"B\",Master!L120)","v":"B"},{"$f":"IF(Master!M120=\"\",\"B\",Master!M120)","v":"B"}]
[{"$f":"Master!A121","v":"CN"},{"$f":"Master!B121","v":"WSDOT CN: NHI CONTRACT ADMINISTRATION CORE CURRICULUM"},{"$f":"Master!C121","v":"WSDOT_NHI CONTRACT ADM"},{"$f":"Master!D121","v":"ILT"},{"$f":"Master!E121","v":"Active"},{"$f":"Master!F121","v":0},{"$f":"Master!G121","v":0},{"$f":"IF(Master!H121=\"\",\"B\",Master!H121)","v":"B"},{"$f":"IF(Master!I121=\"\",\"B\",Master!I121)","v":"B"},{"$f":"IF(Master!J121=\"\",\"B\",Master!J121)","v":"B"},{"$f":"IF(Master!K121=\"\",\"B\",Master!K121)","v":"B"},{"$f":"IF(Master!L121=\"\",\"B\",Master!L121)","v":"B"},{"$f":"IF(Master!M121=\"\",\"B\",Master!M121)","v":"B"}]
[{"$f":"Master!A122","v":"CN"},{"$f":"Master!B122","v":"WSDOT CN:NUCLEAR GAUGE SAFETY AND OPERATION"},{"$f":"Master!C122","v":"WSDOT_DCX_OLT"},{"$f":"Master!D122","v":"ILT"},{"$f":"Master!E122","v":"Active"},{"$f":"Master!F122","v":0},{"$f":"Master!G122","v":0},{"$f":"IF(Master!H122=\"\",\"B\",Master!H122)","v":"B"},{"$f":"IF(Master!I122=\"\",\"B\",Master!I122)","v":"B"},{"$f":"IF(Master!J122=\"\",\"B\",Master!J122)","v":2},{"$f":"IF(Master!K122=\"\",\"B\",Master!K122)","v":"B"},{"$f":"IF(Master!L122=\"\",\"B\",Master!L122)","v":"B"},{"$f":"IF(Master!M122=\"\",\"B\",Master!M122)","v":"B"}]
[{"$f":"Master!A123","v":"CN"},{"$f":"Master!B123","v":"WSDOT CN: NUCLEAR GAUGE, EMBANKMENT/SURFACING/PAVEMENT APPLICATIONS"},{"$f":"Master!C123","v":"WSDOT_ANQ"},{"$f":"Master!D123","v":"ILT"},{"$f":"Master!E123","v":"Active"},{"$f":"Master!F123","v":0},{"$f":"Master!G123","v":0},{"$f":"IF(Master!H123=\"\",\"B\",Master!H123)","v":"B"},{"$f":"IF(Master!I123=\"\",\"B\",Master!I123)","v":"B"},{"$f":"IF(Master!J123=\"\",\"B\",Master!J123)","v":2},{"$f":"IF(Master!K123=\"\",\"B\",Master!K123)","v":"B"},{"$f":"IF(Master!L123=\"\",\"B\",Master!L123)","v":"B"},{"$f":"IF(Master!M123=\"\",\"B\",Master!M123)","v":"B"}]
[{"$f":"Master!A124","v":"CN"},{"$f":"Master!B124","v":"WSDOT CN: PAVEMENT REHABILITATION"},{"$f":"Master!C124","v":"WSDOT_BQL"},{"$f":"Master!D124","v":"ILT"},{"$f":"Master!E124","v":"Active"},{"$f":"Master!F124","v":0},{"$f":"Master!G124","v":0},{"$f":"IF(Master!H124=\"\",\"B\",Master!H124)","v":"B"},{"$f":"IF(Master!I124=\"\",\"B\",Master!I124)","v":"B"},{"$f":"IF(Master!J124=\"\",\"B\",Master!J124)","v":"B"},{"$f":"IF(Master!K124=\"\",\"B\",Master!K124)","v":"B"},{"$f":"IF(Master!L124=\"\",\"B\",Master!L124)","v":"B"},{"$f":"IF(Master!M124=\"\",\"B\",Master!M124)","v":"B"}]
[{"$f":"Master!A125","v":"CN"},{"$f":"Master!B125","v":"WSDOT CN: PCC FIELD TESTING PROCEDURES"},{"$f":"Master!C125","v":"WSDOT_ABT"},{"$f":"Master!D125","v":"ILT"},{"$f":"Master!E125","v":"Active"},{"$f":"Master!F125","v":0},{"$f":"Master!G125","v":0},{"$f":"IF(Master!H125=\"\",\"B\",Master!H125)","v":"B"},{"$f":"IF(Master!I125=\"\",\"B\",Master!I125)","v":"B"},{"$f":"IF(Master!J125=\"\",\"B\",Master!J125)","v":"B"},{"$f":"IF(Master!K125=\"\",\"B\",Master!K125)","v":"B"},{"$f":"IF(Master!L125=\"\",\"B\",Master!L125)","v":"B"},{"$f":"IF(Master!M125=\"\",\"B\",Master!M125)","v":"B"}]
[{"$f":"Master!A126","v":"CN"},{"$f":"Master!B126","v":"WSDOT CN: PILE DRIVING INSPECTION"},{"$f":"Master!C126","v":"Piling_OLT"},{"$f":"Master!D126","v":"OLT"},{"$f":"Master!E126","v":"Active"},{"$f":"Master!F126","v":0},{"$f":"Master!G126","v":0},{"$f":"IF(Master!H126=\"\",\"B\",Master!H126)","v":"B"},{"$f":"IF(Master!I126=\"\",\"B\",Master!I126)","v":"B"},{"$f":"IF(Master!J126=\"\",\"B\",Master!J126)","v":"B"},{"$f":"IF(Master!K126=\"\",\"B\",Master!K126)","v":"B"},{"$f":"IF(Master!L126=\"\",\"B\",Master!L126)","v":"B"},{"$f":"IF(Master!M126=\"\",\"B\",Master!M126)","v":"B"}]
[{"$f":"Master!A127","v":"CN"},{"$f":"Master!B127","v":"WSDOT CN: PORTLAND CEMENT CONCRETE INSPECTION"},{"$f":"Master!C127","v":"WSDOT_PCC_OLT"},{"$f":"Master!D127","v":"OLT"},{"$f":"Master!E127","v":"Active"},{"$f":"Master!F127","v":0},{"$f":"Master!G127","v":0},{"$f":"IF(Master!H127=\"\",\"B\",Master!H127)","v":"B"},{"$f":"IF(Master!I127=\"\",\"B\",Master!I127)","v":"B"},{"$f":"IF(Master!J127=\"\",\"B\",Master!J127)","v":2},{"$f":"IF(Master!K127=\"\",\"B\",Master!K127)","v":"B"},{"$f":"IF(Master!L127=\"\",\"B\",Master!L127)","v":"B"},{"$f":"IF(Master!M127=\"\",\"B\",Master!M127)","v":"B"}]
[{"$f":"Master!A128","v":"CN"},{"$f":"Master!B128","v":"WSDOT CN: PRODUCING SOURCE DOCUMENTS"},{"$f":"Master!C128","v":"WSDOT_C1H_OLT"},{"$f":"Master!D128","v":"OLT"},{"$f":"Master!E128","v":"Active"},{"$f":"Master!F128","v":0},{"$f":"Master!G128","v":0},{"$f":"IF(Master!H128=\"\",\"B\",Master!H128)","v":"B"},{"$f":"IF(Master!I128=\"\",\"B\",Master!I128)","v":"B"},{"$f":"IF(Master!J128=\"\",\"B\",Master!J128)","v":"B"},{"$f":"IF(Master!K128=\"\",\"B\",Master!K128)","v":"B"},{"$f":"IF(Master!L128=\"\",\"B\",Master!L128)","v":"B"},{"$f":"IF(Master!M128=\"\",\"B\",Master!M128)","v":"B"}]
[{"$f":"Master!A129","v":"CN"},{"$f":"Master!B129","v":"WSDOT CN: SIGN BRIDGES AND CANTILEVER SIGNS"},{"$f":"Master!C129","v":"WSDOT_SBI_OLT"},{"$f":"Master!D129","v":"OLT"},{"$f":"Master!E129","v":"Active"},{"$f":"Master!F129","v":0},{"$f":"Master!G129","v":0},{"$f":"IF(Master!H129=\"\",\"B\",Master!H129)","v":"B"},{"$f":"IF(Master!I129=\"\",\"B\",Master!I129)","v":"B"},{"$f":"IF(Master!J129=\"\",\"B\",Master!J129)","v":2},{"$f":"IF(Master!K129=\"\",\"B\",Master!K129)","v":2},{"$f":"IF(Master!L129=\"\",\"B\",Master!L129)","v":"B"},{"$f":"IF(Master!M129=\"\",\"B\",Master!M129)","v":"B"}]
[{"$f":"Master!A130","v":"CN"},{"$f":"Master!B130","v":"WSDOT CN: SIGN INSPECTOR DUTIES"},{"$f":"Master!C130","v":"WSDOT_SID_OLT"},{"$f":"Master!D130","v":"OLT"},{"$f":"Master!E130","v":"Active"},{"$f":"Master!F130","v":0},{"$f":"Master!G130","v":0},{"$f":"IF(Master!H130=\"\",\"B\",Master!H130)","v":"B"},{"$f":"IF(Master!I130=\"\",\"B\",Master!I130)","v":"B"},{"$f":"IF(Master!J130=\"\",\"B\",Master!J130)","v":"B"},{"$f":"IF(Master!K130=\"\",\"B\",Master!K130)","v":2},{"$f":"IF(Master!L130=\"\",\"B\",Master!L130)","v":"B"},{"$f":"IF(Master!M130=\"\",\"B\",Master!M130)","v":"B"}]
[{"$f":"Master!A131","v":"CN"},{"$f":"Master!B131","v":"WSDOT CN: SIGN INSTALLATION INSPECTION"},{"$f":"Master!C131","v":"WSDOT_DFV"},{"$f":"Master!D131","v":"ILT"},{"$f":"Master!E131","v":"Active"},{"$f":"Master!F131","v":0},{"$f":"Master!G131","v":0},{"$f":"IF(Master!H131=\"\",\"B\",Master!H131)","v":"B"},{"$f":"IF(Master!I131=\"\",\"B\",Master!I131)","v":"B"},{"$f":"IF(Master!J131=\"\",\"B\",Master!J131)","v":"B"},{"$f":"IF(Master!K131=\"\",\"B\",Master!K131)","v":2},{"$f":"IF(Master!L131=\"\",\"B\",Master!L131)","v":"B"},{"$f":"IF(Master!M131=\"\",\"B\",Master!M131)","v":"B"}]
[{"$f":"Master!A132","v":"CN"},{"$f":"Master!B132","v":"WSDOT CN: SMALL AND LARGE SIGN INSPECTION REVIEW"},{"$f":"Master!C132","v":"WSDOT_SLR_OLT"},{"$f":"Master!D132","v":"OLT"},{"$f":"Master!E132","v":"Active"},{"$f":"Master!F132","v":0},{"$f":"Master!G132","v":0},{"$f":"IF(Master!H132=\"\",\"B\",Master!H132)","v":"B"},{"$f":"IF(Master!I132=\"\",\"B\",Master!I132)","v":"B"},{"$f":"IF(Master!J132=\"\",\"B\",Master!J132)","v":2},{"$f":"IF(Master!K132=\"\",\"B\",Master!K132)","v":2},{"$f":"IF(Master!L132=\"\",\"B\",Master!L132)","v":"B"},{"$f":"IF(Master!M132=\"\",\"B\",Master!M132)","v":"B"}]
[{"$f":"Master!A133","v":"CN"},{"$f":"Master!B133","v":"WSDOT CN: WORK ZONE TRAFFIC CONTROL"},{"$f":"Master!C133","v":"WSDOT_WZTC_OLT"},{"$f":"Master!D133","v":"OLT"},{"$f":"Master!E133","v":"Active"},{"$f":"Master!F133","v":0},{"$f":"Master!G133","v":0},{"$f":"IF(Master!H133=\"\",\"B\",Master!H133)","v":"B"},{"$f":"IF(Master!I133=\"\",\"B\",Master!I133)","v":"B"},{"$f":"IF(Master!J133=\"\",\"B\",Master!J133)","v":1},{"$f":"IF(Master!K133=\"\",\"B\",Master!K133)","v":1},{"$f":"IF(Master!L133=\"\",\"B\",Master!L133)","v":"B"},{"$f":"IF(Master!M133=\"\",\"B\",Master!M133)","v":"B"}]
[{"$f":"Master!A134","v":"CN"},{"$f":"Master!B134","v":"WSDOT DB: ALTERNATIVE TECHNICAL CONCEPT (ATC) REVIEW PROCESS"},{"$f":"Master!C134","v":"WSDOT_DB_ATC"},{"$f":"Master!D134","v":"ILT"},{"$f":"Master!E134","v":"Active"},{"$f":"Master!F134","v":0},{"$f":"Master!G134","v":0},{"$f":"IF(Master!H134=\"\",\"B\",Master!H134)","v":"B"},{"$f":"IF(Master!I134=\"\",\"B\",Master!I134)","v":"B"},{"$f":"IF(Master!J134=\"\",\"B\",Master!J134)","v":"B"},{"$f":"IF(Master!K134=\"\",\"B\",Master!K134)","v":"B"},{"$f":"IF(Master!L134=\"\",\"B\",Master!L134)","v":"B"},{"$f":"IF(Master!M134=\"\",\"B\",Master!M134)","v":"B"}]
[{"$f":"Master!A135","v":"CN"},{"$f":"Master!B135","v":"WSDOT DB: INTRODUCTION TO DESIGN-BUILD"},{"$f":"Master!C135","v":"WSDOT_DB_IDB"},{"$f":"Master!D135","v":"ILT"},{"$f":"Master!E135","v":"Active"},{"$f":"Master!F135","v":0},{"$f":"Master!G135","v":0},{"$f":"IF(Master!H135=\"\",\"B\",Master!H135)","v":"B"},{"$f":"IF(Master!I135=\"\",\"B\",Master!I135)","v":"B"},{"$f":"IF(Master!J135=\"\",\"B\",Master!J135)","v":"B"},{"$f":"IF(Master!K135=\"\",\"B\",Master!K135)","v":"B"},{"$f":"IF(Master!L135=\"\",\"B\",Master!L135)","v":"B"},{"$f":"IF(Master!M135=\"\",\"B\",Master!M135)","v":"B"}]
[{"$f":"Master!A136","v":"CN"},{"$f":"Master!B136","v":"WSDOT DB: DESIGN-BUILD BEST PRACTICES IN TRANSPORTATION"},{"$f":"Master!C136","v":"WSDOT_DB_BPT"},{"$f":"Master!D136","v":"ILT"},{"$f":"Master!E136","v":"Active"},{"$f":"Master!F136","v":0},{"$f":"Master!G136","v":0},{"$f":"IF(Master!H136=\"\",\"B\",Master!H136)","v":"B"},{"$f":"IF(Master!I136=\"\",\"B\",Master!I136)","v":"B"},{"$f":"IF(Master!J136=\"\",\"B\",Master!J136)","v":"B"},{"$f":"IF(Master!K136=\"\",\"B\",Master!K136)","v":"B"},{"$f":"IF(Master!L136=\"\",\"B\",Master!L136)","v":"B"},{"$f":"IF(Master!M136=\"\",\"B\",Master!M136)","v":"B"}]
[{"$f":"Master!A137","v":"CN"},{"$f":"Master!B137","v":"WSDOT DB: DESIGN-BUILD CLOSEOUT"},{"$f":"Master!C137","v":"WSDOT_DB_CO"},{"$f":"Master!D137","v":"ILT"},{"$f":"Master!E137","v":"Active"},{"$f":"Master!F137","v":0},{"$f":"Master!G137","v":0},{"$f":"IF(Master!H137=\"\",\"B\",Master!H137)","v":"B"},{"$f":"IF(Master!I137=\"\",\"B\",Master!I137)","v":"B"},{"$f":"IF(Master!J137=\"\",\"B\",Master!J137)","v":"B"},{"$f":"IF(Master!K137=\"\",\"B\",Master!K137)","v":"B"},{"$f":"IF(Master!L137=\"\",\"B\",Master!L137)","v":"B"},{"$f":"IF(Master!M137=\"\",\"B\",Master!M137)","v":"B"}]
[{"$f":"Master!A138","v":"CN"},{"$f":"Master!B138","v":"WSDOT DB: DESIGN-BUILD INSTRUCTIONS TO PROPOSERS (ITP) AND REQUEST FOR PROPOSALS (RFP)"},{"$f":"Master!C138","v":"WSDOT_DB_ITP_RFP"},{"$f":"Master!D138","v":"ILT"},{"$f":"Master!E138","v":"Active"},{"$f":"Master!F138","v":0},{"$f":"Master!G138","v":0},{"$f":"IF(Master!H138=\"\",\"B\",Master!H138)","v":"B"},{"$f":"IF(Master!I138=\"\",\"B\",Master!I138)","v":"B"},{"$f":"IF(Master!J138=\"\",\"B\",Master!J138)","v":"B"},{"$f":"IF(Master!K138=\"\",\"B\",Master!K138)","v":"B"},{"$f":"IF(Master!L138=\"\",\"B\",Master!L138)","v":"B"},{"$f":"IF(Master!M138=\"\",\"B\",Master!M138)","v":"B"}]
[{"$f":"Master!A139","v":"CN"},{"$f":"Master!B139","v":"WSDOT DB: DESIGN-BUILD OFFICE MANAGEMENT AND CONTRACT ADMINISTRATION"},{"$f":"Master!C139","v":"WSDOT_DB_CA"},{"$f":"Master!D139","v":"ILT"},{"$f":"Master!E139","v":"Active"},{"$f":"Master!F139","v":0},{"$f":"Master!G139","v":0},{"$f":"IF(Master!H139=\"\",\"B\",Master!H139)","v":"B"},{"$f":"IF(Master!I139=\"\",\"B\",Master!I139)","v":"B"},{"$f":"IF(Master!J139=\"\",\"B\",Master!J139)","v":"B"},{"$f":"IF(Master!K139=\"\",\"B\",Master!K139)","v":"B"},{"$f":"IF(Master!L139=\"\",\"B\",Master!L139)","v":"B"},{"$f":"IF(Master!M139=\"\",\"B\",Master!M139)","v":"B"}]
[{"$f":"Master!A140","v":"CN"},{"$f":"Master!B140","v":"WSDOT DB: DESIGN-BUILD STARTUP AND REQUEST FOR QUALIFICATIONS (RFQ\") DEVELOPMENT"},{"$f":"Master!C140","v":"WSDOT_DB_RFQ"},{"$f":"Master!D140","v":"ILT"},{"$f":"Master!E140","v":"Active"},{"$f":"Master!F140","v":0},{"$f":"Master!G140","v":0},{"$f":"IF(Master!H140=\"\",\"B\",Master!H140)","v":"B"},{"$f":"IF(Master!I140=\"\",\"B\",Master!I140)","v":"B"},{"$f":"IF(Master!J140=\"\",\"B\",Master!J140)","v":"B"},{"$f":"IF(Master!K140=\"\",\"B\",Master!K140)","v":"B"},{"$f":"IF(Master!L140=\"\",\"B\",Master!L140)","v":"B"},{"$f":"IF(Master!M140=\"\",\"B\",Master!M140)","v":"B"}]
[{"$f":"Master!A141","v":"CN"},{"$f":"Master!B141","v":"WSDOT DB: ENVIRONMENTAL IN DESIGN-BUILD"},{"$f":"Master!C141","v":"WSDOT_DB_E"},{"$f":"Master!D141","v":"ILT"},{"$f":"Master!E141","v":"Active"},{"$f":"Master!F141","v":0},{"$f":"Master!G141","v":0},{"$f":"IF(Master!H141=\"\",\"B\",Master!H141)","v":"B"},{"$f":"IF(Master!I141=\"\",\"B\",Master!I141)","v":"B"},{"$f":"IF(Master!J141=\"\",\"B\",Master!J141)","v":"B"},{"$f":"IF(Master!K141=\"\",\"B\",Master!K141)","v":"B"},{"$f":"IF(Master!L141=\"\",\"B\",Master!L141)","v":"B"},{"$f":"IF(Master!M141=\"\",\"B\",Master!M141)","v":"B"}]
[{"$f":"Master!A142","v":"CN"},{"$f":"Master!B142","v":"WSDOT DB: LESSONS LEARNED"},{"$f":"Master!C142","v":"WSDOT_DB_LL"},{"$f":"Master!D142","v":"ILT"},{"$f":"Master!E142","v":"Active"},{"$f":"Master!F142","v":0},{"$f":"Master!G142","v":0},{"$f":"IF(Master!H142=\"\",\"B\",Master!H142)","v":"B"},{"$f":"IF(Master!I142=\"\",\"B\",Master!I142)","v":"B"},{"$f":"IF(Master!J142=\"\",\"B\",Master!J142)","v":"B"},{"$f":"IF(Master!K142=\"\",\"B\",Master!K142)","v":"B"},{"$f":"IF(Master!L142=\"\",\"B\",Master!L142)","v":"B"},{"$f":"IF(Master!M142=\"\",\"B\",Master!M142)","v":"B"}]
[{"$f":"Master!A143","v":"CN"},{"$f":"Master!B143","v":"WSDOT DB: PROPOSAL EVALUATION"},{"$f":"Master!C143","v":"WSDOT_DB_PE"},{"$f":"Master!D143","v":"ILT"},{"$f":"Master!E143","v":"Active"},{"$f":"Master!F143","v":0},{"$f":"Master!G143","v":0},{"$f":"IF(Master!H143=\"\",\"B\",Master!H143)","v":"B"},{"$f":"IF(Master!I143=\"\",\"B\",Master!I143)","v":"B"},{"$f":"IF(Master!J143=\"\",\"B\",Master!J143)","v":"B"},{"$f":"IF(Master!K143=\"\",\"B\",Master!K143)","v":"B"},{"$f":"IF(Master!L143=\"\",\"B\",Master!L143)","v":"B"},{"$f":"IF(Master!M143=\"\",\"B\",Master!M143)","v":"B"}]
[{"$f":"Master!A144","v":"CN"},{"$f":"Master!B144","v":"WSDOT DB: QUALITY IN DESIGN-BUILD"},{"$f":"Master!C144","v":"WSDOT_DB_Q"},{"$f":"Master!D144","v":"ILT"},{"$f":"Master!E144","v":"Active"},{"$f":"Master!F144","v":0},{"$f":"Master!G144","v":0},{"$f":"IF(Master!H144=\"\",\"B\",Master!H144)","v":"B"},{"$f":"IF(Master!I144=\"\",\"B\",Master!I144)","v":"B"},{"$f":"IF(Master!J144=\"\",\"B\",Master!J144)","v":"B"},{"$f":"IF(Master!K144=\"\",\"B\",Master!K144)","v":"B"},{"$f":"IF(Master!L144=\"\",\"B\",Master!L144)","v":"B"},{"$f":"IF(Master!M144=\"\",\"B\",Master!M144)","v":"B"}]
[{"$f":"Master!A145","v":"CN"},{"$f":"Master!B145","v":"WSDOT DB: STATEMENT OF QUALIFICATIONS (SOQ) EVALUATION"},{"$f":"Master!C145","v":"WSDOT_DB_SOQE"},{"$f":"Master!D145","v":"ILT"},{"$f":"Master!E145","v":"Active"},{"$f":"Master!F145","v":0},{"$f":"Master!G145","v":0},{"$f":"IF(Master!H145=\"\",\"B\",Master!H145)","v":"B"},{"$f":"IF(Master!I145=\"\",\"B\",Master!I145)","v":"B"},{"$f":"IF(Master!J145=\"\",\"B\",Master!J145)","v":"B"},{"$f":"IF(Master!K145=\"\",\"B\",Master!K145)","v":"B"},{"$f":"IF(Master!L145=\"\",\"B\",Master!L145)","v":"B"},{"$f":"IF(Master!M145=\"\",\"B\",Master!M145)","v":"B"}]
[{"$f":"Master!A146","v":"CN"},{"$f":"Master!B146","v":"**WSDOT DB: EVALUATION"},{"$f":"Master!C146","v":0},{"$f":"Master!D146","v":"ILT"},{"$f":"Master!E146","v":"Under Development"},{"$f":"Master!F146","v":"Q1 2019"},{"$f":"Master!G146","v":0},{"$f":"IF(Master!H146=\"\",\"B\",Master!H146)","v":"B"},{"$f":"IF(Master!I146=\"\",\"B\",Master!I146)","v":"B"},{"$f":"IF(Master!J146=\"\",\"B\",Master!J146)","v":"B"},{"$f":"IF(Master!K146=\"\",\"B\",Master!K146)","v":"B"},{"$f":"IF(Master!L146=\"\",\"B\",Master!L146)","v":"B"},{"$f":"IF(Master!M146=\"\",\"B\",Master!M146)","v":"B"}]
[{"$f":"Master!A147","v":"CN"},{"$f":"Master!B147","v":"WSDOT DB: DESIGN-BUILD INVOICE PROCESSING"},{"$f":"Master!C147","v":0},{"$f":"Master!D147","v":"ILT"},{"$f":"Master!E147","v":"Active"},{"$f":"Master!F147","v":0},{"$f":"Master!G147","v":0},{"$f":"IF(Master!H147=\"\",\"B\",Master!H147)","v":"B"},{"$f":"IF(Master!I147=\"\",\"B\",Master!I147)","v":"B"},{"$f":"IF(Master!J147=\"\",\"B\",Master!J147)","v":"B"},{"$f":"IF(Master!K147=\"\",\"B\",Master!K147)","v":"B"},{"$f":"IF(Master!L147=\"\",\"B\",Master!L147)","v":"B"},{"$f":"IF(Master!M147=\"\",\"B\",Master!M147)","v":"B"}]
[{"$f":"Master!A148","v":"CN"},{"$f":"Master!B148","v":"WSDOT DB: INTERNAL AND EXTERNAL DEBRIEFING"},{"$f":"Master!C148","v":0},{"$f":"Master!D148","v":"ILT"},{"$f":"Master!E148","v":"Active"},{"$f":"Master!F148","v":0},{"$f":"Master!G148","v":0},{"$f":"IF(Master!H148=\"\",\"B\",Master!H148)","v":"B"},{"$f":"IF(Master!I148=\"\",\"B\",Master!I148)","v":"B"},{"$f":"IF(Master!J148=\"\",\"B\",Master!J148)","v":"B"},{"$f":"IF(Master!K148=\"\",\"B\",Master!K148)","v":"B"},{"$f":"IF(Master!L148=\"\",\"B\",Master!L148)","v":"B"},{"$f":"IF(Master!M148=\"\",\"B\",Master!M148)","v":"B"}]
[{"$f":"Master!A149","v":"CN"},{"$f":"Master!B149","v":"WSDOT DB: DESIGN-BUILD QUALITY VERIFICATION"},{"$f":"Master!C149","v":0},{"$f":"Master!D149","v":"ILT"},{"$f":"Master!E149","v":"Active"},{"$f":"Master!F149","v":0},{"$f":"Master!G149","v":0},{"$f":"IF(Master!H149=\"\",\"B\",Master!H149)","v":"B"},{"$f":"IF(Master!I149=\"\",\"B\",Master!I149)","v":"B"},{"$f":"IF(Master!J149=\"\",\"B\",Master!J149)","v":"B"},{"$f":"IF(Master!K149=\"\",\"B\",Master!K149)","v":"B"},{"$f":"IF(Master!L149=\"\",\"B\",Master!L149)","v":"B"},{"$f":"IF(Master!M149=\"\",\"B\",Master!M149)","v":"B"}]
[{"$f":"Master!A150","v":"CN"},{"$f":"Master!B150","v":"**WSDOT DB: QV ADMINISTRATION"},{"$f":"Master!C150","v":0},{"$f":"Master!D150","v":"ILT"},{"$f":"Master!E150","v":"Under Development"},{"$f":"Master!F150","v":"Q1 2019"},{"$f":"Master!G150","v":0},{"$f":"IF(Master!H150=\"\",\"B\",Master!H150)","v":"B"},{"$f":"IF(Master!I150=\"\",\"B\",Master!I150)","v":"B"},{"$f":"IF(Master!J150=\"\",\"B\",Master!J150)","v":"B"},{"$f":"IF(Master!K150=\"\",\"B\",Master!K150)","v":"B"},{"$f":"IF(Master!L150=\"\",\"B\",Master!L150)","v":"B"},{"$f":"IF(Master!M150=\"\",\"B\",Master!M150)","v":"B"}]
[{"$f":"Master!A151","v":"CN"},{"$f":"Master!B151","v":"**WSDOT DB: RISK ANALYSIS AND ALLOCATION FOR DB CONTRACTS"},{"$f":"Master!C151","v":0},{"$f":"Master!D151","v":"ILT"},{"$f":"Master!E151","v":"Under Development"},{"$f":"Master!F151","v":"Q1 2019"},{"$f":"Master!G151","v":0},{"$f":"IF(Master!H151=\"\",\"B\",Master!H151)","v":"B"},{"$f":"IF(Master!I151=\"\",\"B\",Master!I151)","v":"B"},{"$f":"IF(Master!J151=\"\",\"B\",Master!J151)","v":"B"},{"$f":"IF(Master!K151=\"\",\"B\",Master!K151)","v":"B"},{"$f":"IF(Master!L151=\"\",\"B\",Master!L151)","v":"B"},{"$f":"IF(Master!M151=\"\",\"B\",Master!M151)","v":"B"}]
[{"$f":"Master!A152","v":"Development Division"},null,null,null,null,null,null,{"$f":"IF(Master!O152=\"\",\"B\",Master!O152)","v":"B"},{"$f":"IF(Master!Z152=\"\",\"B\",Master!Z152)","v":"B"},{"$f":"IF(Master!AK152=\"\",\"B\",Master!AK152)","v":"B"},{"$f":"IF(Master!AV152=\"\",\"B\",Master!AV152)","v":"B"},{"$f":"IF(Master!BG152=\"\",\"B\",Master!BG152)","v":"B"},{"$f":"IF(Master!BR152=\"\",\"B\",Master!BR152)","v":"B"}]
[{"$f":"Master!A153","v":"Design"},null,null,null,null,null,null,{"$f":"IF(Master!O153=\"\",\"B\",Master!O153)","v":"B"},{"$f":"IF(Master!Z153=\"\",\"B\",Master!Z153)","v":"B"},{"$f":"IF(Master!AK153=\"\",\"B\",Master!AK153)","v":"B"},{"$f":"IF(Master!AV153=\"\",\"B\",Master!AV153)","v":"B"},{"$f":"IF(Master!BG153=\"\",\"B\",Master!BG153)","v":"B"},{"$f":"IF(Master!BR153=\"\",\"B\",Master!BR153)","v":"B"}]
[{"$f":"Master!A154","v":"DES"},{"$f":"Master!B154","v":"CONTRACT PLANS REVIEW (SELF-STUDY)"},{"$f":"Master!C154","v":"Paper and Pencil"},{"$f":"Master!D154","v":"SS"},{"$f":"Master!E154","v":"Active"},{"$f":"Master!F154","v":0},{"$f":"Master!H154","v":"E-Learning option as well.  Updated in 2013."},{"$f":"IF(Master!O154=\"\",\"B\",Master!O154)","v":"R"},{"$f":"IF(Master!Z154=\"\",\"B\",Master!Z154)","v":"R"},{"$f":"IF(Master!AK154=\"\",\"B\",Master!AK154)","v":1},{"$f":"IF(Master!AV154=\"\",\"B\",Master!AV154)","v":1},{"$f":"IF(Master!BG154=\"\",\"B\",Master!BG154)","v":"B"},{"$f":"IF(Master!BR154=\"\",\"B\",Master!BR154)","v":"B"}]
[{"$f":"Master!A155","v":"DES"},{"$f":"Master!B155","v":"CONTRACT PLANS READING (SELF-STUDY)"},{"$f":"Master!C155","v":"Paper and Pencil"},{"$f":"Master!D155","v":"SS"},{"$f":"Master!E155","v":"Active"},{"$f":"Master!F155","v":0},{"$f":"Master!H155","v":"Obtain material through Staff Development."},{"$f":"IF(Master!O155=\"\",\"B\",Master!O155)","v":"R"},{"$f":"IF(Master!Z155=\"\",\"B\",Master!Z155)","v":"R"},{"$f":"IF(Master!AK155=\"\",\"B\",Master!AK155)","v":1},{"$f":"IF(Master!AV155=\"\",\"B\",Master!AV155)","v":1},{"$f":"IF(Master!BG155=\"\",\"B\",Master!BG155)","v":"B"},{"$f":"IF(Master!BR155=\"\",\"B\",Master!BR155)","v":"B"}]
[{"$f":"Master!A156","v":"DES"},{"$f":"Master!B156","v":"WSDOT DES: CONTRACT PLANS & ESTIMATE PREPARATION"},{"$f":"Master!C156","v":"WSDOT_A4J"},{"$f":"Master!D156","v":"ILT"},{"$f":"Master!E156","v":"Inactive"},{"$f":"Master!F156","v":"None"},{"$f":"Master!H156","v":0},{"$f":"IF(Master!O156=\"\",\"B\",Master!O156)","v":"B"},{"$f":"IF(Master!Z156=\"\",\"B\",Master!Z156)","v":"B"},{"$f":"IF(Master!AK156=\"\",\"B\",Master!AK156)","v":"B"},{"$f":"IF(Master!AV156=\"\",\"B\",Master!AV156)","v":"B"},{"$f":"IF(Master!BG156=\"\",\"B\",Master!BG156)","v":"B"},{"$f":"IF(Master!BR156=\"\",\"B\",Master!BR156)","v":"B"}]
[{"$f":"Master!A157","v":"DES"},{"$f":"Master!B157","v":"WSDOT DES: CONTRACT PROVISION PREPARATION"},{"$f":"Master!C157","v":"WSDOT_BGN"},{"$f":"Master!D157","v":"ILT"},{"$f":"Master!E157","v":"Inactive"},{"$f":"Master!F157","v":"None"},{"$f":"Master!H157","v":0},{"$f":"IF(Master!O157=\"\",\"B\",Master!O157)","v":"B"},{"$f":"IF(Master!Z157=\"\",\"B\",Master!Z157)","v":"B"},{"$f":"IF(Master!AK157=\"\",\"B\",Master!AK157)","v":"B"},{"$f":"IF(Master!AV157=\"\",\"B\",Master!AV157)","v":"B"},{"$f":"IF(Master!BG157=\"\",\"B\",Master!BG157)","v":"B"},{"$f":"IF(Master!BR157=\"\",\"B\",Master!BR157)","v":"B"}]
[{"$f":"Master!A158","v":"DES"},{"$f":"Master!B158","v":"WSDOT DESIGN DOCUMENTATION"},{"$f":"Master!C158","v":"WSDOT DES: Design Documentation"},{"$f":"Master!D158","v":"ILT"},{"$f":"Master!E158","v":"Active"},{"$f":"Master!F158","v":0},{"$f":"Master!H158","v":"Contact ASDE; course material is at https://www.wsdot.wa.gov/Design/Support.htm."},{"$f":"IF(Master!O158=\"\",\"B\",Master!O158)","v":"B"},{"$f":"IF(Master!Z158=\"\",\"B\",Master!Z158)","v":"B"},{"$f":"IF(Master!AK158=\"\",\"B\",Master!AK158)","v":"B"},{"$f":"IF(Master!AV158=\"\",\"B\",Master!AV158)","v":"B"},{"$f":"IF(Master!BG158=\"\",\"B\",Master!BG158)","v":"B"},{"$f":"IF(Master!BR158=\"\",\"B\",Master!BR158)","v":"B"}]
[{"$f":"Master!A159","v":"DES"},{"$f":"Master!B159","v":"WSDOT DES: INTERSECTION DESIGN"},{"$f":"Master!C159","v":"WSDOT_CBD"},{"$f":"Master!D159","v":"ILT"},{"$f":"Master!E159","v":"Active"},{"$f":"Master!F159","v":0},{"$f":"Master!H159","v":"Course  updated in 2019,  delivered to all regions; class delivered by request."},{"$f":"IF(Master!O159=\"\",\"B\",Master!O159)","v":"B"},{"$f":"IF(Master!Z159=\"\",\"B\",Master!Z159)","v":"B"},{"$f":"IF(Master!AK159=\"\",\"B\",Master!AK159)","v":"B"},{"$f":"IF(Master!AV159=\"\",\"B\",Master!AV159)","v":"B"},{"$f":"IF(Master!BG159=\"\",\"B\",Master!BG159)","v":"B"},{"$f":"IF(Master!BR159=\"\",\"B\",Master!BR159)","v":"B"}]
[{"$f":"Master!A160","v":"DES"},{"$f":"Master!B160","v":"WSDOT DES: PROJECT DEVELOPMENT PROCESS"},{"$f":"Master!C160","v":"WSDOT_CF4"},{"$f":"Master!D160","v":"ILT"},{"$f":"Master!E160","v":"Active"},{"$f":"Master!F160","v":"None"},{"$f":"Master!H160","v":"Updated January 2020; will deliver to regions by 6/30/2021"},{"$f":"IF(Master!O160=\"\",\"B\",Master!O160)","v":"B"},{"$f":"IF(Master!Z160=\"\",\"B\",Master!Z160)","v":"B"},{"$f":"IF(Master!AK160=\"\",\"B\",Master!AK160)","v":"B"},{"$f":"IF(Master!AV160=\"\",\"B\",Master!AV160)","v":"B"},{"$f":"IF(Master!BG160=\"\",\"B\",Master!BG160)","v":"B"},{"$f":"IF(Master!BR160=\"\",\"B\",Master!BR160)","v":"B"}]
[{"$f":"Master!A161","v":"DES"},{"$f":"Master!B161","v":"WSDOT PM: SCHEDULING BASICS"},{"$f":"Master!C161","v":"WSDOT_CB5"},{"$f":"Master!D161","v":"ILT"},{"$f":"Master!E161","v":"Inactive"},{"$f":"Master!F161","v":"None"},{"$f":"Master!H161","v":0},{"$f":"IF(Master!O161=\"\",\"B\",Master!O161)","v":2},{"$f":"IF(Master!Z161=\"\",\"B\",Master!Z161)","v":2},{"$f":"IF(Master!AK161=\"\",\"B\",Master!AK161)","v":2},{"$f":"IF(Master!AV161=\"\",\"B\",Master!AV161)","v":2},{"$f":"IF(Master!BG161=\"\",\"B\",Master!BG161)","v":2},{"$f":"IF(Master!BR161=\"\",\"B\",Master!BR161)","v":"B"}]
[{"$f":"Master!A162","v":"DES"},{"$f":"Master!B162","v":"AASHTO T3 CPM SCHEDULING"},{"$f":"Master!C162","v":"Resources:\nCPM Scheduling (2 PDHs)\nCPM Scheduling (3 PDHs)"},{"$f":"Master!D162","v":"OLT"},{"$f":"Master!E162","v":"Active"},{"$f":"Master!F162","v":0},{"$f":"Master!H162","v":"The online CPM training is free for WSDOT employees. To sign up, create an AASHTO account (use your WSDOT email address for the username) then navigate to the CPM training and add it to your cart. Follow the instructions that are emailed to you. There are a variety of other courses available to WSDOT employees at no cost."}]
[{"$f":"Master!A163","v":"DES"},{"$f":"Master!B163","v":"WSDOT DES: RIGHT OF WAY PLANS PREPARATION"},{"$f":"Master!C163","v":"WSDOT_BCN"},{"$f":"Master!D163","v":"ILT"},{"$f":"Master!E163","v":"Inactive"},{"$f":"Master!F163","v":"None"},{"$f":"Master!H163","v":0},{"$f":"IF(Master!O163=\"\",\"B\",Master!O163)","v":"B"},{"$f":"IF(Master!Z163=\"\",\"B\",Master!Z163)","v":"B"},{"$f":"IF(Master!AK163=\"\",\"B\",Master!AK163)","v":"B"},{"$f":"IF(Master!AV163=\"\",\"B\",Master!AV163)","v":"B"},{"$f":"IF(Master!BG163=\"\",\"B\",Master!BG163)","v":"B"},{"$f":"IF(Master!BR163=\"\",\"B\",Master!BR163)","v":"B"}]
[{"$f":"Master!A164","v":"DES"},{"$f":"Master!B164","v":"WSDOT DES: ROADSIDE SAFETY"},{"$f":"Master!C164","v":"WSDOT_B74"},{"$f":"Master!D164","v":"ILT"},{"$f":"Master!E164","v":"Inactive"},{"$f":"Master!F164","v":"None"},{"$f":"Master!H164","v":0},{"$f":"IF(Master!O164=\"\",\"B\",Master!O164)","v":"B"},{"$f":"IF(Master!Z164=\"\",\"B\",Master!Z164)","v":"B"},{"$f":"IF(Master!AK164=\"\",\"B\",Master!AK164)","v":"B"},{"$f":"IF(Master!AV164=\"\",\"B\",Master!AV164)","v":"B"},{"$f":"IF(Master!BG164=\"\",\"B\",Master!BG164)","v":"B"},{"$f":"IF(Master!BR164=\"\",\"B\",Master!BR164)","v":"B"}]
[{"$f":"Master!A165","v":"DES"},{"$f":"Master!B165","v":"WSDOT DES: ROADWAY GEOMETRIC DESIGN"},{"$f":"Master!C165","v":"WSDOT_BWE"},{"$f":"Master!D165","v":"ILT"},{"$f":"Master!E165","v":"Inactive"},{"$f":"Master!F165","v":"None"},{"$f":"Master!H165","v":0},{"$f":"IF(Master!O165=\"\",\"B\",Master!O165)","v":"B"},{"$f":"IF(Master!Z165=\"\",\"B\",Master!Z165)","v":"B"},{"$f":"IF(Master!AK165=\"\",\"B\",Master!AK165)","v":"B"},{"$f":"IF(Master!AV165=\"\",\"B\",Master!AV165)","v":"B"},{"$f":"IF(Master!BG165=\"\",\"B\",Master!BG165)","v":"B"},{"$f":"IF(Master!BR165=\"\",\"B\",Master!BR165)","v":"B"}]
[{"$f":"Master!A166","v":"DES"},{"$f":"Master!B166","v":"WSDOT DES: INTERCHANGE DESIGN"},{"$f":"Master!C166","v":"WSDOT_CFU"},{"$f":"Master!D166","v":"ILT"},{"$f":"Master!E166","v":"Inactive"},{"$f":"Master!F166","v":"None"},{"$f":"Master!H166","v":"FHWA delivered their interchange training at WSDOT in 2019; course delivery depends on demand."},{"$f":"IF(Master!O166=\"\",\"B\",Master!O166)","v":"B"},{"$f":"IF(Master!Z166=\"\",\"B\",Master!Z166)","v":"B"},{"$f":"IF(Master!AK166=\"\",\"B\",Master!AK166)","v":"B"},{"$f":"IF(Master!AV166=\"\",\"B\",Master!AV166)","v":"B"},{"$f":"IF(Master!BG166=\"\",\"B\",Master!BG166)","v":"B"},{"$f":"IF(Master!BR166=\"\",\"B\",Master!BR166)","v":"B"}]
[{"$f":"Master!A167","v":"DES"},{"$f":"Master!B167","v":"WSDOT DES: ACCESS MANAGEMENT"},{"$f":"Master!C167","v":"WSDOT_DAS"},{"$f":"Master!D167","v":"ILT"},{"$f":"Master!E167","v":"Active"},{"$f":"Master!F167","v":0},{"$f":"Master!H167","v":"Being updated, but current class can be given at any time"},{"$f":"IF(Master!O167=\"\",\"B\",Master!O167)","v":"B"},{"$f":"IF(Master!Z167=\"\",\"B\",Master!Z167)","v":"B"},{"$f":"IF(Master!AK167=\"\",\"B\",Master!AK167)","v":"B"},{"$f":"IF(Master!AV167=\"\",\"B\",Master!AV167)","v":"B"},{"$f":"IF(Master!BG167=\"\",\"B\",Master!BG167)","v":"B"},{"$f":"IF(Master!BR167=\"\",\"B\",Master!BR167)","v":"B"}]
[{"$f":"Master!A168","v":"DES"},{"$f":"Master!B168","v":"ALTERNATIVES COMPARISON WORKSHOP"},{"$f":"Master!C168","v":"None"},{"$f":"Master!D168","v":"ILT"},{"$f":"Master!E168","v":"Inactive"},{"$f":"Master!F168","v":"None"},{"$f":"Master!H168","v":0},{"$f":"IF(Master!O168=\"\",\"B\",Master!O168)","v":"B"},{"$f":"IF(Master!Z168=\"\",\"B\",Master!Z168)","v":"B"},{"$f":"IF(Master!AK168=\"\",\"B\",Master!AK168)","v":"B"},{"$f":"IF(Master!AV168=\"\",\"B\",Master!AV168)","v":"B"},{"$f":"IF(Master!BG168=\"\",\"B\",Master!BG168)","v":"B"},{"$f":"IF(Master!BR168=\"\",\"B\",Master!BR168)","v":"B"}]
[{"$f":"Master!A169","v":"DES"},{"$f":"Master!B169","v":"WSDOT DES: COST ESTIMATING"},{"$f":"Master!C169","v":"WSDOT_CZV"},{"$f":"Master!D169","v":"ILT"},{"$f":"Master!E169","v":"Active"},{"$f":"Master!F169","v":0},{"$f":"Master!H169","v":"This class was updated in 2019 and delivered to all regions 2019-2020; this class can be delivered by request."},{"$f":"IF(Master!O169=\"\",\"B\",Master!O169)","v":"B"},{"$f":"IF(Master!Z169=\"\",\"B\",Master!Z169)","v":"B"},{"$f":"IF(Master!AK169=\"\",\"B\",Master!AK169)","v":"B"},{"$f":"IF(Master!AV169=\"\",\"B\",Master!AV169)","v":"B"},{"$f":"IF(Master!BG169=\"\",\"B\",Master!BG169)","v":"B"},{"$f":"IF(Master!BR169=\"\",\"B\",Master!BR169)","v":"B"}]
[{"$f":"Master!A170","v":"DES"},{"$f":"Master!B170","v":"RISK MANAGEMENT"},{"$f":"Master!C170","v":"None"},{"$f":"Master!D170","v":"ILT"},{"$f":"Master!E170","v":"Inactive"},{"$f":"Master!F170","v":"None"},{"$f":"Master!H170","v":"Available by arrangement; contact Mark Gabel or Mark Suijka."},{"$f":"IF(Master!O170=\"\",\"B\",Master!O170)","v":"B"},{"$f":"IF(Master!Z170=\"\",\"B\",Master!Z170)","v":"B"},{"$f":"IF(Master!AK170=\"\",\"B\",Master!AK170)","v":"B"},{"$f":"IF(Master!AV170=\"\",\"B\",Master!AV170)","v":"B"},{"$f":"IF(Master!BG170=\"\",\"B\",Master!BG170)","v":"B"},{"$f":"IF(Master!BR170=\"\",\"B\",Master!BR170)","v":"B"}]
[{"$f":"Master!A171","v":"DES"},{"$f":"Master!B171","v":"MANAGING PROJECT DELIVERY"},{"$f":"Master!C171","v":"None"},{"$f":"Master!D171","v":0},{"$f":"Master!E171","v":"Inactive"},{"$f":"Master!F171","v":"None"},{"$f":"Master!H171","v":"PM courses abailable through SkillSoft:  https://wsdot.skillport.com/skillportfe/main.action#whatshappening"},{"$f":"IF(Master!O171=\"\",\"B\",Master!O171)","v":"B"},{"$f":"IF(Master!Z171=\"\",\"B\",Master!Z171)","v":"B"},{"$f":"IF(Master!AK171=\"\",\"B\",Master!AK171)","v":"B"},{"$f":"IF(Master!AV171=\"\",\"B\",Master!AV171)","v":"B"},{"$f":"IF(Master!BG171=\"\",\"B\",Master!BG171)","v":"B"},{"$f":"IF(Master!BR171=\"\",\"B\",Master!BR171)","v":"B"}]
[{"$f":"Master!A172","v":"DES"},{"$f":"Master!B172","v":"HUMAN FACTORS IN TRANSPORTATION DESIGN"},{"$f":"Master!C172","v":"None"},{"$f":"Master!D172","v":"ILT"},{"$f":"Master!E172","v":"Inactive"},{"$f":"Master!F172","v":"None"},{"$f":"Master!H172","v":"Partly covered in the HSM Training"},{"$f":"IF(Master!O172=\"\",\"B\",Master!O172)","v":"B"},{"$f":"IF(Master!Z172=\"\",\"B\",Master!Z172)","v":"B"},{"$f":"IF(Master!AK172=\"\",\"B\",Master!AK172)","v":"B"},{"$f":"IF(Master!AV172=\"\",\"B\",Master!AV172)","v":"B"},{"$f":"IF(Master!BG172=\"\",\"B\",Master!BG172)","v":"B"},{"$f":"IF(Master!BR172=\"\",\"B\",Master!BR172)","v":"B"}]
[{"$f":"Master!A173","v":"DES"},{"$f":"Master!B173","v":"WSDOT DES: [YYYY] DESIGN MANUAL TRAINING"},{"$f":"Master!C173","v":"WSDOT_DMUT01202016"},{"$f":"Master!D173","v":"ILT"},{"$f":"Master!E173","v":"Active"},{"$f":"Master!F173","v":0},{"$f":"Master!H173","v":0},{"$f":"IF(Master!O173=\"\",\"B\",Master!O173)","v":"B"},{"$f":"IF(Master!Z173=\"\",\"B\",Master!Z173)","v":"B"},{"$f":"IF(Master!AK173=\"\",\"B\",Master!AK173)","v":"B"},{"$f":"IF(Master!AV173=\"\",\"B\",Master!AV173)","v":"B"},{"$f":"IF(Master!BG173=\"\",\"B\",Master!BG173)","v":"B"},{"$f":"IF(Master!BR173=\"\",\"B\",Master!BR173)","v":"B"}]
[{"$f":"Master!A174","v":"DES"},{"$f":"Master!B174","v":"WSDOT DES: DESIGN MANUAL DIVISION 11 PRACTICAL DESIGN"},{"$f":"Master!C174","v":"DMUT_ORG"},{"$f":"Master!D174","v":"OLT"},{"$f":"Master!E174","v":"Active"},{"$f":"Master!F174","v":0},{"$f":"Master!H174","v":"Available in LMS for credit, also at https://www.wsdot.wa.gov/LocalPrograms/Training/eTraining.htm "},{"$f":"IF(Master!O174=\"\",\"B\",Master!O174)","v":"B"},{"$f":"IF(Master!Z174=\"\",\"B\",Master!Z174)","v":"B"},{"$f":"IF(Master!AK174=\"\",\"B\",Master!AK174)","v":"B"},{"$f":"IF(Master!AV174=\"\",\"B\",Master!AV174)","v":"B"},{"$f":"IF(Master!BG174=\"\",\"B\",Master!BG174)","v":"B"},{"$f":"IF(Master!BR174=\"\",\"B\",Master!BR174)","v":"B"}]
[{"$f":"Master!A175","v":"DES"},{"$f":"Master!B175","v":"WSDOT PS 201 MULTIMODAL MAKING THE CASE MODULE1 OLT"},{"$f":"Master!C175","v":"Module_1:_Why_Multimodal?_ORG"},{"$f":"Master!D175","v":"OLT"},{"$f":"Master!E175","v":"Active"},{"$f":"Master!F175","v":0},{"$f":"Master!H175","v":0},{"$f":"IF(Master!O175=\"\",\"B\",Master!O175)","v":"B"},{"$f":"IF(Master!Z175=\"\",\"B\",Master!Z175)","v":"B"},{"$f":"IF(Master!AK175=\"\",\"B\",Master!AK175)","v":"B"},{"$f":"IF(Master!AV175=\"\",\"B\",Master!AV175)","v":"B"},{"$f":"IF(Master!BG175=\"\",\"B\",Master!BG175)","v":"B"},{"$f":"IF(Master!BR175=\"\",\"B\",Master!BR175)","v":"B"}]
[{"$f":"Master!A176","v":"DES"},{"$f":"Master!B176","v":"WSDOT PS 201 MULTIMODAL LAND USE MODULE2 OLT"},{"$f":"Master!C176","v":"Module_2_Land_Use_&_Transportation_ORG"},{"$f":"Master!D176","v":"OLT"},{"$f":"Master!E176","v":"Active"},{"$f":"Master!F176","v":0},{"$f":"Master!H176","v":0},{"$f":"IF(Master!O176=\"\",\"B\",Master!O176)","v":"B"},{"$f":"IF(Master!Z176=\"\",\"B\",Master!Z176)","v":"B"},{"$f":"IF(Master!AK176=\"\",\"B\",Master!AK176)","v":"B"},{"$f":"IF(Master!AV176=\"\",\"B\",Master!AV176)","v":"B"},{"$f":"IF(Master!BG176=\"\",\"B\",Master!BG176)","v":"B"},{"$f":"IF(Master!BR176=\"\",\"B\",Master!BR176)","v":"B"}]
[{"$f":"Master!A177","v":"DES"},{"$f":"Master!B177","v":"WSDOT PS 201 MULTIMODAL PHASES AND NEEDS MODULE3 OLT"},{"$f":"Master!C177","v":"Module_3_Phases_and_Needs_ORG"},{"$f":"Master!D177","v":"OLT"},{"$f":"Master!E177","v":" Active"},{"$f":"Master!F177","v":0},{"$f":"Master!H177","v":0},{"$f":"IF(Master!O177=\"\",\"B\",Master!O177)","v":"B"},{"$f":"IF(Master!Z177=\"\",\"B\",Master!Z177)","v":"B"},{"$f":"IF(Master!AK177=\"\",\"B\",Master!AK177)","v":"B"},{"$f":"IF(Master!AV177=\"\",\"B\",Master!AV177)","v":"B"},{"$f":"IF(Master!BG177=\"\",\"B\",Master!BG177)","v":"B"},{"$f":"IF(Master!BR177=\"\",\"B\",Master!BR177)","v":"B"}]
[{"$f":"Master!A178","v":"DES"},{"$f":"Master!B178","v":"WSDOT PS 201 MULTIMODAL PERFORMANCE BASICS MODULE4 OLT"},{"$f":"Master!C178","v":"Module_4_Performance_Basics_ORG"},{"$f":"Master!D178","v":"OLT"},{"$f":"Master!E178","v":"Active"},{"$f":"Master!F178","v":0},{"$f":"Master!H178","v":0},{"$f":"IF(Master!O178=\"\",\"B\",Master!O178)","v":"B"},{"$f":"IF(Master!Z178=\"\",\"B\",Master!Z178)","v":"B"},{"$f":"IF(Master!AK178=\"\",\"B\",Master!AK178)","v":"B"},{"$f":"IF(Master!AV178=\"\",\"B\",Master!AV178)","v":"B"},{"$f":"IF(Master!BG178=\"\",\"B\",Master!BG178)","v":"B"},{"$f":"IF(Master!BR178=\"\",\"B\",Master!BR178)","v":"B"}]
[{"$f":"Master!A179","v":"DES"},{"$f":"Master!B179","v":"WSDOT PS 201 MULTIMODAL TRANSIT MODULE5 OLT"},{"$f":"Master!C179","v":"Module_5_Transit_ORG"},{"$f":"Master!D179","v":"OLT"},{"$f":"Master!E179","v":"Active"},{"$f":"Master!F179","v":0},{"$f":"Master!H179","v":0},{"$f":"IF(Master!O179=\"\",\"B\",Master!O179)","v":"B"},{"$f":"IF(Master!Z179=\"\",\"B\",Master!Z179)","v":"B"},{"$f":"IF(Master!AK179=\"\",\"B\",Master!AK179)","v":"B"},{"$f":"IF(Master!AV179=\"\",\"B\",Master!AV179)","v":"B"},{"$f":"IF(Master!BG179=\"\",\"B\",Master!BG179)","v":"B"},{"$f":"IF(Master!BR179=\"\",\"B\",Master!BR179)","v":"B"}]
[{"$f":"Master!A180","v":"DES"},{"$f":"Master!B180","v":"WSDOT PS 201 MULTIMODAL WALKING MODULE6 OLT"},{"$f":"Master!C180","v":"Module_6_People_Walking_ORG"},{"$f":"Master!D180","v":"OLT"},{"$f":"Master!E180","v":"Active"},{"$f":"Master!F180","v":0},{"$f":"Master!H180","v":0},{"$f":"IF(Master!O180=\"\",\"B\",Master!O180)","v":"B"},{"$f":"IF(Master!Z180=\"\",\"B\",Master!Z180)","v":"B"},{"$f":"IF(Master!AK180=\"\",\"B\",Master!AK180)","v":"B"},{"$f":"IF(Master!AV180=\"\",\"B\",Master!AV180)","v":"B"},{"$f":"IF(Master!BG180=\"\",\"B\",Master!BG180)","v":"B"},{"$f":"IF(Master!BR180=\"\",\"B\",Master!BR180)","v":"B"}]
[{"$f":"Master!A181","v":"DES"},{"$f":"Master!B181","v":"WSDOT PS 201 MULTIMODAL BIKING MODULE7 OLT"},{"$f":"Master!C181","v":"Module_7_People_Biking_ORG"},{"$f":"Master!D181","v":"OLT"},{"$f":"Master!E181","v":"Active"},{"$f":"Master!F181","v":0},{"$f":"Master!H181","v":0},{"$f":"IF(Master!O181=\"\",\"B\",Master!O181)","v":"B"},{"$f":"IF(Master!Z181=\"\",\"B\",Master!Z181)","v":"B"},{"$f":"IF(Master!AK181=\"\",\"B\",Master!AK181)","v":"B"},{"$f":"IF(Master!AV181=\"\",\"B\",Master!AV181)","v":"B"},{"$f":"IF(Master!BG181=\"\",\"B\",Master!BG181)","v":"B"},{"$f":"IF(Master!BR181=\"\",\"B\",Master!BR181)","v":"B"}]
[{"$f":"Master!A182","v":"DES"},{"$f":"Master!B182","v":"WSDOT PS 201 MULTIMODAL FREIGHT MODULE8 OLT"},{"$f":"Master!C182","v":"Module_8_Freight_Transportation_ORG"},{"$f":"Master!D182","v":"OLT"},{"$f":"Master!E182","v":"Active"},{"$f":"Master!F182","v":0},{"$f":"Master!H182","v":0},{"$f":"IF(Master!O182=\"\",\"B\",Master!O182)","v":"B"},{"$f":"IF(Master!Z182=\"\",\"B\",Master!Z182)","v":"B"},{"$f":"IF(Master!AK182=\"\",\"B\",Master!AK182)","v":"B"},{"$f":"IF(Master!AV182=\"\",\"B\",Master!AV182)","v":"B"},{"$f":"IF(Master!BG182=\"\",\"B\",Master!BG182)","v":"B"},{"$f":"IF(Master!BR182=\"\",\"B\",Master!BR182)","v":"B"}]
[{"$f":"Master!A183","v":"DES"},{"$f":"Master!B183","v":"WSDOT PS 201 MULTIMODAL CONFLICTS AND HUBS MODULE9 OLT"},{"$f":"Master!C183","v":"Module_9_Modal_Conflicts_and_Hubs_ORG"},{"$f":"Master!D183","v":"OLT"},{"$f":"Master!E183","v":"Active"},{"$f":"Master!F183","v":0},{"$f":"Master!H183","v":0},{"$f":"IF(Master!O183=\"\",\"B\",Master!O183)","v":"B"},{"$f":"IF(Master!Z183=\"\",\"B\",Master!Z183)","v":"B"},{"$f":"IF(Master!AK183=\"\",\"B\",Master!AK183)","v":"B"},{"$f":"IF(Master!AV183=\"\",\"B\",Master!AV183)","v":"B"},{"$f":"IF(Master!BG183=\"\",\"B\",Master!BG183)","v":"B"},{"$f":"IF(Master!BR183=\"\",\"B\",Master!BR183)","v":"B"}]
[{"$f":"Master!A184","v":"DES"},{"$f":"Master!B184","v":"WSDOT PRACTICAL SOLUTIONS OVERVIEW OLT"},{"$f":"Master!C184","v":"Practical_Solutions_Overview_ORG"},{"$f":"Master!D184","v":"OLT"},{"$f":"Master!E184","v":"Active"},{"$f":"Master!F184","v":0},{"$f":"Master!H184","v":0},{"$f":"IF(Master!O184=\"\",\"B\",Master!O184)","v":2},{"$f":"IF(Master!Z184=\"\",\"B\",Master!Z184)","v":2},{"$f":"IF(Master!AK184=\"\",\"B\",Master!AK184)","v":2},{"$f":"IF(Master!AV184=\"\",\"B\",Master!AV184)","v":2},{"$f":"IF(Master!BG184=\"\",\"B\",Master!BG184)","v":2},{"$f":"IF(Master!BR184=\"\",\"B\",Master!BR184)","v":2}]
[{"$f":"Master!A185","v":"DES"},{"$f":"Master!B185","v":"WSDOT PS 101: PRACTICAL SOLUTIONS APPROACH TO PROJECT DEVELOPMENT OVERVIEW"},{"$f":"Master!C185","v":"WSDOT_PS101"},{"$f":"Master!D185","v":"ILT"},{"$f":"Master!E185","v":"Inactive"},{"$f":"Master!F185","v":0},{"$f":"Master!H185","v":0},{"$f":"IF(Master!O185=\"\",\"B\",Master!O185)","v":2},{"$f":"IF(Master!Z185=\"\",\"B\",Master!Z185)","v":2},{"$f":"IF(Master!AK185=\"\",\"B\",Master!AK185)","v":2},{"$f":"IF(Master!AV185=\"\",\"B\",Master!AV185)","v":2},{"$f":"IF(Master!BG185=\"\",\"B\",Master!BG185)","v":2},{"$f":"IF(Master!BR185=\"\",\"B\",Master!BR185)","v":2}]
[{"$f":"Master!A186","v":"Hydraulics"},null,null,null,null,null,null,{"$f":"IF(Master!O186=\"\",\"B\",Master!O186)","v":"B"},{"$f":"IF(Master!Z186=\"\",\"B\",Master!Z186)","v":"B"},{"$f":"IF(Master!AK186=\"\",\"B\",Master!AK186)","v":"B"},{"$f":"IF(Master!AV186=\"\",\"B\",Master!AV186)","v":"B"},{"$f":"IF(Master!BG186=\"\",\"B\",Master!BG186)","v":"B"},{"$f":"IF(Master!BR186=\"\",\"B\",Master!BR186)","v":"B"}]
[{"$f":"Master!A187","v":"HYD"},{"$f":"Master!B187","v":"WSDOT DES: HYDRAULICS AND HYDROLOGY"},{"$f":"Master!C187","v":"WSDOT_DES_HYDRAULICS_AND_HYDROLOGY"},{"$f":"Master!D187","v":"ILT"},{"$f":"Master!E187","v":"Active"},{"$f":"Master!F187","v":0},{"$f":"Master!H187","v":0},{"$f":"IF(Master!O187=\"\",\"B\",Master!O187)","v":"B"},{"$f":"IF(Master!Z187=\"\",\"B\",Master!Z187)","v":"B"},{"$f":"IF(Master!AK187=\"\",\"B\",Master!AK187)","v":"B"},{"$f":"IF(Master!AV187=\"\",\"B\",Master!AV187)","v":"B"},{"$f":"IF(Master!BG187=\"\",\"B\",Master!BG187)","v":"B"},{"$f":"IF(Master!BR187=\"\",\"B\",Master!BR187)","v":"B"}]
[{"$f":"Master!A188","v":"HYD"},{"$f":"Master!B188","v":"WSDOT DES: 2014 HIGHWAY RUNOFF MANUAL TRAINING"},{"$f":"Master!C188","v":"WSDOT_DBI"},{"$f":"Master!D188","v":"ILT"},{"$f":"Master!E188","v":"Active"},{"$f":"Master!F188","v":0},{"$f":"Master!H188","v":0},{"$f":"IF(Master!O188=\"\",\"B\",Master!O188)","v":"B"},{"$f":"IF(Master!Z188=\"\",\"B\",Master!Z188)","v":"B"},{"$f":"IF(Master!AK188=\"\",\"B\",Master!AK188)","v":"B"},{"$f":"IF(Master!AV188=\"\",\"B\",Master!AV188)","v":"B"},{"$f":"IF(Master!BG188=\"\",\"B\",Master!BG188)","v":"B"},{"$f":"IF(Master!BR188=\"\",\"B\",Master!BR188)","v":"B"}]
[{"$f":"Master!A189","v":"HYD"},{"$f":"Master!B189","v":"WSDOT_MGSFLOOD_TRAINING"},{"$f":"Master!C189","v":"WSDOT_MGSFLOOD_TRAINING"},{"$f":"Master!D189","v":"ILT"},{"$f":"Master!E189","v":"Active"},{"$f":"Master!F189","v":0},{"$f":"Master!H189","v":0},{"$f":"IF(Master!O189=\"\",\"B\",Master!O189)","v":"B"},{"$f":"IF(Master!Z189=\"\",\"B\",Master!Z189)","v":"B"},{"$f":"IF(Master!AK189=\"\",\"B\",Master!AK189)","v":"B"},{"$f":"IF(Master!AV189=\"\",\"B\",Master!AV189)","v":"B"},{"$f":"IF(Master!BG189=\"\",\"B\",Master!BG189)","v":"B"},{"$f":"IF(Master!BR189=\"\",\"B\",Master!BR189)","v":"B"}]
[{"$f":"Master!A190","v":"HYD"},{"$f":"Master!B190","v":"WSDOT DES: STORMSHED BEGINNING"},{"$f":"Master!C190","v":"WSDOT_DES_STORMSHED_BEGINNING"},{"$f":"Master!D190","v":"ILT"},{"$f":"Master!E190","v":"Active"},{"$f":"Master!F190","v":0},{"$f":"Master!H190","v":0},{"$f":"IF(Master!O190=\"\",\"B\",Master!O190)","v":"B"},{"$f":"IF(Master!Z190=\"\",\"B\",Master!Z190)","v":"B"},{"$f":"IF(Master!AK190=\"\",\"B\",Master!AK190)","v":"B"},{"$f":"IF(Master!AV190=\"\",\"B\",Master!AV190)","v":"B"},{"$f":"IF(Master!BG190=\"\",\"B\",Master!BG190)","v":"B"},{"$f":"IF(Master!BR190=\"\",\"B\",Master!BR190)","v":"B"}]
[{"$f":"Master!A191","v":"HYD"},{"$f":"Master!B191","v":"WSDOT DES: STORMSHED INTERMEDIATE"},{"$f":"Master!C191","v":"WSDOT_DES_STORMSHED_INTERMEDIATE"},{"$f":"Master!D191","v":"ILT"},{"$f":"Master!E191","v":"Active"},{"$f":"Master!F191","v":0},{"$f":"Master!H191","v":0},{"$f":"IF(Master!O191=\"\",\"B\",Master!O191)","v":"B"},{"$f":"IF(Master!Z191=\"\",\"B\",Master!Z191)","v":"B"},{"$f":"IF(Master!AK191=\"\",\"B\",Master!AK191)","v":"B"},{"$f":"IF(Master!AV191=\"\",\"B\",Master!AV191)","v":"B"},{"$f":"IF(Master!BG191=\"\",\"B\",Master!BG191)","v":"B"},{"$f":"IF(Master!BR191=\"\",\"B\",Master!BR191)","v":"B"}]
[{"$f":"Master!A192","v":"Environmental"},null,null,null,null,null,null,{"$f":"IF(Master!O192=\"\",\"B\",Master!O192)","v":"B"},{"$f":"IF(Master!Z192=\"\",\"B\",Master!Z192)","v":"B"},{"$f":"IF(Master!AK192=\"\",\"B\",Master!AK192)","v":"B"},{"$f":"IF(Master!AV192=\"\",\"B\",Master!AV192)","v":"B"},{"$f":"IF(Master!BG192=\"\",\"B\",Master!BG192)","v":"B"},{"$f":"IF(Master!BR192=\"\",\"B\",Master!BR192)","v":"B"}]
[{"$f":"Master!A193","v":"ENV"},{"$f":"Master!B193","v":"WSDOT ENV: SPILL PLAN REVIEWER TRAINING (OLT)"},{"$f":"Master!C193","v":"WSDOT_BYZ_OLT"},{"$f":"Master!D193","v":"OLT"},{"$f":"Master!E193","v":"Active"},{"$f":"Master!F193","v":0},{"$f":"Master!G193","v":"NA"},{"$f":"IF(Master!O193=\"\",\"B\",Master!O193)","v":"B"},{"$f":"IF(Master!Z193=\"\",\"B\",Master!Z193)","v":"B"},{"$f":"IF(Master!AK193=\"\",\"B\",Master!AK193)","v":"B"},{"$f":"IF(Master!AV193=\"\",\"B\",Master!AV193)","v":"B"},{"$f":"IF(Master!BG193=\"\",\"B\",Master!BG193)","v":"B"},{"$f":"IF(Master!BR193=\"\",\"B\",Master!BR193)","v":"B"}]
[{"$f":"Master!A194","v":"ENV"},{"$f":"Master!B194","v":"WSDOT ENV: CONSTRUCTION SITE EROSION AND SEDIMENT CONTROL"},{"$f":"Master!C194","v":"WSDOT_BPW"},{"$f":"Master!D194","v":"ILT"},{"$f":"Master!E194","v":"Active"},{"$f":"Master!F194","v":0},{"$f":"Master!G194","v":"Once per year per Region or by request"},{"$f":"IF(Master!O194=\"\",\"B\",Master!O194)","v":"B"},{"$f":"IF(Master!Z194=\"\",\"B\",Master!Z194)","v":"B"},{"$f":"IF(Master!AK194=\"\",\"B\",Master!AK194)","v":"B"},{"$f":"IF(Master!AV194=\"\",\"B\",Master!AV194)","v":"B"},{"$f":"IF(Master!BG194=\"\",\"B\",Master!BG194)","v":"B"},{"$f":"IF(Master!BR194=\"\",\"B\",Master!BR194)","v":"B"}]
[{"$f":"Master!A195","v":"ENV"},{"$f":"Master!B195","v":"WSDOT ENV: CULTURAL RESOURCE TRAINING"},{"$f":"Master!C195","v":"WSDOT_B7T"},{"$f":"Master!D195","v":"ILT"},{"$f":"Master!E195","v":"Active"},{"$f":"Master!F195","v":0},{"$f":"Master!G195","v":"Offered 1-2 times per year"},{"$f":"IF(Master!O195=\"\",\"B\",Master!O195)","v":"B"},{"$f":"IF(Master!Z195=\"\",\"B\",Master!Z195)","v":"B"},{"$f":"IF(Master!AK195=\"\",\"B\",Master!AK195)","v":"B"},{"$f":"IF(Master!AV195=\"\",\"B\",Master!AV195)","v":"B"},{"$f":"IF(Master!BG195=\"\",\"B\",Master!BG195)","v":"B"},{"$f":"IF(Master!BR195=\"\",\"B\",Master!BR195)","v":"B"}]
[{"$f":"Master!A196","v":"ENV"},{"$f":"Master!B196","v":"WSDOT ENV: ENVIRONMENTAL JUSTICE INCLUSION TRAINING (OLT)"},{"$f":"Master!C196","v":"WSDOT_EJ1_OLT"},{"$f":"Master!D196","v":"OLT"},{"$f":"Master!E196","v":"Active"},{"$f":"Master!F196","v":0},{"$f":"Master!G196","v":"NA"},{"$f":"IF(Master!O196=\"\",\"B\",Master!O196)","v":1},{"$f":"IF(Master!Z196=\"\",\"B\",Master!Z196)","v":1},{"$f":"IF(Master!AK196=\"\",\"B\",Master!AK196)","v":1},{"$f":"IF(Master!AV196=\"\",\"B\",Master!AV196)","v":1},{"$f":"IF(Master!BG196=\"\",\"B\",Master!BG196)","v":1},{"$f":"IF(Master!BR196=\"\",\"B\",Master!BR196)","v":1}]
[{"$f":"Master!A197","v":"ENV"},{"$f":"Master!B197","v":"WSDOT ENV: ENVIRONMENTAL OVERVIEW - COMPLIANCE FOR CONSTRUCTION (OLT)"},{"$f":"Master!C197","v":"WSDOT_CR5_OLT"},{"$f":"Master!D197","v":"OLT"},{"$f":"Master!E197","v":"Active"},{"$f":"Master!F197","v":0},{"$f":"Master!G197","v":"NA"},{"$f":"IF(Master!O197=\"\",\"B\",Master!O197)","v":"B"},{"$f":"IF(Master!Z197=\"\",\"B\",Master!Z197)","v":"B"},{"$f":"IF(Master!AK197=\"\",\"B\",Master!AK197)","v":"B"},{"$f":"IF(Master!AV197=\"\",\"B\",Master!AV197)","v":"B"},{"$f":"IF(Master!BG197=\"\",\"B\",Master!BG197)","v":"B"},{"$f":"IF(Master!BR197=\"\",\"B\",Master!BR197)","v":"B"}]
[{"$f":"Master!A198","v":"ENV"},{"$f":"Master!B198","v":"WSDOT ENV: ESA (ENDANGERED SPECIES ACT) FOR NON-BIOLOGISTS (OLT)"},{"$f":"Master!C198","v":"WSDOT_EV9_OLT"},{"$f":"Master!D198","v":"OLT"},{"$f":"Master!E198","v":"Active"},{"$f":"Master!F198","v":0},{"$f":"Master!G198","v":"NA"},{"$f":"IF(Master!O198=\"\",\"B\",Master!O198)","v":"B"},{"$f":"IF(Master!Z198=\"\",\"B\",Master!Z198)","v":"B"},{"$f":"IF(Master!AK198=\"\",\"B\",Master!AK198)","v":"B"},{"$f":"IF(Master!AV198=\"\",\"B\",Master!AV198)","v":"B"},{"$f":"IF(Master!BG198=\"\",\"B\",Master!BG198)","v":"B"},{"$f":"IF(Master!BR198=\"\",\"B\",Master!BR198)","v":"B"}]
[{"$f":"Master!A199","v":"ENV"},{"$f":"Master!B199","v":"WSDOT ENV: NEPA/SEPA - MODULE 1 - OVERVIEW"},{"$f":"Master!C199","v":"WSDOT_DDV"},{"$f":"Master!D199","v":"ILT"},{"$f":"Master!E199","v":"Active"},{"$f":"Master!F199","v":0},{"$f":"Master!G199","v":"Once per year per Region or by request"},{"$f":"IF(Master!O199=\"\",\"B\",Master!O199)","v":"B"},{"$f":"IF(Master!Z199=\"\",\"B\",Master!Z199)","v":"B"},{"$f":"IF(Master!AK199=\"\",\"B\",Master!AK199)","v":"B"},{"$f":"IF(Master!AV199=\"\",\"B\",Master!AV199)","v":"B"},{"$f":"IF(Master!BG199=\"\",\"B\",Master!BG199)","v":"B"},{"$f":"IF(Master!BR199=\"\",\"B\",Master!BR199)","v":"B"}]
[{"$f":"Master!A200","v":"ENV"},{"$f":"Master!B200","v":"WSDOT ENV: NEPA/SEPA - MODULE 2 - DOCUMENTING CATEGORICAL EXCLUSIONS"},{"$f":"Master!C200","v":"WSDOT_ENV"},{"$f":"Master!D200","v":"ILT"},{"$f":"Master!E200","v":"Active"},{"$f":"Master!F200","v":0},{"$f":"Master!G200","v":"Once per year per Region or by request"},{"$f":"IF(Master!O200=\"\",\"B\",Master!O200)","v":"B"},{"$f":"IF(Master!Z200=\"\",\"B\",Master!Z200)","v":"B"},{"$f":"IF(Master!AK200=\"\",\"B\",Master!AK200)","v":"B"},{"$f":"IF(Master!AV200=\"\",\"B\",Master!AV200)","v":"B"},{"$f":"IF(Master!BG200=\"\",\"B\",Master!BG200)","v":"B"},{"$f":"IF(Master!BR200=\"\",\"B\",Master!BR200)","v":"B"}]
[{"$f":"Master!A201","v":"ENV"},{"$f":"Master!B201","v":"WSDOT ENV: NEPA/SEPA - MODULE 3 - DOCUMENTING EAs AND EISs"},{"$f":"Master!C201","v":"WSDOT_ENV_2"},{"$f":"Master!D201","v":"ILT"},{"$f":"Master!E201","v":"Active"},{"$f":"Master!F201","v":0},{"$f":"Master!G201","v":"Once per year per Region or by request"},{"$f":"IF(Master!O201=\"\",\"B\",Master!O201)","v":"B"},{"$f":"IF(Master!Z201=\"\",\"B\",Master!Z201)","v":"B"},{"$f":"IF(Master!AK201=\"\",\"B\",Master!AK201)","v":"B"},{"$f":"IF(Master!AV201=\"\",\"B\",Master!AV201)","v":"B"},{"$f":"IF(Master!BG201=\"\",\"B\",Master!BG201)","v":"B"},{"$f":"IF(Master!BR201=\"\",\"B\",Master!BR201)","v":"B"}]
[{"$f":"Master!A202","v":"ENV"},{"$f":"Master!B202","v":"WSDOT ENV: POISONOUS AND HARMFUL PLANTS IN WASHINGTON STATE"},{"$f":"Master!C202","v":"WSDOT_019_OLT"},{"$f":"Master!D202","v":"OLT"},{"$f":"Master!E202","v":"Active"},{"$f":"Master!F202","v":0},{"$f":"Master!G202","v":"NA"},{"$f":"IF(Master!O202=\"\",\"B\",Master!O202)","v":"B"},{"$f":"IF(Master!Z202=\"\",\"B\",Master!Z202)","v":"B"},{"$f":"IF(Master!AK202=\"\",\"B\",Master!AK202)","v":"B"},{"$f":"IF(Master!AV202=\"\",\"B\",Master!AV202)","v":"B"},{"$f":"IF(Master!BG202=\"\",\"B\",Master!BG202)","v":"B"},{"$f":"IF(Master!BR202=\"\",\"B\",Master!BR202)","v":"B"}]
[{"$f":"Master!A203","v":"Computer Aided Engineering"},null,null,null,null,null,null,{"$f":"IF(Master!O203=\"\",\"B\",Master!O203)","v":"B"},{"$f":"IF(Master!Z203=\"\",\"B\",Master!Z203)","v":"B"},{"$f":"IF(Master!AK203=\"\",\"B\",Master!AK203)","v":"B"},{"$f":"IF(Master!AV203=\"\",\"B\",Master!AV203)","v":"B"},{"$f":"IF(Master!BG203=\"\",\"B\",Master!BG203)","v":"B"},{"$f":"IF(Master!BR203=\"\",\"B\",Master!BR203)","v":"B"}]
[{"$f":"Master!A204","v":"CAE"},{"$f":"Master!B204","v":"WSDOT CAE: MICROSTATION - 101 ENTRY LEVEL"},{"$f":"Master!C204","v":"WSDOT_AX4"},{"$f":"Master!D204","v":"ILT"},{"$f":"Master!E204","v":"Active"},{"$f":"Master!F204","v":0},{"$f":"Master!H204","v":0},{"$f":"IF(Master!O204=\"\",\"B\",Master!O204)","v":"B"},{"$f":"IF(Master!Z204=\"\",\"B\",Master!Z204)","v":"B"},{"$f":"IF(Master!AK204=\"\",\"B\",Master!AK204)","v":"B"},{"$f":"IF(Master!AV204=\"\",\"B\",Master!AV204)","v":"B"},{"$f":"IF(Master!BG204=\"\",\"B\",Master!BG204)","v":"B"},{"$f":"IF(Master!BR204=\"\",\"B\",Master!BR204)","v":"B"}]
[{"$f":"Master!A205","v":"CAE"},{"$f":"Master!B205","v":"WSDOT CAE: MICROSTATION - 201 PRODUCTION LEVEL"},{"$f":"Master!C205","v":"WSDOT_AI6"},{"$f":"Master!D205","v":"ILT"},{"$f":"Master!E205","v":"Active"},{"$f":"Master!F205","v":0},{"$f":"Master!H205","v":0},{"$f":"IF(Master!O205=\"\",\"B\",Master!O205)","v":"B"},{"$f":"IF(Master!Z205=\"\",\"B\",Master!Z205)","v":"B"},{"$f":"IF(Master!AK205=\"\",\"B\",Master!AK205)","v":"B"},{"$f":"IF(Master!AV205=\"\",\"B\",Master!AV205)","v":"B"},{"$f":"IF(Master!BG205=\"\",\"B\",Master!BG205)","v":"B"},{"$f":"IF(Master!BR205=\"\",\"B\",Master!BR205)","v":"B"}]
[{"$f":"Master!A206","v":"CAE"},{"$f":"Master!B206","v":"WSDOT CAE: INROADS - 201 PRODUCTION LEVEL DESIGN"},{"$f":"Master!C206","v":"WSDOT_CRZ"},{"$f":"Master!D206","v":"ILT"},{"$f":"Master!E206","v":"Active"},{"$f":"Master!F206","v":0},{"$f":"Master!H206","v":0},{"$f":"IF(Master!O206=\"\",\"B\",Master!O206)","v":"B"},{"$f":"IF(Master!Z206=\"\",\"B\",Master!Z206)","v":"B"},{"$f":"IF(Master!AK206=\"\",\"B\",Master!AK206)","v":"B"},{"$f":"IF(Master!AV206=\"\",\"B\",Master!AV206)","v":"B"},{"$f":"IF(Master!BG206=\"\",\"B\",Master!BG206)","v":"B"},{"$f":"IF(Master!BR206=\"\",\"B\",Master!BR206)","v":"B"}]
[{"$f":"Master!A207","v":"CAE"},{"$f":"Master!B207","v":"WSDOT CAE: INROADS - 202 SURVEY DATA PROCESSING"},{"$f":"Master!C207","v":"WSDOT_CU1"},{"$f":"Master!D207","v":"ILT"},{"$f":"Master!E207","v":"Active"},{"$f":"Master!F207","v":0},{"$f":"Master!H207","v":0},{"$f":"IF(Master!O207=\"\",\"B\",Master!O207)","v":"B"},{"$f":"IF(Master!Z207=\"\",\"B\",Master!Z207)","v":"B"},{"$f":"IF(Master!AK207=\"\",\"B\",Master!AK207)","v":"B"},{"$f":"IF(Master!AV207=\"\",\"B\",Master!AV207)","v":"B"},{"$f":"IF(Master!BG207=\"\",\"B\",Master!BG207)","v":"B"},{"$f":"IF(Master!BR207=\"\",\"B\",Master!BR207)","v":"B"}]
[{"$f":"Master!A208","v":"CAE"},{"$f":"Master!B208","v":"WSDOT CAE: INROADS - 203 GEOMETRICS"},{"$f":"Master!C208","v":"WSDOT_DBF"},{"$f":"Master!D208","v":"ILT"},{"$f":"Master!E208","v":"Active"},{"$f":"Master!F208","v":0},{"$f":"Master!H208","v":0},{"$f":"IF(Master!O208=\"\",\"B\",Master!O208)","v":"B"},{"$f":"IF(Master!Z208=\"\",\"B\",Master!Z208)","v":"B"},{"$f":"IF(Master!AK208=\"\",\"B\",Master!AK208)","v":"B"},{"$f":"IF(Master!AV208=\"\",\"B\",Master!AV208)","v":"B"},{"$f":"IF(Master!BG208=\"\",\"B\",Master!BG208)","v":"B"},{"$f":"IF(Master!BR208=\"\",\"B\",Master!BR208)","v":"B"}]
[{"$f":"Master!A209","v":"CAE"},{"$f":"Master!B209","v":"WSDOT CAE: INROADS - 205 CONSTRUCTION PROCESSES"},{"$f":"Master!C209","v":"WSDOT_DH2"},{"$f":"Master!D209","v":"ILT"},{"$f":"Master!E209","v":"Active"},{"$f":"Master!F209","v":0},{"$f":"Master!H209","v":0},{"$f":"IF(Master!O209=\"\",\"B\",Master!O209)","v":"B"},{"$f":"IF(Master!Z209=\"\",\"B\",Master!Z209)","v":"B"},{"$f":"IF(Master!AK209=\"\",\"B\",Master!AK209)","v":"B"},{"$f":"IF(Master!AV209=\"\",\"B\",Master!AV209)","v":"B"},{"$f":"IF(Master!BG209=\"\",\"B\",Master!BG209)","v":"B"},{"$f":"IF(Master!BR209=\"\",\"B\",Master!BR209)","v":"B"}]
[{"$f":"Master!A210","v":"CAE"},{"$f":"Master!B210","v":"WSDOT CAE: INROADS - 251 INTERMEDIATE ROADWAY DESIGN"},{"$f":"Master!C210","v":"WSDOT_DDL"},{"$f":"Master!D210","v":"ILT"},{"$f":"Master!E210","v":"Active"},{"$f":"Master!F210","v":0},{"$f":"Master!H210","v":0},{"$f":"IF(Master!O210=\"\",\"B\",Master!O210)","v":"B"},{"$f":"IF(Master!Z210=\"\",\"B\",Master!Z210)","v":"B"},{"$f":"IF(Master!AK210=\"\",\"B\",Master!AK210)","v":"B"},{"$f":"IF(Master!AV210=\"\",\"B\",Master!AV210)","v":"B"},{"$f":"IF(Master!BG210=\"\",\"B\",Master!BG210)","v":"B"},{"$f":"IF(Master!BR210=\"\",\"B\",Master!BR210)","v":"B"}]
[{"$f":"Master!A211","v":"Survey"},null,null,null,null,null,null,{"$f":"IF(Master!O211=\"\",\"B\",Master!O211)","v":"B"},{"$f":"IF(Master!Z211=\"\",\"B\",Master!Z211)","v":"B"},{"$f":"IF(Master!AK211=\"\",\"B\",Master!AK211)","v":"B"},{"$f":"IF(Master!AV211=\"\",\"B\",Master!AV211)","v":"B"},{"$f":"IF(Master!BG211=\"\",\"B\",Master!BG211)","v":"B"},{"$f":"IF(Master!BR211=\"\",\"B\",Master!BR211)","v":"B"}]
[{"$f":"Master!A212","v":"SUR"},{"$f":"Master!B212","v":"WSDOT SUR: BASIC SURVEYING (SELF-STUDY)"},{"$f":"Master!C212","v":"WSDOT_APK"},{"$f":"Master!D212","v":"SS"},{"$f":"Master!E212","v":"Active"},{"$f":"Master!F212","v":0},{"$f":"Master!H212","v":0},{"$f":"IF(Master!O212=\"\",\"B\",Master!O212)","v":"R"},{"$f":"IF(Master!Z212=\"\",\"B\",Master!Z212)","v":"R"},{"$f":"IF(Master!AK212=\"\",\"B\",Master!AK212)","v":"B"},{"$f":"IF(Master!AV212=\"\",\"B\",Master!AV212)","v":"B"},{"$f":"IF(Master!BG212=\"\",\"B\",Master!BG212)","v":"B"},{"$f":"IF(Master!BR212=\"\",\"B\",Master!BR212)","v":"B"}]
[{"$f":"Master!A213","v":"SUR"},{"$f":"Master!B213","v":"WSDOT SUR: INTERMEDIATE SURVEYING"},{"$f":"Master!C213","v":"WSDOT A4U"},{"$f":"Master!D213","v":"ILT"},{"$f":"Master!E213","v":"Under Development"},{"$f":"Master!F213","v":"Q3 2019"},{"$f":"Master!H213","v":0},{"$f":"IF(Master!O213=\"\",\"B\",Master!O213)","v":"B"},{"$f":"IF(Master!Z213=\"\",\"B\",Master!Z213)","v":"B"},{"$f":"IF(Master!AK213=\"\",\"B\",Master!AK213)","v":"B"},{"$f":"IF(Master!AV213=\"\",\"B\",Master!AV213)","v":"B"},{"$f":"IF(Master!BG213=\"\",\"B\",Master!BG213)","v":"B"},{"$f":"IF(Master!BR213=\"\",\"B\",Master!BR213)","v":"B"}]
[{"$f":"Master!A214","v":"Traffic Operations Division"},null,null,null,null,null,null,{"$f":"IF(Master!O214=\"\",\"B\",Master!O214)","v":"B"},{"$f":"IF(Master!Z214=\"\",\"B\",Master!Z214)","v":"B"},{"$f":"IF(Master!AK214=\"\",\"B\",Master!AK214)","v":"B"},{"$f":"IF(Master!AV214=\"\",\"B\",Master!AV214)","v":"B"},{"$f":"IF(Master!BG214=\"\",\"B\",Master!BG214)","v":"B"},{"$f":"IF(Master!BR214=\"\",\"B\",Master!BR214)","v":"B"}]
[{"$f":"Master!A215","v":"TR"},{"$f":"Master!B215","v":"WSDOT TR: Work Zone Traffic Control Supervisor Re-Certification"},{"$f":"Master!C215","v":"WSDOT_BQD"},{"$f":"Master!D215","v":"OLT/ILT"},{"$f":"Master!E215","v":"Active"},{"$f":"Master!F215","v":0},{"$f":"Master!H215","v":0},{"$f":"IF(Master!O215=\"\",\"B\",Master!O215)","v":"B"},{"$f":"IF(Master!Z215=\"\",\"B\",Master!Z215)","v":"B"},{"$f":"IF(Master!AK215=\"\",\"B\",Master!AK215)","v":"B"},{"$f":"IF(Master!AV215=\"\",\"B\",Master!AV215)","v":"B"},{"$f":"IF(Master!BG215=\"\",\"B\",Master!BG215)","v":"B"},{"$f":"IF(Master!BR215=\"\",\"B\",Master!BR215)","v":"B"}]
[{"$f":"Master!A216","v":"TR"},{"$f":"Master!B216","v":"WSDOT TR: Work Zone Traffic Control Supervisor Certification"},{"$f":"Master!C216","v":"WSDOT_A42"},{"$f":"Master!D216","v":"OLT/ILT"},{"$f":"Master!E216","v":"Active"},{"$f":"Master!F216","v":0},{"$f":"Master!H216","v":0},{"$f":"IF(Master!O216=\"\",\"B\",Master!O216)","v":"B"},{"$f":"IF(Master!Z216=\"\",\"B\",Master!Z216)","v":"B"},{"$f":"IF(Master!AK216=\"\",\"B\",Master!AK216)","v":"B"},{"$f":"IF(Master!AV216=\"\",\"B\",Master!AV216)","v":"B"},{"$f":"IF(Master!BG216=\"\",\"B\",Master!BG216)","v":"B"},{"$f":"IF(Master!BR216=\"\",\"B\",Master!BR216)","v":"B"}]
[{"$f":"Master!A217","v":"TR"},{"$f":"Master!B217","v":"WSDOT TR: Work Zone Traffic Control Plan Design"},{"$f":"Master!C217","v":"WSDOT_DD7 (day one) and WSDOT_DBK (day two)"},{"$f":"Master!D217","v":"OLT/ILT"},{"$f":"Master!E217","v":"Active"},{"$f":"Master!F217","v":0},{"$f":"Master!H217","v":0},{"$f":"IF(Master!O217=\"\",\"B\",Master!O217)","v":"B"},{"$f":"IF(Master!Z217=\"\",\"B\",Master!Z217)","v":"B"},{"$f":"IF(Master!AK217=\"\",\"B\",Master!AK217)","v":"B"},{"$f":"IF(Master!AV217=\"\",\"B\",Master!AV217)","v":"B"},{"$f":"IF(Master!BG217=\"\",\"B\",Master!BG217)","v":"B"},{"$f":"IF(Master!BR217=\"\",\"B\",Master!BR217)","v":"B"}]
[{"$f":"Master!A218","v":"TR"},{"$f":"Master!B218","v":"**VISUM"},{"$f":"Master!C218","v":0},{"$f":"Master!D218","v":"OLT/ILT"},{"$f":"Master!E218","v":"Inactive"},{"$f":"Master!F218","v":"None"},{"$f":"Master!H218","v":"No technical lead within WSDOT available to teach"},{"$f":"IF(Master!O218=\"\",\"B\",Master!O218)","v":"B"},{"$f":"IF(Master!Z218=\"\",\"B\",Master!Z218)","v":"B"},{"$f":"IF(Master!AK218=\"\",\"B\",Master!AK218)","v":"B"},{"$f":"IF(Master!AV218=\"\",\"B\",Master!AV218)","v":"B"},{"$f":"IF(Master!BG218=\"\",\"B\",Master!BG218)","v":"B"},{"$f":"IF(Master!BR218=\"\",\"B\",Master!BR218)","v":"B"}]
[{"$f":"Master!A219","v":"TR"},{"$f":"Master!B219","v":"**VISSIM"},{"$f":"Master!C219","v":0},{"$f":"Master!D219","v":"OLT/ILT"},{"$f":"Master!E219","v":"Inactive"},{"$f":"Master!F219","v":"None"},{"$f":"Master!H219","v":"No technical lead within WSDOT available to teach"},{"$f":"IF(Master!O219=\"\",\"B\",Master!O219)","v":"B"},{"$f":"IF(Master!Z219=\"\",\"B\",Master!Z219)","v":"B"},{"$f":"IF(Master!AK219=\"\",\"B\",Master!AK219)","v":"B"},{"$f":"IF(Master!AV219=\"\",\"B\",Master!AV219)","v":"B"},{"$f":"IF(Master!BG219=\"\",\"B\",Master!BG219)","v":"B"},{"$f":"IF(Master!BR219=\"\",\"B\",Master!BR219)","v":"B"}]
[{"$f":"Master!A220","v":"TR"},{"$f":"Master!B220","v":"**SIDRA"},{"$f":"Master!C220","v":0},{"$f":"Master!D220","v":"OLT/ILT"},{"$f":"Master!E220","v":"Inactive"},{"$f":"Master!F220","v":"None"},{"$f":"Master!H220","v":"No technical lead within WSDOT available to teach"},{"$f":"IF(Master!O220=\"\",\"B\",Master!O220)","v":"B"},{"$f":"IF(Master!Z220=\"\",\"B\",Master!Z220)","v":"B"},{"$f":"IF(Master!AK220=\"\",\"B\",Master!AK220)","v":"B"},{"$f":"IF(Master!AV220=\"\",\"B\",Master!AV220)","v":"B"},{"$f":"IF(Master!BG220=\"\",\"B\",Master!BG220)","v":"B"},{"$f":"IF(Master!BR220=\"\",\"B\",Master!BR220)","v":"B"}]
[{"$f":"Master!A221","v":"TR"},{"$f":"Master!B221","v":"**SYNCHRO"},{"$f":"Master!C221","v":0},{"$f":"Master!D221","v":"OLT/ILT"},{"$f":"Master!E221","v":"Inactive"},{"$f":"Master!F221","v":"None"},{"$f":"Master!H221","v":"No technical lead within WSDOT available to teach"},{"$f":"IF(Master!O221=\"\",\"B\",Master!O221)","v":"B"},{"$f":"IF(Master!Z221=\"\",\"B\",Master!Z221)","v":"B"},{"$f":"IF(Master!AK221=\"\",\"B\",Master!AK221)","v":"B"},{"$f":"IF(Master!AV221=\"\",\"B\",Master!AV221)","v":"B"},{"$f":"IF(Master!BG221=\"\",\"B\",Master!BG221)","v":"B"},{"$f":"IF(Master!BR221=\"\",\"B\",Master!BR221)","v":"B"}]
[{"$f":"Master!A222","v":"TR"},{"$f":"Master!B222","v":"WSDOT PSHSM: Highway Safety Manual Level B"},{"$f":"Master!C222","v":"PSHSM_B01"},{"$f":"Master!D222","v":"OLT/ILT"},{"$f":"Master!E222","v":"Inactive"},{"$f":"Master!F222","v":"None"},{"$f":"Master!H222","v":"No technical lead within WSDOT available to teach"},{"$f":"IF(Master!O222=\"\",\"B\",Master!O222)","v":"B"},{"$f":"IF(Master!Z222=\"\",\"B\",Master!Z222)","v":"B"},{"$f":"IF(Master!AK222=\"\",\"B\",Master!AK222)","v":"B"},{"$f":"IF(Master!AV222=\"\",\"B\",Master!AV222)","v":"B"},{"$f":"IF(Master!BG222=\"\",\"B\",Master!BG222)","v":"B"},{"$f":"IF(Master!BR222=\"\",\"B\",Master!BR222)","v":"B"}]
[{"$f":"Master!A223","v":"TR"},{"$f":"Master!B223","v":"WSDOT PSHSM: Highway Safety Manual Level C1"},{"$f":"Master!C223","v":"PSHSM_C01"},{"$f":"Master!D223","v":"OLT/ILT"},{"$f":"Master!E223","v":"Inactive"},{"$f":"Master!F223","v":"None"},{"$f":"Master!H223","v":"No technical lead within WSDOT available to teach"},{"$f":"IF(Master!O223=\"\",\"B\",Master!O223)","v":"B"},{"$f":"IF(Master!Z223=\"\",\"B\",Master!Z223)","v":"B"},{"$f":"IF(Master!AK223=\"\",\"B\",Master!AK223)","v":"B"},{"$f":"IF(Master!AV223=\"\",\"B\",Master!AV223)","v":"B"},{"$f":"IF(Master!BG223=\"\",\"B\",Master!BG223)","v":"B"},{"$f":"IF(Master!BR223=\"\",\"B\",Master!BR223)","v":"B"}]
[{"$f":"Master!A224","v":"TR"},{"$f":"Master!B224","v":"WSDOT PSHSM: Highway Safety Manual Level C2"},{"$f":"Master!C224","v":"PSHSM C2"},{"$f":"Master!D224","v":"OLT/ILT"},{"$f":"Master!E224","v":"Inactive"},{"$f":"Master!F224","v":"None"},{"$f":"Master!H224","v":"No technical lead within WSDOT available to teach"},{"$f":"IF(Master!O224=\"\",\"B\",Master!O224)","v":"B"},{"$f":"IF(Master!Z224=\"\",\"B\",Master!Z224)","v":"B"},{"$f":"IF(Master!AK224=\"\",\"B\",Master!AK224)","v":"B"},{"$f":"IF(Master!AV224=\"\",\"B\",Master!AV224)","v":"B"},{"$f":"IF(Master!BG224=\"\",\"B\",Master!BG224)","v":"B"},{"$f":"IF(Master!BR224=\"\",\"B\",Master!BR224)","v":"B"}]
[{"$f":"Master!A225","v":"TR"},{"$f":"Master!B225","v":"WSDOT PSHSM: Highway Safety Manual Level C3"},{"$f":"Master!C225","v":"PSHSM C3"},{"$f":"Master!D225","v":"OLT/ILT"},{"$f":"Master!E225","v":"Inactive"},{"$f":"Master!F225","v":"None"},{"$f":"Master!H225","v":"No technical lead within WSDOT available to teach"},{"$f":"IF(Master!O225=\"\",\"B\",Master!O225)","v":"B"},{"$f":"IF(Master!Z225=\"\",\"B\",Master!Z225)","v":"B"},{"$f":"IF(Master!AK225=\"\",\"B\",Master!AK225)","v":"B"},{"$f":"IF(Master!AV225=\"\",\"B\",Master!AV225)","v":"B"},{"$f":"IF(Master!BG225=\"\",\"B\",Master!BG225)","v":"B"},{"$f":"IF(Master!BR225=\"\",\"B\",Master!BR225)","v":"B"}]
[{"$f":"Master!A226","v":"TR"},{"$f":"Master!B226","v":"WSDOT PSHSM: Highway Safety Manual Level D1"},{"$f":"Master!C226","v":"PSHSM D1"},{"$f":"Master!D226","v":"OLT/ILT"},{"$f":"Master!E226","v":"Inactive"},{"$f":"Master!F226","v":"None"},{"$f":"Master!H226","v":"No technical lead within WSDOT available to teach"},{"$f":"IF(Master!O226=\"\",\"B\",Master!O226)","v":"B"},{"$f":"IF(Master!Z226=\"\",\"B\",Master!Z226)","v":"B"},{"$f":"IF(Master!AK226=\"\",\"B\",Master!AK226)","v":"B"},{"$f":"IF(Master!AV226=\"\",\"B\",Master!AV226)","v":"B"},{"$f":"IF(Master!BG226=\"\",\"B\",Master!BG226)","v":"B"},{"$f":"IF(Master!BR226=\"\",\"B\",Master!BR226)","v":"B"}]
[{"$f":"Master!A227","v":"TR"},{"$f":"Master!B227","v":"**ILLUMINATION DESIGN FOR TRANSPORTATION APPLICATIONS"},{"$f":"Master!C227","v":0},{"$f":"Master!D227","v":"OLT/ILT"},{"$f":"Master!E227","v":"Under Development"},{"$f":"Master!F227","v":"Q2 2018"},{"$f":"Master!H227","v":0},{"$f":"IF(Master!O227=\"\",\"B\",Master!O227)","v":"B"},{"$f":"IF(Master!Z227=\"\",\"B\",Master!Z227)","v":"B"},{"$f":"IF(Master!AK227=\"\",\"B\",Master!AK227)","v":"B"},{"$f":"IF(Master!AV227=\"\",\"B\",Master!AV227)","v":"B"},{"$f":"IF(Master!BG227=\"\",\"B\",Master!BG227)","v":"B"},{"$f":"IF(Master!BR227=\"\",\"B\",Master!BR227)","v":"B"}]
[{"$f":"Master!A228","v":"TR"},{"$f":"Master!B228","v":"WSDOT TR: Power Supply Design for Transportation Applications"},{"$f":"Master!C228","v":"WSDOT_BZA"},{"$f":"Master!D228","v":"OLT/ILT"},{"$f":"Master!E228","v":"Active"},{"$f":"Master!F228","v":0},{"$f":"Master!H228","v":0},{"$f":"IF(Master!O228=\"\",\"B\",Master!O228)","v":"B"},{"$f":"IF(Master!Z228=\"\",\"B\",Master!Z228)","v":"B"},{"$f":"IF(Master!AK228=\"\",\"B\",Master!AK228)","v":"B"},{"$f":"IF(Master!AV228=\"\",\"B\",Master!AV228)","v":"B"},{"$f":"IF(Master!BG228=\"\",\"B\",Master!BG228)","v":"B"},{"$f":"IF(Master!BR228=\"\",\"B\",Master!BR228)","v":"B"}]
[{"$f":"Master!A229","v":"TR"},{"$f":"Master!B229","v":"**TRAFFIC SIGNAL LAYOUT AND CONDUCTOR TERMINATION"},{"$f":"Master!C229","v":0},{"$f":"Master!D229","v":"OLT/ILT"},{"$f":"Master!E229","v":"Inactive"},{"$f":"Master!F229","v":0},{"$f":"Master!H229","v":"No technical lead within WSDOT available to teach"},{"$f":"IF(Master!O229=\"\",\"B\",Master!O229)","v":"B"},{"$f":"IF(Master!Z229=\"\",\"B\",Master!Z229)","v":"B"},{"$f":"IF(Master!AK229=\"\",\"B\",Master!AK229)","v":"B"},{"$f":"IF(Master!AV229=\"\",\"B\",Master!AV229)","v":"B"},{"$f":"IF(Master!BG229=\"\",\"B\",Master!BG229)","v":"B"},{"$f":"IF(Master!BR229=\"\",\"B\",Master!BR229)","v":"B"}]
[{"$f":"Master!A230","v":"TR"},{"$f":"Master!B230","v":"**SIGN DESIGN"},{"$f":"Master!C230","v":0},{"$f":"Master!D230","v":"OLT/ILT"},{"$f":"Master!E230","v":"Inactive"},{"$f":"Master!F230","v":"None"},{"$f":"Master!H230","v":"No technical lead within WSDOT available to teach"},{"$f":"IF(Master!O230=\"\",\"B\",Master!O230)","v":"B"},{"$f":"IF(Master!Z230=\"\",\"B\",Master!Z230)","v":"B"},{"$f":"IF(Master!AK230=\"\",\"B\",Master!AK230)","v":"B"},{"$f":"IF(Master!AV230=\"\",\"B\",Master!AV230)","v":"B"},{"$f":"IF(Master!BG230=\"\",\"B\",Master!BG230)","v":"B"},{"$f":"IF(Master!BR230=\"\",\"B\",Master!BR230)","v":"B"}]
[{"$f":"Master!A231","v":"TR"},{"$f":"Master!B231","v":"WSDOT NHI: TR-Traffic Signal Design and Operations"},{"$f":"Master!C231","v":"WSDOT_TSD"},{"$f":"Master!D231","v":"OLT/ILT"},{"$f":"Master!E231","v":"Inactive"},{"$f":"Master!F231","v":"None"},{"$f":"Master!H231","v":"No technical lead within WSDOT available to teach"},{"$f":"IF(Master!O231=\"\",\"B\",Master!O231)","v":"B"},{"$f":"IF(Master!Z231=\"\",\"B\",Master!Z231)","v":"B"},{"$f":"IF(Master!AK231=\"\",\"B\",Master!AK231)","v":"B"},{"$f":"IF(Master!AV231=\"\",\"B\",Master!AV231)","v":"B"},{"$f":"IF(Master!BG231=\"\",\"B\",Master!BG231)","v":"B"},{"$f":"IF(Master!BR231=\"\",\"B\",Master!BR231)","v":"B"}]
[{"$f":"Master!A232","v":"TR"},{"$f":"Master!B232","v":"WSDOT NHI: TR-Traffic Signal Timing Concepts"},{"$f":"Master!C232","v":"WSDOT_STC"},{"$f":"Master!D232","v":"OLT/ILT"},{"$f":"Master!E232","v":"Inactive"},{"$f":"Master!F232","v":"None"},{"$f":"Master!H232","v":"No technical lead within WSDOT available to teach"},{"$f":"IF(Master!O232=\"\",\"B\",Master!O232)","v":"B"},{"$f":"IF(Master!Z232=\"\",\"B\",Master!Z232)","v":"B"},{"$f":"IF(Master!AK232=\"\",\"B\",Master!AK232)","v":"B"},{"$f":"IF(Master!AV232=\"\",\"B\",Master!AV232)","v":"B"},{"$f":"IF(Master!BG232=\"\",\"B\",Master!BG232)","v":"B"},{"$f":"IF(Master!BR232=\"\",\"B\",Master!BR232)","v":"B"}]
[{"$f":"Master!A233","v":"TR"},{"$f":"Master!B233","v":"**SYSTEMS ENGINEERING FOR SIGNAL SYSTEMS"},{"$f":"Master!C233","v":0},{"$f":"Master!D233","v":"OLT/ILT"},{"$f":"Master!E233","v":"Inactive"},{"$f":"Master!F233","v":"None"},{"$f":"Master!H233","v":"No technical lead within WSDOT available to teach"},{"$f":"IF(Master!O233=\"\",\"B\",Master!O233)","v":"B"},{"$f":"IF(Master!Z233=\"\",\"B\",Master!Z233)","v":"B"},{"$f":"IF(Master!AK233=\"\",\"B\",Master!AK233)","v":"B"},{"$f":"IF(Master!AV233=\"\",\"B\",Master!AV233)","v":"B"},{"$f":"IF(Master!BG233=\"\",\"B\",Master!BG233)","v":"B"},{"$f":"IF(Master!BR233=\"\",\"B\",Master!BR233)","v":"B"}]
[{"$f":"Master!A234","v":"TR"},{"$f":"Master!B234","v":"**TRAFFIC SIGNAL MANAGEMENT"},{"$f":"Master!C234","v":0},{"$f":"Master!D234","v":"OLT/ILT"},{"$f":"Master!E234","v":"Inactive"},{"$f":"Master!F234","v":"None"},{"$f":"Master!H234","v":"No technical lead within WSDOT available to teach"},{"$f":"IF(Master!O234=\"\",\"B\",Master!O234)","v":"B"},{"$f":"IF(Master!Z234=\"\",\"B\",Master!Z234)","v":"B"},{"$f":"IF(Master!AK234=\"\",\"B\",Master!AK234)","v":"B"},{"$f":"IF(Master!AV234=\"\",\"B\",Master!AV234)","v":"B"},{"$f":"IF(Master!BG234=\"\",\"B\",Master!BG234)","v":"B"},{"$f":"IF(Master!BR234=\"\",\"B\",Master!BR234)","v":"B"}]
[{"$f":"Master!A235","v":"TR"},{"$f":"Master!B235","v":"**ITS PROCUREMENT"},{"$f":"Master!C235","v":0},{"$f":"Master!D235","v":"OLT/ILT"},{"$f":"Master!E235","v":"Inactive"},{"$f":"Master!F235","v":"None"},{"$f":"Master!H235","v":"No technical lead within WSDOT available to teach"},{"$f":"IF(Master!O235=\"\",\"B\",Master!O235)","v":"B"},{"$f":"IF(Master!Z235=\"\",\"B\",Master!Z235)","v":"B"},{"$f":"IF(Master!AK235=\"\",\"B\",Master!AK235)","v":"B"},{"$f":"IF(Master!AV235=\"\",\"B\",Master!AV235)","v":"B"},{"$f":"IF(Master!BG235=\"\",\"B\",Master!BG235)","v":"B"},{"$f":"IF(Master!BR235=\"\",\"B\",Master!BR235)","v":"B"}]
[{"$f":"Master!A236","v":"TR"},{"$f":"Master!B236","v":"**BASICS OF TRANSPORTATION PLANNING"},{"$f":"Master!C236","v":0},{"$f":"Master!D236","v":"OLT/ILT"},{"$f":"Master!E236","v":"Inactive"},{"$f":"Master!F236","v":"None"},{"$f":"Master!H236","v":"No technical lead within WSDOT available to teach"},{"$f":"IF(Master!O236=\"\",\"B\",Master!O236)","v":"B"},{"$f":"IF(Master!Z236=\"\",\"B\",Master!Z236)","v":"B"},{"$f":"IF(Master!AK236=\"\",\"B\",Master!AK236)","v":"B"},{"$f":"IF(Master!AV236=\"\",\"B\",Master!AV236)","v":"B"},{"$f":"IF(Master!BG236=\"\",\"B\",Master!BG236)","v":"B"},{"$f":"IF(Master!BR236=\"\",\"B\",Master!BR236)","v":"B"}]
[{"$f":"Master!A237","v":"TR"},{"$f":"Master!B237","v":"**ADA/APS DESIGN"},{"$f":"Master!C237","v":0},{"$f":"Master!D237","v":"OLT/ILT"},{"$f":"Master!E237","v":"Inactive"},{"$f":"Master!F237","v":"None"},{"$f":"Master!H237","v":"No technical lead within WSDOT available to teach"},{"$f":"IF(Master!O237=\"\",\"B\",Master!O237)","v":"B"},{"$f":"IF(Master!Z237=\"\",\"B\",Master!Z237)","v":"B"},{"$f":"IF(Master!AK237=\"\",\"B\",Master!AK237)","v":"B"},{"$f":"IF(Master!AV237=\"\",\"B\",Master!AV237)","v":"B"},{"$f":"IF(Master!BG237=\"\",\"B\",Master!BG237)","v":"B"},{"$f":"IF(Master!BR237=\"\",\"B\",Master!BR237)","v":"B"}]
[{"$f":"Master!A238","v":"TR"},{"$f":"Master!B238","v":"**SIGNAL WARRANT ANALYSIS"},{"$f":"Master!C238","v":0},{"$f":"Master!D238","v":"OLT/ILT"},{"$f":"Master!E238","v":"Inactive"},{"$f":"Master!F238","v":"None"},{"$f":"Master!H238","v":"No technical lead within WSDOT available to teach"},{"$f":"IF(Master!O238=\"\",\"B\",Master!O238)","v":"B"},{"$f":"IF(Master!Z238=\"\",\"B\",Master!Z238)","v":"B"},{"$f":"IF(Master!AK238=\"\",\"B\",Master!AK238)","v":"B"},{"$f":"IF(Master!AV238=\"\",\"B\",Master!AV238)","v":"B"},{"$f":"IF(Master!BG238=\"\",\"B\",Master!BG238)","v":"B"},{"$f":"IF(Master!BR238=\"\",\"B\",Master!BR238)","v":"B"}]
[{"$f":"Master!A239","v":"TR"},{"$f":"Master!B239","v":"WSDOT TR: Introduction to ITS Design"},{"$f":"Master!C239","v":"WSDOT_DA6"},{"$f":"Master!D239","v":"OLT/ILT"},{"$f":"Master!E239","v":"Inactive"},{"$f":"Master!F239","v":"None"},{"$f":"Master!H239","v":"No technical lead within WSDOT available to teach"},{"$f":"IF(Master!O239=\"\",\"B\",Master!O239)","v":"B"},{"$f":"IF(Master!Z239=\"\",\"B\",Master!Z239)","v":"B"},{"$f":"IF(Master!AK239=\"\",\"B\",Master!AK239)","v":"B"},{"$f":"IF(Master!AV239=\"\",\"B\",Master!AV239)","v":"B"},{"$f":"IF(Master!BG239=\"\",\"B\",Master!BG239)","v":"B"},{"$f":"IF(Master!BR239=\"\",\"B\",Master!BR239)","v":"B"}]
[{"$f":"Master!A240","v":"TR"},{"$f":"Master!B240","v":"WSDOT TR: Intermediate/Advanced ITS Design"},{"$f":"Master!C240","v":"WSDOT_DA7"},{"$f":"Master!D240","v":"OLT/ILT"},{"$f":"Master!E240","v":"Inactive"},{"$f":"Master!F240","v":"None"},{"$f":"Master!H240","v":"No technical lead within WSDOT available to teach"},{"$f":"IF(Master!O240=\"\",\"B\",Master!O240)","v":"B"},{"$f":"IF(Master!Z240=\"\",\"B\",Master!Z240)","v":"B"},{"$f":"IF(Master!AK240=\"\",\"B\",Master!AK240)","v":"B"},{"$f":"IF(Master!AV240=\"\",\"B\",Master!AV240)","v":"B"},{"$f":"IF(Master!BG240=\"\",\"B\",Master!BG240)","v":"B"},{"$f":"IF(Master!BR240=\"\",\"B\",Master!BR240)","v":"B"}]
[{"$f":"Master!A241","v":"TR"},{"$f":"Master!B241","v":"**BASIC HIGHWAY CAPACITY FOR ENGINEERS AND PLANNERS"},{"$f":"Master!C241","v":0},{"$f":"Master!D241","v":"OLT/ILT"},{"$f":"Master!E241","v":"Inactive"},{"$f":"Master!F241","v":"None"},{"$f":"Master!H241","v":"No technical lead within WSDOT available to teach"},{"$f":"IF(Master!O241=\"\",\"B\",Master!O241)","v":"B"},{"$f":"IF(Master!Z241=\"\",\"B\",Master!Z241)","v":"B"},{"$f":"IF(Master!AK241=\"\",\"B\",Master!AK241)","v":"B"},{"$f":"IF(Master!AV241=\"\",\"B\",Master!AV241)","v":"B"},{"$f":"IF(Master!BG241=\"\",\"B\",Master!BG241)","v":"B"},{"$f":"IF(Master!BR241=\"\",\"B\",Master!BR241)","v":"B"}]
[{"$f":"Master!A242","v":"TR"},{"$f":"Master!B242","v":"WSDOT UW: Gen-Uniform Traffic Control Devices"},{"$f":"Master!C242","v":"WSDOT_BML"},{"$f":"Master!D242","v":"OLT/ILT"},{"$f":"Master!E242","v":"Inactive"},{"$f":"Master!F242","v":"None"},{"$f":"Master!H242","v":"No technical lead within WSDOT available to teach"},{"$f":"IF(Master!O242=\"\",\"B\",Master!O242)","v":"B"},{"$f":"IF(Master!Z242=\"\",\"B\",Master!Z242)","v":"B"},{"$f":"IF(Master!AK242=\"\",\"B\",Master!AK242)","v":"B"},{"$f":"IF(Master!AV242=\"\",\"B\",Master!AV242)","v":"B"},{"$f":"IF(Master!BG242=\"\",\"B\",Master!BG242)","v":"B"},{"$f":"IF(Master!BR242=\"\",\"B\",Master!BR242)","v":"B"}]
[{"$f":"Master!A243","v":"TR"},{"$f":"Master!B243","v":"WSDOT UW: TR-Advanced Highway Capacity Analysis"},{"$f":"Master!C243","v":"WSDOT_A3C"},{"$f":"Master!D243","v":"OLT/ILT"},{"$f":"Master!E243","v":"Inactive"},{"$f":"Master!F243","v":"None"},{"$f":"Master!H243","v":"No technical lead within WSDOT available to teach"},{"$f":"IF(Master!O243=\"\",\"B\",Master!O243)","v":"B"},{"$f":"IF(Master!Z243=\"\",\"B\",Master!Z243)","v":"B"},{"$f":"IF(Master!AK243=\"\",\"B\",Master!AK243)","v":"B"},{"$f":"IF(Master!AV243=\"\",\"B\",Master!AV243)","v":"B"},{"$f":"IF(Master!BG243=\"\",\"B\",Master!BG243)","v":"B"},{"$f":"IF(Master!BR243=\"\",\"B\",Master!BR243)","v":"B"}]
[{"$f":"Master!A244","v":"TR"},{"$f":"Master!B244","v":"WSDOT UW: TR-Fundamentals of Traffic Engineering"},{"$f":"Master!C244","v":"WSDOT_BS3"},{"$f":"Master!D244","v":"OLT/ILT"},{"$f":"Master!E244","v":"Inactive"},{"$f":"Master!F244","v":"None"},{"$f":"Master!H244","v":"No technical lead within WSDOT available to teach"},{"$f":"IF(Master!O244=\"\",\"B\",Master!O244)","v":"B"},{"$f":"IF(Master!Z244=\"\",\"B\",Master!Z244)","v":"B"},{"$f":"IF(Master!AK244=\"\",\"B\",Master!AK244)","v":"B"},{"$f":"IF(Master!AV244=\"\",\"B\",Master!AV244)","v":"B"},{"$f":"IF(Master!BG244=\"\",\"B\",Master!BG244)","v":"B"},{"$f":"IF(Master!BR244=\"\",\"B\",Master!BR244)","v":"B"}]
[{"$f":"Master!A245","v":"TR"},{"$f":"Master!B245","v":"WSDOT UW:TR-Traffic Engineering Operations"},{"$f":"Master!C245","v":"WSDOT_BS4"},{"$f":"Master!D245","v":"OLT/ILT"},{"$f":"Master!E245","v":"Inactive"},{"$f":"Master!F245","v":"None"},{"$f":"Master!H245","v":"No technical lead within WSDOT available to teach"},{"$f":"IF(Master!O245=\"\",\"B\",Master!O245)","v":"B"},{"$f":"IF(Master!Z245=\"\",\"B\",Master!Z245)","v":"B"},{"$f":"IF(Master!AK245=\"\",\"B\",Master!AK245)","v":"B"},{"$f":"IF(Master!AV245=\"\",\"B\",Master!AV245)","v":"B"},{"$f":"IF(Master!BG245=\"\",\"B\",Master!BG245)","v":"B"},{"$f":"IF(Master!BR245=\"\",\"B\",Master!BR245)","v":"B"}]
[{"$f":"Master!A246","v":0},{"$f":"Master!B246","v":"** no LMS course"},{"$f":"Master!C246","v":0},{"$f":"Master!D246","v":0},{"$f":"Master!E246","v":0},{"$f":"Master!F246","v":0},{"$f":"Master!H246","v":0}]
[{"$f":"Master!A247","v":0},{"$f":"Master!B247","v":"*** SS=Self Study, OLT=Online Training, ILT=Instructor Led Training"},{"$f":"Master!C247","v":0},{"$f":"Master!D247","v":0},{"$f":"Master!E247","v":0},{"$f":"Master!F247","v":0},{"$f":"Master!H247","v":0}]
[{"$f":"Master!A248","v":"ES"},{"$f":"Master!B248","v":"= Course offered by Department of Enterprise Services (DES). Contact LMS Helpdesk at 360-705-7060."},{"$f":"Master!C248","v":0},{"$f":"Master!D248","v":0},{"$f":"Master!E248","v":0},{"$f":"Master!F248","v":0},{"$f":"Master!H248","v":0}]
[{"$f":"Master!A249","v":"HR"},{"$f":"Master!B249","v":"= Course registration controlled by Human Resources. Contact LMS Helpdesk at 360-705-7060 to Register."},{"$f":"Master!C249","v":0},{"$f":"Master!D249","v":0},{"$f":"Master!E249","v":0},{"$f":"Master!F249","v":0},{"$f":"Master!H249","v":0}]
[{"$f":"Master!A250","v":0},{"$f":"Master!B250","v":0},{"$f":"Master!C250","v":0},{"$f":"Master!D250","v":0},{"$f":"Master!E250","v":0},{"$f":"Master!F250","v":0},{"$f":"Master!H250","v":0}]
[{"$f":"Master!A251","v":0},{"$f":"Master!B251","v":0},{"$f":"Master!C251","v":0},{"$f":"Master!D251","v":0},{"$f":"Master!E251","v":0},{"$f":"Master!F251","v":0},{"$f":"Master!H251","v":0}]
[{"$f":"Master!A252","v":0},{"$f":"Master!B252","v":0},{"$f":"Master!C252","v":0},{"$f":"Master!D252","v":0},{"$f":"Master!E252","v":0},{"$f":"Master!F252","v":0},{"$f":"Master!H252","v":0}]
[{"$f":"Master!A253","v":0},{"$f":"Master!B253","v":0},{"$f":"Master!C253","v":0},{"$f":"Master!D253","v":0},{"$f":"Master!E253","v":0},{"$f":"Master!F253","v":0},{"$f":"Master!H253","v":0}]
[{"$f":"Master!A254","v":0},{"$f":"Master!B254","v":0},{"$f":"Master!C254","v":0},{"$f":"Master!D254","v":0},{"$f":"Master!E254","v":0},{"$f":"Master!F254","v":0},{"$f":"Master!H254","v":0}]
[{"$f":"Master!A255","v":0},{"$f":"Master!B255","v":0},{"$f":"Master!C255","v":0},{"$f":"Master!D255","v":0},{"$f":"Master!E255","v":0},{"$f":"Master!F255","v":0},{"$f":"Master!H255","v":0}]
[{"$f":"Master!A256","v":0},{"$f":"Master!B256","v":0},{"$f":"Master!C256","v":0},{"$f":"Master!D256","v":0},{"$f":"Master!E256","v":0},{"$f":"Master!F256","v":0},{"$f":"Master!H256","v":0}]
[{"$f":"Master!A257","v":0},{"$f":"Master!B257","v":0},{"$f":"Master!C257","v":0},{"$f":"Master!D257","v":0},{"$f":"Master!E257","v":0},{"$f":"Master!F257","v":0},{"$f":"Master!H257","v":0}]
[{"$f":"Master!A258","v":0},{"$f":"Master!B258","v":0},{"$f":"Master!C258","v":0},{"$f":"Master!D258","v":0},{"$f":"Master!E258","v":0},{"$f":"Master!F258","v":0},{"$f":"Master!H258","v":0}]
[{"$f":"Master!A259","v":0},{"$f":"Master!B259","v":0},{"$f":"Master!C259","v":0},{"$f":"Master!D259","v":0},{"$f":"Master!E259","v":0},{"$f":"Master!F259","v":0},{"$f":"Master!H259","v":0}]
[{"$f":"Master!A260","v":0},{"$f":"Master!B260","v":0},{"$f":"Master!C260","v":0},{"$f":"Master!D260","v":0},{"$f":"Master!E260","v":0},{"$f":"Master!F260","v":0},{"$f":"Master!H260","v":0}]
[{"$f":"Master!A261","v":0},{"$f":"Master!B261","v":0},{"$f":"Master!C261","v":0},{"$f":"Master!D261","v":0},{"$f":"Master!E261","v":0},{"$f":"Master!F261","v":0},{"$f":"Master!H261","v":0}]
[{"$f":"Master!A262","v":0},{"$f":"Master!B262","v":0},{"$f":"Master!C262","v":0},{"$f":"Master!D262","v":0},{"$f":"Master!E262","v":0},{"$f":"Master!F262","v":0},{"$f":"Master!H262","v":0}]
[{"$f":"Master!A263","v":0},{"$f":"Master!B263","v":0},{"$f":"Master!C263","v":0},{"$f":"Master!D263","v":0},{"$f":"Master!E263","v":0},{"$f":"Master!F263","v":0},{"$f":"Master!H263","v":0}]
[{"$f":"Master!A264","v":0},{"$f":"Master!B264","v":0},{"$f":"Master!C264","v":0},{"$f":"Master!D264","v":0},{"$f":"Master!E264","v":0},{"$f":"Master!F264","v":0},{"$f":"Master!H264","v":0}]
[{"$f":"Master!A265","v":0},{"$f":"Master!B265","v":0},{"$f":"Master!C265","v":0},{"$f":"Master!D265","v":0},{"$f":"Master!E265","v":0},{"$f":"Master!F265","v":0},{"$f":"Master!H265","v":0}]
[{"$f":"Master!A266","v":0},{"$f":"Master!B266","v":0},{"$f":"Master!C266","v":0},{"$f":"Master!D266","v":0},{"$f":"Master!E266","v":0},{"$f":"Master!F266","v":0},{"$f":"Master!H266","v":0}]
[{"$f":"Master!A267","v":0},{"$f":"Master!B267","v":0},{"$f":"Master!C267","v":0},{"$f":"Master!D267","v":0},{"$f":"Master!E267","v":0},{"$f":"Master!F267","v":0},{"$f":"Master!H267","v":0}]
[{"$f":"Master!A268","v":0},{"$f":"Master!B268","v":0},{"$f":"Master!C268","v":0},{"$f":"Master!D268","v":0},{"$f":"Master!E268","v":0},{"$f":"Master!F268","v":0},{"$f":"Master!H268","v":0}]
[{"$f":"Master!A269","v":0},{"$f":"Master!B269","v":0},{"$f":"Master!C269","v":0},{"$f":"Master!D269","v":0},{"$f":"Master!E269","v":0},{"$f":"Master!F269","v":0},{"$f":"Master!H269","v":0}]
[{"$f":"Master!A270","v":0},{"$f":"Master!B270","v":0},{"$f":"Master!C270","v":0},{"$f":"Master!D270","v":0},{"$f":"Master!E270","v":0},{"$f":"Master!F270","v":0},{"$f":"Master!H270","v":0}]
[{"$f":"Master!A271","v":0},{"$f":"Master!B271","v":0},{"$f":"Master!C271","v":0},{"$f":"Master!D271","v":0},{"$f":"Master!E271","v":0},{"$f":"Master!F271","v":0},{"$f":"Master!H271","v":0}]
[{"$f":"Master!A272","v":0},{"$f":"Master!B272","v":0},{"$f":"Master!C272","v":0},{"$f":"Master!D272","v":0},{"$f":"Master!E272","v":0},{"$f":"Master!F272","v":0},{"$f":"Master!H272","v":0}]
[{"$f":"Master!A273","v":0},{"$f":"Master!B273","v":0},{"$f":"Master!C273","v":0},{"$f":"Master!D273","v":0},{"$f":"Master!E273","v":0},{"$f":"Master!F273","v":0},{"$f":"Master!H273","v":0}]
[{"$f":"Master!A274","v":0},{"$f":"Master!B274","v":0},{"$f":"Master!C274","v":0},{"$f":"Master!D274","v":0},{"$f":"Master!E274","v":0},{"$f":"Master!F274","v":0},{"$f":"Master!H274","v":0}]
[{"$f":"Master!A275","v":0},{"$f":"Master!B275","v":0},{"$f":"Master!C275","v":0},{"$f":"Master!D275","v":0},{"$f":"Master!E275","v":0},{"$f":"Master!F275","v":0},{"$f":"Master!H275","v":0}]
[{"$f":"Master!A276","v":0},{"$f":"Master!B276","v":0},{"$f":"Master!C276","v":0},{"$f":"Master!D276","v":0},{"$f":"Master!E276","v":0},{"$f":"Master!F276","v":0},{"$f":"Master!H276","v":0}]
[{"$f":"Master!A277","v":0},{"$f":"Master!B277","v":0},{"$f":"Master!C277","v":0},{"$f":"Master!D277","v":0},{"$f":"Master!E277","v":0},{"$f":"Master!F277","v":0},{"$f":"Master!H277","v":0}]
[{"$f":"Master!A278","v":0},{"$f":"Master!B278","v":0},{"$f":"Master!C278","v":0},{"$f":"Master!D278","v":0},{"$f":"Master!E278","v":0},{"$f":"Master!F278","v":0},{"$f":"Master!H278","v":0}]
[{"$f":"Master!A279","v":0},{"$f":"Master!B279","v":0},{"$f":"Master!C279","v":0},{"$f":"Master!D279","v":0},{"$f":"Master!E279","v":0},{"$f":"Master!F279","v":0},{"$f":"Master!H279","v":0}]
[{"$f":"Master!A280","v":0},{"$f":"Master!B280","v":0},{"$f":"Master!C280","v":0},{"$f":"Master!D280","v":0},{"$f":"Master!E280","v":0},{"$f":"Master!F280","v":0},{"$f":"Master!H280","v":0}]
[{"$f":"Master!A281","v":0},{"$f":"Master!B281","v":0},{"$f":"Master!C281","v":0},{"$f":"Master!D281","v":0},{"$f":"Master!E281","v":0},{"$f":"Master!F281","v":0},{"$f":"Master!H281","v":0}]
[{"$f":"Master!A282","v":0},{"$f":"Master!B282","v":0},{"$f":"Master!C282","v":0},{"$f":"Master!D282","v":0},{"$f":"Master!E282","v":0},{"$f":"Master!F282","v":0},{"$f":"Master!H282","v":0}]
[{"$f":"Master!A283","v":0},{"$f":"Master!B283","v":0},{"$f":"Master!C283","v":0},{"$f":"Master!D283","v":0},{"$f":"Master!E283","v":0},{"$f":"Master!F283","v":0},{"$f":"Master!H283","v":0}]

{"sheet":"MFI","index":17,"n_rows":283,"n_cols":13,"rows_kept":283,"cut":false,"hidden":false,"merged":[[191,0,191,6],[202,0,202,6],[210,0,210,6],[213,0,213,6],[85,0,85,6],[88,0,88,6],[95,0,95,6],[151,0,151,6],[152,0,152,6],[185,0,185,6],[83,0,83,6],[2,0,2,6],[13,0,13,6],[48,0,48,6],[49,0,49,6],[52,0,52,6],[55,0,55,6],[58,0,58,6],[60,0,60,6],[63,0,63,6],[70,0,70,6],[76,0,76,6]]}
[null,null,null,7,6]
["Responsible Division","LMS COURSE NAME"," LMS COURSE CODE","Self Study (SS), \nOnline (OLT), or \nInstructor Led (ILT)","TRAINING\nSTATUS","If training status is \"inactive\", when will the course be developed?","NOTES","TT1","TT2","TT3","TE1","TE2","TE3"]
["Mandatory",null,null,null,null,null,null,{"$f":"IF(Master!P3=\"\",\"B\",Master!P3)","v":"B"},{"$f":"IF(Master!AA3=\"\",\"B\",Master!AA3)","v":"B"},{"$f":"IF(Master!AL3=\"\",\"B\",Master!AL3)","v":"B"},{"$f":"IF(Master!AW3=\"\",\"B\",Master!AW3)","v":"B"},{"$f":"IF(Master!BH3=\"\",\"B\",Master!BH3)","v":"B"},{"$f":"IF(Master!BS3=\"\",\"B\",Master!BS3)","v":"B"}]
[{"$f":"Master!A4","v":"HR"},{"$f":"Master!B4","v":"WA-State Ethics in State Government"},{"$f":"Master!C4","v":"WA-State Ethics 8-7-2014-V6"},{"$f":"Master!D4","v":"OLT"},{"$f":"Master!E4","v":"Active"},{"$f":"Master!F4","v":0},{"$f":"Master!H4","v":"To register for this course, \ncall the LMS Helpdesk at \n360-705-7060."},{"$f":"IF(Master!P4=\"\",\"B\",Master!P4)","v":"M"},{"$f":"IF(Master!AA4=\"\",\"B\",Master!AA4)","v":"M"},{"$f":"IF(Master!AL4=\"\",\"B\",Master!AL4)","v":"M"},{"$f":"IF(Master!AW4=\"\",\"B\",Master!AW4)","v":"M"},{"$f":"IF(Master!BH4=\"\",\"B\",Master!BH4)","v":"M"},{"$f":"IF(Master!BS4=\"\",\"B\",Master!BS4)","v":"M"}]
[{"$f":"Master!A5","v":"HR"},{"$f":"Master!B5","v":"WSDOT Mandatory: Ethical Standards WSDOT Specific Training"},{"$f":"Master!C5","v":"WSDOT_BKB Specific"},{"$f":"Master!D5","v":"OLT"},{"$f":"Master!E5","v":"Active"},{"$f":"Master!F5","v":0},{"$f":"Master!H5","v":"To register for this course, \ncall the LMS Helpdesk at \n360-705-7060."},{"$f":"IF(Master!P5=\"\",\"B\",Master!P5)","v":"M"},{"$f":"IF(Master!AA5=\"\",\"B\",Master!AA5)","v":"M"},{"$f":"IF(Master!AL5=\"\",\"B\",Master!AL5)","v":"M"},{"$f":"IF(Master!AW5=\"\",\"B\",Master!AW5)","v":"M"},{"$f":"IF(Master!BH5=\"\",\"B\",Master!BH5)","v":"M"},{"$f":"IF(Master!BS5=\"\",\"B\",Master!BS5)","v":"M"}]
[{"$f":"Master!A6","v":"HR"},{"$f":"Master!B6","v":"WSDOT Mandatory: System Security Awareness For Transportation Employees (Self Study)"},{"$f":"Master!C6","v":"WSDOT_CJJ_UDT"},{"$f":"Master!D6","v":"SS"},{"$f":"Master!E6","v":"Active"},{"$f":"Master!F6","v":0},{"$f":"Master!H6","v":"To register for this course, \ncall the LMS Helpdesk at \n360-705-7060."},{"$f":"IF(Master!P6=\"\",\"B\",Master!P6)","v":"M"},{"$f":"IF(Master!AA6=\"\",\"B\",Master!AA6)","v":"M"},{"$f":"IF(Master!AL6=\"\",\"B\",Master!AL6)","v":"M"},{"$f":"IF(Master!AW6=\"\",\"B\",Master!AW6)","v":"M"},{"$f":"IF(Master!BH6=\"\",\"B\",Master!BH6)","v":"M"},{"$f":"IF(Master!BS6=\"\",\"B\",Master!BS6)","v":"M"}]
[{"$f":"Master!A7","v":"HR"},{"$f":"Master!B7","v":"WSDOT Mandatory: Violence That Affects The Workplace (Self Study)"},{"$f":"Master!C7","v":"WSDOT_B9V"},{"$f":"Master!D7","v":"SS"},{"$f":"Master!E7","v":"Active"},{"$f":"Master!F7","v":0},{"$f":"Master!H7","v":"To register for this course, \ncall the LMS Helpdesk at \n360-705-7060."},{"$f":"IF(Master!P7=\"\",\"B\",Master!P7)","v":"M"},{"$f":"IF(Master!AA7=\"\",\"B\",Master!AA7)","v":"M"},{"$f":"IF(Master!AL7=\"\",\"B\",Master!AL7)","v":"M"},{"$f":"IF(Master!AW7=\"\",\"B\",Master!AW7)","v":"M"},{"$f":"IF(Master!BH7=\"\",\"B\",Master!BH7)","v":"M"},{"$f":"IF(Master!BS7=\"\",\"B\",Master!BS7)","v":"M"}]
[{"$f":"Master!A8","v":"HR"},{"$f":"Master!B8","v":"WA-State IT Security Awareness Training"},{"$f":"Master!C8","v":"WA-State IT Security Awareness Training - Initial Training-8/16/2013"},{"$f":"Master!D8","v":"OLT"},{"$f":"Master!E8","v":"Active"},{"$f":"Master!F8","v":0},{"$f":"Master!H8","v":"To register for this course, \ncall the LMS Helpdesk at \n360-705-7060."},{"$f":"IF(Master!P8=\"\",\"B\",Master!P8)","v":"M"},{"$f":"IF(Master!AA8=\"\",\"B\",Master!AA8)","v":"M"},{"$f":"IF(Master!AL8=\"\",\"B\",Master!AL8)","v":"M"},{"$f":"IF(Master!AW8=\"\",\"B\",Master!AW8)","v":"M"},{"$f":"IF(Master!BH8=\"\",\"B\",Master!BH8)","v":"M"},{"$f":"IF(Master!BS8=\"\",\"B\",Master!BS8)","v":"M"}]
[{"$f":"Master!A9","v":"HR"},{"$f":"Master!B9","v":"WA-State Sexual Harassment Awareness and Prevention"},{"$f":"Master!C9","v":"DES_shap_2013_Updated_9-3-2014"},{"$f":"Master!D9","v":"OLT"},{"$f":"Master!E9","v":"Active"},{"$f":"Master!F9","v":0},{"$f":"Master!H9","v":"To register for this course, \ncall the LMS Helpdesk at \n360-705-7060."},{"$f":"IF(Master!P9=\"\",\"B\",Master!P9)","v":"M"},{"$f":"IF(Master!AA9=\"\",\"B\",Master!AA9)","v":"M"},{"$f":"IF(Master!AL9=\"\",\"B\",Master!AL9)","v":"M"},{"$f":"IF(Master!AW9=\"\",\"B\",Master!AW9)","v":"M"},{"$f":"IF(Master!BH9=\"\",\"B\",Master!BH9)","v":"M"},{"$f":"IF(Master!BS9=\"\",\"B\",Master!BS9)","v":"M"}]
[{"$f":"Master!A10","v":"HR"},{"$f":"Master!B10","v":"WSDOT Mandatory: Disability Awareness Step 1, Understanding the Americans with Disabilities Act (ADA)  "},{"$f":"Master!C10","v":"lchr_01_a15_lc_enus"},{"$f":"Master!D10","v":"OLT"},{"$f":"Master!E10","v":"Active"},{"$f":"Master!F10","v":0},{"$f":"Master!H10","v":"To register for this course, \ncall the LMS Helpdesk at \n360-705-7060."},{"$f":"IF(Master!P10=\"\",\"B\",Master!P10)","v":"M"},{"$f":"IF(Master!AA10=\"\",\"B\",Master!AA10)","v":"M"},{"$f":"IF(Master!AL10=\"\",\"B\",Master!AL10)","v":"M"},{"$f":"IF(Master!AW10=\"\",\"B\",Master!AW10)","v":"M"},{"$f":"IF(Master!BH10=\"\",\"B\",Master!BH10)","v":"M"},{"$f":"IF(Master!BS10=\"\",\"B\",Master!BS10)","v":"M"}]
[{"$f":"Master!A11","v":"HR"},{"$f":"Master!B11","v":"WSDOT Mandatory: Disability Awareness Step 2 of Learning Plan"},{"$f":"Master!C11","v":"WSDOT_CD8_UDT2"},{"$f":"Master!D11","v":"OLT"},{"$f":"Master!E11","v":"Active"},{"$f":"Master!F11","v":0},{"$f":"Master!H11","v":"To register for this course, \ncall the LMS Helpdesk at \n360-705-7060."},{"$f":"IF(Master!P11=\"\",\"B\",Master!P11)","v":"M"},{"$f":"IF(Master!AA11=\"\",\"B\",Master!AA11)","v":"M"},{"$f":"IF(Master!AL11=\"\",\"B\",Master!AL11)","v":"M"},{"$f":"IF(Master!AW11=\"\",\"B\",Master!AW11)","v":"M"},{"$f":"IF(Master!BH11=\"\",\"B\",Master!BH11)","v":"M"},{"$f":"IF(Master!BS11=\"\",\"B\",Master!BS11)","v":"M"}]
[{"$f":"Master!A12","v":"HR"},{"$f":"Master!B12","v":"WSDOT Mandatory: Discrimination In The Workplace (Self Study)"},{"$f":"Master!C12","v":"WSDOT_DIS"},{"$f":"Master!D12","v":"SS"},{"$f":"Master!E12","v":"Active"},{"$f":"Master!F12","v":0},{"$f":"Master!H12","v":"To register for this course, \ncall the LMS Helpdesk at \n360-705-7060."},{"$f":"IF(Master!P12=\"\",\"B\",Master!P12)","v":"M"},{"$f":"IF(Master!AA12=\"\",\"B\",Master!AA12)","v":"M"},{"$f":"IF(Master!AL12=\"\",\"B\",Master!AL12)","v":"M"},{"$f":"IF(Master!AW12=\"\",\"B\",Master!AW12)","v":"M"},{"$f":"IF(Master!BH12=\"\",\"B\",Master!BH12)","v":"M"},{"$f":"IF(Master!BS12=\"\",\"B\",Master!BS12)","v":"M"}]
[{"$f":"Master!A13","v":"HR"},{"$f":"Master!B13","v":"WSDOT Mandatory: Valuing Diversity Step 2, Promoting Respect in the Global Workplace – Employee Edition"},{"$f":"Master!C13","v":"WSDOT_lch_01_a09_lc_enus"},{"$f":"Master!D13","v":"OLT"},{"$f":"Master!E13","v":"Active"},{"$f":"Master!F13","v":0},{"$f":"Master!H13","v":"To register for this course, \ncall the LMS Helpdesk at \n360-705-7060."},{"$f":"IF(Master!P13=\"\",\"B\",Master!P13)","v":"M"},{"$f":"IF(Master!AA13=\"\",\"B\",Master!AA13)","v":"M"},{"$f":"IF(Master!AL13=\"\",\"B\",Master!AL13)","v":"M"},{"$f":"IF(Master!AW13=\"\",\"B\",Master!AW13)","v":"M"},{"$f":"IF(Master!BH13=\"\",\"B\",Master!BH13)","v":"M"},{"$f":"IF(Master!BS13=\"\",\"B\",Master!BS13)","v":"M"}]
[{"$f":"Master!A14","v":"General Knowledge"},null,null,null,null,null,null,{"$f":"IF(Master!P14=\"\",\"B\",Master!P14)","v":"B"},{"$f":"IF(Master!AA14=\"\",\"B\",Master!AA14)","v":"B"},{"$f":"IF(Master!AL14=\"\",\"B\",Master!AL14)","v":"B"},{"$f":"IF(Master!AW14=\"\",\"B\",Master!AW14)","v":"B"},{"$f":"IF(Master!BH14=\"\",\"B\",Master!BH14)","v":"B"},{"$f":"IF(Master!BS14=\"\",\"B\",Master!BS14)","v":"B"}]
[{"$f":"Master!A15","v":"GEN"},{"$f":"Master!B15","v":"**Legal Liability for Transportation Professionals - Entry"},{"$f":"Master!C15","v":0},{"$f":"Master!D15","v":"ILT"},{"$f":"Master!E15","v":"Inactive"},{"$f":"Master!F15","v":0},{"$f":"Master!H15","v":0},{"$f":"IF(Master!P15=\"\",\"B\",Master!P15)","v":1},{"$f":"IF(Master!AA15=\"\",\"B\",Master!AA15)","v":1},{"$f":"IF(Master!AL15=\"\",\"B\",Master!AL15)","v":1},{"$f":"IF(Master!AW15=\"\",\"B\",Master!AW15)","v":1},{"$f":"IF(Master!BH15=\"\",\"B\",Master!BH15)","v":1},{"$f":"IF(Master!BS15=\"\",\"B\",Master!BS15)","v":"B"}]
[{"$f":"Master!A16","v":"GEN"},{"$f":"Master!B16","v":"**Legal Liability for Transportation Professionals - In-Depth"},{"$f":"Master!C16","v":0},{"$f":"Master!D16","v":"ILT"},{"$f":"Master!E16","v":"Inactive"},{"$f":"Master!F16","v":0},{"$f":"Master!H16","v":0},{"$f":"IF(Master!P16=\"\",\"B\",Master!P16)","v":"B"},{"$f":"IF(Master!AA16=\"\",\"B\",Master!AA16)","v":"B"},{"$f":"IF(Master!AL16=\"\",\"B\",Master!AL16)","v":"B"},{"$f":"IF(Master!AW16=\"\",\"B\",Master!AW16)","v":"B"},{"$f":"IF(Master!BH16=\"\",\"B\",Master!BH16)","v":"B"},{"$f":"IF(Master!BS16=\"\",\"B\",Master!BS16)","v":1}]
[{"$f":"Master!A17","v":"GEN"},{"$f":"Master!B17","v":"WSDOT GEN: TECHNICAL MATHEMATICS I (SELF-STUDY)"},{"$f":"Master!C17","v":"WSDOT_AFN"},{"$f":"Master!D17","v":"SS"},{"$f":"Master!E17","v":"Active"},{"$f":"Master!F17","v":0},{"$f":"Master!H17","v":0},{"$f":"IF(Master!P17=\"\",\"B\",Master!P17)","v":"R"},{"$f":"IF(Master!AA17=\"\",\"B\",Master!AA17)","v":"R"},{"$f":"IF(Master!AL17=\"\",\"B\",Master!AL17)","v":"B"},{"$f":"IF(Master!AW17=\"\",\"B\",Master!AW17)","v":"B"},{"$f":"IF(Master!BH17=\"\",\"B\",Master!BH17)","v":"B"},{"$f":"IF(Master!BS17=\"\",\"B\",Master!BS17)","v":"B"}]
[{"$f":"Master!A18","v":"GEN"},{"$f":"Master!B18","v":"WSDOT GEN: TECHNICAL MATHEMATICS II (SELF-STUDY)"},{"$f":"Master!C18","v":"WSDOT_A7J"},{"$f":"Master!D18","v":"SS"},{"$f":"Master!E18","v":"Active"},{"$f":"Master!F18","v":0},{"$f":"Master!H18","v":0},{"$f":"IF(Master!P18=\"\",\"B\",Master!P18)","v":"R"},{"$f":"IF(Master!AA18=\"\",\"B\",Master!AA18)","v":"R"},{"$f":"IF(Master!AL18=\"\",\"B\",Master!AL18)","v":"B"},{"$f":"IF(Master!AW18=\"\",\"B\",Master!AW18)","v":"B"},{"$f":"IF(Master!BH18=\"\",\"B\",Master!BH18)","v":"B"},{"$f":"IF(Master!BS18=\"\",\"B\",Master!BS18)","v":"B"}]
[{"$f":"Master!A19","v":"SS"},{"$f":"Master!B19","v":"Finding Your Bearings as a Project Manager"},{"$f":"Master!C19","v":"apj_151_a01_bs_enus"},{"$f":"Master!D19","v":"OLT"},{"$f":"Master!E19","v":"Active"},{"$f":"Master!F19","v":0},{"$f":"Master!H19","v":0},{"$f":"IF(Master!P19=\"\",\"B\",Master!P19)","v":"R"},{"$f":"IF(Master!AA19=\"\",\"B\",Master!AA19)","v":"R"},{"$f":"IF(Master!AL19=\"\",\"B\",Master!AL19)","v":"B"},{"$f":"IF(Master!AW19=\"\",\"B\",Master!AW19)","v":"B"},{"$f":"IF(Master!BH19=\"\",\"B\",Master!BH19)","v":"B"},{"$f":"IF(Master!BS19=\"\",\"B\",Master!BS19)","v":"B"}]
[{"$f":"Master!A20","v":"SS"},{"$f":"Master!B20","v":"Getting to the Root of a Problem"},{"$f":"Master!C20","v":"apj_15_a01_bs_enus"},{"$f":"Master!D20","v":"OLT"},{"$f":"Master!E20","v":"Active"},{"$f":"Master!F20","v":0},{"$f":"Master!H20","v":0},{"$f":"IF(Master!P20=\"\",\"B\",Master!P20)","v":"R"},{"$f":"IF(Master!AA20=\"\",\"B\",Master!AA20)","v":"R"},{"$f":"IF(Master!AL20=\"\",\"B\",Master!AL20)","v":"B"},{"$f":"IF(Master!AW20=\"\",\"B\",Master!AW20)","v":"B"},{"$f":"IF(Master!BH20=\"\",\"B\",Master!BH20)","v":"B"},{"$f":"IF(Master!BS20=\"\",\"B\",Master!BS20)","v":"B"}]
[{"$f":"Master!A21","v":"SS"},{"$f":"Master!B21","v":"The Process Groups (PMBOK® Guide Fifth Edition)"},{"$f":"Master!C21","v":"apj_01_a03_bs_enus"},{"$f":"Master!D21","v":"OLT"},{"$f":"Master!E21","v":"Active"},{"$f":"Master!F21","v":0},{"$f":"Master!H21","v":0},{"$f":"IF(Master!P21=\"\",\"B\",Master!P21)","v":"R"},{"$f":"IF(Master!AA21=\"\",\"B\",Master!AA21)","v":"R"},{"$f":"IF(Master!AL21=\"\",\"B\",Master!AL21)","v":"B"},{"$f":"IF(Master!AW21=\"\",\"B\",Master!AW21)","v":"B"},{"$f":"IF(Master!BH21=\"\",\"B\",Master!BH21)","v":"B"},{"$f":"IF(Master!BS21=\"\",\"B\",Master!BS21)","v":"B"}]
[{"$f":"Master!A22","v":"SS"},{"$f":"Master!B22","v":"Solving Problems: Generating and Evaluating Alternatives"},{"$f":"Master!C22","v":"pd_29_a02_bs_enus"},{"$f":"Master!D22","v":"OLT"},{"$f":"Master!E22","v":"Active"},{"$f":"Master!F22","v":0},{"$f":"Master!H22","v":0},{"$f":"IF(Master!P22=\"\",\"B\",Master!P22)","v":"R"},{"$f":"IF(Master!AA22=\"\",\"B\",Master!AA22)","v":"R"},{"$f":"IF(Master!AL22=\"\",\"B\",Master!AL22)","v":"B"},{"$f":"IF(Master!AW22=\"\",\"B\",Master!AW22)","v":"B"},{"$f":"IF(Master!BH22=\"\",\"B\",Master!BH22)","v":"B"},{"$f":"IF(Master!BS22=\"\",\"B\",Master!BS22)","v":"B"}]
[{"$f":"Master!A23","v":"SS"},{"$f":"Master!B23","v":"Making and Carrying Out Tough Decisions"},{"$f":"Master!C23","v":"pd_29_a03_bs_enus"},{"$f":"Master!D23","v":"OLT"},{"$f":"Master!E23","v":"Active"},{"$f":"Master!F23","v":0},{"$f":"Master!H23","v":0},{"$f":"IF(Master!P23=\"\",\"B\",Master!P23)","v":"R"},{"$f":"IF(Master!AA23=\"\",\"B\",Master!AA23)","v":"R"},{"$f":"IF(Master!AL23=\"\",\"B\",Master!AL23)","v":"B"},{"$f":"IF(Master!AW23=\"\",\"B\",Master!AW23)","v":"B"},{"$f":"IF(Master!BH23=\"\",\"B\",Master!BH23)","v":"B"},{"$f":"IF(Master!BS23=\"\",\"B\",Master!BS23)","v":"B"}]
[{"$f":"Master!A24","v":"SS"},{"$f":"Master!B24","v":"Solving Problems: Framing the Problem"},{"$f":"Master!C24","v":"pd_29_a01_bs_enus"},{"$f":"Master!D24","v":"OLT"},{"$f":"Master!E24","v":"Active"},{"$f":"Master!F24","v":0},{"$f":"Master!H24","v":0},{"$f":"IF(Master!P24=\"\",\"B\",Master!P24)","v":"R"},{"$f":"IF(Master!AA24=\"\",\"B\",Master!AA24)","v":"R"},{"$f":"IF(Master!AL24=\"\",\"B\",Master!AL24)","v":"B"},{"$f":"IF(Master!AW24=\"\",\"B\",Master!AW24)","v":"B"},{"$f":"IF(Master!BH24=\"\",\"B\",Master!BH24)","v":"B"},{"$f":"IF(Master!BS24=\"\",\"B\",Master!BS24)","v":"B"}]
[{"$f":"Master!A25","v":"SS"},{"$f":"Master!B25","v":"Problem-Solving and Process Management Tools"},{"$f":"Master!C25","v":"oper_04_a07_bs_enus"},{"$f":"Master!D25","v":"OLT"},{"$f":"Master!E25","v":"Active"},{"$f":"Master!F25","v":0},{"$f":"Master!H25","v":0},{"$f":"IF(Master!P25=\"\",\"B\",Master!P25)","v":"R"},{"$f":"IF(Master!AA25=\"\",\"B\",Master!AA25)","v":"R"},{"$f":"IF(Master!AL25=\"\",\"B\",Master!AL25)","v":"B"},{"$f":"IF(Master!AW25=\"\",\"B\",Master!AW25)","v":"B"},{"$f":"IF(Master!BH25=\"\",\"B\",Master!BH25)","v":"B"},{"$f":"IF(Master!BS25=\"\",\"B\",Master!BS25)","v":"B"}]
[{"$f":"Master!A26","v":"SS"},{"$f":"Master!B26","v":"Basic Presentation Skills: Delivering a Presentation"},{"$f":"Master!C26","v":"comm_33_a03_bs_enus"},{"$f":"Master!D26","v":"OLT"},{"$f":"Master!E26","v":"Active"},{"$f":"Master!F26","v":0},{"$f":"Master!H26","v":0},{"$f":"IF(Master!P26=\"\",\"B\",Master!P26)","v":"R"},{"$f":"IF(Master!AA26=\"\",\"B\",Master!AA26)","v":"R"},{"$f":"IF(Master!AL26=\"\",\"B\",Master!AL26)","v":"B"},{"$f":"IF(Master!AW26=\"\",\"B\",Master!AW26)","v":"B"},{"$f":"IF(Master!BH26=\"\",\"B\",Master!BH26)","v":"B"},{"$f":"IF(Master!BS26=\"\",\"B\",Master!BS26)","v":"B"}]
[{"$f":"Master!A27","v":"SS"},{"$f":"Master!B27","v":"Basic Presentation Skills: Creating a Presentation"},{"$f":"Master!C27","v":"comm_33_a02_bs_enus"},{"$f":"Master!D27","v":"OLT"},{"$f":"Master!E27","v":"Active"},{"$f":"Master!F27","v":0},{"$f":"Master!H27","v":0},{"$f":"IF(Master!P27=\"\",\"B\",Master!P27)","v":"R"},{"$f":"IF(Master!AA27=\"\",\"B\",Master!AA27)","v":"R"},{"$f":"IF(Master!AL27=\"\",\"B\",Master!AL27)","v":"B"},{"$f":"IF(Master!AW27=\"\",\"B\",Master!AW27)","v":"B"},{"$f":"IF(Master!BH27=\"\",\"B\",Master!BH27)","v":"B"},{"$f":"IF(Master!BS27=\"\",\"B\",Master!BS27)","v":"B"}]
[{"$f":"Master!A28","v":"SS"},{"$f":"Master!B28","v":"Building the Foundation for an Effective Team"},{"$f":"Master!C28","v":"atm_01_a01_bs_enus"},{"$f":"Master!D28","v":"OLT"},{"$f":"Master!E28","v":"Active"},{"$f":"Master!F28","v":0},{"$f":"Master!H28","v":0},{"$f":"IF(Master!P28=\"\",\"B\",Master!P28)","v":"R"},{"$f":"IF(Master!AA28=\"\",\"B\",Master!AA28)","v":"R"},{"$f":"IF(Master!AL28=\"\",\"B\",Master!AL28)","v":"B"},{"$f":"IF(Master!AW28=\"\",\"B\",Master!AW28)","v":"B"},{"$f":"IF(Master!BH28=\"\",\"B\",Master!BH28)","v":"B"},{"$f":"IF(Master!BS28=\"\",\"B\",Master!BS28)","v":"B"}]
[{"$f":"Master!A29","v":"SS"},{"$f":"Master!B29","v":"Developing a Successful Team"},{"$f":"Master!C29","v":"atm_01_a02_bs_enus"},{"$f":"Master!D29","v":"OLT"},{"$f":"Master!E29","v":"Active"},{"$f":"Master!F29","v":0},{"$f":"Master!H29","v":0},{"$f":"IF(Master!P29=\"\",\"B\",Master!P29)","v":"R"},{"$f":"IF(Master!AA29=\"\",\"B\",Master!AA29)","v":"R"},{"$f":"IF(Master!AL29=\"\",\"B\",Master!AL29)","v":"B"},{"$f":"IF(Master!AW29=\"\",\"B\",Master!AW29)","v":"B"},{"$f":"IF(Master!BH29=\"\",\"B\",Master!BH29)","v":"B"},{"$f":"IF(Master!BS29=\"\",\"B\",Master!BS29)","v":"B"}]
[{"$f":"Master!A30","v":"SS"},{"$f":"Master!B30","v":"Encouraging Team Communication and Collaboration"},{"$f":"Master!C30","v":"atm_01_a03_bs_enus"},{"$f":"Master!D30","v":"OLT"},{"$f":"Master!E30","v":"Active"},{"$f":"Master!F30","v":0},{"$f":"Master!H30","v":0},{"$f":"IF(Master!P30=\"\",\"B\",Master!P30)","v":"R"},{"$f":"IF(Master!AA30=\"\",\"B\",Master!AA30)","v":"R"},{"$f":"IF(Master!AL30=\"\",\"B\",Master!AL30)","v":"B"},{"$f":"IF(Master!AW30=\"\",\"B\",Master!AW30)","v":"B"},{"$f":"IF(Master!BH30=\"\",\"B\",Master!BH30)","v":"B"},{"$f":"IF(Master!BS30=\"\",\"B\",Master!BS30)","v":"B"}]
[{"$f":"Master!A31","v":"SS"},{"$f":"Master!B31","v":"Handling Team Conflict"},{"$f":"Master!C31","v":"atm_01_a04_bs_enus"},{"$f":"Master!D31","v":"OLT"},{"$f":"Master!E31","v":"Active"},{"$f":"Master!F31","v":0},{"$f":"Master!H31","v":0},{"$f":"IF(Master!P31=\"\",\"B\",Master!P31)","v":"R"},{"$f":"IF(Master!AA31=\"\",\"B\",Master!AA31)","v":"R"},{"$f":"IF(Master!AL31=\"\",\"B\",Master!AL31)","v":"B"},{"$f":"IF(Master!AW31=\"\",\"B\",Master!AW31)","v":"B"},{"$f":"IF(Master!BH31=\"\",\"B\",Master!BH31)","v":"B"},{"$f":"IF(Master!BS31=\"\",\"B\",Master!BS31)","v":"B"}]
[{"$f":"Master!A32","v":"SS"},{"$f":"Master!B32","v":"Thinking Critically: Coming to Terms with Assumptions"},{"$f":"Master!C32","v":"pe_01_a01_bs_enus"},{"$f":"Master!D32","v":"OLT"},{"$f":"Master!E32","v":"Active"},{"$f":"Master!F32","v":0},{"$f":"Master!H32","v":0},{"$f":"IF(Master!P32=\"\",\"B\",Master!P32)","v":"R"},{"$f":"IF(Master!AA32=\"\",\"B\",Master!AA32)","v":"R"},{"$f":"IF(Master!AL32=\"\",\"B\",Master!AL32)","v":"B"},{"$f":"IF(Master!AW32=\"\",\"B\",Master!AW32)","v":"B"},{"$f":"IF(Master!BH32=\"\",\"B\",Master!BH32)","v":"B"},{"$f":"IF(Master!BS32=\"\",\"B\",Master!BS32)","v":"B"}]
[{"$f":"Master!A33","v":"SS"},{"$f":"Master!B33","v":"Thinking Critically: Getting Your Arms around Arguments"},{"$f":"Master!C33","v":"pe_01_a02_bs_enus"},{"$f":"Master!D33","v":"OLT"},{"$f":"Master!E33","v":"Active"},{"$f":"Master!F33","v":0},{"$f":"Master!H33","v":0},{"$f":"IF(Master!P33=\"\",\"B\",Master!P33)","v":"R"},{"$f":"IF(Master!AA33=\"\",\"B\",Master!AA33)","v":"R"},{"$f":"IF(Master!AL33=\"\",\"B\",Master!AL33)","v":"B"},{"$f":"IF(Master!AW33=\"\",\"B\",Master!AW33)","v":"B"},{"$f":"IF(Master!BH33=\"\",\"B\",Master!BH33)","v":"B"},{"$f":"IF(Master!BS33=\"\",\"B\",Master!BS33)","v":"B"}]
[{"$f":"Master!A34","v":"SS"},{"$f":"Master!B34","v":"Thinking Critically: Drawing Conclusions with Confidence"},{"$f":"Master!C34","v":"pe_01_a03_bs_enus"},{"$f":"Master!D34","v":"OLT"},{"$f":"Master!E34","v":"Active"},{"$f":"Master!F34","v":0},{"$f":"Master!H34","v":0},{"$f":"IF(Master!P34=\"\",\"B\",Master!P34)","v":"R"},{"$f":"IF(Master!AA34=\"\",\"B\",Master!AA34)","v":"R"},{"$f":"IF(Master!AL34=\"\",\"B\",Master!AL34)","v":"B"},{"$f":"IF(Master!AW34=\"\",\"B\",Master!AW34)","v":"B"},{"$f":"IF(Master!BH34=\"\",\"B\",Master!BH34)","v":"B"},{"$f":"IF(Master!BS34=\"\",\"B\",Master!BS34)","v":"B"}]
[{"$f":"Master!A35","v":"SS"},{"$f":"Master!B35","v":"Microsoft Excel 2016 Essentials: Creating, Editing, and Saving Workbooks"},{"$f":"Master!C35","v":"mo_beel_a01_dt_enus"},{"$f":"Master!D35","v":"OLT"},{"$f":"Master!E35","v":"Active"},{"$f":"Master!F35","v":0},{"$f":"Master!H35","v":0},{"$f":"IF(Master!P35=\"\",\"B\",Master!P35)","v":"R"},{"$f":"IF(Master!AA35=\"\",\"B\",Master!AA35)","v":"R"},{"$f":"IF(Master!AL35=\"\",\"B\",Master!AL35)","v":"B"},{"$f":"IF(Master!AW35=\"\",\"B\",Master!AW35)","v":"B"},{"$f":"IF(Master!BH35=\"\",\"B\",Master!BH35)","v":"B"},{"$f":"IF(Master!BS35=\"\",\"B\",Master!BS35)","v":"B"}]
[{"$f":"Master!A36","v":"SS"},{"$f":"Master!B36","v":"Microsoft Excel 2016 Essentials: Formulas and Functions"},{"$f":"Master!C36","v":"mo_beel_a04_dt_enus"},{"$f":"Master!D36","v":"OLT"},{"$f":"Master!E36","v":"Active"},{"$f":"Master!F36","v":0},{"$f":"Master!H36","v":0},{"$f":"IF(Master!P36=\"\",\"B\",Master!P36)","v":"R"},{"$f":"IF(Master!AA36=\"\",\"B\",Master!AA36)","v":"R"},{"$f":"IF(Master!AL36=\"\",\"B\",Master!AL36)","v":"B"},{"$f":"IF(Master!AW36=\"\",\"B\",Master!AW36)","v":"B"},{"$f":"IF(Master!BH36=\"\",\"B\",Master!BH36)","v":"B"},{"$f":"IF(Master!BS36=\"\",\"B\",Master!BS36)","v":"B"}]
[{"$f":"Master!A37","v":"SS"},{"$f":"Master!B37","v":"Microsoft Excel 2016 Essentials: Formatting Data"},{"$f":"Master!C37","v":"mo_beel_a02_dt_enus"},{"$f":"Master!D37","v":"OLT"},{"$f":"Master!E37","v":"Active"},{"$f":"Master!F37","v":0},{"$f":"Master!H37","v":0},{"$f":"IF(Master!P37=\"\",\"B\",Master!P37)","v":"R"},{"$f":"IF(Master!AA37=\"\",\"B\",Master!AA37)","v":"R"},{"$f":"IF(Master!AL37=\"\",\"B\",Master!AL37)","v":"B"},{"$f":"IF(Master!AW37=\"\",\"B\",Master!AW37)","v":"B"},{"$f":"IF(Master!BH37=\"\",\"B\",Master!BH37)","v":"B"},{"$f":"IF(Master!BS37=\"\",\"B\",Master!BS37)","v":"B"}]
[{"$f":"Master!A38","v":"SS"},{"$f":"Master!B38","v":"Microsoft Excel 2016 Essentials: Data Presentation Strategies"},{"$f":"Master!C38","v":"mo_beel_a03_dt_enus"},{"$f":"Master!D38","v":"OLT"},{"$f":"Master!E38","v":"Active"},{"$f":"Master!F38","v":0},{"$f":"Master!H38","v":0},{"$f":"IF(Master!P38=\"\",\"B\",Master!P38)","v":"R"},{"$f":"IF(Master!AA38=\"\",\"B\",Master!AA38)","v":"R"},{"$f":"IF(Master!AL38=\"\",\"B\",Master!AL38)","v":"B"},{"$f":"IF(Master!AW38=\"\",\"B\",Master!AW38)","v":"B"},{"$f":"IF(Master!BH38=\"\",\"B\",Master!BH38)","v":"B"},{"$f":"IF(Master!BS38=\"\",\"B\",Master!BS38)","v":"B"}]
[{"$f":"Master!A39","v":"SS"},{"$f":"Master!B39","v":"Microsoft Excel 2016 Essentials: Charts, Tables, and Images"},{"$f":"Master!C39","v":"mo_beel_a05_dt_enus"},{"$f":"Master!D39","v":"OLT"},{"$f":"Master!E39","v":"Active"},{"$f":"Master!F39","v":0},{"$f":"Master!H39","v":0},{"$f":"IF(Master!P39=\"\",\"B\",Master!P39)","v":"R"},{"$f":"IF(Master!AA39=\"\",\"B\",Master!AA39)","v":"R"},{"$f":"IF(Master!AL39=\"\",\"B\",Master!AL39)","v":"B"},{"$f":"IF(Master!AW39=\"\",\"B\",Master!AW39)","v":"B"},{"$f":"IF(Master!BH39=\"\",\"B\",Master!BH39)","v":"B"},{"$f":"IF(Master!BS39=\"\",\"B\",Master!BS39)","v":"B"}]
[{"$f":"Master!A40","v":"SS"},{"$f":"Master!B40","v":"Microsoft Office 2016 Intermediate Excel: Working with Data "},{"$f":"Master!C40","v":"mo_inel_a03_dt_enus"},{"$f":"Master!D40","v":"OLT"},{"$f":"Master!E40","v":"Active"},{"$f":"Master!F40","v":0},{"$f":"Master!H40","v":0},{"$f":"IF(Master!P40=\"\",\"B\",Master!P40)","v":2},{"$f":"IF(Master!AA40=\"\",\"B\",Master!AA40)","v":2},{"$f":"IF(Master!AL40=\"\",\"B\",Master!AL40)","v":2},{"$f":"IF(Master!AW40=\"\",\"B\",Master!AW40)","v":"B"},{"$f":"IF(Master!BH40=\"\",\"B\",Master!BH40)","v":"B"},{"$f":"IF(Master!BS40=\"\",\"B\",Master!BS40)","v":"B"}]
[{"$f":"Master!A41","v":"SS"},{"$f":"Master!B41","v":"Microsoft Office 2016 Intermediate Excel: Share, Review, and Collaborate "},{"$f":"Master!C41","v":"mo_inel_a06_dt_enus"},{"$f":"Master!D41","v":"OLT"},{"$f":"Master!E41","v":"Active"},{"$f":"Master!F41","v":0},{"$f":"Master!H41","v":0},{"$f":"IF(Master!P41=\"\",\"B\",Master!P41)","v":2},{"$f":"IF(Master!AA41=\"\",\"B\",Master!AA41)","v":2},{"$f":"IF(Master!AL41=\"\",\"B\",Master!AL41)","v":2},{"$f":"IF(Master!AW41=\"\",\"B\",Master!AW41)","v":"B"},{"$f":"IF(Master!BH41=\"\",\"B\",Master!BH41)","v":"B"},{"$f":"IF(Master!BS41=\"\",\"B\",Master!BS41)","v":"B"}]
[{"$f":"Master!A42","v":"SS"},{"$f":"Master!B42","v":"Microsoft Office 2016 Intermediate Excel: Creating Custom Visual Effects "},{"$f":"Master!C42","v":"mo_inel_a02_dt_enus"},{"$f":"Master!D42","v":"OLT"},{"$f":"Master!E42","v":"Active"},{"$f":"Master!F42","v":0},{"$f":"Master!H42","v":0},{"$f":"IF(Master!P42=\"\",\"B\",Master!P42)","v":2},{"$f":"IF(Master!AA42=\"\",\"B\",Master!AA42)","v":2},{"$f":"IF(Master!AL42=\"\",\"B\",Master!AL42)","v":2},{"$f":"IF(Master!AW42=\"\",\"B\",Master!AW42)","v":"B"},{"$f":"IF(Master!BH42=\"\",\"B\",Master!BH42)","v":"B"},{"$f":"IF(Master!BS42=\"\",\"B\",Master!BS42)","v":"B"}]
[{"$f":"Master!A43","v":"SS"},{"$f":"Master!B43","v":"Working with the Interface and Performing Basic Tasks in Word 2016 "},{"$f":"Master!C43","v":"mo_bewo_a01_dt_enus"},{"$f":"Master!D43","v":"OLT"},{"$f":"Master!E43","v":"Active"},{"$f":"Master!F43","v":0},{"$f":"Master!H43","v":0},{"$f":"IF(Master!P43=\"\",\"B\",Master!P43)","v":"R"},{"$f":"IF(Master!AA43=\"\",\"B\",Master!AA43)","v":"R"},{"$f":"IF(Master!AL43=\"\",\"B\",Master!AL43)","v":"B"},{"$f":"IF(Master!AW43=\"\",\"B\",Master!AW43)","v":"B"},{"$f":"IF(Master!BH43=\"\",\"B\",Master!BH43)","v":"B"},{"$f":"IF(Master!BS43=\"\",\"B\",Master!BS43)","v":"B"}]
[{"$f":"Master!A44","v":"SS"},{"$f":"Master!B44","v":"Formatting Text in Word 2016 "},{"$f":"Master!C44","v":"mo_bewo_a02_dt_enus"},{"$f":"Master!D44","v":"OLT"},{"$f":"Master!E44","v":"Active"},{"$f":"Master!F44","v":0},{"$f":"Master!H44","v":0},{"$f":"IF(Master!P44=\"\",\"B\",Master!P44)","v":"R"},{"$f":"IF(Master!AA44=\"\",\"B\",Master!AA44)","v":"R"},{"$f":"IF(Master!AL44=\"\",\"B\",Master!AL44)","v":"B"},{"$f":"IF(Master!AW44=\"\",\"B\",Master!AW44)","v":"B"},{"$f":"IF(Master!BH44=\"\",\"B\",Master!BH44)","v":"B"},{"$f":"IF(Master!BS44=\"\",\"B\",Master!BS44)","v":"B"}]
[{"$f":"Master!A45","v":"SS"},{"$f":"Master!B45","v":"Headers, Footers, Page Numbering, and Layout in Word 2016 "},{"$f":"Master!C45","v":"mo_bewo_a05_dt_enus"},{"$f":"Master!D45","v":"OLT"},{"$f":"Master!E45","v":"Active"},{"$f":"Master!F45","v":0},{"$f":"Master!H45","v":0},{"$f":"IF(Master!P45=\"\",\"B\",Master!P45)","v":"R"},{"$f":"IF(Master!AA45=\"\",\"B\",Master!AA45)","v":"R"},{"$f":"IF(Master!AL45=\"\",\"B\",Master!AL45)","v":"B"},{"$f":"IF(Master!AW45=\"\",\"B\",Master!AW45)","v":"B"},{"$f":"IF(Master!BH45=\"\",\"B\",Master!BH45)","v":"B"},{"$f":"IF(Master!BS45=\"\",\"B\",Master!BS45)","v":"B"}]
[{"$f":"Master!A46","v":"SS"},{"$f":"Master!B46","v":"Using the Navigation Pane and Creating Lists in Word 2016 "},{"$f":"Master!C46","v":"mo_bewo_a06_dt_enus"},{"$f":"Master!D46","v":"OLT"},{"$f":"Master!E46","v":"Active"},{"$f":"Master!F46","v":0},{"$f":"Master!H46","v":0},{"$f":"IF(Master!P46=\"\",\"B\",Master!P46)","v":"R"},{"$f":"IF(Master!AA46=\"\",\"B\",Master!AA46)","v":"R"},{"$f":"IF(Master!AL46=\"\",\"B\",Master!AL46)","v":"B"},{"$f":"IF(Master!AW46=\"\",\"B\",Master!AW46)","v":"B"},{"$f":"IF(Master!BH46=\"\",\"B\",Master!BH46)","v":"B"},{"$f":"IF(Master!BS46=\"\",\"B\",Master!BS46)","v":"B"}]
[{"$f":"Master!A47","v":"SS"},{"$f":"Master!B47","v":"Customizing Options and Using Document Views in Word 2016 "},{"$f":"Master!C47","v":"mo_bewo_a03_dt_enus"},{"$f":"Master!D47","v":"OLT"},{"$f":"Master!E47","v":"Active"},{"$f":"Master!F47","v":0},{"$f":"Master!H47","v":0},{"$f":"IF(Master!P47=\"\",\"B\",Master!P47)","v":2},{"$f":"IF(Master!AA47=\"\",\"B\",Master!AA47)","v":2},{"$f":"IF(Master!AL47=\"\",\"B\",Master!AL47)","v":2},{"$f":"IF(Master!AW47=\"\",\"B\",Master!AW47)","v":"B"},{"$f":"IF(Master!BH47=\"\",\"B\",Master!BH47)","v":"B"},{"$f":"IF(Master!BS47=\"\",\"B\",Master!BS47)","v":"B"}]
[{"$f":"Master!A48","v":"SS"},{"$f":"Master!B48","v":"Creating and Formatting Tables in Word 2016 "},{"$f":"Master!C48","v":"mo_bewo_a04_dt_enus"},{"$f":"Master!D48","v":"OLT"},{"$f":"Master!E48","v":"Active"},{"$f":"Master!F48","v":0},{"$f":"Master!H48","v":0},{"$f":"IF(Master!P48=\"\",\"B\",Master!P48)","v":2},{"$f":"IF(Master!AA48=\"\",\"B\",Master!AA48)","v":2},{"$f":"IF(Master!AL48=\"\",\"B\",Master!AL48)","v":2},{"$f":"IF(Master!AW48=\"\",\"B\",Master!AW48)","v":"B"},{"$f":"IF(Master!BH48=\"\",\"B\",Master!BH48)","v":"B"},{"$f":"IF(Master!BS48=\"\",\"B\",Master!BS48)","v":"B"}]
[{"$f":"Master!A49","v":"Human Resource"},null,null,null,null,null,null,{"$f":"IF(Master!P49=\"\",\"B\",Master!P49)","v":"B"},{"$f":"IF(Master!AA49=\"\",\"B\",Master!AA49)","v":"B"},{"$f":"IF(Master!AL49=\"\",\"B\",Master!AL49)","v":"B"},{"$f":"IF(Master!AW49=\"\",\"B\",Master!AW49)","v":"B"},{"$f":"IF(Master!BH49=\"\",\"B\",Master!BH49)","v":"B"},{"$f":"IF(Master!BS49=\"\",\"B\",Master!BS49)","v":"B"}]
[{"$f":"Master!A50","v":"Conflict Management - The following two courses are available"},null,null,null,null,null,null,{"$f":"IF(Master!P50=\"\",\"B\",Master!P50)","v":"B"},{"$f":"IF(Master!AA50=\"\",\"B\",Master!AA50)","v":"B"},{"$f":"IF(Master!AL50=\"\",\"B\",Master!AL50)","v":"B"},{"$f":"IF(Master!AW50=\"\",\"B\",Master!AW50)","v":"B"},{"$f":"IF(Master!BH50=\"\",\"B\",Master!BH50)","v":"B"},{"$f":"IF(Master!BS50=\"\",\"B\",Master!BS50)","v":"B"}]
[{"$f":"Master!A51","v":"SS"},{"$f":"Master!B51","v":"Preparing for a Difficult Conversation"},{"$f":"Master!C51","v":"mgmt_36_a01_bs_enus"},{"$f":"Master!D51","v":"OLT"},{"$f":"Master!E51","v":"Active"},{"$f":"Master!F51","v":0},{"$f":"Master!H51","v":"Take this course first."},{"$f":"IF(Master!P51=\"\",\"B\",Master!P51)","v":2},{"$f":"IF(Master!AA51=\"\",\"B\",Master!AA51)","v":2},{"$f":"IF(Master!AL51=\"\",\"B\",Master!AL51)","v":2},{"$f":"IF(Master!AW51=\"\",\"B\",Master!AW51)","v":1},{"$f":"IF(Master!BH51=\"\",\"B\",Master!BH51)","v":1},{"$f":"IF(Master!BS51=\"\",\"B\",Master!BS51)","v":1}]
[{"$f":"Master!A52","v":"ES"},{"$f":"Master!B52","v":"Managing Emotions in the Workplace"},{"$f":"Master!C52","v":"Enterprise Services Course\n1/2 Day - $100"},{"$f":"Master!D52","v":"ILT"},{"$f":"Master!E52","v":"Active"},{"$f":"Master!F52","v":0},{"$f":"Master!H52","v":"To register for this course, \ncall the LMS Helpdesk at \n360-705-7060."},{"$f":"IF(Master!P52=\"\",\"B\",Master!P52)","v":2},{"$f":"IF(Master!AA52=\"\",\"B\",Master!AA52)","v":2},{"$f":"IF(Master!AL52=\"\",\"B\",Master!AL52)","v":2},{"$f":"IF(Master!AW52=\"\",\"B\",Master!AW52)","v":1},{"$f":"IF(Master!BH52=\"\",\"B\",Master!BH52)","v":1},{"$f":"IF(Master!BS52=\"\",\"B\",Master!BS52)","v":1}]
[{"$f":"Master!A53","v":"Interpersonal Communications - The following two courses are available"},null,null,null,null,null,null,{"$f":"IF(Master!P53=\"\",\"B\",Master!P53)","v":"B"},{"$f":"IF(Master!AA53=\"\",\"B\",Master!AA53)","v":"B"},{"$f":"IF(Master!AL53=\"\",\"B\",Master!AL53)","v":"B"},{"$f":"IF(Master!AW53=\"\",\"B\",Master!AW53)","v":"B"},{"$f":"IF(Master!BH53=\"\",\"B\",Master!BH53)","v":"B"},{"$f":"IF(Master!BS53=\"\",\"B\",Master!BS53)","v":"B"}]
[{"$f":"Master!A54","v":"SS"},{"$f":"Master!B54","v":"Difficult People: Strategies to Keep Everyone Working Together"},{"$f":"Master!C54","v":"comm_46_a03_bs_enus"},{"$f":"Master!D54","v":"OLT"},{"$f":"Master!E54","v":"Active"},{"$f":"Master!F54","v":0},{"$f":"Master!H54","v":"Take this course first."},{"$f":"IF(Master!P54=\"\",\"B\",Master!P54)","v":1},{"$f":"IF(Master!AA54=\"\",\"B\",Master!AA54)","v":1},{"$f":"IF(Master!AL54=\"\",\"B\",Master!AL54)","v":1},{"$f":"IF(Master!AW54=\"\",\"B\",Master!AW54)","v":1},{"$f":"IF(Master!BH54=\"\",\"B\",Master!BH54)","v":1},{"$f":"IF(Master!BS54=\"\",\"B\",Master!BS54)","v":1}]
[{"$f":"Master!A55","v":"ES"},{"$f":"Master!B55","v":"Interpersonal Communication Skills"},{"$f":"Master!C55","v":"Enterprise Services Course\nTwo Days - $195"},{"$f":"Master!D55","v":"ILT"},{"$f":"Master!E55","v":"Active"},{"$f":"Master!F55","v":0},{"$f":"Master!H55","v":"To register for this course, \ncall the LMS Helpdesk at \n360-705-7060."},{"$f":"IF(Master!P55=\"\",\"B\",Master!P55)","v":1},{"$f":"IF(Master!AA55=\"\",\"B\",Master!AA55)","v":1},{"$f":"IF(Master!AL55=\"\",\"B\",Master!AL55)","v":1},{"$f":"IF(Master!AW55=\"\",\"B\",Master!AW55)","v":1},{"$f":"IF(Master!BH55=\"\",\"B\",Master!BH55)","v":1},{"$f":"IF(Master!BS55=\"\",\"B\",Master!BS55)","v":1}]
[{"$f":"Master!A56","v":"Interpersonal Communications - The following two courses are available"},null,null,null,null,null,null,{"$f":"IF(Master!P56=\"\",\"B\",Master!P56)","v":"B"},{"$f":"IF(Master!AA56=\"\",\"B\",Master!AA56)","v":"B"},{"$f":"IF(Master!AL56=\"\",\"B\",Master!AL56)","v":"B"},{"$f":"IF(Master!AW56=\"\",\"B\",Master!AW56)","v":"B"},{"$f":"IF(Master!BH56=\"\",\"B\",Master!BH56)","v":"B"},{"$f":"IF(Master!BS56=\"\",\"B\",Master!BS56)","v":"B"}]
[{"$f":"Master!A57","v":"SS"},{"$f":"Master!B57","v":"Active Listening Skills for Professionals"},{"$f":"Master!C57","v":"comm_43_a03_bs_enus"},{"$f":"Master!D57","v":"OLT"},{"$f":"Master!E57","v":"Active"},{"$f":"Master!F57","v":0},{"$f":"Master!H57","v":"Take this course first."},{"$f":"IF(Master!P57=\"\",\"B\",Master!P57)","v":1},{"$f":"IF(Master!AA57=\"\",\"B\",Master!AA57)","v":1},{"$f":"IF(Master!AL57=\"\",\"B\",Master!AL57)","v":1},{"$f":"IF(Master!AW57=\"\",\"B\",Master!AW57)","v":1},{"$f":"IF(Master!BH57=\"\",\"B\",Master!BH57)","v":1},{"$f":"IF(Master!BS57=\"\",\"B\",Master!BS57)","v":1}]
[{"$f":"Master!A58","v":"ES"},{"$f":"Master!B58","v":"Crucial Conversations"},{"$f":"Master!C58","v":"Enterprise Services Course\nTwo Days - $450"},{"$f":"Master!D58","v":"ILT"},{"$f":"Master!E58","v":"Active"},{"$f":"Master!F58","v":0},{"$f":"Master!H58","v":"To register for this course, \ncall the LMS Helpdesk at \n360-705-7060."},{"$f":"IF(Master!P58=\"\",\"B\",Master!P58)","v":1},{"$f":"IF(Master!AA58=\"\",\"B\",Master!AA58)","v":1},{"$f":"IF(Master!AL58=\"\",\"B\",Master!AL58)","v":1},{"$f":"IF(Master!AW58=\"\",\"B\",Master!AW58)","v":1},{"$f":"IF(Master!BH58=\"\",\"B\",Master!BH58)","v":1},{"$f":"IF(Master!BS58=\"\",\"B\",Master!BS58)","v":1}]
[{"$f":"Master!A59","v":"Oral Presentation Techniques"},null,null,null,null,null,null,{"$f":"IF(Master!P59=\"\",\"B\",Master!P59)","v":"B"},{"$f":"IF(Master!AA59=\"\",\"B\",Master!AA59)","v":"B"},{"$f":"IF(Master!AL59=\"\",\"B\",Master!AL59)","v":"B"},{"$f":"IF(Master!AW59=\"\",\"B\",Master!AW59)","v":"B"},{"$f":"IF(Master!BH59=\"\",\"B\",Master!BH59)","v":"B"},{"$f":"IF(Master!BS59=\"\",\"B\",Master!BS59)","v":"B"}]
[{"$f":"Master!A60","v":"ES"},{"$f":"Master!B60","v":"Presentation & Training Design & Delivery "},{"$f":"Master!C60","v":"Enterprise Services Course \nTwo Days - $205"},{"$f":"Master!D60","v":"ILT"},{"$f":"Master!E60","v":"Active"},{"$f":"Master!F60","v":0},{"$f":"Master!H60","v":"To register for this course, \ncall the LMS Helpdesk at \n360-705-7060."},{"$f":"IF(Master!P60=\"\",\"B\",Master!P60)","v":"B"},{"$f":"IF(Master!AA60=\"\",\"B\",Master!AA60)","v":"B"},{"$f":"IF(Master!AL60=\"\",\"B\",Master!AL60)","v":"B"},{"$f":"IF(Master!AW60=\"\",\"B\",Master!AW60)","v":"B"},{"$f":"IF(Master!BH60=\"\",\"B\",Master!BH60)","v":2},{"$f":"IF(Master!BS60=\"\",\"B\",Master!BS60)","v":1}]
[{"$f":"Master!A61","v":"Stress Management -  The following two courses are available"},null,null,null,null,null,null,{"$f":"IF(Master!P61=\"\",\"B\",Master!P61)","v":"B"},{"$f":"IF(Master!AA61=\"\",\"B\",Master!AA61)","v":"B"},{"$f":"IF(Master!AL61=\"\",\"B\",Master!AL61)","v":"B"},{"$f":"IF(Master!AW61=\"\",\"B\",Master!AW61)","v":"B"},{"$f":"IF(Master!BH61=\"\",\"B\",Master!BH61)","v":"B"},{"$f":"IF(Master!BS61=\"\",\"B\",Master!BS61)","v":"B"}]
[{"$f":"Master!A62","v":"SS"},{"$f":"Master!B62","v":"Conflict, Stress, and Time Management"},{"$f":"Master!C62","v":"cust_07_a03_bs_enus"},{"$f":"Master!D62","v":"OLT"},{"$f":"Master!E62","v":"Active"},{"$f":"Master!F62","v":0},{"$f":"Master!H62","v":"Take this course first."},{"$f":"IF(Master!P62=\"\",\"B\",Master!P62)","v":1},{"$f":"IF(Master!AA62=\"\",\"B\",Master!AA62)","v":1},{"$f":"IF(Master!AL62=\"\",\"B\",Master!AL62)","v":1},{"$f":"IF(Master!AW62=\"\",\"B\",Master!AW62)","v":1},{"$f":"IF(Master!BH62=\"\",\"B\",Master!BH62)","v":1},{"$f":"IF(Master!BS62=\"\",\"B\",Master!BS62)","v":1}]
[{"$f":"Master!A63","v":"ES"},{"$f":"Master!B63","v":"Managing Job Stress"},{"$f":"Master!C63","v":"Enterprise Services Course\nOne Day - $135"},{"$f":"Master!D63","v":"ILT"},{"$f":"Master!E63","v":"Active"},{"$f":"Master!F63","v":0},{"$f":"Master!H63","v":"To register for this course, \ncall the LMS Helpdesk at \n360-705-7060."},{"$f":"IF(Master!P63=\"\",\"B\",Master!P63)","v":1},{"$f":"IF(Master!AA63=\"\",\"B\",Master!AA63)","v":1},{"$f":"IF(Master!AL63=\"\",\"B\",Master!AL63)","v":1},{"$f":"IF(Master!AW63=\"\",\"B\",Master!AW63)","v":1},{"$f":"IF(Master!BH63=\"\",\"B\",Master!BH63)","v":1},{"$f":"IF(Master!BS63=\"\",\"B\",Master!BS63)","v":1}]
[{"$f":"Master!A64","v":"Time Management -  The following six courses are available"},null,null,null,null,null,null,{"$f":"IF(Master!P64=\"\",\"B\",Master!P64)","v":"B"},{"$f":"IF(Master!AA64=\"\",\"B\",Master!AA64)","v":"B"},{"$f":"IF(Master!AL64=\"\",\"B\",Master!AL64)","v":"B"},{"$f":"IF(Master!AW64=\"\",\"B\",Master!AW64)","v":"B"},{"$f":"IF(Master!BH64=\"\",\"B\",Master!BH64)","v":"B"},{"$f":"IF(Master!BS64=\"\",\"B\",Master!BS64)","v":"B"}]
[{"$f":"Master!A65","v":"SS"},{"$f":"Master!B65","v":"Getting Time under Control"},{"$f":"Master!C65","v":"_pc_ch_pach021"},{"$f":"Master!D65","v":"OLT"},{"$f":"Master!E65","v":"Active"},{"$f":"Master!F65","v":0},{"$f":"Master!H65","v":"Take this course before the Enterprise Services course"},{"$f":"IF(Master!P65=\"\",\"B\",Master!P65)","v":1},{"$f":"IF(Master!AA65=\"\",\"B\",Master!AA65)","v":1},{"$f":"IF(Master!AL65=\"\",\"B\",Master!AL65)","v":1},{"$f":"IF(Master!AW65=\"\",\"B\",Master!AW65)","v":1},{"$f":"IF(Master!BH65=\"\",\"B\",Master!BH65)","v":1},{"$f":"IF(Master!BS65=\"\",\"B\",Master!BS65)","v":1}]
[{"$f":"Master!A66","v":"SS"},{"$f":"Master!B66","v":"Make the Time You Need: Get Organized"},{"$f":"Master!C66","v":"apd_08_a02_bs_enus"},{"$f":"Master!D66","v":"OLT"},{"$f":"Master!E66","v":"Active"},{"$f":"Master!F66","v":0},{"$f":"Master!H66","v":"Take this course before the Enterprise Services course"},{"$f":"IF(Master!P66=\"\",\"B\",Master!P66)","v":1},{"$f":"IF(Master!AA66=\"\",\"B\",Master!AA66)","v":1},{"$f":"IF(Master!AL66=\"\",\"B\",Master!AL66)","v":1},{"$f":"IF(Master!AW66=\"\",\"B\",Master!AW66)","v":1},{"$f":"IF(Master!BH66=\"\",\"B\",Master!BH66)","v":1},{"$f":"IF(Master!BS66=\"\",\"B\",Master!BS66)","v":1}]
[{"$f":"Master!A67","v":"SS"},{"$f":"Master!B67","v":"Time Management: Too Much to Do and Too Little Time"},{"$f":"Master!C67","v":"pd_20_a01_bs_enus"},{"$f":"Master!D67","v":"OLT"},{"$f":"Master!E67","v":"Active"},{"$f":"Master!F67","v":0},{"$f":"Master!H67","v":"Take this course before the Enterprise Services course"},{"$f":"IF(Master!P67=\"\",\"B\",Master!P67)","v":1},{"$f":"IF(Master!AA67=\"\",\"B\",Master!AA67)","v":1},{"$f":"IF(Master!AL67=\"\",\"B\",Master!AL67)","v":1},{"$f":"IF(Master!AW67=\"\",\"B\",Master!AW67)","v":1},{"$f":"IF(Master!BH67=\"\",\"B\",Master!BH67)","v":1},{"$f":"IF(Master!BS67=\"\",\"B\",Master!BS67)","v":1}]
[{"$f":"Master!A68","v":"SS"},{"$f":"Master!B68","v":"Time Management: Quit Making Excuses and Make Time Instead"},{"$f":"Master!C68","v":"pd_20_a02_bs_enus"},{"$f":"Master!D68","v":"OLT"},{"$f":"Master!E68","v":"Active"},{"$f":"Master!F68","v":0},{"$f":"Master!H68","v":"Take this course before the Enterprise Services course"},{"$f":"IF(Master!P68=\"\",\"B\",Master!P68)","v":1},{"$f":"IF(Master!AA68=\"\",\"B\",Master!AA68)","v":1},{"$f":"IF(Master!AL68=\"\",\"B\",Master!AL68)","v":1},{"$f":"IF(Master!AW68=\"\",\"B\",Master!AW68)","v":1},{"$f":"IF(Master!BH68=\"\",\"B\",Master!BH68)","v":1},{"$f":"IF(Master!BS68=\"\",\"B\",Master!BS68)","v":1}]
[{"$f":"Master!A69","v":"SS"},{"$f":"Master!B69","v":"Time Management: Ready, Set…Focus!"},{"$f":"Master!C69","v":"pd_20_a03_bs_enus"},{"$f":"Master!D69","v":"OLT"},{"$f":"Master!E69","v":"Active"},{"$f":"Master!F69","v":0},{"$f":"Master!H69","v":"Take this course before the Enterprise Services course"},{"$f":"IF(Master!P69=\"\",\"B\",Master!P69)","v":1},{"$f":"IF(Master!AA69=\"\",\"B\",Master!AA69)","v":1},{"$f":"IF(Master!AL69=\"\",\"B\",Master!AL69)","v":1},{"$f":"IF(Master!AW69=\"\",\"B\",Master!AW69)","v":1},{"$f":"IF(Master!BH69=\"\",\"B\",Master!BH69)","v":1},{"$f":"IF(Master!BS69=\"\",\"B\",Master!BS69)","v":1}]
[{"$f":"Master!A70","v":"ES"},{"$f":"Master!B70","v":"Time Management"},{"$f":"Master!C70","v":"Enterprise Services Course\nOne Day - $135"},{"$f":"Master!D70","v":"ILT"},{"$f":"Master!E70","v":"Active"},{"$f":"Master!F70","v":0},{"$f":"Master!H70","v":"To register for this course, \ncall the LMS Helpdesk at \n360-705-7060."},{"$f":"IF(Master!P70=\"\",\"B\",Master!P70)","v":1},{"$f":"IF(Master!AA70=\"\",\"B\",Master!AA70)","v":1},{"$f":"IF(Master!AL70=\"\",\"B\",Master!AL70)","v":1},{"$f":"IF(Master!AW70=\"\",\"B\",Master!AW70)","v":1},{"$f":"IF(Master!BH70=\"\",\"B\",Master!BH70)","v":1},{"$f":"IF(Master!BS70=\"\",\"B\",Master!BS70)","v":1}]
[{"$f":"Master!A71","v":"Technical Writing -  The following five courses are available"},null,null,null,null,null,null,{"$f":"IF(Master!P71=\"\",\"B\",Master!P71)","v":"B"},{"$f":"IF(Master!AA71=\"\",\"B\",Master!AA71)","v":"B"},{"$f":"IF(Master!AL71=\"\",\"B\",Master!AL71)","v":"B"},{"$f":"IF(Master!AW71=\"\",\"B\",Master!AW71)","v":"B"},{"$f":"IF(Master!BH71=\"\",\"B\",Master!BH71)","v":"B"},{"$f":"IF(Master!BS71=\"\",\"B\",Master!BS71)","v":"B"}]
[{"$f":"Master!A72","v":"SS"},{"$f":"Master!B72","v":"Improving Your Technical Writing Skills"},{"$f":"Master!C72","v":"acm_06_a01_it_enus"},{"$f":"Master!D72","v":"OLT"},{"$f":"Master!E72","v":"Active"},{"$f":"Master!F72","v":0},{"$f":"Master!H72","v":0},{"$f":"IF(Master!P72=\"\",\"B\",Master!P72)","v":2},{"$f":"IF(Master!AA72=\"\",\"B\",Master!AA72)","v":2},{"$f":"IF(Master!AL72=\"\",\"B\",Master!AL72)","v":2},{"$f":"IF(Master!AW72=\"\",\"B\",Master!AW72)","v":2},{"$f":"IF(Master!BH72=\"\",\"B\",Master!BH72)","v":"B"},{"$f":"IF(Master!BS72=\"\",\"B\",Master!BS72)","v":"B"}]
[{"$f":"Master!A73","v":"SS"},{"$f":"Master!B73","v":"Writing for Technical Professionals: Effective Writing Techniques"},{"$f":"Master!C73","v":"ib_wstp_a02_it_enus"},{"$f":"Master!D73","v":"OLT"},{"$f":"Master!E73","v":"Active"},{"$f":"Master!F73","v":0},{"$f":"Master!H73","v":0},{"$f":"IF(Master!P73=\"\",\"B\",Master!P73)","v":2},{"$f":"IF(Master!AA73=\"\",\"B\",Master!AA73)","v":2},{"$f":"IF(Master!AL73=\"\",\"B\",Master!AL73)","v":2},{"$f":"IF(Master!AW73=\"\",\"B\",Master!AW73)","v":2},{"$f":"IF(Master!BH73=\"\",\"B\",Master!BH73)","v":"B"},{"$f":"IF(Master!BS73=\"\",\"B\",Master!BS73)","v":"B"}]
[{"$f":"Master!A74","v":"SS"},{"$f":"Master!B74","v":"Writing for Technical Professionals: Preparation and Planning"},{"$f":"Master!C74","v":"ib_wstp_a01_it_enus"},{"$f":"Master!D74","v":"OLT"},{"$f":"Master!E74","v":"Active"},{"$f":"Master!F74","v":0},{"$f":"Master!H74","v":0},{"$f":"IF(Master!P74=\"\",\"B\",Master!P74)","v":2},{"$f":"IF(Master!AA74=\"\",\"B\",Master!AA74)","v":2},{"$f":"IF(Master!AL74=\"\",\"B\",Master!AL74)","v":2},{"$f":"IF(Master!AW74=\"\",\"B\",Master!AW74)","v":2},{"$f":"IF(Master!BH74=\"\",\"B\",Master!BH74)","v":"B"},{"$f":"IF(Master!BS74=\"\",\"B\",Master!BS74)","v":"B"}]
[{"$f":"Master!A75","v":"ES"},{"$f":"Master!B75","v":"Technical Writing: Tricks of the Trade"},{"$f":"Master!C75","v":"Enterprise Services Course\nTwo Day Course - $185"},{"$f":"Master!D75","v":"ILT"},{"$f":"Master!E75","v":"Active"},{"$f":"Master!F75","v":0},{"$f":"Master!H75","v":"To register for this course, call the LMS Helpdesk at \n360-705-7060."},{"$f":"IF(Master!P75=\"\",\"B\",Master!P75)","v":2},{"$f":"IF(Master!AA75=\"\",\"B\",Master!AA75)","v":2},{"$f":"IF(Master!AL75=\"\",\"B\",Master!AL75)","v":2},{"$f":"IF(Master!AW75=\"\",\"B\",Master!AW75)","v":2},{"$f":"IF(Master!BH75=\"\",\"B\",Master!BH75)","v":"B"},{"$f":"IF(Master!BS75=\"\",\"B\",Master!BS75)","v":"B"}]
[{"$f":"Master!A76","v":"ES"},{"$f":"Master!B76","v":"Writing Skills"},{"$f":"Master!C76","v":"Enterprise Services Course\nOne Day - $145"},{"$f":"Master!D76","v":"ILT"},{"$f":"Master!E76","v":"Active"},{"$f":"Master!F76","v":0},{"$f":"Master!H76","v":"To register for this course, \ncall the LMS Helpdesk at \n360-705-7060."},{"$f":"IF(Master!P76=\"\",\"B\",Master!P76)","v":2},{"$f":"IF(Master!AA76=\"\",\"B\",Master!AA76)","v":2},{"$f":"IF(Master!AL76=\"\",\"B\",Master!AL76)","v":2},{"$f":"IF(Master!AW76=\"\",\"B\",Master!AW76)","v":2},{"$f":"IF(Master!BH76=\"\",\"B\",Master!BH76)","v":"B"},{"$f":"IF(Master!BS76=\"\",\"B\",Master!BS76)","v":"B"}]
[{"$f":"Master!A77","v":"Effective Meeting Management -  The following six courses are available"},null,null,null,null,null,null,{"$f":"IF(Master!P77=\"\",\"B\",Master!P77)","v":"B"},{"$f":"IF(Master!AA77=\"\",\"B\",Master!AA77)","v":"B"},{"$f":"IF(Master!AL77=\"\",\"B\",Master!AL77)","v":"B"},{"$f":"IF(Master!AW77=\"\",\"B\",Master!AW77)","v":"B"},{"$f":"IF(Master!BH77=\"\",\"B\",Master!BH77)","v":"B"},{"$f":"IF(Master!BS77=\"\",\"B\",Master!BS77)","v":"B"}]
[{"$f":"Master!A78","v":"SS"},{"$f":"Master!B78","v":"Dealing with Common Meeting Problems"},{"$f":"Master!C78","v":"comm_32_a03_bs_enus"},{"$f":"Master!D78","v":"OLT"},{"$f":"Master!E78","v":"Active"},{"$f":"Master!F78","v":0},{"$f":"Master!H78","v":0},{"$f":"IF(Master!P78=\"\",\"B\",Master!P78)","v":"B"},{"$f":"IF(Master!AA78=\"\",\"B\",Master!AA78)","v":"B"},{"$f":"IF(Master!AL78=\"\",\"B\",Master!AL78)","v":"B"},{"$f":"IF(Master!AW78=\"\",\"B\",Master!AW78)","v":"B"},{"$f":"IF(Master!BH78=\"\",\"B\",Master!BH78)","v":"B"},{"$f":"IF(Master!BS78=\"\",\"B\",Master!BS78)","v":"B"}]
[{"$f":"Master!A79","v":"SS"},{"$f":"Master!B79","v":"Preparing for Effective Business Meetings"},{"$f":"Master!C79","v":"comm_32_a01_bs_enus"},{"$f":"Master!D79","v":"OLT"},{"$f":"Master!E79","v":"Active"},{"$f":"Master!F79","v":0},{"$f":"Master!H79","v":0},{"$f":"IF(Master!P79=\"\",\"B\",Master!P79)","v":"B"},{"$f":"IF(Master!AA79=\"\",\"B\",Master!AA79)","v":"B"},{"$f":"IF(Master!AL79=\"\",\"B\",Master!AL79)","v":"B"},{"$f":"IF(Master!AW79=\"\",\"B\",Master!AW79)","v":"B"},{"$f":"IF(Master!BH79=\"\",\"B\",Master!BH79)","v":"B"},{"$f":"IF(Master!BS79=\"\",\"B\",Master!BS79)","v":"B"}]
[{"$f":"Master!A80","v":"SS"},{"$f":"Master!B80","v":"Planning Meetings Fit for Purpose"},{"$f":"Master!C80","v":"comm_50_a01_bs_enus"},{"$f":"Master!D80","v":"OLT"},{"$f":"Master!E80","v":"Active"},{"$f":"Master!F80","v":0},{"$f":"Master!H80","v":0},{"$f":"IF(Master!P80=\"\",\"B\",Master!P80)","v":"B"},{"$f":"IF(Master!AA80=\"\",\"B\",Master!AA80)","v":"B"},{"$f":"IF(Master!AL80=\"\",\"B\",Master!AL80)","v":"B"},{"$f":"IF(Master!AW80=\"\",\"B\",Master!AW80)","v":"B"},{"$f":"IF(Master!BH80=\"\",\"B\",Master!BH80)","v":"B"},{"$f":"IF(Master!BS80=\"\",\"B\",Master!BS80)","v":"B"}]
[{"$f":"Master!A81","v":"SS"},{"$f":"Master!B81","v":"Managing Effective Business Meetings"},{"$f":"Master!C81","v":"comm_32_a02_bs_enus"},{"$f":"Master!D81","v":"OLT"},{"$f":"Master!E81","v":"Active"},{"$f":"Master!F81","v":0},{"$f":"Master!H81","v":0},{"$f":"IF(Master!P81=\"\",\"B\",Master!P81)","v":"B"},{"$f":"IF(Master!AA81=\"\",\"B\",Master!AA81)","v":"B"},{"$f":"IF(Master!AL81=\"\",\"B\",Master!AL81)","v":"B"},{"$f":"IF(Master!AW81=\"\",\"B\",Master!AW81)","v":"B"},{"$f":"IF(Master!BH81=\"\",\"B\",Master!BH81)","v":"B"},{"$f":"IF(Master!BS81=\"\",\"B\",Master!BS81)","v":"B"}]
[{"$f":"Master!A82","v":"SS"},{"$f":"Master!B82","v":"Running Meetings in Better Directions"},{"$f":"Master!C82","v":"comm_50_a02_bs_enus"},{"$f":"Master!D82","v":"OLT"},{"$f":"Master!E82","v":"Active"},{"$f":"Master!F82","v":0},{"$f":"Master!H82","v":0},{"$f":"IF(Master!P82=\"\",\"B\",Master!P82)","v":"B"},{"$f":"IF(Master!AA82=\"\",\"B\",Master!AA82)","v":"B"},{"$f":"IF(Master!AL82=\"\",\"B\",Master!AL82)","v":"B"},{"$f":"IF(Master!AW82=\"\",\"B\",Master!AW82)","v":"B"},{"$f":"IF(Master!BH82=\"\",\"B\",Master!BH82)","v":"B"},{"$f":"IF(Master!BS82=\"\",\"B\",Master!BS82)","v":"B"}]
[{"$f":"Master!A83","v":"ES"},{"$f":"Master!B83","v":"Effective Meeting Management  (or one of the following five SkillSoft)"},{"$f":"Master!C83","v":"Enterprise Services Course\nOne Day - $165"},{"$f":"Master!D83","v":"ILT"},{"$f":"Master!E83","v":"Active"},{"$f":"Master!F83","v":0},{"$f":"Master!H83","v":"To register for this course, call the LMS Helpdesk at \n360-705-7060."},{"$f":"IF(Master!P83=\"\",\"B\",Master!P83)","v":"B"},{"$f":"IF(Master!AA83=\"\",\"B\",Master!AA83)","v":"B"},{"$f":"IF(Master!AL83=\"\",\"B\",Master!AL83)","v":"B"},{"$f":"IF(Master!AW83=\"\",\"B\",Master!AW83)","v":"B"},{"$f":"IF(Master!BH83=\"\",\"B\",Master!BH83)","v":"B"},{"$f":"IF(Master!BS83=\"\",\"B\",Master!BS83)","v":"B"}]
[{"$f":"Master!A84","v":"Enhanced Leadership for WSDOT"},null,null,null,null,null,null,{"$f":"IF(Master!P84=\"\",\"B\",Master!P84)","v":"B"},{"$f":"IF(Master!AA84=\"\",\"B\",Master!AA84)","v":"B"},{"$f":"IF(Master!AL84=\"\",\"B\",Master!AL84)","v":"B"},{"$f":"IF(Master!AW84=\"\",\"B\",Master!AW84)","v":"B"},{"$f":"IF(Master!BH84=\"\",\"B\",Master!BH84)","v":"B"},{"$f":"IF(Master!BS84=\"\",\"B\",Master!BS84)","v":"B"}]
[{"$f":"Master!A85","v":"ES"},{"$f":"Master!B85","v":"Leading Teams"},{"$f":"Master!C85","v":"Enterprise Services Course\nThree Days - $500"},{"$f":"Master!D85","v":"ILT"},{"$f":"Master!E85","v":"Active"},{"$f":"Master!F85","v":0},{"$f":"Master!H85","v":"To register for this course, \ncall the LMS Helpdesk at \n360-705-7060."},{"$f":"IF(Master!P85=\"\",\"B\",Master!P85)","v":"B"},{"$f":"IF(Master!AA85=\"\",\"B\",Master!AA85)","v":"B"},{"$f":"IF(Master!AL85=\"\",\"B\",Master!AL85)","v":"B"},{"$f":"IF(Master!AW85=\"\",\"B\",Master!AW85)","v":"B"},{"$f":"IF(Master!BH85=\"\",\"B\",Master!BH85)","v":"B"},{"$f":"IF(Master!BS85=\"\",\"B\",Master!BS85)","v":2}]
[{"$f":"Master!A86","v":"Entry Management Development"},null,null,null,null,null,null,{"$f":"IF(Master!P86=\"\",\"B\",Master!P86)","v":"B"},{"$f":"IF(Master!AA86=\"\",\"B\",Master!AA86)","v":"B"},{"$f":"IF(Master!AL86=\"\",\"B\",Master!AL86)","v":"B"},{"$f":"IF(Master!AW86=\"\",\"B\",Master!AW86)","v":"B"},{"$f":"IF(Master!BH86=\"\",\"B\",Master!BH86)","v":"B"},{"$f":"IF(Master!BS86=\"\",\"B\",Master!BS86)","v":"B"}]
[{"$f":"Master!A87","v":"ES"},{"$f":"Master!B87","v":"Leading Others"},{"$f":"Master!C87","v":"Enterprise Services Course\nFour Days - $500"},{"$f":"Master!D87","v":"ILT"},{"$f":"Master!E87","v":"Active"},{"$f":"Master!F87","v":0},{"$f":"Master!H87","v":"To register for this course, \ncall the LMS Helpdesk at \n360-705-7060."},{"$f":"IF(Master!P87=\"\",\"B\",Master!P87)","v":"B"},{"$f":"IF(Master!AA87=\"\",\"B\",Master!AA87)","v":"B"},{"$f":"IF(Master!AL87=\"\",\"B\",Master!AL87)","v":"B"},{"$f":"IF(Master!AW87=\"\",\"B\",Master!AW87)","v":"B"},{"$f":"IF(Master!BH87=\"\",\"B\",Master!BH87)","v":2},{"$f":"IF(Master!BS87=\"\",\"B\",Master!BS87)","v":1}]
[{"$f":"Master!A88","v":"ES"},{"$f":"Master!B88","v":"Supervision Essentials-Phase II (Prerequisite is Leading Others)"},{"$f":"Master!C88","v":"Enterprise Services Course\nTwo Days - $285"},{"$f":"Master!D88","v":"ILT"},{"$f":"Master!E88","v":"Active"},{"$f":"Master!F88","v":0},{"$f":"Master!H88","v":"To register for this course, \ncall the LMS Helpdesk at \n360-705-7060."},{"$f":"IF(Master!P88=\"\",\"B\",Master!P88)","v":"B"},{"$f":"IF(Master!AA88=\"\",\"B\",Master!AA88)","v":"B"},{"$f":"IF(Master!AL88=\"\",\"B\",Master!AL88)","v":"B"},{"$f":"IF(Master!AW88=\"\",\"B\",Master!AW88)","v":"B"},{"$f":"IF(Master!BH88=\"\",\"B\",Master!BH88)","v":"B"},{"$f":"IF(Master!BS88=\"\",\"B\",Master!BS88)","v":2}]
[{"$f":"Master!A89","v":"Safety"},null,null,null,null,null,null,{"$f":"IF(Master!P89=\"\",\"B\",Master!P89)","v":"B"},{"$f":"IF(Master!AA89=\"\",\"B\",Master!AA89)","v":"B"},{"$f":"IF(Master!AL89=\"\",\"B\",Master!AL89)","v":"B"},{"$f":"IF(Master!AW89=\"\",\"B\",Master!AW89)","v":"B"},{"$f":"IF(Master!BH89=\"\",\"B\",Master!BH89)","v":"B"},{"$f":"IF(Master!BS89=\"\",\"B\",Master!BS89)","v":"B"}]
[{"$f":"Master!A90","v":"SAFE"},{"$f":"Master!B90","v":"WSDOT SAFE: FALL PROTECTION"},{"$f":"Master!C90","v":"WSDOT_BN9"},{"$f":"Master!D90","v":"ILT"},{"$f":"Master!E90","v":"Active"},{"$f":"Master!F90","v":0},{"$f":"Master!H90","v":0},{"$f":"IF(Master!P90=\"\",\"B\",Master!P90)","v":2},{"$f":"IF(Master!AA90=\"\",\"B\",Master!AA90)","v":2},{"$f":"IF(Master!AL90=\"\",\"B\",Master!AL90)","v":2},{"$f":"IF(Master!AW90=\"\",\"B\",Master!AW90)","v":2},{"$f":"IF(Master!BH90=\"\",\"B\",Master!BH90)","v":"B"},{"$f":"IF(Master!BS90=\"\",\"B\",Master!BS90)","v":"B"}]
[{"$f":"Master!A91","v":"SAFE"},{"$f":"Master!B91","v":"WSDOT SAFE: FIRST AID"},{"$f":"Master!C91","v":"WSDOT_APS"},{"$f":"Master!D91","v":"ILT"},{"$f":"Master!E91","v":"Active"},{"$f":"Master!F91","v":0},{"$f":"Master!H91","v":0},{"$f":"IF(Master!P91=\"\",\"B\",Master!P91)","v":"R"},{"$f":"IF(Master!AA91=\"\",\"B\",Master!AA91)","v":"R"},{"$f":"IF(Master!AL91=\"\",\"B\",Master!AL91)","v":1},{"$f":"IF(Master!AW91=\"\",\"B\",Master!AW91)","v":1},{"$f":"IF(Master!BH91=\"\",\"B\",Master!BH91)","v":1},{"$f":"IF(Master!BS91=\"\",\"B\",Master!BS91)","v":1}]
[{"$f":"Master!A92","v":"SAFE"},{"$f":"Master!B92","v":"WSDOT SAFE: FLAGGING, TRAFFIC CONTROL"},{"$f":"Master!C92","v":"WSDOT_AFZ"},{"$f":"Master!D92","v":"ILT"},{"$f":"Master!E92","v":"Active"},{"$f":"Master!F92","v":0},{"$f":"Master!H92","v":0},{"$f":"IF(Master!P92=\"\",\"B\",Master!P92)","v":"R"},{"$f":"IF(Master!AA92=\"\",\"B\",Master!AA92)","v":"R"},{"$f":"IF(Master!AL92=\"\",\"B\",Master!AL92)","v":1},{"$f":"IF(Master!AW92=\"\",\"B\",Master!AW92)","v":1},{"$f":"IF(Master!BH92=\"\",\"B\",Master!BH92)","v":"B"},{"$f":"IF(Master!BS92=\"\",\"B\",Master!BS92)","v":"B"}]
[{"$f":"Master!A93","v":"SAFE"},{"$f":"Master!B93","v":"WSDOT SAFE: HAZARD COMMUNICATION STANDARD (HCS)"},{"$f":"Master!C93","v":"WSDOT_AEX"},{"$f":"Master!D93","v":"ILT"},{"$f":"Master!E93","v":"Active"},{"$f":"Master!F93","v":0},{"$f":"Master!H93","v":0},{"$f":"IF(Master!P93=\"\",\"B\",Master!P93)","v":2},{"$f":"IF(Master!AA93=\"\",\"B\",Master!AA93)","v":2},{"$f":"IF(Master!AL93=\"\",\"B\",Master!AL93)","v":2},{"$f":"IF(Master!AW93=\"\",\"B\",Master!AW93)","v":2},{"$f":"IF(Master!BH93=\"\",\"B\",Master!BH93)","v":2},{"$f":"IF(Master!BS93=\"\",\"B\",Master!BS93)","v":2}]
[{"$f":"Master!A94","v":"SAFE"},{"$f":"Master!B94","v":"WSDOT SAFE: HEARING CONSERVATION (ILT, and/or Self-Study)"},{"$f":"Master!C94","v":"WSDOT_ATS"},{"$f":"Master!D94","v":"OLT/ILT"},{"$f":"Master!E94","v":"Active"},{"$f":"Master!F94","v":0},{"$f":"Master!H94","v":0},{"$f":"IF(Master!P94=\"\",\"B\",Master!P94)","v":"R"},{"$f":"IF(Master!AA94=\"\",\"B\",Master!AA94)","v":"R"},{"$f":"IF(Master!AL94=\"\",\"B\",Master!AL94)","v":2},{"$f":"IF(Master!AW94=\"\",\"B\",Master!AW94)","v":2},{"$f":"IF(Master!BH94=\"\",\"B\",Master!BH94)","v":2},{"$f":"IF(Master!BS94=\"\",\"B\",Master!BS94)","v":2}]
[{"$f":"Master!A95","v":"SAFE"},{"$f":"Master!B95","v":"WSDOT SAFE: RESPIRATOR PROTECTION TRAINING"},{"$f":"Master!C95","v":"WSDOT_ARZ"},{"$f":"Master!D95","v":"ILT"},{"$f":"Master!E95","v":"Active"},{"$f":"Master!F95","v":0},{"$f":"Master!H95","v":0},{"$f":"IF(Master!P95=\"\",\"B\",Master!P95)","v":1},{"$f":"IF(Master!AA95=\"\",\"B\",Master!AA95)","v":1},{"$f":"IF(Master!AL95=\"\",\"B\",Master!AL95)","v":1},{"$f":"IF(Master!AW95=\"\",\"B\",Master!AW95)","v":1},{"$f":"IF(Master!BH95=\"\",\"B\",Master!BH95)","v":1},{"$f":"IF(Master!BS95=\"\",\"B\",Master!BS95)","v":1}]
[{"$f":"Master!A96","v":"Construction Division"},null,null,null,null,null,null,{"$f":"IF(Master!P96=\"\",\"B\",Master!P96)","v":"B"},{"$f":"IF(Master!AA96=\"\",\"B\",Master!AA96)","v":"B"},{"$f":"IF(Master!AL96=\"\",\"B\",Master!AL96)","v":"B"},{"$f":"IF(Master!AW96=\"\",\"B\",Master!AW96)","v":"B"},{"$f":"IF(Master!BH96=\"\",\"B\",Master!BH96)","v":"B"},{"$f":"IF(Master!BS96=\"\",\"B\",Master!BS96)","v":"B"}]
[{"$f":"Master!A97","v":"CN"},{"$f":"Master!B97","v":"WSDOT CN: AGGREGATE PRODUCTION & TESTING INSPECTION"},{"$f":"Master!C97","v":"WSDOT_ACA"},{"$f":"Master!D97","v":"ILT"},{"$f":"Master!E97","v":"Active"},{"$f":"Master!F97","v":0},{"$f":"Master!G97","v":0},{"$f":"IF(Master!H97=\"\",\"B\",Master!H97)","v":"B"},{"$f":"IF(Master!I97=\"\",\"B\",Master!I97)","v":"B"},{"$f":"IF(Master!J97=\"\",\"B\",Master!J97)","v":"B"},{"$f":"IF(Master!K97=\"\",\"B\",Master!K97)","v":"B"},{"$f":"IF(Master!L97=\"\",\"B\",Master!L97)","v":"B"},{"$f":"IF(Master!M97=\"\",\"B\",Master!M97)","v":"B"}]
[{"$f":"Master!A98","v":"CN"},{"$f":"Master!B98","v":"WSDOT CN: BITUMINOUS SURFACE TREATMENT INSPECTION"},{"$f":"Master!C98","v":"WSDOT_CN_BST_ACC"},{"$f":"Master!D98","v":"ILT"},{"$f":"Master!E98","v":"Active"},{"$f":"Master!F98","v":0},{"$f":"Master!G98","v":0},{"$f":"IF(Master!H98=\"\",\"B\",Master!H98)","v":"B"},{"$f":"IF(Master!I98=\"\",\"B\",Master!I98)","v":"B"},{"$f":"IF(Master!J98=\"\",\"B\",Master!J98)","v":2},{"$f":"IF(Master!K98=\"\",\"B\",Master!K98)","v":"B"},{"$f":"IF(Master!L98=\"\",\"B\",Master!L98)","v":"B"},{"$f":"IF(Master!M98=\"\",\"B\",Master!M98)","v":"B"}]
[{"$f":"Master!A99","v":"CN"},{"$f":"Master!B99","v":"WSDOT CN: ACCEPTANCE AND APPROVAL OF MATERIAL"},{"$f":"Master!C99","v":"WSDOT_CN_Acceptance_Material_CX8_OLT"},{"$f":"Master!D99","v":"OLT"},{"$f":"Master!E99","v":"Active"},{"$f":"Master!F99","v":0},{"$f":"Master!G99","v":0},{"$f":"IF(Master!H99=\"\",\"B\",Master!H99)","v":"B"},{"$f":"IF(Master!I99=\"\",\"B\",Master!I99)","v":"B"},{"$f":"IF(Master!J99=\"\",\"B\",Master!J99)","v":1},{"$f":"IF(Master!K99=\"\",\"B\",Master!K99)","v":2},{"$f":"IF(Master!L99=\"\",\"B\",Master!L99)","v":"B"},{"$f":"IF(Master!M99=\"\",\"B\",Master!M99)","v":"B"}]
[{"$f":"Master!A100","v":"CN"},{"$f":"Master!B100","v":"WSDOT CN: COMPOSING AN INSPECTOR'S DAILY REPORT"},{"$f":"Master!C100","v":"WSDOT_CZ9_OLT"},{"$f":"Master!D100","v":"OLT"},{"$f":"Master!E100","v":"Active"},{"$f":"Master!F100","v":0},{"$f":"Master!G100","v":0},{"$f":"IF(Master!H100=\"\",\"B\",Master!H100)","v":"B"},{"$f":"IF(Master!I100=\"\",\"B\",Master!I100)","v":"B"},{"$f":"IF(Master!J100=\"\",\"B\",Master!J100)","v":1},{"$f":"IF(Master!K100=\"\",\"B\",Master!K100)","v":2},{"$f":"IF(Master!L100=\"\",\"B\",Master!L100)","v":"B"},{"$f":"IF(Master!M100=\"\",\"B\",Master!M100)","v":"B"}]
[{"$f":"Master!A101","v":"CN"},{"$f":"Master!B101","v":"WSDOT CN: INSPECTING BRIDGE CONSTRUCTION"},{"$f":"Master!C101","v":"WSDOT_ACM"},{"$f":"Master!D101","v":"ILT"},{"$f":"Master!E101","v":"Active"},{"$f":"Master!F101","v":0},{"$f":"Master!G101","v":0},{"$f":"IF(Master!H101=\"\",\"B\",Master!H101)","v":"B"},{"$f":"IF(Master!I101=\"\",\"B\",Master!I101)","v":"B"},{"$f":"IF(Master!J101=\"\",\"B\",Master!J101)","v":2},{"$f":"IF(Master!K101=\"\",\"B\",Master!K101)","v":"B"},{"$f":"IF(Master!L101=\"\",\"B\",Master!L101)","v":"B"},{"$f":"IF(Master!M101=\"\",\"B\",Master!M101)","v":"B"}]
[{"$f":"Master!A102","v":"CN"},{"$f":"Master!B102","v":"WSDOT CN: CONSTRUCTION INSPECTION DOCUMENTATION"},{"$f":"Master!C102","v":"WSDOT_ACY"},{"$f":"Master!D102","v":"ILT"},{"$f":"Master!E102","v":"Active"},{"$f":"Master!F102","v":0},{"$f":"Master!G102","v":0},{"$f":"IF(Master!H102=\"\",\"B\",Master!H102)","v":"B"},{"$f":"IF(Master!I102=\"\",\"B\",Master!I102)","v":"B"},{"$f":"IF(Master!J102=\"\",\"B\",Master!J102)","v":1},{"$f":"IF(Master!K102=\"\",\"B\",Master!K102)","v":2},{"$f":"IF(Master!L102=\"\",\"B\",Master!L102)","v":"B"},{"$f":"IF(Master!M102=\"\",\"B\",Master!M102)","v":"B"}]
[{"$f":"Master!A103","v":"CN"},{"$f":"Master!B103","v":"WSDOT CN:CONSTRUCTION MATERIALS, APPROVAL AND ACCEPTANCE"},{"$f":"Master!C103","v":"WSDOT_DAP"},{"$f":"Master!D103","v":"ILT"},{"$f":"Master!E103","v":"Active"},{"$f":"Master!F103","v":0},{"$f":"Master!G103","v":0},{"$f":"IF(Master!H103=\"\",\"B\",Master!H103)","v":"B"},{"$f":"IF(Master!I103=\"\",\"B\",Master!I103)","v":"B"},{"$f":"IF(Master!J103=\"\",\"B\",Master!J103)","v":1},{"$f":"IF(Master!K103=\"\",\"B\",Master!K103)","v":2},{"$f":"IF(Master!L103=\"\",\"B\",Master!L103)","v":"B"},{"$f":"IF(Master!M103=\"\",\"B\",Master!M103)","v":"B"}]
[{"$f":"Master!A104","v":"CN"},{"$f":"Master!B104","v":"WSDOT CN: DRAINAGE INSPECTION"},{"$f":"Master!C104","v":"WSDOT_ACF"},{"$f":"Master!D104","v":"ILT"},{"$f":"Master!E104","v":"Active"},{"$f":"Master!F104","v":0},{"$f":"Master!G104","v":0},{"$f":"IF(Master!H104=\"\",\"B\",Master!H104)","v":"B"},{"$f":"IF(Master!I104=\"\",\"B\",Master!I104)","v":"B"},{"$f":"IF(Master!J104=\"\",\"B\",Master!J104)","v":2},{"$f":"IF(Master!K104=\"\",\"B\",Master!K104)","v":"B"},{"$f":"IF(Master!L104=\"\",\"B\",Master!L104)","v":"B"},{"$f":"IF(Master!M104=\"\",\"B\",Master!M104)","v":"B"}]
[{"$f":"Master!A105","v":"CN"},{"$f":"Master!B105","v":"WSDOT CN: EARTHWORK INSPECTION"},{"$f":"Master!C105","v":"WSDOT_Earthwork_OLT"},{"$f":"Master!D105","v":"OLT"},{"$f":"Master!E105","v":"Active"},{"$f":"Master!F105","v":0},{"$f":"Master!G105","v":0},{"$f":"IF(Master!H105=\"\",\"B\",Master!H105)","v":"B"},{"$f":"IF(Master!I105=\"\",\"B\",Master!I105)","v":"B"},{"$f":"IF(Master!J105=\"\",\"B\",Master!J105)","v":2},{"$f":"IF(Master!K105=\"\",\"B\",Master!K105)","v":"B"},{"$f":"IF(Master!L105=\"\",\"B\",Master!L105)","v":"B"},{"$f":"IF(Master!M105=\"\",\"B\",Master!M105)","v":"B"}]
[{"$f":"Master!A106","v":"CN"},{"$f":"Master!B106","v":"WSDOT CN: ELECTRICAL CONDUCTORS AND FIBER for ICP"},{"$f":"Master!C106","v":"WSDOT_ICP_Electrical_Conductors_Fiber_OLT"},{"$f":"Master!D106","v":"OLT"},{"$f":"Master!E106","v":"Active"},{"$f":"Master!F106","v":0},{"$f":"Master!G106","v":0},{"$f":"IF(Master!H106=\"\",\"B\",Master!H106)","v":"B"},{"$f":"IF(Master!I106=\"\",\"B\",Master!I106)","v":"B"},{"$f":"IF(Master!J106=\"\",\"B\",Master!J106)","v":"B"},{"$f":"IF(Master!K106=\"\",\"B\",Master!K106)","v":2},{"$f":"IF(Master!L106=\"\",\"B\",Master!L106)","v":"B"},{"$f":"IF(Master!M106=\"\",\"B\",Master!M106)","v":"B"}]
[{"$f":"Master!A107","v":"CN"},{"$f":"Master!B107","v":"WSDOT CN: ELECTRICAL-ILLUMINATION-SIGNALS & ITS INSPECTION"},{"$f":"Master!C107","v":"WSDOT_API"},{"$f":"Master!D107","v":"ILT"},{"$f":"Master!E107","v":"Active"},{"$f":"Master!F107","v":0},{"$f":"Master!G107","v":0},{"$f":"IF(Master!H107=\"\",\"B\",Master!H107)","v":"B"},{"$f":"IF(Master!I107=\"\",\"B\",Master!I107)","v":"B"},{"$f":"IF(Master!J107=\"\",\"B\",Master!J107)","v":"B"},{"$f":"IF(Master!K107=\"\",\"B\",Master!K107)","v":2},{"$f":"IF(Master!L107=\"\",\"B\",Master!L107)","v":"B"},{"$f":"IF(Master!M107=\"\",\"B\",Master!M107)","v":"B"}]
[{"$f":"Master!A108","v":"CN"},{"$f":"Master!B108","v":"WSDOT CN: EXCAVATION & EMBANKMENTS INSPECTION"},{"$f":"Master!C108","v":"WSDOT_AC3"},{"$f":"Master!D108","v":"ILT"},{"$f":"Master!E108","v":"Active"},{"$f":"Master!F108","v":0},{"$f":"Master!G108","v":0},{"$f":"IF(Master!H108=\"\",\"B\",Master!H108)","v":"B"},{"$f":"IF(Master!I108=\"\",\"B\",Master!I108)","v":"B"},{"$f":"IF(Master!J108=\"\",\"B\",Master!J108)","v":1},{"$f":"IF(Master!K108=\"\",\"B\",Master!K108)","v":"B"},{"$f":"IF(Master!L108=\"\",\"B\",Master!L108)","v":"B"},{"$f":"IF(Master!M108=\"\",\"B\",Master!M108)","v":"B"}]
[{"$f":"Master!A109","v":"CN"},{"$f":"Master!B109","v":"WSDOT CN: FIELD PAINTING STRUCTURAL STEEL"},{"$f":"Master!C109","v":"WSDOT_CN_Field_Painting_OLT"},{"$f":"Master!D109","v":"OLT"},{"$f":"Master!E109","v":"Active"},{"$f":"Master!F109","v":0},{"$f":"Master!G109","v":0},{"$f":"IF(Master!H109=\"\",\"B\",Master!H109)","v":"B"},{"$f":"IF(Master!I109=\"\",\"B\",Master!I109)","v":"B"},{"$f":"IF(Master!J109=\"\",\"B\",Master!J109)","v":"B"},{"$f":"IF(Master!K109=\"\",\"B\",Master!K109)","v":"B"},{"$f":"IF(Master!L109=\"\",\"B\",Master!L109)","v":"B"},{"$f":"IF(Master!M109=\"\",\"B\",Master!M109)","v":"B"}]
[{"$f":"Master!A110","v":"CN"},{"$f":"Master!B110","v":"WSDOT CN: FORCE ACCOUNT DOCUMENTATION AND PAYMENT"},{"$f":"Master!C110","v":"WSDOT_CN_ForceAccount_DG2_OLT"},{"$f":"Master!D110","v":"OLT"},{"$f":"Master!E110","v":"Active"},{"$f":"Master!F110","v":0},{"$f":"Master!G110","v":0},{"$f":"IF(Master!H110=\"\",\"B\",Master!H110)","v":"B"},{"$f":"IF(Master!I110=\"\",\"B\",Master!I110)","v":"B"},{"$f":"IF(Master!J110=\"\",\"B\",Master!J110)","v":1},{"$f":"IF(Master!K110=\"\",\"B\",Master!K110)","v":2},{"$f":"IF(Master!L110=\"\",\"B\",Master!L110)","v":"B"},{"$f":"IF(Master!M110=\"\",\"B\",Master!M110)","v":"B"}]
[{"$f":"Master!A111","v":"CN"},{"$f":"Master!B111","v":"WSDOT CN: FORMS AND FALSEWORK for ICP"},{"$f":"Master!C111","v":"WSDOT_ICP_Forms and Falsework_OLT"},{"$f":"Master!D111","v":"OLT"},{"$f":"Master!E111","v":"Active"},{"$f":"Master!F111","v":0},{"$f":"Master!G111","v":0},{"$f":"IF(Master!H111=\"\",\"B\",Master!H111)","v":"B"},{"$f":"IF(Master!I111=\"\",\"B\",Master!I111)","v":"B"},{"$f":"IF(Master!J111=\"\",\"B\",Master!J111)","v":2},{"$f":"IF(Master!K111=\"\",\"B\",Master!K111)","v":"B"},{"$f":"IF(Master!L111=\"\",\"B\",Master!L111)","v":"B"},{"$f":"IF(Master!M111=\"\",\"B\",Master!M111)","v":"B"}]
[{"$f":"Master!A112","v":"CN"},{"$f":"Master!B112","v":"WSDOT CN: GUARDRAIL INSTALLATION FOR INSPECTORS"},{"$f":"Master!C112","v":"WSDOT_DD4"},{"$f":"Master!D112","v":"ILT"},{"$f":"Master!E112","v":"Active"},{"$f":"Master!F112","v":0},{"$f":"Master!G112","v":0},{"$f":"IF(Master!H112=\"\",\"B\",Master!H112)","v":"B"},{"$f":"IF(Master!I112=\"\",\"B\",Master!I112)","v":"B"},{"$f":"IF(Master!J112=\"\",\"B\",Master!J112)","v":2},{"$f":"IF(Master!K112=\"\",\"B\",Master!K112)","v":"B"},{"$f":"IF(Master!L112=\"\",\"B\",Master!L112)","v":"B"},{"$f":"IF(Master!M112=\"\",\"B\",Master!M112)","v":"B"}]
[{"$f":"Master!A113","v":"CN"},{"$f":"Master!B113","v":"WSDOT CN: HAZMAT FOR THE PORTABLE NUCLEAR GAUGE"},{"$f":"Master!C113","v":"WSDOT Hazmat_for_Transportation_of_the_Nuclear_Gauge_ORG"},{"$f":"Master!D113","v":"OLT"},{"$f":"Master!E113","v":"Active"},{"$f":"Master!F113","v":0},{"$f":"Master!G113","v":0},{"$f":"IF(Master!H113=\"\",\"B\",Master!H113)","v":"B"},{"$f":"IF(Master!I113=\"\",\"B\",Master!I113)","v":"B"},{"$f":"IF(Master!J113=\"\",\"B\",Master!J113)","v":2},{"$f":"IF(Master!K113=\"\",\"B\",Master!K113)","v":"B"},{"$f":"IF(Master!L113=\"\",\"B\",Master!L113)","v":"B"},{"$f":"IF(Master!M113=\"\",\"B\",Master!M113)","v":"B"}]
[{"$f":"Master!A114","v":"CN"},{"$f":"Master!B114","v":"WSDOT CN: HMA PLACEMENT INSPECTION"},{"$f":"Master!C114","v":"WSDOT_HMAPlacement_OLT"},{"$f":"Master!D114","v":"OLT"},{"$f":"Master!E114","v":"Active"},{"$f":"Master!F114","v":0},{"$f":"Master!G114","v":0},{"$f":"IF(Master!H114=\"\",\"B\",Master!H114)","v":"B"},{"$f":"IF(Master!I114=\"\",\"B\",Master!I114)","v":"B"},{"$f":"IF(Master!J114=\"\",\"B\",Master!J114)","v":2},{"$f":"IF(Master!K114=\"\",\"B\",Master!K114)","v":"B"},{"$f":"IF(Master!L114=\"\",\"B\",Master!L114)","v":"B"},{"$f":"IF(Master!M114=\"\",\"B\",Master!M114)","v":"B"}]
[{"$f":"Master!A115","v":"CN"},{"$f":"Master!B115","v":"WSDOT CN: HOT MIX ASPHALT PLACEMENT"},{"$f":"Master!C115","v":"WSDOT_ACB"},{"$f":"Master!D115","v":"ILT"},{"$f":"Master!E115","v":"Active"},{"$f":"Master!F115","v":0},{"$f":"Master!G115","v":0},{"$f":"IF(Master!H115=\"\",\"B\",Master!H115)","v":"B"},{"$f":"IF(Master!I115=\"\",\"B\",Master!I115)","v":"B"},{"$f":"IF(Master!J115=\"\",\"B\",Master!J115)","v":2},{"$f":"IF(Master!K115=\"\",\"B\",Master!K115)","v":"B"},{"$f":"IF(Master!L115=\"\",\"B\",Master!L115)","v":"B"},{"$f":"IF(Master!M115=\"\",\"B\",Master!M115)","v":"B"}]
[{"$f":"Master!A116","v":"CN"},{"$f":"Master!B116","v":"WSDOT CN: HOT MIX ASPHALT PRODUCTION & TESTING"},{"$f":"Master!C116","v":"WSDOT_BG9"},{"$f":"Master!D116","v":"ILT"},{"$f":"Master!E116","v":"Active"},{"$f":"Master!F116","v":0},{"$f":"Master!G116","v":0},{"$f":"IF(Master!H116=\"\",\"B\",Master!H116)","v":"B"},{"$f":"IF(Master!I116=\"\",\"B\",Master!I116)","v":"B"},{"$f":"IF(Master!J116=\"\",\"B\",Master!J116)","v":2},{"$f":"IF(Master!K116=\"\",\"B\",Master!K116)","v":"B"},{"$f":"IF(Master!L116=\"\",\"B\",Master!L116)","v":"B"},{"$f":"IF(Master!M116=\"\",\"B\",Master!M116)","v":"B"}]
[{"$f":"Master!A117","v":"CN"},{"$f":"Master!B117","v":"WSDOT CN: INSPECTING BRIDGE CONSTRUCTION"},{"$f":"Master!C117","v":"WSDOT_ACM"},{"$f":"Master!D117","v":"ILT"},{"$f":"Master!E117","v":"Active"},{"$f":"Master!F117","v":0},{"$f":"Master!G117","v":0},{"$f":"IF(Master!H117=\"\",\"B\",Master!H117)","v":"B"},{"$f":"IF(Master!I117=\"\",\"B\",Master!I117)","v":"B"},{"$f":"IF(Master!J117=\"\",\"B\",Master!J117)","v":2},{"$f":"IF(Master!K117=\"\",\"B\",Master!K117)","v":"B"},{"$f":"IF(Master!L117=\"\",\"B\",Master!L117)","v":"B"},{"$f":"IF(Master!M117=\"\",\"B\",Master!M117)","v":"B"}]
[{"$f":"Master!A118","v":"CN"},{"$f":"Master!B118","v":"WSDOT CN: INSPECTION OF PEDESTRIAN FACILITIES"},{"$f":"Master!C118","v":"WSDOT_IFP_OLT"},{"$f":"Master!D118","v":"OLT"},{"$f":"Master!E118","v":"Active"},{"$f":"Master!F118","v":0},{"$f":"Master!G118","v":0},{"$f":"IF(Master!H118=\"\",\"B\",Master!H118)","v":"B"},{"$f":"IF(Master!I118=\"\",\"B\",Master!I118)","v":2},{"$f":"IF(Master!J118=\"\",\"B\",Master!J118)","v":2},{"$f":"IF(Master!K118=\"\",\"B\",Master!K118)","v":2},{"$f":"IF(Master!L118=\"\",\"B\",Master!L118)","v":2},{"$f":"IF(Master!M118=\"\",\"B\",Master!M118)","v":"B"}]
[{"$f":"Master!A119","v":"CN"},{"$f":"Master!B119","v":"WSDOT CN: INSPECTOR'S ROLE FOR CHANGE ORDER WORK"},{"$f":"Master!C119","v":"WSDOT_DH9_OLT"},{"$f":"Master!D119","v":"OLT"},{"$f":"Master!E119","v":"Active"},{"$f":"Master!F119","v":0},{"$f":"Master!G119","v":0},{"$f":"IF(Master!H119=\"\",\"B\",Master!H119)","v":"B"},{"$f":"IF(Master!I119=\"\",\"B\",Master!I119)","v":"B"},{"$f":"IF(Master!J119=\"\",\"B\",Master!J119)","v":1},{"$f":"IF(Master!K119=\"\",\"B\",Master!K119)","v":2},{"$f":"IF(Master!L119=\"\",\"B\",Master!L119)","v":"B"},{"$f":"IF(Master!M119=\"\",\"B\",Master!M119)","v":"B"}]
[{"$f":"Master!A120","v":"CN"},{"$f":"Master!B120","v":"WSDOT CN:INSPECTOR’S USE OF CONTRACT RESOURCES"},{"$f":"Master!C120","v":"WSDOT_UR1_OLT"},{"$f":"Master!D120","v":"OLT"},{"$f":"Master!E120","v":"Active"},{"$f":"Master!F120","v":0},{"$f":"Master!G120","v":0},{"$f":"IF(Master!H120=\"\",\"B\",Master!H120)","v":"B"},{"$f":"IF(Master!I120=\"\",\"B\",Master!I120)","v":"B"},{"$f":"IF(Master!J120=\"\",\"B\",Master!J120)","v":1},{"$f":"IF(Master!K120=\"\",\"B\",Master!K120)","v":2},{"$f":"IF(Master!L120=\"\",\"B\",Master!L120)","v":"B"},{"$f":"IF(Master!M120=\"\",\"B\",Master!M120)","v":"B"}]
[{"$f":"Master!A121","v":"CN"},{"$f":"Master!B121","v":"WSDOT CN: NHI CONTRACT ADMINISTRATION CORE CURRICULUM"},{"$f":"Master!C121","v":"WSDOT_NHI CONTRACT ADM"},{"$f":"Master!D121","v":"ILT"},{"$f":"Master!E121","v":"Active"},{"$f":"Master!F121","v":0},{"$f":"Master!G121","v":0},{"$f":"IF(Master!H121=\"\",\"B\",Master!H121)","v":"B"},{"$f":"IF(Master!I121=\"\",\"B\",Master!I121)","v":"B"},{"$f":"IF(Master!J121=\"\",\"B\",Master!J121)","v":"B"},{"$f":"IF(Master!K121=\"\",\"B\",Master!K121)","v":"B"},{"$f":"IF(Master!L121=\"\",\"B\",Master!L121)","v":"B"},{"$f":"IF(Master!M121=\"\",\"B\",Master!M121)","v":"B"}]
[{"$f":"Master!A122","v":"CN"},{"$f":"Master!B122","v":"WSDOT CN:NUCLEAR GAUGE SAFETY AND OPERATION"},{"$f":"Master!C122","v":"WSDOT_DCX_OLT"},{"$f":"Master!D122","v":"ILT"},{"$f":"Master!E122","v":"Active"},{"$f":"Master!F122","v":0},{"$f":"Master!G122","v":0},{"$f":"IF(Master!H122=\"\",\"B\",Master!H122)","v":"B"},{"$f":"IF(Master!I122=\"\",\"B\",Master!I122)","v":"B"},{"$f":"IF(Master!J122=\"\",\"B\",Master!J122)","v":2},{"$f":"IF(Master!K122=\"\",\"B\",Master!K122)","v":"B"},{"$f":"IF(Master!L122=\"\",\"B\",Master!L122)","v":"B"},{"$f":"IF(Master!M122=\"\",\"B\",Master!M122)","v":"B"}]
[{"$f":"Master!A123","v":"CN"},{"$f":"Master!B123","v":"WSDOT CN: NUCLEAR GAUGE, EMBANKMENT/SURFACING/PAVEMENT APPLICATIONS"},{"$f":"Master!C123","v":"WSDOT_ANQ"},{"$f":"Master!D123","v":"ILT"},{"$f":"Master!E123","v":"Active"},{"$f":"Master!F123","v":0},{"$f":"Master!G123","v":0},{"$f":"IF(Master!H123=\"\",\"B\",Master!H123)","v":"B"},{"$f":"IF(Master!I123=\"\",\"B\",Master!I123)","v":"B"},{"$f":"IF(Master!J123=\"\",\"B\",Master!J123)","v":2},{"$f":"IF(Master!K123=\"\",\"B\",Master!K123)","v":"B"},{"$f":"IF(Master!L123=\"\",\"B\",Master!L123)","v":"B"},{"$f":"IF(Master!M123=\"\",\"B\",Master!M123)","v":"B"}]
[{"$f":"Master!A124","v":"CN"},{"$f":"Master!B124","v":"WSDOT CN: PAVEMENT REHABILITATION"},{"$f":"Master!C124","v":"WSDOT_BQL"},{"$f":"Master!D124","v":"ILT"},{"$f":"Master!E124","v":"Active"},{"$f":"Master!F124","v":0},{"$f":"Master!G124","v":0},{"$f":"IF(Master!H124=\"\",\"B\",Master!H124)","v":"B"},{"$f":"IF(Master!I124=\"\",\"B\",Master!I124)","v":"B"},{"$f":"IF(Master!J124=\"\",\"B\",Master!J124)","v":"B"},{"$f":"IF(Master!K124=\"\",\"B\",Master!K124)","v":"B"},{"$f":"IF(Master!L124=\"\",\"B\",Master!L124)","v":"B"},{"$f":"IF(Master!M124=\"\",\"B\",Master!M124)","v":"B"}]
[{"$f":"Master!A125","v":"CN"},{"$f":"Master!B125","v":"WSDOT CN: PCC FIELD TESTING PROCEDURES"},{"$f":"Master!C125","v":"WSDOT_ABT"},{"$f":"Master!D125","v":"ILT"},{"$f":"Master!E125","v":"Active"},{"$f":"Master!F125","v":0},{"$f":"Master!G125","v":0},{"$f":"IF(Master!H125=\"\",\"B\",Master!H125)","v":"B"},{"$f":"IF(Master!I125=\"\",\"B\",Master!I125)","v":"B"},{"$f":"IF(Master!J125=\"\",\"B\",Master!J125)","v":"B"},{"$f":"IF(Master!K125=\"\",\"B\",Master!K125)","v":"B"},{"$f":"IF(Master!L125=\"\",\"B\",Master!L125)","v":"B"},{"$f":"IF(Master!M125=\"\",\"B\",Master!M125)","v":"B"}]
[{"$f":"Master!A126","v":"CN"},{"$f":"Master!B126","v":"WSDOT CN: PILE DRIVING INSPECTION"},{"$f":"Master!C126","v":"Piling_OLT"},{"$f":"Master!D126","v":"OLT"},{"$f":"Master!E126","v":"Active"},{"$f":"Master!F126","v":0},{"$f":"Master!G126","v":0},{"$f":"IF(Master!H126=\"\",\"B\",Master!H126)","v":"B"},{"$f":"IF(Master!I126=\"\",\"B\",Master!I126)","v":"B"},{"$f":"IF(Master!J126=\"\",\"B\",Master!J126)","v":"B"},{"$f":"IF(Master!K126=\"\",\"B\",Master!K126)","v":"B"},{"$f":"IF(Master!L126=\"\",\"B\",Master!L126)","v":"B"},{"$f":"IF(Master!M126=\"\",\"B\",Master!M126)","v":"B"}]
[{"$f":"Master!A127","v":"CN"},{"$f":"Master!B127","v":"WSDOT CN: PORTLAND CEMENT CONCRETE INSPECTION"},{"$f":"Master!C127","v":"WSDOT_PCC_OLT"},{"$f":"Master!D127","v":"OLT"},{"$f":"Master!E127","v":"Active"},{"$f":"Master!F127","v":0},{"$f":"Master!G127","v":0},{"$f":"IF(Master!H127=\"\",\"B\",Master!H127)","v":"B"},{"$f":"IF(Master!I127=\"\",\"B\",Master!I127)","v":"B"},{"$f":"IF(Master!J127=\"\",\"B\",Master!J127)","v":2},{"$f":"IF(Master!K127=\"\",\"B\",Master!K127)","v":"B"},{"$f":"IF(Master!L127=\"\",\"B\",Master!L127)","v":"B"},{"$f":"IF(Master!M127=\"\",\"B\",Master!M127)","v":"B"}]
[{"$f":"Master!A128","v":"CN"},{"$f":"Master!B128","v":"WSDOT CN: PRODUCING SOURCE DOCUMENTS"},{"$f":"Master!C128","v":"WSDOT_C1H_OLT"},{"$f":"Master!D128","v":"OLT"},{"$f":"Master!E128","v":"Active"},{"$f":"Master!F128","v":0},{"$f":"Master!G128","v":0},{"$f":"IF(Master!H128=\"\",\"B\",Master!H128)","v":"B"},{"$f":"IF(Master!I128=\"\",\"B\",Master!I128)","v":"B"},{"$f":"IF(Master!J128=\"\",\"B\",Master!J128)","v":"B"},{"$f":"IF(Master!K128=\"\",\"B\",Master!K128)","v":"B"},{"$f":"IF(Master!L128=\"\",\"B\",Master!L128)","v":"B"},{"$f":"IF(Master!M128=\"\",\"B\",Master!M128)","v":"B"}]
[{"$f":"Master!A129","v":"CN"},{"$f":"Master!B129","v":"WSDOT CN: SIGN BRIDGES AND CANTILEVER SIGNS"},{"$f":"Master!C129","v":"WSDOT_SBI_OLT"},{"$f":"Master!D129","v":"OLT"},{"$f":"Master!E129","v":"Active"},{"$f":"Master!F129","v":0},{"$f":"Master!G129","v":0},{"$f":"IF(Master!H129=\"\",\"B\",Master!H129)","v":"B"},{"$f":"IF(Master!I129=\"\",\"B\",Master!I129)","v":"B"},{"$f":"IF(Master!J129=\"\",\"B\",Master!J129)","v":2},{"$f":"IF(Master!K129=\"\",\"B\",Master!K129)","v":2},{"$f":"IF(Master!L129=\"\",\"B\",Master!L129)","v":"B"},{"$f":"IF(Master!M129=\"\",\"B\",Master!M129)","v":"B"}]
[{"$f":"Master!A130","v":"CN"},{"$f":"Master!B130","v":"WSDOT CN: SIGN INSPECTOR DUTIES"},{"$f":"Master!C130","v":"WSDOT_SID_OLT"},{"$f":"Master!D130","v":"OLT"},{"$f":"Master!E130","v":"Active"},{"$f":"Master!F130","v":0},{"$f":"Master!G130","v":0},{"$f":"IF(Master!H130=\"\",\"B\",Master!H130)","v":"B"},{"$f":"IF(Master!I130=\"\",\"B\",Master!I130)","v":"B"},{"$f":"IF(Master!J130=\"\",\"B\",Master!J130)","v":"B"},{"$f":"IF(Master!K130=\"\",\"B\",Master!K130)","v":2},{"$f":"IF(Master!L130=\"\",\"B\",Master!L130)","v":"B"},{"$f":"IF(Master!M130=\"\",\"B\",Master!M130)","v":"B"}]
[{"$f":"Master!A131","v":"CN"},{"$f":"Master!B131","v":"WSDOT CN: SIGN INSTALLATION INSPECTION"},{"$f":"Master!C131","v":"WSDOT_DFV"},{"$f":"Master!D131","v":"ILT"},{"$f":"Master!E131","v":"Active"},{"$f":"Master!F131","v":0},{"$f":"Master!G131","v":0},{"$f":"IF(Master!H131=\"\",\"B\",Master!H131)","v":"B"},{"$f":"IF(Master!I131=\"\",\"B\",Master!I131)","v":"B"},{"$f":"IF(Master!J131=\"\",\"B\",Master!J131)","v":"B"},{"$f":"IF(Master!K131=\"\",\"B\",Master!K131)","v":2},{"$f":"IF(Master!L131=\"\",\"B\",Master!L131)","v":"B"},{"$f":"IF(Master!M131=\"\",\"B\",Master!M131)","v":"B"}]
[{"$f":"Master!A132","v":"CN"},{"$f":"Master!B132","v":"WSDOT CN: SMALL AND LARGE SIGN INSPECTION REVIEW"},{"$f":"Master!C132","v":"WSDOT_SLR_OLT"},{"$f":"Master!D132","v":"OLT"},{"$f":"Master!E132","v":"Active"},{"$f":"Master!F132","v":0},{"$f":"Master!G132","v":0},{"$f":"IF(Master!H132=\"\",\"B\",Master!H132)","v":"B"},{"$f":"IF(Master!I132=\"\",\"B\",Master!I132)","v":"B"},{"$f":"IF(Master!J132=\"\",\"B\",Master!J132)","v":2},{"$f":"IF(Master!K132=\"\",\"B\",Master!K132)","v":2},{"$f":"IF(Master!L132=\"\",\"B\",Master!L132)","v":"B"},{"$f":"IF(Master!M132=\"\",\"B\",Master!M132)","v":"B"}]
[{"$f":"Master!A133","v":"CN"},{"$f":"Master!B133","v":"WSDOT CN: WORK ZONE TRAFFIC CONTROL"},{"$f":"Master!C133","v":"WSDOT_WZTC_OLT"},{"$f":"Master!D133","v":"OLT"},{"$f":"Master!E133","v":"Active"},{"$f":"Master!F133","v":0},{"$f":"Master!G133","v":0},{"$f":"IF(Master!H133=\"\",\"B\",Master!H133)","v":"B"},{"$f":"IF(Master!I133=\"\",\"B\",Master!I133)","v":"B"},{"$f":"IF(Master!J133=\"\",\"B\",Master!J133)","v":1},{"$f":"IF(Master!K133=\"\",\"B\",Master!K133)","v":1},{"$f":"IF(Master!L133=\"\",\"B\",Master!L133)","v":"B"},{"$f":"IF(Master!M133=\"\",\"B\",Master!M133)","v":"B"}]
[{"$f":"Master!A134","v":"CN"},{"$f":"Master!B134","v":"WSDOT DB: ALTERNATIVE TECHNICAL CONCEPT (ATC) REVIEW PROCESS"},{"$f":"Master!C134","v":"WSDOT_DB_ATC"},{"$f":"Master!D134","v":"ILT"},{"$f":"Master!E134","v":"Active"},{"$f":"Master!F134","v":0},{"$f":"Master!G134","v":0},{"$f":"IF(Master!H134=\"\",\"B\",Master!H134)","v":"B"},{"$f":"IF(Master!I134=\"\",\"B\",Master!I134)","v":"B"},{"$f":"IF(Master!J134=\"\",\"B\",Master!J134)","v":"B"},{"$f":"IF(Master!K134=\"\",\"B\",Master!K134)","v":"B"},{"$f":"IF(Master!L134=\"\",\"B\",Master!L134)","v":"B"},{"$f":"IF(Master!M134=\"\",\"B\",Master!M134)","v":"B"}]
[{"$f":"Master!A135","v":"CN"},{"$f":"Master!B135","v":"WSDOT DB: INTRODUCTION TO DESIGN-BUILD"},{"$f":"Master!C135","v":"WSDOT_DB_IDB"},{"$f":"Master!D135","v":"ILT"},{"$f":"Master!E135","v":"Active"},{"$f":"Master!F135","v":0},{"$f":"Master!G135","v":0},{"$f":"IF(Master!H135=\"\",\"B\",Master!H135)","v":"B"},{"$f":"IF(Master!I135=\"\",\"B\",Master!I135)","v":"B"},{"$f":"IF(Master!J135=\"\",\"B\",Master!J135)","v":"B"},{"$f":"IF(Master!K135=\"\",\"B\",Master!K135)","v":"B"},{"$f":"IF(Master!L135=\"\",\"B\",Master!L135)","v":"B"},{"$f":"IF(Master!M135=\"\",\"B\",Master!M135)","v":"B"}]
[{"$f":"Master!A136","v":"CN"},{"$f":"Master!B136","v":"WSDOT DB: DESIGN-BUILD BEST PRACTICES IN TRANSPORTATION"},{"$f":"Master!C136","v":"WSDOT_DB_BPT"},{"$f":"Master!D136","v":"ILT"},{"$f":"Master!E136","v":"Active"},{"$f":"Master!F136","v":0},{"$f":"Master!G136","v":0},{"$f":"IF(Master!H136=\"\",\"B\",Master!H136)","v":"B"},{"$f":"IF(Master!I136=\"\",\"B\",Master!I136)","v":"B"},{"$f":"IF(Master!J136=\"\",\"B\",Master!J136)","v":"B"},{"$f":"IF(Master!K136=\"\",\"B\",Master!K136)","v":"B"},{"$f":"IF(Master!L136=\"\",\"B\",Master!L136)","v":"B"},{"$f":"IF(Master!M136=\"\",\"B\",Master!M136)","v":"B"}]
[{"$f":"Master!A137","v":"CN"},{"$f":"Master!B137","v":"WSDOT DB: DESIGN-BUILD CLOSEOUT"},{"$f":"Master!C137","v":"WSDOT_DB_CO"},{"$f":"Master!D137","v":"ILT"},{"$f":"Master!E137","v":"Active"},{"$f":"Master!F137","v":0},{"$f":"Master!G137","v":0},{"$f":"IF(Master!H137=\"\",\"B\",Master!H137)","v":"B"},{"$f":"IF(Master!I137=\"\",\"B\",Master!I137)","v":"B"},{"$f":"IF(Master!J137=\"\",\"B\",Master!J137)","v":"B"},{"$f":"IF(Master!K137=\"\",\"B\",Master!K137)","v":"B"},{"$f":"IF(Master!L137=\"\",\"B\",Master!L137)","v":"B"},{"$f":"IF(Master!M137=\"\",\"B\",Master!M137)","v":"B"}]
[{"$f":"Master!A138","v":"CN"},{"$f":"Master!B138","v":"WSDOT DB: DESIGN-BUILD INSTRUCTIONS TO PROPOSERS (ITP) AND REQUEST FOR PROPOSALS (RFP)"},{"$f":"Master!C138","v":"WSDOT_DB_ITP_RFP"},{"$f":"Master!D138","v":"ILT"},{"$f":"Master!E138","v":"Active"},{"$f":"Master!F138","v":0},{"$f":"Master!G138","v":0},{"$f":"IF(Master!H138=\"\",\"B\",Master!H138)","v":"B"},{"$f":"IF(Master!I138=\"\",\"B\",Master!I138)","v":"B"},{"$f":"IF(Master!J138=\"\",\"B\",Master!J138)","v":"B"},{"$f":"IF(Master!K138=\"\",\"B\",Master!K138)","v":"B"},{"$f":"IF(Master!L138=\"\",\"B\",Master!L138)","v":"B"},{"$f":"IF(Master!M138=\"\",\"B\",Master!M138)","v":"B"}]
[{"$f":"Master!A139","v":"CN"},{"$f":"Master!B139","v":"WSDOT DB: DESIGN-BUILD OFFICE MANAGEMENT AND CONTRACT ADMINISTRATION"},{"$f":"Master!C139","v":"WSDOT_DB_CA"},{"$f":"Master!D139","v":"ILT"},{"$f":"Master!E139","v":"Active"},{"$f":"Master!F139","v":0},{"$f":"Master!G139","v":0},{"$f":"IF(Master!H139=\"\",\"B\",Master!H139)","v":"B"},{"$f":"IF(Master!I139=\"\",\"B\",Master!I139)","v":"B"},{"$f":"IF(Master!J139=\"\",\"B\",Master!J139)","v":"B"},{"$f":"IF(Master!K139=\"\",\"B\",Master!K139)","v":"B"},{"$f":"IF(Master!L139=\"\",\"B\",Master!L139)","v":"B"},{"$f":"IF(Master!M139=\"\",\"B\",Master!M139)","v":"B"}]
[{"$f":"Master!A140","v":"CN"},{"$f":"Master!B140","v":"WSDOT DB: DESIGN-BUILD STARTUP AND REQUEST FOR QUALIFICATIONS (RFQ\") DEVELOPMENT"},{"$f":"Master!C140","v":"WSDOT_DB_RFQ"},{"$f":"Master!D140","v":"ILT"},{"$f":"Master!E140","v":"Active"},{"$f":"Master!F140","v":0},{"$f":"Master!G140","v":0},{"$f":"IF(Master!H140=\"\",\"B\",Master!H140)","v":"B"},{"$f":"IF(Master!I140=\"\",\"B\",Master!I140)","v":"B"},{"$f":"IF(Master!J140=\"\",\"B\",Master!J140)","v":"B"},{"$f":"IF(Master!K140=\"\",\"B\",Master!K140)","v":"B"},{"$f":"IF(Master!L140=\"\",\"B\",Master!L140)","v":"B"},{"$f":"IF(Master!M140=\"\",\"B\",Master!M140)","v":"B"}]
[{"$f":"Master!A141","v":"CN"},{"$f":"Master!B141","v":"WSDOT DB: ENVIRONMENTAL IN DESIGN-BUILD"},{"$f":"Master!C141","v":"WSDOT_DB_E"},{"$f":"Master!D141","v":"ILT"},{"$f":"Master!E141","v":"Active"},{"$f":"Master!F141","v":0},{"$f":"Master!G141","v":0},{"$f":"IF(Master!H141=\"\",\"B\",Master!H141)","v":"B"},{"$f":"IF(Master!I141=\"\",\"B\",Master!I141)","v":"B"},{"$f":"IF(Master!J141=\"\",\"B\",Master!J141)","v":"B"},{"$f":"IF(Master!K141=\"\",\"B\",Master!K141)","v":"B"},{"$f":"IF(Master!L141=\"\",\"B\",Master!L141)","v":"B"},{"$f":"IF(Master!M141=\"\",\"B\",Master!M141)","v":"B"}]
[{"$f":"Master!A142","v":"CN"},{"$f":"Master!B142","v":"WSDOT DB: LESSONS LEARNED"},{"$f":"Master!C142","v":"WSDOT_DB_LL"},{"$f":"Master!D142","v":"ILT"},{"$f":"Master!E142","v":"Active"},{"$f":"Master!F142","v":0},{"$f":"Master!G142","v":0},{"$f":"IF(Master!H142=\"\",\"B\",Master!H142)","v":"B"},{"$f":"IF(Master!I142=\"\",\"B\",Master!I142)","v":"B"},{"$f":"IF(Master!J142=\"\",\"B\",Master!J142)","v":"B"},{"$f":"IF(Master!K142=\"\",\"B\",Master!K142)","v":"B"},{"$f":"IF(Master!L142=\"\",\"B\",Master!L142)","v":"B"},{"$f":"IF(Master!M142=\"\",\"B\",Master!M142)","v":"B"}]
[{"$f":"Master!A143","v":"CN"},{"$f":"Master!B143","v":"WSDOT DB: PROPOSAL EVALUATION"},{"$f":"Master!C143","v":"WSDOT_DB_PE"},{"$f":"Master!D143","v":"ILT"},{"$f":"Master!E143","v":"Active"},{"$f":"Master!F143","v":0},{"$f":"Master!G143","v":0},{"$f":"IF(Master!H143=\"\",\"B\",Master!H143)","v":"B"},{"$f":"IF(Master!I143=\"\",\"B\",Master!I143)","v":"B"},{"$f":"IF(Master!J143=\"\",\"B\",Master!J143)","v":"B"},{"$f":"IF(Master!K143=\"\",\"B\",Master!K143)","v":"B"},{"$f":"IF(Master!L143=\"\",\"B\",Master!L143)","v":"B"},{"$f":"IF(Master!M143=\"\",\"B\",Master!M143)","v":"B"}]
[{"$f":"Master!A144","v":"CN"},{"$f":"Master!B144","v":"WSDOT DB: QUALITY IN DESIGN-BUILD"},{"$f":"Master!C144","v":"WSDOT_DB_Q"},{"$f":"Master!D144","v":"ILT"},{"$f":"Master!E144","v":"Active"},{"$f":"Master!F144","v":0},{"$f":"Master!G144","v":0},{"$f":"IF(Master!H144=\"\",\"B\",Master!H144)","v":"B"},{"$f":"IF(Master!I144=\"\",\"B\",Master!I144)","v":"B"},{"$f":"IF(Master!J144=\"\",\"B\",Master!J144)","v":"B"},{"$f":"IF(Master!K144=\"\",\"B\",Master!K144)","v":"B"},{"$f":"IF(Master!L144=\"\",\"B\",Master!L144)","v":"B"},{"$f":"IF(Master!M144=\"\",\"B\",Master!M144)","v":"B"}]
[{"$f":"Master!A145","v":"CN"},{"$f":"Master!B145","v":"WSDOT DB: STATEMENT OF QUALIFICATIONS (SOQ) EVALUATION"},{"$f":"Master!C145","v":"WSDOT_DB_SOQE"},{"$f":"Master!D145","v":"ILT"},{"$f":"Master!E145","v":"Active"},{"$f":"Master!F145","v":0},{"$f":"Master!G145","v":0},{"$f":"IF(Master!H145=\"\",\"B\",Master!H145)","v":"B"},{"$f":"IF(Master!I145=\"\",\"B\",Master!I145)","v":"B"},{"$f":"IF(Master!J145=\"\",\"B\",Master!J145)","v":"B"},{"$f":"IF(Master!K145=\"\",\"B\",Master!K145)","v":"B"},{"$f":"IF(Master!L145=\"\",\"B\",Master!L145)","v":"B"},{"$f":"IF(Master!M145=\"\",\"B\",Master!M145)","v":"B"}]
[{"$f":"Master!A146","v":"CN"},{"$f":"Master!B146","v":"**WSDOT DB: EVALUATION"},{"$f":"Master!C146","v":0},{"$f":"Master!D146","v":"ILT"},{"$f":"Master!E146","v":"Under Development"},{"$f":"Master!F146","v":"Q1 2019"},{"$f":"Master!G146","v":0},{"$f":"IF(Master!H146=\"\",\"B\",Master!H146)","v":"B"},{"$f":"IF(Master!I146=\"\",\"B\",Master!I146)","v":"B"},{"$f":"IF(Master!J146=\"\",\"B\",Master!J146)","v":"B"},{"$f":"IF(Master!K146=\"\",\"B\",Master!K146)","v":"B"},{"$f":"IF(Master!L146=\"\",\"B\",Master!L146)","v":"B"},{"$f":"IF(Master!M146=\"\",\"B\",Master!M146)","v":"B"}]
[{"$f":"Master!A147","v":"CN"},{"$f":"Master!B147","v":"WSDOT DB: DESIGN-BUILD INVOICE PROCESSING"},{"$f":"Master!C147","v":0},{"$f":"Master!D147","v":"ILT"},{"$f":"Master!E147","v":"Active"},{"$f":"Master!F147","v":0},{"$f":"Master!G147","v":0},{"$f":"IF(Master!H147=\"\",\"B\",Master!H147)","v":"B"},{"$f":"IF(Master!I147=\"\",\"B\",Master!I147)","v":"B"},{"$f":"IF(Master!J147=\"\",\"B\",Master!J147)","v":"B"},{"$f":"IF(Master!K147=\"\",\"B\",Master!K147)","v":"B"},{"$f":"IF(Master!L147=\"\",\"B\",Master!L147)","v":"B"},{"$f":"IF(Master!M147=\"\",\"B\",Master!M147)","v":"B"}]
[{"$f":"Master!A148","v":"CN"},{"$f":"Master!B148","v":"WSDOT DB: INTERNAL AND EXTERNAL DEBRIEFING"},{"$f":"Master!C148","v":0},{"$f":"Master!D148","v":"ILT"},{"$f":"Master!E148","v":"Active"},{"$f":"Master!F148","v":0},{"$f":"Master!G148","v":0},{"$f":"IF(Master!H148=\"\",\"B\",Master!H148)","v":"B"},{"$f":"IF(Master!I148=\"\",\"B\",Master!I148)","v":"B"},{"$f":"IF(Master!J148=\"\",\"B\",Master!J148)","v":"B"},{"$f":"IF(Master!K148=\"\",\"B\",Master!K148)","v":"B"},{"$f":"IF(Master!L148=\"\",\"B\",Master!L148)","v":"B"},{"$f":"IF(Master!M148=\"\",\"B\",Master!M148)","v":"B"}]
[{"$f":"Master!A149","v":"CN"},{"$f":"Master!B149","v":"WSDOT DB: DESIGN-BUILD QUALITY VERIFICATION"},{"$f":"Master!C149","v":0},{"$f":"Master!D149","v":"ILT"},{"$f":"Master!E149","v":"Active"},{"$f":"Master!F149","v":0},{"$f":"Master!G149","v":0},{"$f":"IF(Master!H149=\"\",\"B\",Master!H149)","v":"B"},{"$f":"IF(Master!I149=\"\",\"B\",Master!I149)","v":"B"},{"$f":"IF(Master!J149=\"\",\"B\",Master!J149)","v":"B"},{"$f":"IF(Master!K149=\"\",\"B\",Master!K149)","v":"B"},{"$f":"IF(Master!L149=\"\",\"B\",Master!L149)","v":"B"},{"$f":"IF(Master!M149=\"\",\"B\",Master!M149)","v":"B"}]
[{"$f":"Master!A150","v":"CN"},{"$f":"Master!B150","v":"**WSDOT DB: QV ADMINISTRATION"},{"$f":"Master!C150","v":0},{"$f":"Master!D150","v":"ILT"},{"$f":"Master!E150","v":"Under Development"},{"$f":"Master!F150","v":"Q1 2019"},{"$f":"Master!G150","v":0},{"$f":"IF(Master!H150=\"\",\"B\",Master!H150)","v":"B"},{"$f":"IF(Master!I150=\"\",\"B\",Master!I150)","v":"B"},{"$f":"IF(Master!J150=\"\",\"B\",Master!J150)","v":"B"},{"$f":"IF(Master!K150=\"\",\"B\",Master!K150)","v":"B"},{"$f":"IF(Master!L150=\"\",\"B\",Master!L150)","v":"B"},{"$f":"IF(Master!M150=\"\",\"B\",Master!M150)","v":"B"}]
[{"$f":"Master!A151","v":"CN"},{"$f":"Master!B151","v":"**WSDOT DB: RISK ANALYSIS AND ALLOCATION FOR DB CONTRACTS"},{"$f":"Master!C151","v":0},{"$f":"Master!D151","v":"ILT"},{"$f":"Master!E151","v":"Under Development"},{"$f":"Master!F151","v":"Q1 2019"},{"$f":"Master!G151","v":0},{"$f":"IF(Master!H151=\"\",\"B\",Master!H151)","v":"B"},{"$f":"IF(Master!I151=\"\",\"B\",Master!I151)","v":"B"},{"$f":"IF(Master!J151=\"\",\"B\",Master!J151)","v":"B"},{"$f":"IF(Master!K151=\"\",\"B\",Master!K151)","v":"B"},{"$f":"IF(Master!L151=\"\",\"B\",Master!L151)","v":"B"},{"$f":"IF(Master!M151=\"\",\"B\",Master!M151)","v":"B"}]
[{"$f":"Master!A152","v":"Development Division"},null,null,null,null,null,null,{"$f":"IF(Master!P152=\"\",\"B\",Master!P152)","v":"B"},{"$f":"IF(Master!AA152=\"\",\"B\",Master!AA152)","v":"B"},{"$f":"IF(Master!AL152=\"\",\"B\",Master!AL152)","v":"B"},{"$f":"IF(Master!AW152=\"\",\"B\",Master!AW152)","v":"B"},{"$f":"IF(Master!BH152=\"\",\"B\",Master!BH152)","v":"B"},{"$f":"IF(Master!BS152=\"\",\"B\",Master!BS152)","v":"B"}]
[{"$f":"Master!A153","v":"Design"},null,null,null,null,null,null,{"$f":"IF(Master!P153=\"\",\"B\",Master!P153)","v":"B"},{"$f":"IF(Master!AA153=\"\",\"B\",Master!AA153)","v":"B"},{"$f":"IF(Master!AL153=\"\",\"B\",Master!AL153)","v":"B"},{"$f":"IF(Master!AW153=\"\",\"B\",Master!AW153)","v":"B"},{"$f":"IF(Master!BH153=\"\",\"B\",Master!BH153)","v":"B"},{"$f":"IF(Master!BS153=\"\",\"B\",Master!BS153)","v":"B"}]
[{"$f":"Master!A154","v":"DES"},{"$f":"Master!B154","v":"CONTRACT PLANS REVIEW (SELF-STUDY)"},{"$f":"Master!C154","v":"Paper and Pencil"},{"$f":"Master!D154","v":"SS"},{"$f":"Master!E154","v":"Active"},{"$f":"Master!F154","v":0},{"$f":"Master!H154","v":"E-Learning option as well.  Updated in 2013."},{"$f":"IF(Master!P154=\"\",\"B\",Master!P154)","v":"R"},{"$f":"IF(Master!AA154=\"\",\"B\",Master!AA154)","v":"R"},{"$f":"IF(Master!AL154=\"\",\"B\",Master!AL154)","v":1},{"$f":"IF(Master!AW154=\"\",\"B\",Master!AW154)","v":1},{"$f":"IF(Master!BH154=\"\",\"B\",Master!BH154)","v":"B"},{"$f":"IF(Master!BS154=\"\",\"B\",Master!BS154)","v":"B"}]
[{"$f":"Master!A155","v":"DES"},{"$f":"Master!B155","v":"CONTRACT PLANS READING (SELF-STUDY)"},{"$f":"Master!C155","v":"Paper and Pencil"},{"$f":"Master!D155","v":"SS"},{"$f":"Master!E155","v":"Active"},{"$f":"Master!F155","v":0},{"$f":"Master!H155","v":"Obtain material through Staff Development."},{"$f":"IF(Master!P155=\"\",\"B\",Master!P155)","v":"R"},{"$f":"IF(Master!AA155=\"\",\"B\",Master!AA155)","v":"R"},{"$f":"IF(Master!AL155=\"\",\"B\",Master!AL155)","v":1},{"$f":"IF(Master!AW155=\"\",\"B\",Master!AW155)","v":1},{"$f":"IF(Master!BH155=\"\",\"B\",Master!BH155)","v":"B"},{"$f":"IF(Master!BS155=\"\",\"B\",Master!BS155)","v":"B"}]
[{"$f":"Master!A156","v":"DES"},{"$f":"Master!B156","v":"WSDOT DES: CONTRACT PLANS & ESTIMATE PREPARATION"},{"$f":"Master!C156","v":"WSDOT_A4J"},{"$f":"Master!D156","v":"ILT"},{"$f":"Master!E156","v":"Inactive"},{"$f":"Master!F156","v":"None"},{"$f":"Master!H156","v":0},{"$f":"IF(Master!P156=\"\",\"B\",Master!P156)","v":"B"},{"$f":"IF(Master!AA156=\"\",\"B\",Master!AA156)","v":"B"},{"$f":"IF(Master!AL156=\"\",\"B\",Master!AL156)","v":"B"},{"$f":"IF(Master!AW156=\"\",\"B\",Master!AW156)","v":"B"},{"$f":"IF(Master!BH156=\"\",\"B\",Master!BH156)","v":"B"},{"$f":"IF(Master!BS156=\"\",\"B\",Master!BS156)","v":"B"}]
[{"$f":"Master!A157","v":"DES"},{"$f":"Master!B157","v":"WSDOT DES: CONTRACT PROVISION PREPARATION"},{"$f":"Master!C157","v":"WSDOT_BGN"},{"$f":"Master!D157","v":"ILT"},{"$f":"Master!E157","v":"Inactive"},{"$f":"Master!F157","v":"None"},{"$f":"Master!H157","v":0},{"$f":"IF(Master!P157=\"\",\"B\",Master!P157)","v":"B"},{"$f":"IF(Master!AA157=\"\",\"B\",Master!AA157)","v":"B"},{"$f":"IF(Master!AL157=\"\",\"B\",Master!AL157)","v":"B"},{"$f":"IF(Master!AW157=\"\",\"B\",Master!AW157)","v":"B"},{"$f":"IF(Master!BH157=\"\",\"B\",Master!BH157)","v":"B"},{"$f":"IF(Master!BS157=\"\",\"B\",Master!BS157)","v":"B"}]
[{"$f":"Master!A158","v":"DES"},{"$f":"Master!B158","v":"WSDOT DESIGN DOCUMENTATION"},{"$f":"Master!C158","v":"WSDOT DES: Design Documentation"},{"$f":"Master!D158","v":"ILT"},{"$f":"Master!E158","v":"Active"},{"$f":"Master!F158","v":0},{"$f":"Master!H158","v":"Contact ASDE; course material is at https://www.wsdot.wa.gov/Design/Support.htm."},{"$f":"IF(Master!P158=\"\",\"B\",Master!P158)","v":"B"},{"$f":"IF(Master!AA158=\"\",\"B\",Master!AA158)","v":"B"},{"$f":"IF(Master!AL158=\"\",\"B\",Master!AL158)","v":"B"},{"$f":"IF(Master!AW158=\"\",\"B\",Master!AW158)","v":"B"},{"$f":"IF(Master!BH158=\"\",\"B\",Master!BH158)","v":"B"},{"$f":"IF(Master!BS158=\"\",\"B\",Master!BS158)","v":"B"}]
[{"$f":"Master!A159","v":"DES"},{"$f":"Master!B159","v":"WSDOT DES: INTERSECTION DESIGN"},{"$f":"Master!C159","v":"WSDOT_CBD"},{"$f":"Master!D159","v":"ILT"},{"$f":"Master!E159","v":"Active"},{"$f":"Master!F159","v":0},{"$f":"Master!H159","v":"Course  updated in 2019,  delivered to all regions; class delivered by request."},{"$f":"IF(Master!P159=\"\",\"B\",Master!P159)","v":"B"},{"$f":"IF(Master!AA159=\"\",\"B\",Master!AA159)","v":"B"},{"$f":"IF(Master!AL159=\"\",\"B\",Master!AL159)","v":"B"},{"$f":"IF(Master!AW159=\"\",\"B\",Master!AW159)","v":"B"},{"$f":"IF(Master!BH159=\"\",\"B\",Master!BH159)","v":"B"},{"$f":"IF(Master!BS159=\"\",\"B\",Master!BS159)","v":"B"}]
[{"$f":"Master!A160","v":"DES"},{"$f":"Master!B160","v":"WSDOT DES: PROJECT DEVELOPMENT PROCESS"},{"$f":"Master!C160","v":"WSDOT_CF4"},{"$f":"Master!D160","v":"ILT"},{"$f":"Master!E160","v":"Active"},{"$f":"Master!F160","v":"None"},{"$f":"Master!H160","v":"Updated January 2020; will deliver to regions by 6/30/2021"},{"$f":"IF(Master!P160=\"\",\"B\",Master!P160)","v":"B"},{"$f":"IF(Master!AA160=\"\",\"B\",Master!AA160)","v":"B"},{"$f":"IF(Master!AL160=\"\",\"B\",Master!AL160)","v":"B"},{"$f":"IF(Master!AW160=\"\",\"B\",Master!AW160)","v":"B"},{"$f":"IF(Master!BH160=\"\",\"B\",Master!BH160)","v":"B"},{"$f":"IF(Master!BS160=\"\",\"B\",Master!BS160)","v":"B"}]
[{"$f":"Master!A161","v":"DES"},{"$f":"Master!B161","v":"WSDOT PM: SCHEDULING BASICS"},{"$f":"Master!C161","v":"WSDOT_CB5"},{"$f":"Master!D161","v":"ILT"},{"$f":"Master!E161","v":"Inactive"},{"$f":"Master!F161","v":"None"},{"$f":"Master!H161","v":0},{"$f":"IF(Master!P161=\"\",\"B\",Master!P161)","v":"B"},{"$f":"IF(Master!AA161=\"\",\"B\",Master!AA161)","v":"B"},{"$f":"IF(Master!AL161=\"\",\"B\",Master!AL161)","v":"B"},{"$f":"IF(Master!AW161=\"\",\"B\",Master!AW161)","v":"B"},{"$f":"IF(Master!BH161=\"\",\"B\",Master!BH161)","v":"B"},{"$f":"IF(Master!BS161=\"\",\"B\",Master!BS161)","v":"B"}]
[{"$f":"Master!A162","v":"DES"},{"$f":"Master!B162","v":"AASHTO T3 CPM SCHEDULING"},{"$f":"Master!C162","v":"Resources:\nCPM Scheduling (2 PDHs)\nCPM Scheduling (3 PDHs)"},{"$f":"Master!D162","v":"OLT"},{"$f":"Master!E162","v":"Active"},{"$f":"Master!F162","v":0},{"$f":"Master!H162","v":"The online CPM training is free for WSDOT employees. To sign up, create an AASHTO account (use your WSDOT email address for the username) then navigate to the CPM training and add it to your cart. Follow the instructions that are emailed to you. There are a variety of other courses available to WSDOT employees at no cost."}]
[{"$f":"Master!A163","v":"DES"},{"$f":"Master!B163","v":"WSDOT DES: RIGHT OF WAY PLANS PREPARATION"},{"$f":"Master!C163","v":"WSDOT_BCN"},{"$f":"Master!D163","v":"ILT"},{"$f":"Master!E163","v":"Inactive"},{"$f":"Master!F163","v":"None"},{"$f":"Master!H163","v":0},{"$f":"IF(Master!P163=\"\",\"B\",Master!P163)","v":"B"},{"$f":"IF(Master!AA163=\"\",\"B\",Master!AA163)","v":"B"},{"$f":"IF(Master!AL163=\"\",\"B\",Master!AL163)","v":"B"},{"$f":"IF(Master!AW163=\"\",\"B\",Master!AW163)","v":"B"},{"$f":"IF(Master!BH163=\"\",\"B\",Master!BH163)","v":"B"},{"$f":"IF(Master!BS163=\"\",\"B\",Master!BS163)","v":"B"}]
[{"$f":"Master!A164","v":"DES"},{"$f":"Master!B164","v":"WSDOT DES: ROADSIDE SAFETY"},{"$f":"Master!C164","v":"WSDOT_B74"},{"$f":"Master!D164","v":"ILT"},{"$f":"Master!E164","v":"Inactive"},{"$f":"Master!F164","v":"None"},{"$f":"Master!H164","v":0},{"$f":"IF(Master!P164=\"\",\"B\",Master!P164)","v":"B"},{"$f":"IF(Master!AA164=\"\",\"B\",Master!AA164)","v":"B"},{"$f":"IF(Master!AL164=\"\",\"B\",Master!AL164)","v":"B"},{"$f":"IF(Master!AW164=\"\",\"B\",Master!AW164)","v":"B"},{"$f":"IF(Master!BH164=\"\",\"B\",Master!BH164)","v":"B"},{"$f":"IF(Master!BS164=\"\",\"B\",Master!BS164)","v":"B"}]
[{"$f":"Master!A165","v":"DES"},{"$f":"Master!B165","v":"WSDOT DES: ROADWAY GEOMETRIC DESIGN"},{"$f":"Master!C165","v":"WSDOT_BWE"},{"$f":"Master!D165","v":"ILT"},{"$f":"Master!E165","v":"Inactive"},{"$f":"Master!F165","v":"None"},{"$f":"Master!H165","v":0},{"$f":"IF(Master!P165=\"\",\"B\",Master!P165)","v":"B"},{"$f":"IF(Master!AA165=\"\",\"B\",Master!AA165)","v":"B"},{"$f":"IF(Master!AL165=\"\",\"B\",Master!AL165)","v":"B"},{"$f":"IF(Master!AW165=\"\",\"B\",Master!AW165)","v":"B"},{"$f":"IF(Master!BH165=\"\",\"B\",Master!BH165)","v":"B"},{"$f":"IF(Master!BS165=\"\",\"B\",Master!BS165)","v":"B"}]
[{"$f":"Master!A166","v":"DES"},{"$f":"Master!B166","v":"WSDOT DES: INTERCHANGE DESIGN"},{"$f":"Master!C166","v":"WSDOT_CFU"},{"$f":"Master!D166","v":"ILT"},{"$f":"Master!E166","v":"Inactive"},{"$f":"Master!F166","v":"None"},{"$f":"Master!H166","v":"FHWA delivered their interchange training at WSDOT in 2019; course delivery depends on demand."},{"$f":"IF(Master!P166=\"\",\"B\",Master!P166)","v":"B"},{"$f":"IF(Master!AA166=\"\",\"B\",Master!AA166)","v":"B"},{"$f":"IF(Master!AL166=\"\",\"B\",Master!AL166)","v":"B"},{"$f":"IF(Master!AW166=\"\",\"B\",Master!AW166)","v":"B"},{"$f":"IF(Master!BH166=\"\",\"B\",Master!BH166)","v":"B"},{"$f":"IF(Master!BS166=\"\",\"B\",Master!BS166)","v":"B"}]
[{"$f":"Master!A167","v":"DES"},{"$f":"Master!B167","v":"WSDOT DES: ACCESS MANAGEMENT"},{"$f":"Master!C167","v":"WSDOT_DAS"},{"$f":"Master!D167","v":"ILT"},{"$f":"Master!E167","v":"Active"},{"$f":"Master!F167","v":0},{"$f":"Master!H167","v":"Being updated, but current class can be given at any time"},{"$f":"IF(Master!P167=\"\",\"B\",Master!P167)","v":"B"},{"$f":"IF(Master!AA167=\"\",\"B\",Master!AA167)","v":"B"},{"$f":"IF(Master!AL167=\"\",\"B\",Master!AL167)","v":"B"},{"$f":"IF(Master!AW167=\"\",\"B\",Master!AW167)","v":"B"},{"$f":"IF(Master!BH167=\"\",\"B\",Master!BH167)","v":"B"},{"$f":"IF(Master!BS167=\"\",\"B\",Master!BS167)","v":"B"}]
[{"$f":"Master!A168","v":"DES"},{"$f":"Master!B168","v":"ALTERNATIVES COMPARISON WORKSHOP"},{"$f":"Master!C168","v":"None"},{"$f":"Master!D168","v":"ILT"},{"$f":"Master!E168","v":"Inactive"},{"$f":"Master!F168","v":"None"},{"$f":"Master!H168","v":0},{"$f":"IF(Master!P168=\"\",\"B\",Master!P168)","v":"B"},{"$f":"IF(Master!AA168=\"\",\"B\",Master!AA168)","v":"B"},{"$f":"IF(Master!AL168=\"\",\"B\",Master!AL168)","v":"B"},{"$f":"IF(Master!AW168=\"\",\"B\",Master!AW168)","v":"B"},{"$f":"IF(Master!BH168=\"\",\"B\",Master!BH168)","v":"B"},{"$f":"IF(Master!BS168=\"\",\"B\",Master!BS168)","v":"B"}]
[{"$f":"Master!A169","v":"DES"},{"$f":"Master!B169","v":"WSDOT DES: COST ESTIMATING"},{"$f":"Master!C169","v":"WSDOT_CZV"},{"$f":"Master!D169","v":"ILT"},{"$f":"Master!E169","v":"Active"},{"$f":"Master!F169","v":0},{"$f":"Master!H169","v":"This class was updated in 2019 and delivered to all regions 2019-2020; this class can be delivered by request."},{"$f":"IF(Master!P169=\"\",\"B\",Master!P169)","v":"B"},{"$f":"IF(Master!AA169=\"\",\"B\",Master!AA169)","v":"B"},{"$f":"IF(Master!AL169=\"\",\"B\",Master!AL169)","v":"B"},{"$f":"IF(Master!AW169=\"\",\"B\",Master!AW169)","v":"B"},{"$f":"IF(Master!BH169=\"\",\"B\",Master!BH169)","v":"B"},{"$f":"IF(Master!BS169=\"\",\"B\",Master!BS169)","v":"B"}]
[{"$f":"Master!A170","v":"DES"},{"$f":"Master!B170","v":"RISK MANAGEMENT"},{"$f":"Master!C170","v":"None"},{"$f":"Master!D170","v":"ILT"},{"$f":"Master!E170","v":"Inactive"},{"$f":"Master!F170","v":"None"},{"$f":"Master!H170","v":"Available by arrangement; contact Mark Gabel or Mark Suijka."},{"$f":"IF(Master!P170=\"\",\"B\",Master!P170)","v":"B"},{"$f":"IF(Master!AA170=\"\",\"B\",Master!AA170)","v":"B"},{"$f":"IF(Master!AL170=\"\",\"B\",Master!AL170)","v":"B"},{"$f":"IF(Master!AW170=\"\",\"B\",Master!AW170)","v":"B"},{"$f":"IF(Master!BH170=\"\",\"B\",Master!BH170)","v":"B"},{"$f":"IF(Master!BS170=\"\",\"B\",Master!BS170)","v":"B"}]
[{"$f":"Master!A171","v":"DES"},{"$f":"Master!B171","v":"MANAGING PROJECT DELIVERY"},{"$f":"Master!C171","v":"None"},{"$f":"Master!D171","v":0},{"$f":"Master!E171","v":"Inactive"},{"$f":"Master!F171","v":"None"},{"$f":"Master!H171","v":"PM courses abailable through SkillSoft:  https://wsdot.skillport.com/skillportfe/main.action#whatshappening"},{"$f":"IF(Master!P171=\"\",\"B\",Master!P171)","v":"B"},{"$f":"IF(Master!AA171=\"\",\"B\",Master!AA171)","v":"B"},{"$f":"IF(Master!AL171=\"\",\"B\",Master!AL171)","v":"B"},{"$f":"IF(Master!AW171=\"\",\"B\",Master!AW171)","v":"B"},{"$f":"IF(Master!BH171=\"\",\"B\",Master!BH171)","v":"B"},{"$f":"IF(Master!BS171=\"\",\"B\",Master!BS171)","v":"B"}]
[{"$f":"Master!A172","v":"DES"},{"$f":"Master!B172","v":"HUMAN FACTORS IN TRANSPORTATION DESIGN"},{"$f":"Master!C172","v":"None"},{"$f":"Master!D172","v":"ILT"},{"$f":"Master!E172","v":"Inactive"},{"$f":"Master!F172","v":"None"},{"$f":"Master!H172","v":"Partly covered in the HSM Training"},{"$f":"IF(Master!P172=\"\",\"B\",Master!P172)","v":"B"},{"$f":"IF(Master!AA172=\"\",\"B\",Master!AA172)","v":"B"},{"$f":"IF(Master!AL172=\"\",\"B\",Master!AL172)","v":"B"},{"$f":"IF(Master!AW172=\"\",\"B\",Master!AW172)","v":"B"},{"$f":"IF(Master!BH172=\"\",\"B\",Master!BH172)","v":"B"},{"$f":"IF(Master!BS172=\"\",\"B\",Master!BS172)","v":"B"}]
[{"$f":"Master!A173","v":"DES"},{"$f":"Master!B173","v":"WSDOT DES: [YYYY] DESIGN MANUAL TRAINING"},{"$f":"Master!C173","v":"WSDOT_DMUT01202016"},{"$f":"Master!D173","v":"ILT"},{"$f":"Master!E173","v":"Active"},{"$f":"Master!F173","v":0},{"$f":"Master!H173","v":0},{"$f":"IF(Master!P173=\"\",\"B\",Master!P173)","v":"B"},{"$f":"IF(Master!AA173=\"\",\"B\",Master!AA173)","v":"B"},{"$f":"IF(Master!AL173=\"\",\"B\",Master!AL173)","v":"B"},{"$f":"IF(Master!AW173=\"\",\"B\",Master!AW173)","v":"B"},{"$f":"IF(Master!BH173=\"\",\"B\",Master!BH173)","v":"B"},{"$f":"IF(Master!BS173=\"\",\"B\",Master!BS173)","v":"B"}]
[{"$f":"Master!A174","v":"DES"},{"$f":"Master!B174","v":"WSDOT DES: DESIGN MANUAL DIVISION 11 PRACTICAL DESIGN"},{"$f":"Master!C174","v":"DMUT_ORG"},{"$f":"Master!D174","v":"OLT"},{"$f":"Master!E174","v":"Active"},{"$f":"Master!F174","v":0},{"$f":"Master!H174","v":"Available in LMS for credit, also at https://www.wsdot.wa.gov/LocalPrograms/Training/eTraining.htm "},{"$f":"IF(Master!P174=\"\",\"B\",Master!P174)","v":"B"},{"$f":"IF(Master!AA174=\"\",\"B\",Master!AA174)","v":"B"},{"$f":"IF(Master!AL174=\"\",\"B\",Master!AL174)","v":"B"},{"$f":"IF(Master!AW174=\"\",\"B\",Master!AW174)","v":"B"},{"$f":"IF(Master!BH174=\"\",\"B\",Master!BH174)","v":"B"},{"$f":"IF(Master!BS174=\"\",\"B\",Master!BS174)","v":"B"}]
[{"$f":"Master!A175","v":"DES"},{"$f":"Master!B175","v":"WSDOT PS 201 MULTIMODAL MAKING THE CASE MODULE1 OLT"},{"$f":"Master!C175","v":"Module_1:_Why_Multimodal?_ORG"},{"$f":"Master!D175","v":"OLT"},{"$f":"Master!E175","v":"Active"},{"$f":"Master!F175","v":0},{"$f":"Master!H175","v":0},{"$f":"IF(Master!P175=\"\",\"B\",Master!P175)","v":"B"},{"$f":"IF(Master!AA175=\"\",\"B\",Master!AA175)","v":"B"},{"$f":"IF(Master!AL175=\"\",\"B\",Master!AL175)","v":"B"},{"$f":"IF(Master!AW175=\"\",\"B\",Master!AW175)","v":"B"},{"$f":"IF(Master!BH175=\"\",\"B\",Master!BH175)","v":"B"},{"$f":"IF(Master!BS175=\"\",\"B\",Master!BS175)","v":"B"}]
[{"$f":"Master!A176","v":"DES"},{"$f":"Master!B176","v":"WSDOT PS 201 MULTIMODAL LAND USE MODULE2 OLT"},{"$f":"Master!C176","v":"Module_2_Land_Use_&_Transportation_ORG"},{"$f":"Master!D176","v":"OLT"},{"$f":"Master!E176","v":"Active"},{"$f":"Master!F176","v":0},{"$f":"Master!H176","v":0},{"$f":"IF(Master!P176=\"\",\"B\",Master!P176)","v":"B"},{"$f":"IF(Master!AA176=\"\",\"B\",Master!AA176)","v":"B"},{"$f":"IF(Master!AL176=\"\",\"B\",Master!AL176)","v":"B"},{"$f":"IF(Master!AW176=\"\",\"B\",Master!AW176)","v":"B"},{"$f":"IF(Master!BH176=\"\",\"B\",Master!BH176)","v":"B"},{"$f":"IF(Master!BS176=\"\",\"B\",Master!BS176)","v":"B"}]
[{"$f":"Master!A177","v":"DES"},{"$f":"Master!B177","v":"WSDOT PS 201 MULTIMODAL PHASES AND NEEDS MODULE3 OLT"},{"$f":"Master!C177","v":"Module_3_Phases_and_Needs_ORG"},{"$f":"Master!D177","v":"OLT"},{"$f":"Master!E177","v":" Active"},{"$f":"Master!F177","v":0},{"$f":"Master!H177","v":0},{"$f":"IF(Master!P177=\"\",\"B\",Master!P177)","v":"B"},{"$f":"IF(Master!AA177=\"\",\"B\",Master!AA177)","v":"B"},{"$f":"IF(Master!AL177=\"\",\"B\",Master!AL177)","v":"B"},{"$f":"IF(Master!AW177=\"\",\"B\",Master!AW177)","v":"B"},{"$f":"IF(Master!BH177=\"\",\"B\",Master!BH177)","v":"B"},{"$f":"IF(Master!BS177=\"\",\"B\",Master!BS177)","v":"B"}]
[{"$f":"Master!A178","v":"DES"},{"$f":"Master!B178","v":"WSDOT PS 201 MULTIMODAL PERFORMANCE BASICS MODULE4 OLT"},{"$f":"Master!C178","v":"Module_4_Performance_Basics_ORG"},{"$f":"Master!D178","v":"OLT"},{"$f":"Master!E178","v":"Active"},{"$f":"Master!F178","v":0},{"$f":"Master!H178","v":0},{"$f":"IF(Master!P178=\"\",\"B\",Master!P178)","v":"B"},{"$f":"IF(Master!AA178=\"\",\"B\",Master!AA178)","v":"B"},{"$f":"IF(Master!AL178=\"\",\"B\",Master!AL178)","v":"B"},{"$f":"IF(Master!AW178=\"\",\"B\",Master!AW178)","v":"B"},{"$f":"IF(Master!BH178=\"\",\"B\",Master!BH178)","v":"B"},{"$f":"IF(Master!BS178=\"\",\"B\",Master!BS178)","v":"B"}]
[{"$f":"Master!A179","v":"DES"},{"$f":"Master!B179","v":"WSDOT PS 201 MULTIMODAL TRANSIT MODULE5 OLT"},{"$f":"Master!C179","v":"Module_5_Transit_ORG"},{"$f":"Master!D179","v":"OLT"},{"$f":"Master!E179","v":"Active"},{"$f":"Master!F179","v":0},{"$f":"Master!H179","v":0},{"$f":"IF(Master!P179=\"\",\"B\",Master!P179)","v":"B"},{"$f":"IF(Master!AA179=\"\",\"B\",Master!AA179)","v":"B"},{"$f":"IF(Master!AL179=\"\",\"B\",Master!AL179)","v":"B"},{"$f":"IF(Master!AW179=\"\",\"B\",Master!AW179)","v":"B"},{"$f":"IF(Master!BH179=\"\",\"B\",Master!BH179)","v":"B"},{"$f":"IF(Master!BS179=\"\",\"B\",Master!BS179)","v":"B"}]
[{"$f":"Master!A180","v":"DES"},{"$f":"Master!B180","v":"WSDOT PS 201 MULTIMODAL WALKING MODULE6 OLT"},{"$f":"Master!C180","v":"Module_6_People_Walking_ORG"},{"$f":"Master!D180","v":"OLT"},{"$f":"Master!E180","v":"Active"},{"$f":"Master!F180","v":0},{"$f":"Master!H180","v":0},{"$f":"IF(Master!P180=\"\",\"B\",Master!P180)","v":"B"},{"$f":"IF(Master!AA180=\"\",\"B\",Master!AA180)","v":"B"},{"$f":"IF(Master!AL180=\"\",\"B\",Master!AL180)","v":"B"},{"$f":"IF(Master!AW180=\"\",\"B\",Master!AW180)","v":"B"},{"$f":"IF(Master!BH180=\"\",\"B\",Master!BH180)","v":"B"},{"$f":"IF(Master!BS180=\"\",\"B\",Master!BS180)","v":"B"}]
[{"$f":"Master!A181","v":"DES"},{"$f":"Master!B181","v":"WSDOT PS 201 MULTIMODAL BIKING MODULE7 OLT"},{"$f":"Master!C181","v":"Module_7_People_Biking_ORG"},{"$f":"Master!D181","v":"OLT"},{"$f":"Master!E181","v":"Active"},{"$f":"Master!F181","v":0},{"$f":"Master!H181","v":0},{"$f":"IF(Master!P181=\"\",\"B\",Master!P181)","v":"B"},{"$f":"IF(Master!AA181=\"\",\"B\",Master!AA181)","v":"B"},{"$f":"IF(Master!AL181=\"\",\"B\",Master!AL181)","v":"B"},{"$f":"IF(Master!AW181=\"\",\"B\",Master!AW181)","v":"B"},{"$f":"IF(Master!BH181=\"\",\"B\",Master!BH181)","v":"B"},{"$f":"IF(Master!BS181=\"\",\"B\",Master!BS181)","v":"B"}]
[{"$f":"Master!A182","v":"DES"},{"$f":"Master!B182","v":"WSDOT PS 201 MULTIMODAL FREIGHT MODULE8 OLT"},{"$f":"Master!C182","v":"Module_8_Freight_Transportation_ORG"},{"$f":"Master!D182","v":"OLT"},{"$f":"Master!E182","v":"Active"},{"$f":"Master!F182","v":0},{"$f":"Master!H182","v":0},{"$f":"IF(Master!P182=\"\",\"B\",Master!P182)","v":"B"},{"$f":"IF(Master!AA182=\"\",\"B\",Master!AA182)","v":"B"},{"$f":"IF(Master!AL182=\"\",\"B\",Master!AL182)","v":"B"},{"$f":"IF(Master!AW182=\"\",\"B\",Master!AW182)","v":"B"},{"$f":"IF(Master!BH182=\"\",\"B\",Master!BH182)","v":"B"},{"$f":"IF(Master!BS182=\"\",\"B\",Master!BS182)","v":"B"}]
[{"$f":"Master!A183","v":"DES"},{"$f":"Master!B183","v":"WSDOT PS 201 MULTIMODAL CONFLICTS AND HUBS MODULE9 OLT"},{"$f":"Master!C183","v":"Module_9_Modal_Conflicts_and_Hubs_ORG"},{"$f":"Master!D183","v":"OLT"},{"$f":"Master!E183","v":"Active"},{"$f":"Master!F183","v":0},{"$f":"Master!H183","v":0},{"$f":"IF(Master!P183=\"\",\"B\",Master!P183)","v":"B"},{"$f":"IF(Master!AA183=\"\",\"B\",Master!AA183)","v":"B"},{"$f":"IF(Master!AL183=\"\",\"B\",Master!AL183)","v":"B"},{"$f":"IF(Master!AW183=\"\",\"B\",Master!AW183)","v":"B"},{"$f":"IF(Master!BH183=\"\",\"B\",Master!BH183)","v":"B"},{"$f":"IF(Master!BS183=\"\",\"B\",Master!BS183)","v":"B"}]
[{"$f":"Master!A184","v":"DES"},{"$f":"Master!B184","v":"WSDOT PRACTICAL SOLUTIONS OVERVIEW OLT"},{"$f":"Master!C184","v":"Practical_Solutions_Overview_ORG"},{"$f":"Master!D184","v":"OLT"},{"$f":"Master!E184","v":"Active"},{"$f":"Master!F184","v":0},{"$f":"Master!H184","v":0},{"$f":"IF(Master!P184=\"\",\"B\",Master!P184)","v":2},{"$f":"IF(Master!AA184=\"\",\"B\",Master!AA184)","v":2},{"$f":"IF(Master!AL184=\"\",\"B\",Master!AL184)","v":2},{"$f":"IF(Master!AW184=\"\",\"B\",Master!AW184)","v":2},{"$f":"IF(Master!BH184=\"\",\"B\",Master!BH184)","v":2},{"$f":"IF(Master!BS184=\"\",\"B\",Master!BS184)","v":2}]
[{"$f":"Master!A185","v":"DES"},{"$f":"Master!B185","v":"WSDOT PS 101: PRACTICAL SOLUTIONS APPROACH TO PROJECT DEVELOPMENT OVERVIEW"},{"$f":"Master!C185","v":"WSDOT_PS101"},{"$f":"Master!D185","v":"ILT"},{"$f":"Master!E185","v":"Inactive"},{"$f":"Master!F185","v":0},{"$f":"Master!H185","v":0},{"$f":"IF(Master!P185=\"\",\"B\",Master!P185)","v":2},{"$f":"IF(Master!AA185=\"\",\"B\",Master!AA185)","v":2},{"$f":"IF(Master!AL185=\"\",\"B\",Master!AL185)","v":2},{"$f":"IF(Master!AW185=\"\",\"B\",Master!AW185)","v":2},{"$f":"IF(Master!BH185=\"\",\"B\",Master!BH185)","v":2},{"$f":"IF(Master!BS185=\"\",\"B\",Master!BS185)","v":2}]
[{"$f":"Master!A186","v":"Hydraulics"},null,null,null,null,null,null,{"$f":"IF(Master!P186=\"\",\"B\",Master!P186)","v":"B"},{"$f":"IF(Master!AA186=\"\",\"B\",Master!AA186)","v":"B"},{"$f":"IF(Master!AL186=\"\",\"B\",Master!AL186)","v":"B"},{"$f":"IF(Master!AW186=\"\",\"B\",Master!AW186)","v":"B"},{"$f":"IF(Master!BH186=\"\",\"B\",Master!BH186)","v":"B"},{"$f":"IF(Master!BS186=\"\",\"B\",Master!BS186)","v":"B"}]
[{"$f":"Master!A187","v":"HYD"},{"$f":"Master!B187","v":"WSDOT DES: HYDRAULICS AND HYDROLOGY"},{"$f":"Master!C187","v":"WSDOT_DES_HYDRAULICS_AND_HYDROLOGY"},{"$f":"Master!D187","v":"ILT"},{"$f":"Master!E187","v":"Active"},{"$f":"Master!F187","v":0},{"$f":"Master!H187","v":0},{"$f":"IF(Master!P187=\"\",\"B\",Master!P187)","v":"B"},{"$f":"IF(Master!AA187=\"\",\"B\",Master!AA187)","v":"B"},{"$f":"IF(Master!AL187=\"\",\"B\",Master!AL187)","v":"B"},{"$f":"IF(Master!AW187=\"\",\"B\",Master!AW187)","v":"B"},{"$f":"IF(Master!BH187=\"\",\"B\",Master!BH187)","v":"B"},{"$f":"IF(Master!BS187=\"\",\"B\",Master!BS187)","v":"B"}]
[{"$f":"Master!A188","v":"HYD"},{"$f":"Master!B188","v":"WSDOT DES: 2014 HIGHWAY RUNOFF MANUAL TRAINING"},{"$f":"Master!C188","v":"WSDOT_DBI"},{"$f":"Master!D188","v":"ILT"},{"$f":"Master!E188","v":"Active"},{"$f":"Master!F188","v":0},{"$f":"Master!H188","v":0},{"$f":"IF(Master!P188=\"\",\"B\",Master!P188)","v":"B"},{"$f":"IF(Master!AA188=\"\",\"B\",Master!AA188)","v":"B"},{"$f":"IF(Master!AL188=\"\",\"B\",Master!AL188)","v":"B"},{"$f":"IF(Master!AW188=\"\",\"B\",Master!AW188)","v":"B"},{"$f":"IF(Master!BH188=\"\",\"B\",Master!BH188)","v":"B"},{"$f":"IF(Master!BS188=\"\",\"B\",Master!BS188)","v":"B"}]
[{"$f":"Master!A189","v":"HYD"},{"$f":"Master!B189","v":"WSDOT_MGSFLOOD_TRAINING"},{"$f":"Master!C189","v":"WSDOT_MGSFLOOD_TRAINING"},{"$f":"Master!D189","v":"ILT"},{"$f":"Master!E189","v":"Active"},{"$f":"Master!F189","v":0},{"$f":"Master!H189","v":0},{"$f":"IF(Master!P189=\"\",\"B\",Master!P189)","v":"B"},{"$f":"IF(Master!AA189=\"\",\"B\",Master!AA189)","v":"B"},{"$f":"IF(Master!AL189=\"\",\"B\",Master!AL189)","v":"B"},{"$f":"IF(Master!AW189=\"\",\"B\",Master!AW189)","v":"B"},{"$f":"IF(Master!BH189=\"\",\"B\",Master!BH189)","v":"B"},{"$f":"IF(Master!BS189=\"\",\"B\",Master!BS189)","v":"B"}]
[{"$f":"Master!A190","v":"HYD"},{"$f":"Master!B190","v":"WSDOT DES: STORMSHED BEGINNING"},{"$f":"Master!C190","v":"WSDOT_DES_STORMSHED_BEGINNING"},{"$f":"Master!D190","v":"ILT"},{"$f":"Master!E190","v":"Active"},{"$f":"Master!F190","v":0},{"$f":"Master!H190","v":0},{"$f":"IF(Master!P190=\"\",\"B\",Master!P190)","v":"B"},{"$f":"IF(Master!AA190=\"\",\"B\",Master!AA190)","v":"B"},{"$f":"IF(Master!AL190=\"\",\"B\",Master!AL190)","v":"B"},{"$f":"IF(Master!AW190=\"\",\"B\",Master!AW190)","v":"B"},{"$f":"IF(Master!BH190=\"\",\"B\",Master!BH190)","v":"B"},{"$f":"IF(Master!BS190=\"\",\"B\",Master!BS190)","v":"B"}]
[{"$f":"Master!A191","v":"HYD"},{"$f":"Master!B191","v":"WSDOT DES: STORMSHED INTERMEDIATE"},{"$f":"Master!C191","v":"WSDOT_DES_STORMSHED_INTERMEDIATE"},{"$f":"Master!D191","v":"ILT"},{"$f":"Master!E191","v":"Active"},{"$f":"Master!F191","v":0},{"$f":"Master!H191","v":0},{"$f":"IF(Master!P191=\"\",\"B\",Master!P191)","v":"B"},{"$f":"IF(Master!AA191=\"\",\"B\",Master!AA191)","v":"B"},{"$f":"IF(Master!AL191=\"\",\"B\",Master!AL191)","v":"B"},{"$f":"IF(Master!AW191=\"\",\"B\",Master!AW191)","v":"B"},{"$f":"IF(Master!BH191=\"\",\"B\",Master!BH191)","v":"B"},{"$f":"IF(Master!BS191=\"\",\"B\",Master!BS191)","v":"B"}]
[{"$f":"Master!A192","v":"Environmental"},null,null,null,null,null,null,{"$f":"IF(Master!P192=\"\",\"B\",Master!P192)","v":"B"},{"$f":"IF(Master!AA192=\"\",\"B\",Master!AA192)","v":"B"},{"$f":"IF(Master!AL192=\"\",\"B\",Master!AL192)","v":"B"},{"$f":"IF(Master!AW192=\"\",\"B\",Master!AW192)","v":"B"},{"$f":"IF(Master!BH192=\"\",\"B\",Master!BH192)","v":"B"},{"$f":"IF(Master!BS192=\"\",\"B\",Master!BS192)","v":"B"}]
[{"$f":"Master!A193","v":"ENV"},{"$f":"Master!B193","v":"WSDOT ENV: SPILL PLAN REVIEWER TRAINING (OLT)"},{"$f":"Master!C193","v":"WSDOT_BYZ_OLT"},{"$f":"Master!D193","v":"OLT"},{"$f":"Master!E193","v":"Active"},{"$f":"Master!F193","v":0},{"$f":"Master!G193","v":"NA"},{"$f":"IF(Master!P193=\"\",\"B\",Master!P193)","v":"B"},{"$f":"IF(Master!AA193=\"\",\"B\",Master!AA193)","v":"B"},{"$f":"IF(Master!AL193=\"\",\"B\",Master!AL193)","v":"B"},{"$f":"IF(Master!AW193=\"\",\"B\",Master!AW193)","v":"B"},{"$f":"IF(Master!BH193=\"\",\"B\",Master!BH193)","v":"B"},{"$f":"IF(Master!BS193=\"\",\"B\",Master!BS193)","v":"B"}]
[{"$f":"Master!A194","v":"ENV"},{"$f":"Master!B194","v":"WSDOT ENV: CONSTRUCTION SITE EROSION AND SEDIMENT CONTROL"},{"$f":"Master!C194","v":"WSDOT_BPW"},{"$f":"Master!D194","v":"ILT"},{"$f":"Master!E194","v":"Active"},{"$f":"Master!F194","v":0},{"$f":"Master!G194","v":"Once per year per Region or by request"},{"$f":"IF(Master!P194=\"\",\"B\",Master!P194)","v":"B"},{"$f":"IF(Master!AA194=\"\",\"B\",Master!AA194)","v":"B"},{"$f":"IF(Master!AL194=\"\",\"B\",Master!AL194)","v":"B"},{"$f":"IF(Master!AW194=\"\",\"B\",Master!AW194)","v":"B"},{"$f":"IF(Master!BH194=\"\",\"B\",Master!BH194)","v":"B"},{"$f":"IF(Master!BS194=\"\",\"B\",Master!BS194)","v":"B"}]
[{"$f":"Master!A195","v":"ENV"},{"$f":"Master!B195","v":"WSDOT ENV: CULTURAL RESOURCE TRAINING"},{"$f":"Master!C195","v":"WSDOT_B7T"},{"$f":"Master!D195","v":"ILT"},{"$f":"Master!E195","v":"Active"},{"$f":"Master!F195","v":0},{"$f":"Master!G195","v":"Offered 1-2 times per year"},{"$f":"IF(Master!P195=\"\",\"B\",Master!P195)","v":"B"},{"$f":"IF(Master!AA195=\"\",\"B\",Master!AA195)","v":"B"},{"$f":"IF(Master!AL195=\"\",\"B\",Master!AL195)","v":"B"},{"$f":"IF(Master!AW195=\"\",\"B\",Master!AW195)","v":"B"},{"$f":"IF(Master!BH195=\"\",\"B\",Master!BH195)","v":"B"},{"$f":"IF(Master!BS195=\"\",\"B\",Master!BS195)","v":"B"}]
[{"$f":"Master!A196","v":"ENV"},{"$f":"Master!B196","v":"WSDOT ENV: ENVIRONMENTAL JUSTICE INCLUSION TRAINING (OLT)"},{"$f":"Master!C196","v":"WSDOT_EJ1_OLT"},{"$f":"Master!D196","v":"OLT"},{"$f":"Master!E196","v":"Active"},{"$f":"Master!F196","v":0},{"$f":"Master!G196","v":"NA"},{"$f":"IF(Master!P196=\"\",\"B\",Master!P196)","v":1},{"$f":"IF(Master!AA196=\"\",\"B\",Master!AA196)","v":1},{"$f":"IF(Master!AL196=\"\",\"B\",Master!AL196)","v":1},{"$f":"IF(Master!AW196=\"\",\"B\",Master!AW196)","v":1},{"$f":"IF(Master!BH196=\"\",\"B\",Master!BH196)","v":1},{"$f":"IF(Master!BS196=\"\",\"B\",Master!BS196)","v":1}]
[{"$f":"Master!A197","v":"ENV"},{"$f":"Master!B197","v":"WSDOT ENV: ENVIRONMENTAL OVERVIEW - COMPLIANCE FOR CONSTRUCTION (OLT)"},{"$f":"Master!C197","v":"WSDOT_CR5_OLT"},{"$f":"Master!D197","v":"OLT"},{"$f":"Master!E197","v":"Active"},{"$f":"Master!F197","v":0},{"$f":"Master!G197","v":"NA"},{"$f":"IF(Master!P197=\"\",\"B\",Master!P197)","v":"B"},{"$f":"IF(Master!AA197=\"\",\"B\",Master!AA197)","v":"B"},{"$f":"IF(Master!AL197=\"\",\"B\",Master!AL197)","v":"B"},{"$f":"IF(Master!AW197=\"\",\"B\",Master!AW197)","v":"B"},{"$f":"IF(Master!BH197=\"\",\"B\",Master!BH197)","v":"B"},{"$f":"IF(Master!BS197=\"\",\"B\",Master!BS197)","v":"B"}]
[{"$f":"Master!A198","v":"ENV"},{"$f":"Master!B198","v":"WSDOT ENV: ESA (ENDANGERED SPECIES ACT) FOR NON-BIOLOGISTS (OLT)"},{"$f":"Master!C198","v":"WSDOT_EV9_OLT"},{"$f":"Master!D198","v":"OLT"},{"$f":"Master!E198","v":"Active"},{"$f":"Master!F198","v":0},{"$f":"Master!G198","v":"NA"},{"$f":"IF(Master!P198=\"\",\"B\",Master!P198)","v":"B"},{"$f":"IF(Master!AA198=\"\",\"B\",Master!AA198)","v":"B"},{"$f":"IF(Master!AL198=\"\",\"B\",Master!AL198)","v":"B"},{"$f":"IF(Master!AW198=\"\",\"B\",Master!AW198)","v":"B"},{"$f":"IF(Master!BH198=\"\",\"B\",Master!BH198)","v":"B"},{"$f":"IF(Master!BS198=\"\",\"B\",Master!BS198)","v":"B"}]
[{"$f":"Master!A199","v":"ENV"},{"$f":"Master!B199","v":"WSDOT ENV: NEPA/SEPA - MODULE 1 - OVERVIEW"},{"$f":"Master!C199","v":"WSDOT_DDV"},{"$f":"Master!D199","v":"ILT"},{"$f":"Master!E199","v":"Active"},{"$f":"Master!F199","v":0},{"$f":"Master!G199","v":"Once per year per Region or by request"},{"$f":"IF(Master!P199=\"\",\"B\",Master!P199)","v":"B"},{"$f":"IF(Master!AA199=\"\",\"B\",Master!AA199)","v":"B"},{"$f":"IF(Master!AL199=\"\",\"B\",Master!AL199)","v":"B"},{"$f":"IF(Master!AW199=\"\",\"B\",Master!AW199)","v":"B"},{"$f":"IF(Master!BH199=\"\",\"B\",Master!BH199)","v":"B"},{"$f":"IF(Master!BS199=\"\",\"B\",Master!BS199)","v":"B"}]
[{"$f":"Master!A200","v":"ENV"},{"$f":"Master!B200","v":"WSDOT ENV: NEPA/SEPA - MODULE 2 - DOCUMENTING CATEGORICAL EXCLUSIONS"},{"$f":"Master!C200","v":"WSDOT_ENV"},{"$f":"Master!D200","v":"ILT"},{"$f":"Master!E200","v":"Active"},{"$f":"Master!F200","v":0},{"$f":"Master!G200","v":"Once per year per Region or by request"},{"$f":"IF(Master!P200=\"\",\"B\",Master!P200)","v":"B"},{"$f":"IF(Master!AA200=\"\",\"B\",Master!AA200)","v":"B"},{"$f":"IF(Master!AL200=\"\",\"B\",Master!AL200)","v":"B"},{"$f":"IF(Master!AW200=\"\",\"B\",Master!AW200)","v":"B"},{"$f":"IF(Master!BH200=\"\",\"B\",Master!BH200)","v":"B"},{"$f":"IF(Master!BS200=\"\",\"B\",Master!BS200)","v":"B"}]
[{"$f":"Master!A201","v":"ENV"},{"$f":"Master!B201","v":"WSDOT ENV: NEPA/SEPA - MODULE 3 - DOCUMENTING EAs AND EISs"},{"$f":"Master!C201","v":"WSDOT_ENV_2"},{"$f":"Master!D201","v":"ILT"},{"$f":"Master!E201","v":"Active"},{"$f":"Master!F201","v":0},{"$f":"Master!G201","v":"Once per year per Region or by request"},{"$f":"IF(Master!P201=\"\",\"B\",Master!P201)","v":"B"},{"$f":"IF(Master!AA201=\"\",\"B\",Master!AA201)","v":"B"},{"$f":"IF(Master!AL201=\"\",\"B\",Master!AL201)","v":"B"},{"$f":"IF(Master!AW201=\"\",\"B\",Master!AW201)","v":"B"},{"$f":"IF(Master!BH201=\"\",\"B\",Master!BH201)","v":"B"},{"$f":"IF(Master!BS201=\"\",\"B\",Master!BS201)","v":"B"}]
[{"$f":"Master!A202","v":"ENV"},{"$f":"Master!B202","v":"WSDOT ENV: POISONOUS AND HARMFUL PLANTS IN WASHINGTON STATE"},{"$f":"Master!C202","v":"WSDOT_019_OLT"},{"$f":"Master!D202","v":"OLT"},{"$f":"Master!E202","v":"Active"},{"$f":"Master!F202","v":0},{"$f":"Master!G202","v":"NA"},{"$f":"IF(Master!P202=\"\",\"B\",Master!P202)","v":"B"},{"$f":"IF(Master!AA202=\"\",\"B\",Master!AA202)","v":"B"},{"$f":"IF(Master!AL202=\"\",\"B\",Master!AL202)","v":"B"},{"$f":"IF(Master!AW202=\"\",\"B\",Master!AW202)","v":"B"},{"$f":"IF(Master!BH202=\"\",\"B\",Master!BH202)","v":"B"},{"$f":"IF(Master!BS202=\"\",\"B\",Master!BS202)","v":"B"}]
[{"$f":"Master!A203","v":"Computer Aided Engineering"},null,null,null,null,null,null,{"$f":"IF(Master!P203=\"\",\"B\",Master!P203)","v":"B"},{"$f":"IF(Master!AA203=\"\",\"B\",Master!AA203)","v":"B"},{"$f":"IF(Master!AL203=\"\",\"B\",Master!AL203)","v":"B"},{"$f":"IF(Master!AW203=\"\",\"B\",Master!AW203)","v":"B"},{"$f":"IF(Master!BH203=\"\",\"B\",Master!BH203)","v":"B"},{"$f":"IF(Master!BS203=\"\",\"B\",Master!BS203)","v":"B"}]
[{"$f":"Master!A204","v":"CAE"},{"$f":"Master!B204","v":"WSDOT CAE: MICROSTATION - 101 ENTRY LEVEL"},{"$f":"Master!C204","v":"WSDOT_AX4"},{"$f":"Master!D204","v":"ILT"},{"$f":"Master!E204","v":"Active"},{"$f":"Master!F204","v":0},{"$f":"Master!H204","v":0},{"$f":"IF(Master!P204=\"\",\"B\",Master!P204)","v":"B"},{"$f":"IF(Master!AA204=\"\",\"B\",Master!AA204)","v":"B"},{"$f":"IF(Master!AL204=\"\",\"B\",Master!AL204)","v":"B"},{"$f":"IF(Master!AW204=\"\",\"B\",Master!AW204)","v":"B"},{"$f":"IF(Master!BH204=\"\",\"B\",Master!BH204)","v":"B"},{"$f":"IF(Master!BS204=\"\",\"B\",Master!BS204)","v":"B"}]
[{"$f":"Master!A205","v":"CAE"},{"$f":"Master!B205","v":"WSDOT CAE: MICROSTATION - 201 PRODUCTION LEVEL"},{"$f":"Master!C205","v":"WSDOT_AI6"},{"$f":"Master!D205","v":"ILT"},{"$f":"Master!E205","v":"Active"},{"$f":"Master!F205","v":0},{"$f":"Master!H205","v":0},{"$f":"IF(Master!P205=\"\",\"B\",Master!P205)","v":"B"},{"$f":"IF(Master!AA205=\"\",\"B\",Master!AA205)","v":"B"},{"$f":"IF(Master!AL205=\"\",\"B\",Master!AL205)","v":"B"},{"$f":"IF(Master!AW205=\"\",\"B\",Master!AW205)","v":"B"},{"$f":"IF(Master!BH205=\"\",\"B\",Master!BH205)","v":"B"},{"$f":"IF(Master!BS205=\"\",\"B\",Master!BS205)","v":"B"}]
[{"$f":"Master!A206","v":"CAE"},{"$f":"Master!B206","v":"WSDOT CAE: INROADS - 201 PRODUCTION LEVEL DESIGN"},{"$f":"Master!C206","v":"WSDOT_CRZ"},{"$f":"Master!D206","v":"ILT"},{"$f":"Master!E206","v":"Active"},{"$f":"Master!F206","v":0},{"$f":"Master!H206","v":0},{"$f":"IF(Master!P206=\"\",\"B\",Master!P206)","v":"B"},{"$f":"IF(Master!AA206=\"\",\"B\",Master!AA206)","v":"B"},{"$f":"IF(Master!AL206=\"\",\"B\",Master!AL206)","v":"B"},{"$f":"IF(Master!AW206=\"\",\"B\",Master!AW206)","v":"B"},{"$f":"IF(Master!BH206=\"\",\"B\",Master!BH206)","v":"B"},{"$f":"IF(Master!BS206=\"\",\"B\",Master!BS206)","v":"B"}]
[{"$f":"Master!A207","v":"CAE"},{"$f":"Master!B207","v":"WSDOT CAE: INROADS - 202 SURVEY DATA PROCESSING"},{"$f":"Master!C207","v":"WSDOT_CU1"},{"$f":"Master!D207","v":"ILT"},{"$f":"Master!E207","v":"Active"},{"$f":"Master!F207","v":0},{"$f":"Master!H207","v":0},{"$f":"IF(Master!P207=\"\",\"B\",Master!P207)","v":"B"},{"$f":"IF(Master!AA207=\"\",\"B\",Master!AA207)","v":"B"},{"$f":"IF(Master!AL207=\"\",\"B\",Master!AL207)","v":"B"},{"$f":"IF(Master!AW207=\"\",\"B\",Master!AW207)","v":"B"},{"$f":"IF(Master!BH207=\"\",\"B\",Master!BH207)","v":"B"},{"$f":"IF(Master!BS207=\"\",\"B\",Master!BS207)","v":"B"}]
[{"$f":"Master!A208","v":"CAE"},{"$f":"Master!B208","v":"WSDOT CAE: INROADS - 203 GEOMETRICS"},{"$f":"Master!C208","v":"WSDOT_DBF"},{"$f":"Master!D208","v":"ILT"},{"$f":"Master!E208","v":"Active"},{"$f":"Master!F208","v":0},{"$f":"Master!H208","v":0},{"$f":"IF(Master!P208=\"\",\"B\",Master!P208)","v":"B"},{"$f":"IF(Master!AA208=\"\",\"B\",Master!AA208)","v":"B"},{"$f":"IF(Master!AL208=\"\",\"B\",Master!AL208)","v":"B"},{"$f":"IF(Master!AW208=\"\",\"B\",Master!AW208)","v":"B"},{"$f":"IF(Master!BH208=\"\",\"B\",Master!BH208)","v":"B"},{"$f":"IF(Master!BS208=\"\",\"B\",Master!BS208)","v":"B"}]
[{"$f":"Master!A209","v":"CAE"},{"$f":"Master!B209","v":"WSDOT CAE: INROADS - 205 CONSTRUCTION PROCESSES"},{"$f":"Master!C209","v":"WSDOT_DH2"},{"$f":"Master!D209","v":"ILT"},{"$f":"Master!E209","v":"Active"},{"$f":"Master!F209","v":0},{"$f":"Master!H209","v":0},{"$f":"IF(Master!P209=\"\",\"B\",Master!P209)","v":"B"},{"$f":"IF(Master!AA209=\"\",\"B\",Master!AA209)","v":"B"},{"$f":"IF(Master!AL209=\"\",\"B\",Master!AL209)","v":"B"},{"$f":"IF(Master!AW209=\"\",\"B\",Master!AW209)","v":"B"},{"$f":"IF(Master!BH209=\"\",\"B\",Master!BH209)","v":"B"},{"$f":"IF(Master!BS209=\"\",\"B\",Master!BS209)","v":"B"}]
[{"$f":"Master!A210","v":"CAE"},{"$f":"Master!B210","v":"WSDOT CAE: INROADS - 251 INTERMEDIATE ROADWAY DESIGN"},{"$f":"Master!C210","v":"WSDOT_DDL"},{"$f":"Master!D210","v":"ILT"},{"$f":"Master!E210","v":"Active"},{"$f":"Master!F210","v":0},{"$f":"Master!H210","v":0},{"$f":"IF(Master!P210=\"\",\"B\",Master!P210)","v":"B"},{"$f":"IF(Master!AA210=\"\",\"B\",Master!AA210)","v":"B"},{"$f":"IF(Master!AL210=\"\",\"B\",Master!AL210)","v":"B"},{"$f":"IF(Master!AW210=\"\",\"B\",Master!AW210)","v":"B"},{"$f":"IF(Master!BH210=\"\",\"B\",Master!BH210)","v":"B"},{"$f":"IF(Master!BS210=\"\",\"B\",Master!BS210)","v":"B"}]
[{"$f":"Master!A211","v":"Survey"},null,null,null,null,null,null,{"$f":"IF(Master!P211=\"\",\"B\",Master!P211)","v":"B"},{"$f":"IF(Master!AA211=\"\",\"B\",Master!AA211)","v":"B"},{"$f":"IF(Master!AL211=\"\",\"B\",Master!AL211)","v":"B"},{"$f":"IF(Master!AW211=\"\",\"B\",Master!AW211)","v":"B"},{"$f":"IF(Master!BH211=\"\",\"B\",Master!BH211)","v":"B"},{"$f":"IF(Master!BS211=\"\",\"B\",Master!BS211)","v":"B"}]
[{"$f":"Master!A212","v":"SUR"},{"$f":"Master!B212","v":"WSDOT SUR: BASIC SURVEYING (SELF-STUDY)"},{"$f":"Master!C212","v":"WSDOT_APK"},{"$f":"Master!D212","v":"SS"},{"$f":"Master!E212","v":"Active"},{"$f":"Master!F212","v":0},{"$f":"Master!H212","v":0},{"$f":"IF(Master!P212=\"\",\"B\",Master!P212)","v":"R"},{"$f":"IF(Master!AA212=\"\",\"B\",Master!AA212)","v":"R"},{"$f":"IF(Master!AL212=\"\",\"B\",Master!AL212)","v":"B"},{"$f":"IF(Master!AW212=\"\",\"B\",Master!AW212)","v":"B"},{"$f":"IF(Master!BH212=\"\",\"B\",Master!BH212)","v":"B"},{"$f":"IF(Master!BS212=\"\",\"B\",Master!BS212)","v":"B"}]
[{"$f":"Master!A213","v":"SUR"},{"$f":"Master!B213","v":"WSDOT SUR: INTERMEDIATE SURVEYING"},{"$f":"Master!C213","v":"WSDOT A4U"},{"$f":"Master!D213","v":"ILT"},{"$f":"Master!E213","v":"Under Development"},{"$f":"Master!F213","v":"Q3 2019"},{"$f":"Master!H213","v":0},{"$f":"IF(Master!P213=\"\",\"B\",Master!P213)","v":"B"},{"$f":"IF(Master!AA213=\"\",\"B\",Master!AA213)","v":"B"},{"$f":"IF(Master!AL213=\"\",\"B\",Master!AL213)","v":"B"},{"$f":"IF(Master!AW213=\"\",\"B\",Master!AW213)","v":"B"},{"$f":"IF(Master!BH213=\"\",\"B\",Master!BH213)","v":"B"},{"$f":"IF(Master!BS213=\"\",\"B\",Master!BS213)","v":"B"}]
[{"$f":"Master!A214","v":"Traffic Operations Division"},null,null,null,null,null,null,{"$f":"IF(Master!P214=\"\",\"B\",Master!P214)","v":"B"},{"$f":"IF(Master!AA214=\"\",\"B\",Master!AA214)","v":"B"},{"$f":"IF(Master!AL214=\"\",\"B\",Master!AL214)","v":"B"},{"$f":"IF(Master!AW214=\"\",\"B\",Master!AW214)","v":"B"},{"$f":"IF(Master!BH214=\"\",\"B\",Master!BH214)","v":"B"},{"$f":"IF(Master!BS214=\"\",\"B\",Master!BS214)","v":"B"}]
[{"$f":"Master!A215","v":"TR"},{"$f":"Master!B215","v":"WSDOT TR: Work Zone Traffic Control Supervisor Re-Certification"},{"$f":"Master!C215","v":"WSDOT_BQD"},{"$f":"Master!D215","v":"OLT/ILT"},{"$f":"Master!E215","v":"Active"},{"$f":"Master!F215","v":0},{"$f":"Master!H215","v":0},{"$f":"IF(Master!P215=\"\",\"B\",Master!P215)","v":"B"},{"$f":"IF(Master!AA215=\"\",\"B\",Master!AA215)","v":"B"},{"$f":"IF(Master!AL215=\"\",\"B\",Master!AL215)","v":"B"},{"$f":"IF(Master!AW215=\"\",\"B\",Master!AW215)","v":"B"},{"$f":"IF(Master!BH215=\"\",\"B\",Master!BH215)","v":"B"},{"$f":"IF(Master!BS215=\"\",\"B\",Master!BS215)","v":"B"}]
[{"$f":"Master!A216","v":"TR"},{"$f":"Master!B216","v":"WSDOT TR: Work Zone Traffic Control Supervisor Certification"},{"$f":"Master!C216","v":"WSDOT_A42"},{"$f":"Master!D216","v":"OLT/ILT"},{"$f":"Master!E216","v":"Active"},{"$f":"Master!F216","v":0},{"$f":"Master!H216","v":0},{"$f":"IF(Master!P216=\"\",\"B\",Master!P216)","v":"B"},{"$f":"IF(Master!AA216=\"\",\"B\",Master!AA216)","v":"B"},{"$f":"IF(Master!AL216=\"\",\"B\",Master!AL216)","v":"B"},{"$f":"IF(Master!AW216=\"\",\"B\",Master!AW216)","v":"B"},{"$f":"IF(Master!BH216=\"\",\"B\",Master!BH216)","v":"B"},{"$f":"IF(Master!BS216=\"\",\"B\",Master!BS216)","v":"B"}]
[{"$f":"Master!A217","v":"TR"},{"$f":"Master!B217","v":"WSDOT TR: Work Zone Traffic Control Plan Design"},{"$f":"Master!C217","v":"WSDOT_DD7 (day one) and WSDOT_DBK (day two)"},{"$f":"Master!D217","v":"OLT/ILT"},{"$f":"Master!E217","v":"Active"},{"$f":"Master!F217","v":0},{"$f":"Master!H217","v":0},{"$f":"IF(Master!P217=\"\",\"B\",Master!P217)","v":"B"},{"$f":"IF(Master!AA217=\"\",\"B\",Master!AA217)","v":"B"},{"$f":"IF(Master!AL217=\"\",\"B\",Master!AL217)","v":"B"},{"$f":"IF(Master!AW217=\"\",\"B\",Master!AW217)","v":"B"},{"$f":"IF(Master!BH217=\"\",\"B\",Master!BH217)","v":"B"},{"$f":"IF(Master!BS217=\"\",\"B\",Master!BS217)","v":"B"}]
[{"$f":"Master!A218","v":"TR"},{"$f":"Master!B218","v":"**VISUM"},{"$f":"Master!C218","v":0},{"$f":"Master!D218","v":"OLT/ILT"},{"$f":"Master!E218","v":"Inactive"},{"$f":"Master!F218","v":"None"},{"$f":"Master!H218","v":"No technical lead within WSDOT available to teach"},{"$f":"IF(Master!P218=\"\",\"B\",Master!P218)","v":"B"},{"$f":"IF(Master!AA218=\"\",\"B\",Master!AA218)","v":"B"},{"$f":"IF(Master!AL218=\"\",\"B\",Master!AL218)","v":"B"},{"$f":"IF(Master!AW218=\"\",\"B\",Master!AW218)","v":"B"},{"$f":"IF(Master!BH218=\"\",\"B\",Master!BH218)","v":"B"},{"$f":"IF(Master!BS218=\"\",\"B\",Master!BS218)","v":"B"}]
[{"$f":"Master!A219","v":"TR"},{"$f":"Master!B219","v":"**VISSIM"},{"$f":"Master!C219","v":0},{"$f":"Master!D219","v":"OLT/ILT"},{"$f":"Master!E219","v":"Inactive"},{"$f":"Master!F219","v":"None"},{"$f":"Master!H219","v":"No technical lead within WSDOT available to teach"},{"$f":"IF(Master!P219=\"\",\"B\",Master!P219)","v":"B"},{"$f":"IF(Master!AA219=\"\",\"B\",Master!AA219)","v":"B"},{"$f":"IF(Master!AL219=\"\",\"B\",Master!AL219)","v":"B"},{"$f":"IF(Master!AW219=\"\",\"B\",Master!AW219)","v":"B"},{"$f":"IF(Master!BH219=\"\",\"B\",Master!BH219)","v":"B"},{"$f":"IF(Master!BS219=\"\",\"B\",Master!BS219)","v":"B"}]
[{"$f":"Master!A220","v":"TR"},{"$f":"Master!B220","v":"**SIDRA"},{"$f":"Master!C220","v":0},{"$f":"Master!D220","v":"OLT/ILT"},{"$f":"Master!E220","v":"Inactive"},{"$f":"Master!F220","v":"None"},{"$f":"Master!H220","v":"No technical lead within WSDOT available to teach"},{"$f":"IF(Master!P220=\"\",\"B\",Master!P220)","v":"B"},{"$f":"IF(Master!AA220=\"\",\"B\",Master!AA220)","v":"B"},{"$f":"IF(Master!AL220=\"\",\"B\",Master!AL220)","v":"B"},{"$f":"IF(Master!AW220=\"\",\"B\",Master!AW220)","v":"B"},{"$f":"IF(Master!BH220=\"\",\"B\",Master!BH220)","v":"B"},{"$f":"IF(Master!BS220=\"\",\"B\",Master!BS220)","v":"B"}]
[{"$f":"Master!A221","v":"TR"},{"$f":"Master!B221","v":"**SYNCHRO"},{"$f":"Master!C221","v":0},{"$f":"Master!D221","v":"OLT/ILT"},{"$f":"Master!E221","v":"Inactive"},{"$f":"Master!F221","v":"None"},{"$f":"Master!H221","v":"No technical lead within WSDOT available to teach"},{"$f":"IF(Master!P221=\"\",\"B\",Master!P221)","v":"B"},{"$f":"IF(Master!AA221=\"\",\"B\",Master!AA221)","v":"B"},{"$f":"IF(Master!AL221=\"\",\"B\",Master!AL221)","v":"B"},{"$f":"IF(Master!AW221=\"\",\"B\",Master!AW221)","v":"B"},{"$f":"IF(Master!BH221=\"\",\"B\",Master!BH221)","v":"B"},{"$f":"IF(Master!BS221=\"\",\"B\",Master!BS221)","v":"B"}]
[{"$f":"Master!A222","v":"TR"},{"$f":"Master!B222","v":"WSDOT PSHSM: Highway Safety Manual Level B"},{"$f":"Master!C222","v":"PSHSM_B01"},{"$f":"Master!D222","v":"OLT/ILT"},{"$f":"Master!E222","v":"Inactive"},{"$f":"Master!F222","v":"None"},{"$f":"Master!H222","v":"No technical lead within WSDOT available to teach"},{"$f":"IF(Master!P222=\"\",\"B\",Master!P222)","v":"B"},{"$f":"IF(Master!AA222=\"\",\"B\",Master!AA222)","v":"B"},{"$f":"IF(Master!AL222=\"\",\"B\",Master!AL222)","v":"B"},{"$f":"IF(Master!AW222=\"\",\"B\",Master!AW222)","v":"B"},{"$f":"IF(Master!BH222=\"\",\"B\",Master!BH222)","v":"B"},{"$f":"IF(Master!BS222=\"\",\"B\",Master!BS222)","v":"B"}]
[{"$f":"Master!A223","v":"TR"},{"$f":"Master!B223","v":"WSDOT PSHSM: Highway Safety Manual Level C1"},{"$f":"Master!C223","v":"PSHSM_C01"},{"$f":"Master!D223","v":"OLT/ILT"},{"$f":"Master!E223","v":"Inactive"},{"$f":"Master!F223","v":"None"},{"$f":"Master!H223","v":"No technical lead within WSDOT available to teach"},{"$f":"IF(Master!P223=\"\",\"B\",Master!P223)","v":"B"},{"$f":"IF(Master!AA223=\"\",\"B\",Master!AA223)","v":"B"},{"$f":"IF(Master!AL223=\"\",\"B\",Master!AL223)","v":"B"},{"$f":"IF(Master!AW223=\"\",\"B\",Master!AW223)","v":"B"},{"$f":"IF(Master!BH223=\"\",\"B\",Master!BH223)","v":"B"},{"$f":"IF(Master!BS223=\"\",\"B\",Master!BS223)","v":"B"}]
[{"$f":"Master!A224","v":"TR"},{"$f":"Master!B224","v":"WSDOT PSHSM: Highway Safety Manual Level C2"},{"$f":"Master!C224","v":"PSHSM C2"},{"$f":"Master!D224","v":"OLT/ILT"},{"$f":"Master!E224","v":"Inactive"},{"$f":"Master!F224","v":"None"},{"$f":"Master!H224","v":"No technical lead within WSDOT available to teach"},{"$f":"IF(Master!P224=\"\",\"B\",Master!P224)","v":"B"},{"$f":"IF(Master!AA224=\"\",\"B\",Master!AA224)","v":"B"},{"$f":"IF(Master!AL224=\"\",\"B\",Master!AL224)","v":"B"},{"$f":"IF(Master!AW224=\"\",\"B\",Master!AW224)","v":"B"},{"$f":"IF(Master!BH224=\"\",\"B\",Master!BH224)","v":"B"},{"$f":"IF(Master!BS224=\"\",\"B\",Master!BS224)","v":"B"}]
[{"$f":"Master!A225","v":"TR"},{"$f":"Master!B225","v":"WSDOT PSHSM: Highway Safety Manual Level C3"},{"$f":"Master!C225","v":"PSHSM C3"},{"$f":"Master!D225","v":"OLT/ILT"},{"$f":"Master!E225","v":"Inactive"},{"$f":"Master!F225","v":"None"},{"$f":"Master!H225","v":"No technical lead within WSDOT available to teach"},{"$f":"IF(Master!P225=\"\",\"B\",Master!P225)","v":"B"},{"$f":"IF(Master!AA225=\"\",\"B\",Master!AA225)","v":"B"},{"$f":"IF(Master!AL225=\"\",\"B\",Master!AL225)","v":"B"},{"$f":"IF(Master!AW225=\"\",\"B\",Master!AW225)","v":"B"},{"$f":"IF(Master!BH225=\"\",\"B\",Master!BH225)","v":"B"},{"$f":"IF(Master!BS225=\"\",\"B\",Master!BS225)","v":"B"}]
[{"$f":"Master!A226","v":"TR"},{"$f":"Master!B226","v":"WSDOT PSHSM: Highway Safety Manual Level D1"},{"$f":"Master!C226","v":"PSHSM D1"},{"$f":"Master!D226","v":"OLT/ILT"},{"$f":"Master!E226","v":"Inactive"},{"$f":"Master!F226","v":"None"},{"$f":"Master!H226","v":"No technical lead within WSDOT available to teach"},{"$f":"IF(Master!P226=\"\",\"B\",Master!P226)","v":"B"},{"$f":"IF(Master!AA226=\"\",\"B\",Master!AA226)","v":"B"},{"$f":"IF(Master!AL226=\"\",\"B\",Master!AL226)","v":"B"},{"$f":"IF(Master!AW226=\"\",\"B\",Master!AW226)","v":"B"},{"$f":"IF(Master!BH226=\"\",\"B\",Master!BH226)","v":"B"},{"$f":"IF(Master!BS226=\"\",\"B\",Master!BS226)","v":"B"}]
[{"$f":"Master!A227","v":"TR"},{"$f":"Master!B227","v":"**ILLUMINATION DESIGN FOR TRANSPORTATION APPLICATIONS"},{"$f":"Master!C227","v":0},{"$f":"Master!D227","v":"OLT/ILT"},{"$f":"Master!E227","v":"Under Development"},{"$f":"Master!F227","v":"Q2 2018"},{"$f":"Master!H227","v":0},{"$f":"IF(Master!P227=\"\",\"B\",Master!P227)","v":"B"},{"$f":"IF(Master!AA227=\"\",\"B\",Master!AA227)","v":"B"},{"$f":"IF(Master!AL227=\"\",\"B\",Master!AL227)","v":"B"},{"$f":"IF(Master!AW227=\"\",\"B\",Master!AW227)","v":"B"},{"$f":"IF(Master!BH227=\"\",\"B\",Master!BH227)","v":"B"},{"$f":"IF(Master!BS227=\"\",\"B\",Master!BS227)","v":"B"}]
[{"$f":"Master!A228","v":"TR"},{"$f":"Master!B228","v":"WSDOT TR: Power Supply Design for Transportation Applications"},{"$f":"Master!C228","v":"WSDOT_BZA"},{"$f":"Master!D228","v":"OLT/ILT"},{"$f":"Master!E228","v":"Active"},{"$f":"Master!F228","v":0},{"$f":"Master!H228","v":0},{"$f":"IF(Master!P228=\"\",\"B\",Master!P228)","v":"B"},{"$f":"IF(Master!AA228=\"\",\"B\",Master!AA228)","v":"B"},{"$f":"IF(Master!AL228=\"\",\"B\",Master!AL228)","v":"B"},{"$f":"IF(Master!AW228=\"\",\"B\",Master!AW228)","v":"B"},{"$f":"IF(Master!BH228=\"\",\"B\",Master!BH228)","v":"B"},{"$f":"IF(Master!BS228=\"\",\"B\",Master!BS228)","v":"B"}]
[{"$f":"Master!A229","v":"TR"},{"$f":"Master!B229","v":"**TRAFFIC SIGNAL LAYOUT AND CONDUCTOR TERMINATION"},{"$f":"Master!C229","v":0},{"$f":"Master!D229","v":"OLT/ILT"},{"$f":"Master!E229","v":"Inactive"},{"$f":"Master!F229","v":0},{"$f":"Master!H229","v":"No technical lead within WSDOT available to teach"},{"$f":"IF(Master!P229=\"\",\"B\",Master!P229)","v":"B"},{"$f":"IF(Master!AA229=\"\",\"B\",Master!AA229)","v":"B"},{"$f":"IF(Master!AL229=\"\",\"B\",Master!AL229)","v":"B"},{"$f":"IF(Master!AW229=\"\",\"B\",Master!AW229)","v":"B"},{"$f":"IF(Master!BH229=\"\",\"B\",Master!BH229)","v":"B"},{"$f":"IF(Master!BS229=\"\",\"B\",Master!BS229)","v":"B"}]
[{"$f":"Master!A230","v":"TR"},{"$f":"Master!B230","v":"**SIGN DESIGN"},{"$f":"Master!C230","v":0},{"$f":"Master!D230","v":"OLT/ILT"},{"$f":"Master!E230","v":"Inactive"},{"$f":"Master!F230","v":"None"},{"$f":"Master!H230","v":"No technical lead within WSDOT available to teach"},{"$f":"IF(Master!P230=\"\",\"B\",Master!P230)","v":"B"},{"$f":"IF(Master!AA230=\"\",\"B\",Master!AA230)","v":"B"},{"$f":"IF(Master!AL230=\"\",\"B\",Master!AL230)","v":"B"},{"$f":"IF(Master!AW230=\"\",\"B\",Master!AW230)","v":"B"},{"$f":"IF(Master!BH230=\"\",\"B\",Master!BH230)","v":"B"},{"$f":"IF(Master!BS230=\"\",\"B\",Master!BS230)","v":"B"}]
[{"$f":"Master!A231","v":"TR"},{"$f":"Master!B231","v":"WSDOT NHI: TR-Traffic Signal Design and Operations"},{"$f":"Master!C231","v":"WSDOT_TSD"},{"$f":"Master!D231","v":"OLT/ILT"},{"$f":"Master!E231","v":"Inactive"},{"$f":"Master!F231","v":"None"},{"$f":"Master!H231","v":"No technical lead within WSDOT available to teach"},{"$f":"IF(Master!P231=\"\",\"B\",Master!P231)","v":"B"},{"$f":"IF(Master!AA231=\"\",\"B\",Master!AA231)","v":"B"},{"$f":"IF(Master!AL231=\"\",\"B\",Master!AL231)","v":"B"},{"$f":"IF(Master!AW231=\"\",\"B\",Master!AW231)","v":"B"},{"$f":"IF(Master!BH231=\"\",\"B\",Master!BH231)","v":"B"},{"$f":"IF(Master!BS231=\"\",\"B\",Master!BS231)","v":"B"}]
[{"$f":"Master!A232","v":"TR"},{"$f":"Master!B232","v":"WSDOT NHI: TR-Traffic Signal Timing Concepts"},{"$f":"Master!C232","v":"WSDOT_STC"},{"$f":"Master!D232","v":"OLT/ILT"},{"$f":"Master!E232","v":"Inactive"},{"$f":"Master!F232","v":"None"},{"$f":"Master!H232","v":"No technical lead within WSDOT available to teach"},{"$f":"IF(Master!P232=\"\",\"B\",Master!P232)","v":"B"},{"$f":"IF(Master!AA232=\"\",\"B\",Master!AA232)","v":"B"},{"$f":"IF(Master!AL232=\"\",\"B\",Master!AL232)","v":"B"},{"$f":"IF(Master!AW232=\"\",\"B\",Master!AW232)","v":"B"},{"$f":"IF(Master!BH232=\"\",\"B\",Master!BH232)","v":"B"},{"$f":"IF(Master!BS232=\"\",\"B\",Master!BS232)","v":"B"}]
[{"$f":"Master!A233","v":"TR"},{"$f":"Master!B233","v":"**SYSTEMS ENGINEERING FOR SIGNAL SYSTEMS"},{"$f":"Master!C233","v":0},{"$f":"Master!D233","v":"OLT/ILT"},{"$f":"Master!E233","v":"Inactive"},{"$f":"Master!F233","v":"None"},{"$f":"Master!H233","v":"No technical lead within WSDOT available to teach"},{"$f":"IF(Master!P233=\"\",\"B\",Master!P233)","v":"B"},{"$f":"IF(Master!AA233=\"\",\"B\",Master!AA233)","v":"B"},{"$f":"IF(Master!AL233=\"\",\"B\",Master!AL233)","v":"B"},{"$f":"IF(Master!AW233=\"\",\"B\",Master!AW233)","v":"B"},{"$f":"IF(Master!BH233=\"\",\"B\",Master!BH233)","v":"B"},{"$f":"IF(Master!BS233=\"\",\"B\",Master!BS233)","v":"B"}]
[{"$f":"Master!A234","v":"TR"},{"$f":"Master!B234","v":"**TRAFFIC SIGNAL MANAGEMENT"},{"$f":"Master!C234","v":0},{"$f":"Master!D234","v":"OLT/ILT"},{"$f":"Master!E234","v":"Inactive"},{"$f":"Master!F234","v":"None"},{"$f":"Master!H234","v":"No technical lead within WSDOT available to teach"},{"$f":"IF(Master!P234=\"\",\"B\",Master!P234)","v":"B"},{"$f":"IF(Master!AA234=\"\",\"B\",Master!AA234)","v":"B"},{"$f":"IF(Master!AL234=\"\",\"B\",Master!AL234)","v":"B"},{"$f":"IF(Master!AW234=\"\",\"B\",Master!AW234)","v":"B"},{"$f":"IF(Master!BH234=\"\",\"B\",Master!BH234)","v":"B"},{"$f":"IF(Master!BS234=\"\",\"B\",Master!BS234)","v":"B"}]
[{"$f":"Master!A235","v":"TR"},{"$f":"Master!B235","v":"**ITS PROCUREMENT"},{"$f":"Master!C235","v":0},{"$f":"Master!D235","v":"OLT/ILT"},{"$f":"Master!E235","v":"Inactive"},{"$f":"Master!F235","v":"None"},{"$f":"Master!H235","v":"No technical lead within WSDOT available to teach"},{"$f":"IF(Master!P235=\"\",\"B\",Master!P235)","v":"B"},{"$f":"IF(Master!AA235=\"\",\"B\",Master!AA235)","v":"B"},{"$f":"IF(Master!AL235=\"\",\"B\",Master!AL235)","v":"B"},{"$f":"IF(Master!AW235=\"\",\"B\",Master!AW235)","v":"B"},{"$f":"IF(Master!BH235=\"\",\"B\",Master!BH235)","v":"B"},{"$f":"IF(Master!BS235=\"\",\"B\",Master!BS235)","v":"B"}]
[{"$f":"Master!A236","v":"TR"},{"$f":"Master!B236","v":"**BASICS OF TRANSPORTATION PLANNING"},{"$f":"Master!C236","v":0},{"$f":"Master!D236","v":"OLT/ILT"},{"$f":"Master!E236","v":"Inactive"},{"$f":"Master!F236","v":"None"},{"$f":"Master!H236","v":"No technical lead within WSDOT available to teach"},{"$f":"IF(Master!P236=\"\",\"B\",Master!P236)","v":"B"},{"$f":"IF(Master!AA236=\"\",\"B\",Master!AA236)","v":"B"},{"$f":"IF(Master!AL236=\"\",\"B\",Master!AL236)","v":"B"},{"$f":"IF(Master!AW236=\"\",\"B\",Master!AW236)","v":"B"},{"$f":"IF(Master!BH236=\"\",\"B\",Master!BH236)","v":"B"},{"$f":"IF(Master!BS236=\"\",\"B\",Master!BS236)","v":"B"}]
[{"$f":"Master!A237","v":"TR"},{"$f":"Master!B237","v":"**ADA/APS DESIGN"},{"$f":"Master!C237","v":0},{"$f":"Master!D237","v":"OLT/ILT"},{"$f":"Master!E237","v":"Inactive"},{"$f":"Master!F237","v":"None"},{"$f":"Master!H237","v":"No technical lead within WSDOT available to teach"},{"$f":"IF(Master!P237=\"\",\"B\",Master!P237)","v":"B"},{"$f":"IF(Master!AA237=\"\",\"B\",Master!AA237)","v":"B"},{"$f":"IF(Master!AL237=\"\",\"B\",Master!AL237)","v":"B"},{"$f":"IF(Master!AW237=\"\",\"B\",Master!AW237)","v":"B"},{"$f":"IF(Master!BH237=\"\",\"B\",Master!BH237)","v":"B"},{"$f":"IF(Master!BS237=\"\",\"B\",Master!BS237)","v":"B"}]
[{"$f":"Master!A238","v":"TR"},{"$f":"Master!B238","v":"**SIGNAL WARRANT ANALYSIS"},{"$f":"Master!C238","v":0},{"$f":"Master!D238","v":"OLT/ILT"},{"$f":"Master!E238","v":"Inactive"},{"$f":"Master!F238","v":"None"},{"$f":"Master!H238","v":"No technical lead within WSDOT available to teach"},{"$f":"IF(Master!P238=\"\",\"B\",Master!P238)","v":"B"},{"$f":"IF(Master!AA238=\"\",\"B\",Master!AA238)","v":"B"},{"$f":"IF(Master!AL238=\"\",\"B\",Master!AL238)","v":"B"},{"$f":"IF(Master!AW238=\"\",\"B\",Master!AW238)","v":"B"},{"$f":"IF(Master!BH238=\"\",\"B\",Master!BH238)","v":"B"},{"$f":"IF(Master!BS238=\"\",\"B\",Master!BS238)","v":"B"}]
[{"$f":"Master!A239","v":"TR"},{"$f":"Master!B239","v":"WSDOT TR: Introduction to ITS Design"},{"$f":"Master!C239","v":"WSDOT_DA6"},{"$f":"Master!D239","v":"OLT/ILT"},{"$f":"Master!E239","v":"Inactive"},{"$f":"Master!F239","v":"None"},{"$f":"Master!H239","v":"No technical lead within WSDOT available to teach"},{"$f":"IF(Master!P239=\"\",\"B\",Master!P239)","v":"B"},{"$f":"IF(Master!AA239=\"\",\"B\",Master!AA239)","v":"B"},{"$f":"IF(Master!AL239=\"\",\"B\",Master!AL239)","v":"B"},{"$f":"IF(Master!AW239=\"\",\"B\",Master!AW239)","v":"B"},{"$f":"IF(Master!BH239=\"\",\"B\",Master!BH239)","v":"B"},{"$f":"IF(Master!BS239=\"\",\"B\",Master!BS239)","v":"B"}]
[{"$f":"Master!A240","v":"TR"},{"$f":"Master!B240","v":"WSDOT TR: Intermediate/Advanced ITS Design"},{"$f":"Master!C240","v":"WSDOT_DA7"},{"$f":"Master!D240","v":"OLT/ILT"},{"$f":"Master!E240","v":"Inactive"},{"$f":"Master!F240","v":"None"},{"$f":"Master!H240","v":"No technical lead within WSDOT available to teach"},{"$f":"IF(Master!P240=\"\",\"B\",Master!P240)","v":"B"},{"$f":"IF(Master!AA240=\"\",\"B\",Master!AA240)","v":"B"},{"$f":"IF(Master!AL240=\"\",\"B\",Master!AL240)","v":"B"},{"$f":"IF(Master!AW240=\"\",\"B\",Master!AW240)","v":"B"},{"$f":"IF(Master!BH240=\"\",\"B\",Master!BH240)","v":"B"},{"$f":"IF(Master!BS240=\"\",\"B\",Master!BS240)","v":"B"}]
[{"$f":"Master!A241","v":"TR"},{"$f":"Master!B241","v":"**BASIC HIGHWAY CAPACITY FOR ENGINEERS AND PLANNERS"},{"$f":"Master!C241","v":0},{"$f":"Master!D241","v":"OLT/ILT"},{"$f":"Master!E241","v":"Inactive"},{"$f":"Master!F241","v":"None"},{"$f":"Master!H241","v":"No technical lead within WSDOT available to teach"},{"$f":"IF(Master!P241=\"\",\"B\",Master!P241)","v":"B"},{"$f":"IF(Master!AA241=\"\",\"B\",Master!AA241)","v":"B"},{"$f":"IF(Master!AL241=\"\",\"B\",Master!AL241)","v":"B"},{"$f":"IF(Master!AW241=\"\",\"B\",Master!AW241)","v":"B"},{"$f":"IF(Master!BH241=\"\",\"B\",Master!BH241)","v":"B"},{"$f":"IF(Master!BS241=\"\",\"B\",Master!BS241)","v":"B"}]
[{"$f":"Master!A242","v":"TR"},{"$f":"Master!B242","v":"WSDOT UW: Gen-Uniform Traffic Control Devices"},{"$f":"Master!C242","v":"WSDOT_BML"},{"$f":"Master!D242","v":"OLT/ILT"},{"$f":"Master!E242","v":"Inactive"},{"$f":"Master!F242","v":"None"},{"$f":"Master!H242","v":"No technical lead within WSDOT available to teach"},{"$f":"IF(Master!P242=\"\",\"B\",Master!P242)","v":"B"},{"$f":"IF(Master!AA242=\"\",\"B\",Master!AA242)","v":"B"},{"$f":"IF(Master!AL242=\"\",\"B\",Master!AL242)","v":"B"},{"$f":"IF(Master!AW242=\"\",\"B\",Master!AW242)","v":"B"},{"$f":"IF(Master!BH242=\"\",\"B\",Master!BH242)","v":"B"},{"$f":"IF(Master!BS242=\"\",\"B\",Master!BS242)","v":"B"}]
[{"$f":"Master!A243","v":"TR"},{"$f":"Master!B243","v":"WSDOT UW: TR-Advanced Highway Capacity Analysis"},{"$f":"Master!C243","v":"WSDOT_A3C"},{"$f":"Master!D243","v":"OLT/ILT"},{"$f":"Master!E243","v":"Inactive"},{"$f":"Master!F243","v":"None"},{"$f":"Master!H243","v":"No technical lead within WSDOT available to teach"},{"$f":"IF(Master!P243=\"\",\"B\",Master!P243)","v":"B"},{"$f":"IF(Master!AA243=\"\",\"B\",Master!AA243)","v":"B"},{"$f":"IF(Master!AL243=\"\",\"B\",Master!AL243)","v":"B"},{"$f":"IF(Master!AW243=\"\",\"B\",Master!AW243)","v":"B"},{"$f":"IF(Master!BH243=\"\",\"B\",Master!BH243)","v":"B"},{"$f":"IF(Master!BS243=\"\",\"B\",Master!BS243)","v":"B"}]
[{"$f":"Master!A244","v":"TR"},{"$f":"Master!B244","v":"WSDOT UW: TR-Fundamentals of Traffic Engineering"},{"$f":"Master!C244","v":"WSDOT_BS3"},{"$f":"Master!D244","v":"OLT/ILT"},{"$f":"Master!E244","v":"Inactive"},{"$f":"Master!F244","v":"None"},{"$f":"Master!H244","v":"No technical lead within WSDOT available to teach"},{"$f":"IF(Master!P244=\"\",\"B\",Master!P244)","v":"B"},{"$f":"IF(Master!AA244=\"\",\"B\",Master!AA244)","v":"B"},{"$f":"IF(Master!AL244=\"\",\"B\",Master!AL244)","v":"B"},{"$f":"IF(Master!AW244=\"\",\"B\",Master!AW244)","v":"B"},{"$f":"IF(Master!BH244=\"\",\"B\",Master!BH244)","v":"B"},{"$f":"IF(Master!BS244=\"\",\"B\",Master!BS244)","v":"B"}]
[{"$f":"Master!A245","v":"TR"},{"$f":"Master!B245","v":"WSDOT UW:TR-Traffic Engineering Operations"},{"$f":"Master!C245","v":"WSDOT_BS4"},{"$f":"Master!D245","v":"OLT/ILT"},{"$f":"Master!E245","v":"Inactive"},{"$f":"Master!F245","v":"None"},{"$f":"Master!H245","v":"No technical lead within WSDOT available to teach"},{"$f":"IF(Master!P245=\"\",\"B\",Master!P245)","v":"B"},{"$f":"IF(Master!AA245=\"\",\"B\",Master!AA245)","v":"B"},{"$f":"IF(Master!AL245=\"\",\"B\",Master!AL245)","v":"B"},{"$f":"IF(Master!AW245=\"\",\"B\",Master!AW245)","v":"B"},{"$f":"IF(Master!BH245=\"\",\"B\",Master!BH245)","v":"B"},{"$f":"IF(Master!BS245=\"\",\"B\",Master!BS245)","v":"B"}]
[{"$f":"Master!A246","v":0},{"$f":"Master!B246","v":"** no LMS course"},{"$f":"Master!C246","v":0},{"$f":"Master!D246","v":0},{"$f":"Master!E246","v":0},{"$f":"Master!F246","v":0},{"$f":"Master!H246","v":0}]
[{"$f":"Master!A247","v":0},{"$f":"Master!B247","v":"*** SS=Self Study, OLT=Online Training, ILT=Instructor Led Training"},{"$f":"Master!C247","v":0},{"$f":"Master!D247","v":0},{"$f":"Master!E247","v":0},{"$f":"Master!F247","v":0},{"$f":"Master!H247","v":0}]
[{"$f":"Master!A248","v":"ES"},{"$f":"Master!B248","v":"= Course offered by Department of Enterprise Services (DES). Contact LMS Helpdesk at 360-705-7060."},{"$f":"Master!C248","v":0},{"$f":"Master!D248","v":0},{"$f":"Master!E248","v":0},{"$f":"Master!F248","v":0},{"$f":"Master!H248","v":0}]
[{"$f":"Master!A249","v":"HR"},{"$f":"Master!B249","v":"= Course registration controlled by Human Resources. Contact LMS Helpdesk at 360-705-7060 to Register."},{"$f":"Master!C249","v":0},{"$f":"Master!D249","v":0},{"$f":"Master!E249","v":0},{"$f":"Master!F249","v":0},{"$f":"Master!H249","v":0}]
[{"$f":"Master!A250","v":0},{"$f":"Master!B250","v":0},{"$f":"Master!C250","v":0},{"$f":"Master!D250","v":0},{"$f":"Master!E250","v":0},{"$f":"Master!F250","v":0},{"$f":"Master!H250","v":0}]
[{"$f":"Master!A251","v":0},{"$f":"Master!B251","v":0},{"$f":"Master!C251","v":0},{"$f":"Master!D251","v":0},{"$f":"Master!E251","v":0},{"$f":"Master!F251","v":0},{"$f":"Master!H251","v":0}]
[{"$f":"Master!A252","v":0},{"$f":"Master!B252","v":0},{"$f":"Master!C252","v":0},{"$f":"Master!D252","v":0},{"$f":"Master!E252","v":0},{"$f":"Master!F252","v":0},{"$f":"Master!H252","v":0}]
[{"$f":"Master!A253","v":0},{"$f":"Master!B253","v":0},{"$f":"Master!C253","v":0},{"$f":"Master!D253","v":0},{"$f":"Master!E253","v":0},{"$f":"Master!F253","v":0},{"$f":"Master!H253","v":0}]
[{"$f":"Master!A254","v":0},{"$f":"Master!B254","v":0},{"$f":"Master!C254","v":0},{"$f":"Master!D254","v":0},{"$f":"Master!E254","v":0},{"$f":"Master!F254","v":0},{"$f":"Master!H254","v":0}]
[{"$f":"Master!A255","v":0},{"$f":"Master!B255","v":0},{"$f":"Master!C255","v":0},{"$f":"Master!D255","v":0},{"$f":"Master!E255","v":0},{"$f":"Master!F255","v":0},{"$f":"Master!H255","v":0}]
[{"$f":"Master!A256","v":0},{"$f":"Master!B256","v":0},{"$f":"Master!C256","v":0},{"$f":"Master!D256","v":0},{"$f":"Master!E256","v":0},{"$f":"Master!F256","v":0},{"$f":"Master!H256","v":0}]
[{"$f":"Master!A257","v":0},{"$f":"Master!B257","v":0},{"$f":"Master!C257","v":0},{"$f":"Master!D257","v":0},{"$f":"Master!E257","v":0},{"$f":"Master!F257","v":0},{"$f":"Master!H257","v":0}]
[{"$f":"Master!A258","v":0},{"$f":"Master!B258","v":0},{"$f":"Master!C258","v":0},{"$f":"Master!D258","v":0},{"$f":"Master!E258","v":0},{"$f":"Master!F258","v":0},{"$f":"Master!H258","v":0}]
[{"$f":"Master!A259","v":0},{"$f":"Master!B259","v":0},{"$f":"Master!C259","v":0},{"$f":"Master!D259","v":0},{"$f":"Master!E259","v":0},{"$f":"Master!F259","v":0},{"$f":"Master!H259","v":0}]
[{"$f":"Master!A260","v":0},{"$f":"Master!B260","v":0},{"$f":"Master!C260","v":0},{"$f":"Master!D260","v":0},{"$f":"Master!E260","v":0},{"$f":"Master!F260","v":0},{"$f":"Master!H260","v":0}]
[{"$f":"Master!A261","v":0},{"$f":"Master!B261","v":0},{"$f":"Master!C261","v":0},{"$f":"Master!D261","v":0},{"$f":"Master!E261","v":0},{"$f":"Master!F261","v":0},{"$f":"Master!H261","v":0}]
[{"$f":"Master!A262","v":0},{"$f":"Master!B262","v":0},{"$f":"Master!C262","v":0},{"$f":"Master!D262","v":0},{"$f":"Master!E262","v":0},{"$f":"Master!F262","v":0},{"$f":"Master!H262","v":0}]
[{"$f":"Master!A263","v":0},{"$f":"Master!B263","v":0},{"$f":"Master!C263","v":0},{"$f":"Master!D263","v":0},{"$f":"Master!E263","v":0},{"$f":"Master!F263","v":0},{"$f":"Master!H263","v":0}]
[{"$f":"Master!A264","v":0},{"$f":"Master!B264","v":0},{"$f":"Master!C264","v":0},{"$f":"Master!D264","v":0},{"$f":"Master!E264","v":0},{"$f":"Master!F264","v":0},{"$f":"Master!H264","v":0}]
[{"$f":"Master!A265","v":0},{"$f":"Master!B265","v":0},{"$f":"Master!C265","v":0},{"$f":"Master!D265","v":0},{"$f":"Master!E265","v":0},{"$f":"Master!F265","v":0},{"$f":"Master!H265","v":0}]
[{"$f":"Master!A266","v":0},{"$f":"Master!B266","v":0},{"$f":"Master!C266","v":0},{"$f":"Master!D266","v":0},{"$f":"Master!E266","v":0},{"$f":"Master!F266","v":0},{"$f":"Master!H266","v":0}]
[{"$f":"Master!A267","v":0},{"$f":"Master!B267","v":0},{"$f":"Master!C267","v":0},{"$f":"Master!D267","v":0},{"$f":"Master!E267","v":0},{"$f":"Master!F267","v":0},{"$f":"Master!H267","v":0}]
[{"$f":"Master!A268","v":0},{"$f":"Master!B268","v":0},{"$f":"Master!C268","v":0},{"$f":"Master!D268","v":0},{"$f":"Master!E268","v":0},{"$f":"Master!F268","v":0},{"$f":"Master!H268","v":0}]
[{"$f":"Master!A269","v":0},{"$f":"Master!B269","v":0},{"$f":"Master!C269","v":0},{"$f":"Master!D269","v":0},{"$f":"Master!E269","v":0},{"$f":"Master!F269","v":0},{"$f":"Master!H269","v":0}]
[{"$f":"Master!A270","v":0},{"$f":"Master!B270","v":0},{"$f":"Master!C270","v":0},{"$f":"Master!D270","v":0},{"$f":"Master!E270","v":0},{"$f":"Master!F270","v":0},{"$f":"Master!H270","v":0}]
[{"$f":"Master!A271","v":0},{"$f":"Master!B271","v":0},{"$f":"Master!C271","v":0},{"$f":"Master!D271","v":0},{"$f":"Master!E271","v":0},{"$f":"Master!F271","v":0},{"$f":"Master!H271","v":0}]
[{"$f":"Master!A272","v":0},{"$f":"Master!B272","v":0},{"$f":"Master!C272","v":0},{"$f":"Master!D272","v":0},{"$f":"Master!E272","v":0},{"$f":"Master!F272","v":0},{"$f":"Master!H272","v":0}]
[{"$f":"Master!A273","v":0},{"$f":"Master!B273","v":0},{"$f":"Master!C273","v":0},{"$f":"Master!D273","v":0},{"$f":"Master!E273","v":0},{"$f":"Master!F273","v":0},{"$f":"Master!H273","v":0}]
[{"$f":"Master!A274","v":0},{"$f":"Master!B274","v":0},{"$f":"Master!C274","v":0},{"$f":"Master!D274","v":0},{"$f":"Master!E274","v":0},{"$f":"Master!F274","v":0},{"$f":"Master!H274","v":0}]
[{"$f":"Master!A275","v":0},{"$f":"Master!B275","v":0},{"$f":"Master!C275","v":0},{"$f":"Master!D275","v":0},{"$f":"Master!E275","v":0},{"$f":"Master!F275","v":0},{"$f":"Master!H275","v":0}]
[{"$f":"Master!A276","v":0},{"$f":"Master!B276","v":0},{"$f":"Master!C276","v":0},{"$f":"Master!D276","v":0},{"$f":"Master!E276","v":0},{"$f":"Master!F276","v":0},{"$f":"Master!H276","v":0}]
[{"$f":"Master!A277","v":0},{"$f":"Master!B277","v":0},{"$f":"Master!C277","v":0},{"$f":"Master!D277","v":0},{"$f":"Master!E277","v":0},{"$f":"Master!F277","v":0},{"$f":"Master!H277","v":0}]
[{"$f":"Master!A278","v":0},{"$f":"Master!B278","v":0},{"$f":"Master!C278","v":0},{"$f":"Master!D278","v":0},{"$f":"Master!E278","v":0},{"$f":"Master!F278","v":0},{"$f":"Master!H278","v":0}]
[{"$f":"Master!A279","v":0},{"$f":"Master!B279","v":0},{"$f":"Master!C279","v":0},{"$f":"Master!D279","v":0},{"$f":"Master!E279","v":0},{"$f":"Master!F279","v":0},{"$f":"Master!H279","v":0}]
[{"$f":"Master!A280","v":0},{"$f":"Master!B280","v":0},{"$f":"Master!C280","v":0},{"$f":"Master!D280","v":0},{"$f":"Master!E280","v":0},{"$f":"Master!F280","v":0},{"$f":"Master!H280","v":0}]
[{"$f":"Master!A281","v":0},{"$f":"Master!B281","v":0},{"$f":"Master!C281","v":0},{"$f":"Master!D281","v":0},{"$f":"Master!E281","v":0},{"$f":"Master!F281","v":0},{"$f":"Master!H281","v":0}]
[{"$f":"Master!A282","v":0},{"$f":"Master!B282","v":0},{"$f":"Master!C282","v":0},{"$f":"Master!D282","v":0},{"$f":"Master!E282","v":0},{"$f":"Master!F282","v":0},{"$f":"Master!H282","v":0}]
[{"$f":"Master!A283","v":0},{"$f":"Master!B283","v":0},{"$f":"Master!C283","v":0},{"$f":"Master!D283","v":0},{"$f":"Master!E283","v":0},{"$f":"Master!F283","v":0},{"$f":"Master!H283","v":0}]

{"sheet":"PMD","index":18,"n_rows":283,"n_cols":13,"rows_kept":283,"cut":false,"hidden":false,"merged":[[191,0,191,6],[202,0,202,6],[210,0,210,6],[213,0,213,6],[85,0,85,6],[88,0,88,6],[95,0,95,6],[151,0,151,6],[152,0,152,6],[185,0,185,6],[83,0,83,6],[2,0,2,6],[13,0,13,6],[48,0,48,6],[49,0,49,6],[52,0,52,6],[55,0,55,6],[58,0,58,6],[60,0,60,6],[63,0,63,6],[70,0,70,6],[76,0,76,6]]}
[null,null,null,7,6]
["Responsible Division","LMS COURSE NAME"," LMS COURSE CODE","Self Study (SS), \nOnline (OLT), or \nInstructor Led (ILT)","TRAINING\nSTATUS","If training status is \"inactive\", when will the course be developed?","NOTES","TT1","TT2","TT3","TE1","TE2","TE3"]
["Mandatory",null,null,null,null,null,null,{"$f":"IF(Master!Q3=\"\",\"B\",Master!Q3)","v":"B"},{"$f":"IF(Master!AB3=\"\",\"B\",Master!AB3)","v":"B"},{"$f":"IF(Master!AM3=\"\",\"B\",Master!AM3)","v":"B"},{"$f":"IF(Master!AX3=\"\",\"B\",Master!AX3)","v":"B"},{"$f":"IF(Master!BI3=\"\",\"B\",Master!BI3)","v":"B"},{"$f":"IF(Master!BT3=\"\",\"B\",Master!BT3)","v":"B"}]
[{"$f":"Master!A4","v":"HR"},{"$f":"Master!B4","v":"WA-State Ethics in State Government"},{"$f":"Master!C4","v":"WA-State Ethics 8-7-2014-V6"},{"$f":"Master!D4","v":"OLT"},{"$f":"Master!E4","v":"Active"},{"$f":"Master!F4","v":0},{"$f":"Master!H4","v":"To register for this course, \ncall the LMS Helpdesk at \n360-705-7060."},{"$f":"IF(Master!Q4=\"\",\"B\",Master!Q4)","v":"M"},{"$f":"IF(Master!AB4=\"\",\"B\",Master!AB4)","v":"M"},{"$f":"IF(Master!AM4=\"\",\"B\",Master!AM4)","v":"M"},{"$f":"IF(Master!AX4=\"\",\"B\",Master!AX4)","v":"M"},{"$f":"IF(Master!BI4=\"\",\"B\",Master!BI4)","v":"M"},{"$f":"IF(Master!BT4=\"\",\"B\",Master!BT4)","v":"M"}]
[{"$f":"Master!A5","v":"HR"},{"$f":"Master!B5","v":"WSDOT Mandatory: Ethical Standards WSDOT Specific Training"},{"$f":"Master!C5","v":"WSDOT_BKB Specific"},{"$f":"Master!D5","v":"OLT"},{"$f":"Master!E5","v":"Active"},{"$f":"Master!F5","v":0},{"$f":"Master!H5","v":"To register for this course, \ncall the LMS Helpdesk at \n360-705-7060."},{"$f":"IF(Master!Q5=\"\",\"B\",Master!Q5)","v":"M"},{"$f":"IF(Master!AB5=\"\",\"B\",Master!AB5)","v":"M"},{"$f":"IF(Master!AM5=\"\",\"B\",Master!AM5)","v":"M"},{"$f":"IF(Master!AX5=\"\",\"B\",Master!AX5)","v":"M"},{"$f":"IF(Master!BI5=\"\",\"B\",Master!BI5)","v":"M"},{"$f":"IF(Master!BT5=\"\",\"B\",Master!BT5)","v":"M"}]
[{"$f":"Master!A6","v":"HR"},{"$f":"Master!B6","v":"WSDOT Mandatory: System Security Awareness For Transportation Employees (Self Study)"},{"$f":"Master!C6","v":"WSDOT_CJJ_UDT"},{"$f":"Master!D6","v":"SS"},{"$f":"Master!E6","v":"Active"},{"$f":"Master!F6","v":0},{"$f":"Master!H6","v":"To register for this course, \ncall the LMS Helpdesk at \n360-705-7060."},{"$f":"IF(Master!Q6=\"\",\"B\",Master!Q6)","v":"M"},{"$f":"IF(Master!AB6=\"\",\"B\",Master!AB6)","v":"M"},{"$f":"IF(Master!AM6=\"\",\"B\",Master!AM6)","v":"M"},{"$f":"IF(Master!AX6=\"\",\"B\",Master!AX6)","v":"M"},{"$f":"IF(Master!BI6=\"\",\"B\",Master!BI6)","v":"M"},{"$f":"IF(Master!BT6=\"\",\"B\",Master!BT6)","v":"M"}]
[{"$f":"Master!A7","v":"HR"},{"$f":"Master!B7","v":"WSDOT Mandatory: Violence That Affects The Workplace (Self Study)"},{"$f":"Master!C7","v":"WSDOT_B9V"},{"$f":"Master!D7","v":"SS"},{"$f":"Master!E7","v":"Active"},{"$f":"Master!F7","v":0},{"$f":"Master!H7","v":"To register for this course, \ncall the LMS Helpdesk at \n360-705-7060."},{"$f":"IF(Master!Q7=\"\",\"B\",Master!Q7)","v":"M"},{"$f":"IF(Master!AB7=\"\",\"B\",Master!AB7)","v":"M"},{"$f":"IF(Master!AM7=\"\",\"B\",Master!AM7)","v":"M"},{"$f":"IF(Master!AX7=\"\",\"B\",Master!AX7)","v":"M"},{"$f":"IF(Master!BI7=\"\",\"B\",Master!BI7)","v":"M"},{"$f":"IF(Master!BT7=\"\",\"B\",Master!BT7)","v":"M"}]
[{"$f":"Master!A8","v":"HR"},{"$f":"Master!B8","v":"WA-State IT Security Awareness Training"},{"$f":"Master!C8","v":"WA-State IT Security Awareness Training - Initial Training-8/16/2013"},{"$f":"Master!D8","v":"OLT"},{"$f":"Master!E8","v":"Active"},{"$f":"Master!F8","v":0},{"$f":"Master!H8","v":"To register for this course, \ncall the LMS Helpdesk at \n360-705-7060."},{"$f":"IF(Master!Q8=\"\",\"B\",Master!Q8)","v":"M"},{"$f":"IF(Master!AB8=\"\",\"B\",Master!AB8)","v":"M"},{"$f":"IF(Master!AM8=\"\",\"B\",Master!AM8)","v":"M"},{"$f":"IF(Master!AX8=\"\",\"B\",Master!AX8)","v":"M"},{"$f":"IF(Master!BI8=\"\",\"B\",Master!BI8)","v":"M"},{"$f":"IF(Master!BT8=\"\",\"B\",Master!BT8)","v":"M"}]
[{"$f":"Master!A9","v":"HR"},{"$f":"Master!B9","v":"WA-State Sexual Harassment Awareness and Prevention"},{"$f":"Master!C9","v":"DES_shap_2013_Updated_9-3-2014"},{"$f":"Master!D9","v":"OLT"},{"$f":"Master!E9","v":"Active"},{"$f":"Master!F9","v":0},{"$f":"Master!H9","v":"To register for this course, \ncall the LMS Helpdesk at \n360-705-7060."},{"$f":"IF(Master!Q9=\"\",\"B\",Master!Q9)","v":"M"},{"$f":"IF(Master!AB9=\"\",\"B\",Master!AB9)","v":"M"},{"$f":"IF(Master!AM9=\"\",\"B\",Master!AM9)","v":"M"},{"$f":"IF(Master!AX9=\"\",\"B\",Master!AX9)","v":"M"},{"$f":"IF(Master!BI9=\"\",\"B\",Master!BI9)","v":"M"},{"$f":"IF(Master!BT9=\"\",\"B\",Master!BT9)","v":"M"}]
[{"$f":"Master!A10","v":"HR"},{"$f":"Master!B10","v":"WSDOT Mandatory: Disability Awareness Step 1, Understanding the Americans with Disabilities Act (ADA)  "},{"$f":"Master!C10","v":"lchr_01_a15_lc_enus"},{"$f":"Master!D10","v":"OLT"},{"$f":"Master!E10","v":"Active"},{"$f":"Master!F10","v":0},{"$f":"Master!H10","v":"To register for this course, \ncall the LMS Helpdesk at \n360-705-7060."},{"$f":"IF(Master!Q10=\"\",\"B\",Master!Q10)","v":"M"},{"$f":"IF(Master!AB10=\"\",\"B\",Master!AB10)","v":"M"},{"$f":"IF(Master!AM10=\"\",\"B\",Master!AM10)","v":"M"},{"$f":"IF(Master!AX10=\"\",\"B\",Master!AX10)","v":"M"},{"$f":"IF(Master!BI10=\"\",\"B\",Master!BI10)","v":"M"},{"$f":"IF(Master!BT10=\"\",\"B\",Master!BT10)","v":"M"}]
[{"$f":"Master!A11","v":"HR"},{"$f":"Master!B11","v":"WSDOT Mandatory: Disability Awareness Step 2 of Learning Plan"},{"$f":"Master!C11","v":"WSDOT_CD8_UDT2"},{"$f":"Master!D11","v":"OLT"},{"$f":"Master!E11","v":"Active"},{"$f":"Master!F11","v":0},{"$f":"Master!H11","v":"To register for this course, \ncall the LMS Helpdesk at \n360-705-7060."},{"$f":"IF(Master!Q11=\"\",\"B\",Master!Q11)","v":"M"},{"$f":"IF(Master!AB11=\"\",\"B\",Master!AB11)","v":"M"},{"$f":"IF(Master!AM11=\"\",\"B\",Master!AM11)","v":"M"},{"$f":"IF(Master!AX11=\"\",\"B\",Master!AX11)","v":"M"},{"$f":"IF(Master!BI11=\"\",\"B\",Master!BI11)","v":"M"},{"$f":"IF(Master!BT11=\"\",\"B\",Master!BT11)","v":"M"}]
[{"$f":"Master!A12","v":"HR"},{"$f":"Master!B12","v":"WSDOT Mandatory: Discrimination In The Workplace (Self Study)"},{"$f":"Master!C12","v":"WSDOT_DIS"},{"$f":"Master!D12","v":"SS"},{"$f":"Master!E12","v":"Active"},{"$f":"Master!F12","v":0},{"$f":"Master!H12","v":"To register for this course, \ncall the LMS Helpdesk at \n360-705-7060."},{"$f":"IF(Master!Q12=\"\",\"B\",Master!Q12)","v":"M"},{"$f":"IF(Master!AB12=\"\",\"B\",Master!AB12)","v":"M"},{"$f":"IF(Master!AM12=\"\",\"B\",Master!AM12)","v":"M"},{"$f":"IF(Master!AX12=\"\",\"B\",Master!AX12)","v":"M"},{"$f":"IF(Master!BI12=\"\",\"B\",Master!BI12)","v":"M"},{"$f":"IF(Master!BT12=\"\",\"B\",Master!BT12)","v":"M"}]
[{"$f":"Master!A13","v":"HR"},{"$f":"Master!B13","v":"WSDOT Mandatory: Valuing Diversity Step 2, Promoting Respect in the Global Workplace – Employee Edition"},{"$f":"Master!C13","v":"WSDOT_lch_01_a09_lc_enus"},{"$f":"Master!D13","v":"OLT"},{"$f":"Master!E13","v":"Active"},{"$f":"Master!F13","v":0},{"$f":"Master!H13","v":"To register for this course, \ncall the LMS Helpdesk at \n360-705-7060."},{"$f":"IF(Master!Q13=\"\",\"B\",Master!Q13)","v":"M"},{"$f":"IF(Master!AB13=\"\",\"B\",Master!AB13)","v":"M"},{"$f":"IF(Master!AM13=\"\",\"B\",Master!AM13)","v":"M"},{"$f":"IF(Master!AX13=\"\",\"B\",Master!AX13)","v":"M"},{"$f":"IF(Master!BI13=\"\",\"B\",Master!BI13)","v":"M"},{"$f":"IF(Master!BT13=\"\",\"B\",Master!BT13)","v":"M"}]
[{"$f":"Master!A14","v":"General Knowledge"},null,null,null,null,null,null,{"$f":"IF(Master!Q14=\"\",\"B\",Master!Q14)","v":"B"},{"$f":"IF(Master!AB14=\"\",\"B\",Master!AB14)","v":"B"},{"$f":"IF(Master!AM14=\"\",\"B\",Master!AM14)","v":"B"},{"$f":"IF(Master!AX14=\"\",\"B\",Master!AX14)","v":"B"},{"$f":"IF(Master!BI14=\"\",\"B\",Master!BI14)","v":"B"},{"$f":"IF(Master!BT14=\"\",\"B\",Master!BT14)","v":"B"}]
[{"$f":"Master!A15","v":"GEN"},{"$f":"Master!B15","v":"**Legal Liability for Transportation Professionals - Entry"},{"$f":"Master!C15","v":0},{"$f":"Master!D15","v":"ILT"},{"$f":"Master!E15","v":"Inactive"},{"$f":"Master!F15","v":0},{"$f":"Master!H15","v":0},{"$f":"IF(Master!Q15=\"\",\"B\",Master!Q15)","v":1},{"$f":"IF(Master!AB15=\"\",\"B\",Master!AB15)","v":1},{"$f":"IF(Master!AM15=\"\",\"B\",Master!AM15)","v":1},{"$f":"IF(Master!AX15=\"\",\"B\",Master!AX15)","v":1},{"$f":"IF(Master!BI15=\"\",\"B\",Master!BI15)","v":1},{"$f":"IF(Master!BT15=\"\",\"B\",Master!BT15)","v":"B"}]
[{"$f":"Master!A16","v":"GEN"},{"$f":"Master!B16","v":"**Legal Liability for Transportation Professionals - In-Depth"},{"$f":"Master!C16","v":0},{"$f":"Master!D16","v":"ILT"},{"$f":"Master!E16","v":"Inactive"},{"$f":"Master!F16","v":0},{"$f":"Master!H16","v":0},{"$f":"IF(Master!Q16=\"\",\"B\",Master!Q16)","v":"B"},{"$f":"IF(Master!AB16=\"\",\"B\",Master!AB16)","v":"B"},{"$f":"IF(Master!AM16=\"\",\"B\",Master!AM16)","v":"B"},{"$f":"IF(Master!AX16=\"\",\"B\",Master!AX16)","v":"B"},{"$f":"IF(Master!BI16=\"\",\"B\",Master!BI16)","v":"B"},{"$f":"IF(Master!BT16=\"\",\"B\",Master!BT16)","v":1}]
[{"$f":"Master!A17","v":"GEN"},{"$f":"Master!B17","v":"WSDOT GEN: TECHNICAL MATHEMATICS I (SELF-STUDY)"},{"$f":"Master!C17","v":"WSDOT_AFN"},{"$f":"Master!D17","v":"SS"},{"$f":"Master!E17","v":"Active"},{"$f":"Master!F17","v":0},{"$f":"Master!H17","v":0},{"$f":"IF(Master!Q17=\"\",\"B\",Master!Q17)","v":"R"},{"$f":"IF(Master!AB17=\"\",\"B\",Master!AB17)","v":"R"},{"$f":"IF(Master!AM17=\"\",\"B\",Master!AM17)","v":"B"},{"$f":"IF(Master!AX17=\"\",\"B\",Master!AX17)","v":"B"},{"$f":"IF(Master!BI17=\"\",\"B\",Master!BI17)","v":"B"},{"$f":"IF(Master!BT17=\"\",\"B\",Master!BT17)","v":"B"}]
[{"$f":"Master!A18","v":"GEN"},{"$f":"Master!B18","v":"WSDOT GEN: TECHNICAL MATHEMATICS II (SELF-STUDY)"},{"$f":"Master!C18","v":"WSDOT_A7J"},{"$f":"Master!D18","v":"SS"},{"$f":"Master!E18","v":"Active"},{"$f":"Master!F18","v":0},{"$f":"Master!H18","v":0},{"$f":"IF(Master!Q18=\"\",\"B\",Master!Q18)","v":"R"},{"$f":"IF(Master!AB18=\"\",\"B\",Master!AB18)","v":"R"},{"$f":"IF(Master!AM18=\"\",\"B\",Master!AM18)","v":"B"},{"$f":"IF(Master!AX18=\"\",\"B\",Master!AX18)","v":"B"},{"$f":"IF(Master!BI18=\"\",\"B\",Master!BI18)","v":"B"},{"$f":"IF(Master!BT18=\"\",\"B\",Master!BT18)","v":"B"}]
[{"$f":"Master!A19","v":"SS"},{"$f":"Master!B19","v":"Finding Your Bearings as a Project Manager"},{"$f":"Master!C19","v":"apj_151_a01_bs_enus"},{"$f":"Master!D19","v":"OLT"},{"$f":"Master!E19","v":"Active"},{"$f":"Master!F19","v":0},{"$f":"Master!H19","v":0},{"$f":"IF(Master!Q19=\"\",\"B\",Master!Q19)","v":"R"},{"$f":"IF(Master!AB19=\"\",\"B\",Master!AB19)","v":"R"},{"$f":"IF(Master!AM19=\"\",\"B\",Master!AM19)","v":"B"},{"$f":"IF(Master!AX19=\"\",\"B\",Master!AX19)","v":"B"},{"$f":"IF(Master!BI19=\"\",\"B\",Master!BI19)","v":"B"},{"$f":"IF(Master!BT19=\"\",\"B\",Master!BT19)","v":"B"}]
[{"$f":"Master!A20","v":"SS"},{"$f":"Master!B20","v":"Getting to the Root of a Problem"},{"$f":"Master!C20","v":"apj_15_a01_bs_enus"},{"$f":"Master!D20","v":"OLT"},{"$f":"Master!E20","v":"Active"},{"$f":"Master!F20","v":0},{"$f":"Master!H20","v":0},{"$f":"IF(Master!Q20=\"\",\"B\",Master!Q20)","v":"R"},{"$f":"IF(Master!AB20=\"\",\"B\",Master!AB20)","v":"R"},{"$f":"IF(Master!AM20=\"\",\"B\",Master!AM20)","v":"B"},{"$f":"IF(Master!AX20=\"\",\"B\",Master!AX20)","v":"B"},{"$f":"IF(Master!BI20=\"\",\"B\",Master!BI20)","v":"B"},{"$f":"IF(Master!BT20=\"\",\"B\",Master!BT20)","v":"B"}]
[{"$f":"Master!A21","v":"SS"},{"$f":"Master!B21","v":"The Process Groups (PMBOK® Guide Fifth Edition)"},{"$f":"Master!C21","v":"apj_01_a03_bs_enus"},{"$f":"Master!D21","v":"OLT"},{"$f":"Master!E21","v":"Active"},{"$f":"Master!F21","v":0},{"$f":"Master!H21","v":0},{"$f":"IF(Master!Q21=\"\",\"B\",Master!Q21)","v":"R"},{"$f":"IF(Master!AB21=\"\",\"B\",Master!AB21)","v":"R"},{"$f":"IF(Master!AM21=\"\",\"B\",Master!AM21)","v":"B"},{"$f":"IF(Master!AX21=\"\",\"B\",Master!AX21)","v":"B"},{"$f":"IF(Master!BI21=\"\",\"B\",Master!BI21)","v":"B"},{"$f":"IF(Master!BT21=\"\",\"B\",Master!BT21)","v":"B"}]
[{"$f":"Master!A22","v":"SS"},{"$f":"Master!B22","v":"Solving Problems: Generating and Evaluating Alternatives"},{"$f":"Master!C22","v":"pd_29_a02_bs_enus"},{"$f":"Master!D22","v":"OLT"},{"$f":"Master!E22","v":"Active"},{"$f":"Master!F22","v":0},{"$f":"Master!H22","v":0},{"$f":"IF(Master!Q22=\"\",\"B\",Master!Q22)","v":"R"},{"$f":"IF(Master!AB22=\"\",\"B\",Master!AB22)","v":"R"},{"$f":"IF(Master!AM22=\"\",\"B\",Master!AM22)","v":"B"},{"$f":"IF(Master!AX22=\"\",\"B\",Master!AX22)","v":"B"},{"$f":"IF(Master!BI22=\"\",\"B\",Master!BI22)","v":"B"},{"$f":"IF(Master!BT22=\"\",\"B\",Master!BT22)","v":"B"}]
[{"$f":"Master!A23","v":"SS"},{"$f":"Master!B23","v":"Making and Carrying Out Tough Decisions"},{"$f":"Master!C23","v":"pd_29_a03_bs_enus"},{"$f":"Master!D23","v":"OLT"},{"$f":"Master!E23","v":"Active"},{"$f":"Master!F23","v":0},{"$f":"Master!H23","v":0},{"$f":"IF(Master!Q23=\"\",\"B\",Master!Q23)","v":"R"},{"$f":"IF(Master!AB23=\"\",\"B\",Master!AB23)","v":"R"},{"$f":"IF(Master!AM23=\"\",\"B\",Master!AM23)","v":"B"},{"$f":"IF(Master!AX23=\"\",\"B\",Master!AX23)","v":"B"},{"$f":"IF(Master!BI23=\"\",\"B\",Master!BI23)","v":"B"},{"$f":"IF(Master!BT23=\"\",\"B\",Master!BT23)","v":"B"}]
[{"$f":"Master!A24","v":"SS"},{"$f":"Master!B24","v":"Solving Problems: Framing the Problem"},{"$f":"Master!C24","v":"pd_29_a01_bs_enus"},{"$f":"Master!D24","v":"OLT"},{"$f":"Master!E24","v":"Active"},{"$f":"Master!F24","v":0},{"$f":"Master!H24","v":0},{"$f":"IF(Master!Q24=\"\",\"B\",Master!Q24)","v":"R"},{"$f":"IF(Master!AB24=\"\",\"B\",Master!AB24)","v":"R"},{"$f":"IF(Master!AM24=\"\",\"B\",Master!AM24)","v":"B"},{"$f":"IF(Master!AX24=\"\",\"B\",Master!AX24)","v":"B"},{"$f":"IF(Master!BI24=\"\",\"B\",Master!BI24)","v":"B"},{"$f":"IF(Master!BT24=\"\",\"B\",Master!BT24)","v":"B"}]
[{"$f":"Master!A25","v":"SS"},{"$f":"Master!B25","v":"Problem-Solving and Process Management Tools"},{"$f":"Master!C25","v":"oper_04_a07_bs_enus"},{"$f":"Master!D25","v":"OLT"},{"$f":"Master!E25","v":"Active"},{"$f":"Master!F25","v":0},{"$f":"Master!H25","v":0},{"$f":"IF(Master!Q25=\"\",\"B\",Master!Q25)","v":"R"},{"$f":"IF(Master!AB25=\"\",\"B\",Master!AB25)","v":"R"},{"$f":"IF(Master!AM25=\"\",\"B\",Master!AM25)","v":"B"},{"$f":"IF(Master!AX25=\"\",\"B\",Master!AX25)","v":"B"},{"$f":"IF(Master!BI25=\"\",\"B\",Master!BI25)","v":"B"},{"$f":"IF(Master!BT25=\"\",\"B\",Master!BT25)","v":"B"}]
[{"$f":"Master!A26","v":"SS"},{"$f":"Master!B26","v":"Basic Presentation Skills: Delivering a Presentation"},{"$f":"Master!C26","v":"comm_33_a03_bs_enus"},{"$f":"Master!D26","v":"OLT"},{"$f":"Master!E26","v":"Active"},{"$f":"Master!F26","v":0},{"$f":"Master!H26","v":0},{"$f":"IF(Master!Q26=\"\",\"B\",Master!Q26)","v":"R"},{"$f":"IF(Master!AB26=\"\",\"B\",Master!AB26)","v":"R"},{"$f":"IF(Master!AM26=\"\",\"B\",Master!AM26)","v":"B"},{"$f":"IF(Master!AX26=\"\",\"B\",Master!AX26)","v":"B"},{"$f":"IF(Master!BI26=\"\",\"B\",Master!BI26)","v":"B"},{"$f":"IF(Master!BT26=\"\",\"B\",Master!BT26)","v":"B"}]
[{"$f":"Master!A27","v":"SS"},{"$f":"Master!B27","v":"Basic Presentation Skills: Creating a Presentation"},{"$f":"Master!C27","v":"comm_33_a02_bs_enus"},{"$f":"Master!D27","v":"OLT"},{"$f":"Master!E27","v":"Active"},{"$f":"Master!F27","v":0},{"$f":"Master!H27","v":0},{"$f":"IF(Master!Q27=\"\",\"B\",Master!Q27)","v":"R"},{"$f":"IF(Master!AB27=\"\",\"B\",Master!AB27)","v":"R"},{"$f":"IF(Master!AM27=\"\",\"B\",Master!AM27)","v":"B"},{"$f":"IF(Master!AX27=\"\",\"B\",Master!AX27)","v":"B"},{"$f":"IF(Master!BI27=\"\",\"B\",Master!BI27)","v":"B"},{"$f":"IF(Master!BT27=\"\",\"B\",Master!BT27)","v":"B"}]
[{"$f":"Master!A28","v":"SS"},{"$f":"Master!B28","v":"Building the Foundation for an Effective Team"},{"$f":"Master!C28","v":"atm_01_a01_bs_enus"},{"$f":"Master!D28","v":"OLT"},{"$f":"Master!E28","v":"Active"},{"$f":"Master!F28","v":0},{"$f":"Master!H28","v":0},{"$f":"IF(Master!Q28=\"\",\"B\",Master!Q28)","v":"R"},{"$f":"IF(Master!AB28=\"\",\"B\",Master!AB28)","v":"R"},{"$f":"IF(Master!AM28=\"\",\"B\",Master!AM28)","v":"B"},{"$f":"IF(Master!AX28=\"\",\"B\",Master!AX28)","v":"B"},{"$f":"IF(Master!BI28=\"\",\"B\",Master!BI28)","v":"B"},{"$f":"IF(Master!BT28=\"\",\"B\",Master!BT28)","v":"B"}]
[{"$f":"Master!A29","v":"SS"},{"$f":"Master!B29","v":"Developing a Successful Team"},{"$f":"Master!C29","v":"atm_01_a02_bs_enus"},{"$f":"Master!D29","v":"OLT"},{"$f":"Master!E29","v":"Active"},{"$f":"Master!F29","v":0},{"$f":"Master!H29","v":0},{"$f":"IF(Master!Q29=\"\",\"B\",Master!Q29)","v":"R"},{"$f":"IF(Master!AB29=\"\",\"B\",Master!AB29)","v":"R"},{"$f":"IF(Master!AM29=\"\",\"B\",Master!AM29)","v":"B"},{"$f":"IF(Master!AX29=\"\",\"B\",Master!AX29)","v":"B"},{"$f":"IF(Master!BI29=\"\",\"B\",Master!BI29)","v":"B"},{"$f":"IF(Master!BT29=\"\",\"B\",Master!BT29)","v":"B"}]
[{"$f":"Master!A30","v":"SS"},{"$f":"Master!B30","v":"Encouraging Team Communication and Collaboration"},{"$f":"Master!C30","v":"atm_01_a03_bs_enus"},{"$f":"Master!D30","v":"OLT"},{"$f":"Master!E30","v":"Active"},{"$f":"Master!F30","v":0},{"$f":"Master!H30","v":0},{"$f":"IF(Master!Q30=\"\",\"B\",Master!Q30)","v":"R"},{"$f":"IF(Master!AB30=\"\",\"B\",Master!AB30)","v":"R"},{"$f":"IF(Master!AM30=\"\",\"B\",Master!AM30)","v":"B"},{"$f":"IF(Master!AX30=\"\",\"B\",Master!AX30)","v":"B"},{"$f":"IF(Master!BI30=\"\",\"B\",Master!BI30)","v":"B"},{"$f":"IF(Master!BT30=\"\",\"B\",Master!BT30)","v":"B"}]
[{"$f":"Master!A31","v":"SS"},{"$f":"Master!B31","v":"Handling Team Conflict"},{"$f":"Master!C31","v":"atm_01_a04_bs_enus"},{"$f":"Master!D31","v":"OLT"},{"$f":"Master!E31","v":"Active"},{"$f":"Master!F31","v":0},{"$f":"Master!H31","v":0},{"$f":"IF(Master!Q31=\"\",\"B\",Master!Q31)","v":"R"},{"$f":"IF(Master!AB31=\"\",\"B\",Master!AB31)","v":"R"},{"$f":"IF(Master!AM31=\"\",\"B\",Master!AM31)","v":"B"},{"$f":"IF(Master!AX31=\"\",\"B\",Master!AX31)","v":"B"},{"$f":"IF(Master!BI31=\"\",\"B\",Master!BI31)","v":"B"},{"$f":"IF(Master!BT31=\"\",\"B\",Master!BT31)","v":"B"}]
[{"$f":"Master!A32","v":"SS"},{"$f":"Master!B32","v":"Thinking Critically: Coming to Terms with Assumptions"},{"$f":"Master!C32","v":"pe_01_a01_bs_enus"},{"$f":"Master!D32","v":"OLT"},{"$f":"Master!E32","v":"Active"},{"$f":"Master!F32","v":0},{"$f":"Master!H32","v":0},{"$f":"IF(Master!Q32=\"\",\"B\",Master!Q32)","v":"R"},{"$f":"IF(Master!AB32=\"\",\"B\",Master!AB32)","v":"R"},{"$f":"IF(Master!AM32=\"\",\"B\",Master!AM32)","v":"B"},{"$f":"IF(Master!AX32=\"\",\"B\",Master!AX32)","v":"B"},{"$f":"IF(Master!BI32=\"\",\"B\",Master!BI32)","v":"B"},{"$f":"IF(Master!BT32=\"\",\"B\",Master!BT32)","v":"B"}]
[{"$f":"Master!A33","v":"SS"},{"$f":"Master!B33","v":"Thinking Critically: Getting Your Arms around Arguments"},{"$f":"Master!C33","v":"pe_01_a02_bs_enus"},{"$f":"Master!D33","v":"OLT"},{"$f":"Master!E33","v":"Active"},{"$f":"Master!F33","v":0},{"$f":"Master!H33","v":0},{"$f":"IF(Master!Q33=\"\",\"B\",Master!Q33)","v":"R"},{"$f":"IF(Master!AB33=\"\",\"B\",Master!AB33)","v":"R"},{"$f":"IF(Master!AM33=\"\",\"B\",Master!AM33)","v":"B"},{"$f":"IF(Master!AX33=\"\",\"B\",Master!AX33)","v":"B"},{"$f":"IF(Master!BI33=\"\",\"B\",Master!BI33)","v":"B"},{"$f":"IF(Master!BT33=\"\",\"B\",Master!BT33)","v":"B"}]
[{"$f":"Master!A34","v":"SS"},{"$f":"Master!B34","v":"Thinking Critically: Drawing Conclusions with Confidence"},{"$f":"Master!C34","v":"pe_01_a03_bs_enus"},{"$f":"Master!D34","v":"OLT"},{"$f":"Master!E34","v":"Active"},{"$f":"Master!F34","v":0},{"$f":"Master!H34","v":0},{"$f":"IF(Master!Q34=\"\",\"B\",Master!Q34)","v":"R"},{"$f":"IF(Master!AB34=\"\",\"B\",Master!AB34)","v":"R"},{"$f":"IF(Master!AM34=\"\",\"B\",Master!AM34)","v":"B"},{"$f":"IF(Master!AX34=\"\",\"B\",Master!AX34)","v":"B"},{"$f":"IF(Master!BI34=\"\",\"B\",Master!BI34)","v":"B"},{"$f":"IF(Master!BT34=\"\",\"B\",Master!BT34)","v":"B"}]
[{"$f":"Master!A35","v":"SS"},{"$f":"Master!B35","v":"Microsoft Excel 2016 Essentials: Creating, Editing, and Saving Workbooks"},{"$f":"Master!C35","v":"mo_beel_a01_dt_enus"},{"$f":"Master!D35","v":"OLT"},{"$f":"Master!E35","v":"Active"},{"$f":"Master!F35","v":0},{"$f":"Master!H35","v":0},{"$f":"IF(Master!Q35=\"\",\"B\",Master!Q35)","v":"R"},{"$f":"IF(Master!AB35=\"\",\"B\",Master!AB35)","v":"R"},{"$f":"IF(Master!AM35=\"\",\"B\",Master!AM35)","v":"B"},{"$f":"IF(Master!AX35=\"\",\"B\",Master!AX35)","v":"B"},{"$f":"IF(Master!BI35=\"\",\"B\",Master!BI35)","v":"B"},{"$f":"IF(Master!BT35=\"\",\"B\",Master!BT35)","v":"B"}]
[{"$f":"Master!A36","v":"SS"},{"$f":"Master!B36","v":"Microsoft Excel 2016 Essentials: Formulas and Functions"},{"$f":"Master!C36","v":"mo_beel_a04_dt_enus"},{"$f":"Master!D36","v":"OLT"},{"$f":"Master!E36","v":"Active"},{"$f":"Master!F36","v":0},{"$f":"Master!H36","v":0},{"$f":"IF(Master!Q36=\"\",\"B\",Master!Q36)","v":"R"},{"$f":"IF(Master!AB36=\"\",\"B\",Master!AB36)","v":"R"},{"$f":"IF(Master!AM36=\"\",\"B\",Master!AM36)","v":"B"},{"$f":"IF(Master!AX36=\"\",\"B\",Master!AX36)","v":"B"},{"$f":"IF(Master!BI36=\"\",\"B\",Master!BI36)","v":"B"},{"$f":"IF(Master!BT36=\"\",\"B\",Master!BT36)","v":"B"}]
[{"$f":"Master!A37","v":"SS"},{"$f":"Master!B37","v":"Microsoft Excel 2016 Essentials: Formatting Data"},{"$f":"Master!C37","v":"mo_beel_a02_dt_enus"},{"$f":"Master!D37","v":"OLT"},{"$f":"Master!E37","v":"Active"},{"$f":"Master!F37","v":0},{"$f":"Master!H37","v":0},{"$f":"IF(Master!Q37=\"\",\"B\",Master!Q37)","v":"R"},{"$f":"IF(Master!AB37=\"\",\"B\",Master!AB37)","v":"R"},{"$f":"IF(Master!AM37=\"\",\"B\",Master!AM37)","v":"B"},{"$f":"IF(Master!AX37=\"\",\"B\",Master!AX37)","v":"B"},{"$f":"IF(Master!BI37=\"\",\"B\",Master!BI37)","v":"B"},{"$f":"IF(Master!BT37=\"\",\"B\",Master!BT37)","v":"B"}]
[{"$f":"Master!A38","v":"SS"},{"$f":"Master!B38","v":"Microsoft Excel 2016 Essentials: Data Presentation Strategies"},{"$f":"Master!C38","v":"mo_beel_a03_dt_enus"},{"$f":"Master!D38","v":"OLT"},{"$f":"Master!E38","v":"Active"},{"$f":"Master!F38","v":0},{"$f":"Master!H38","v":0},{"$f":"IF(Master!Q38=\"\",\"B\",Master!Q38)","v":"R"},{"$f":"IF(Master!AB38=\"\",\"B\",Master!AB38)","v":"R"},{"$f":"IF(Master!AM38=\"\",\"B\",Master!AM38)","v":"B"},{"$f":"IF(Master!AX38=\"\",\"B\",Master!AX38)","v":"B"},{"$f":"IF(Master!BI38=\"\",\"B\",Master!BI38)","v":"B"},{"$f":"IF(Master!BT38=\"\",\"B\",Master!BT38)","v":"B"}]
[{"$f":"Master!A39","v":"SS"},{"$f":"Master!B39","v":"Microsoft Excel 2016 Essentials: Charts, Tables, and Images"},{"$f":"Master!C39","v":"mo_beel_a05_dt_enus"},{"$f":"Master!D39","v":"OLT"},{"$f":"Master!E39","v":"Active"},{"$f":"Master!F39","v":0},{"$f":"Master!H39","v":0},{"$f":"IF(Master!Q39=\"\",\"B\",Master!Q39)","v":"R"},{"$f":"IF(Master!AB39=\"\",\"B\",Master!AB39)","v":"R"},{"$f":"IF(Master!AM39=\"\",\"B\",Master!AM39)","v":"B"},{"$f":"IF(Master!AX39=\"\",\"B\",Master!AX39)","v":"B"},{"$f":"IF(Master!BI39=\"\",\"B\",Master!BI39)","v":"B"},{"$f":"IF(Master!BT39=\"\",\"B\",Master!BT39)","v":"B"}]
[{"$f":"Master!A40","v":"SS"},{"$f":"Master!B40","v":"Microsoft Office 2016 Intermediate Excel: Working with Data "},{"$f":"Master!C40","v":"mo_inel_a03_dt_enus"},{"$f":"Master!D40","v":"OLT"},{"$f":"Master!E40","v":"Active"},{"$f":"Master!F40","v":0},{"$f":"Master!H40","v":0},{"$f":"IF(Master!Q40=\"\",\"B\",Master!Q40)","v":2},{"$f":"IF(Master!AB40=\"\",\"B\",Master!AB40)","v":2},{"$f":"IF(Master!AM40=\"\",\"B\",Master!AM40)","v":2},{"$f":"IF(Master!AX40=\"\",\"B\",Master!AX40)","v":"B"},{"$f":"IF(Master!BI40=\"\",\"B\",Master!BI40)","v":"B"},{"$f":"IF(Master!BT40=\"\",\"B\",Master!BT40)","v":"B"}]
[{"$f":"Master!A41","v":"SS"},{"$f":"Master!B41","v":"Microsoft Office 2016 Intermediate Excel: Share, Review, and Collaborate "},{"$f":"Master!C41","v":"mo_inel_a06_dt_enus"},{"$f":"Master!D41","v":"OLT"},{"$f":"Master!E41","v":"Active"},{"$f":"Master!F41","v":0},{"$f":"Master!H41","v":0},{"$f":"IF(Master!Q41=\"\",\"B\",Master!Q41)","v":2},{"$f":"IF(Master!AB41=\"\",\"B\",Master!AB41)","v":2},{"$f":"IF(Master!AM41=\"\",\"B\",Master!AM41)","v":2},{"$f":"IF(Master!AX41=\"\",\"B\",Master!AX41)","v":"B"},{"$f":"IF(Master!BI41=\"\",\"B\",Master!BI41)","v":"B"},{"$f":"IF(Master!BT41=\"\",\"B\",Master!BT41)","v":"B"}]
[{"$f":"Master!A42","v":"SS"},{"$f":"Master!B42","v":"Microsoft Office 2016 Intermediate Excel: Creating Custom Visual Effects "},{"$f":"Master!C42","v":"mo_inel_a02_dt_enus"},{"$f":"Master!D42","v":"OLT"},{"$f":"Master!E42","v":"Active"},{"$f":"Master!F42","v":0},{"$f":"Master!H42","v":0},{"$f":"IF(Master!Q42=\"\",\"B\",Master!Q42)","v":2},{"$f":"IF(Master!AB42=\"\",\"B\",Master!AB42)","v":2},{"$f":"IF(Master!AM42=\"\",\"B\",Master!AM42)","v":2},{"$f":"IF(Master!AX42=\"\",\"B\",Master!AX42)","v":"B"},{"$f":"IF(Master!BI42=\"\",\"B\",Master!BI42)","v":"B"},{"$f":"IF(Master!BT42=\"\",\"B\",Master!BT42)","v":"B"}]
[{"$f":"Master!A43","v":"SS"},{"$f":"Master!B43","v":"Working with the Interface and Performing Basic Tasks in Word 2016 "},{"$f":"Master!C43","v":"mo_bewo_a01_dt_enus"},{"$f":"Master!D43","v":"OLT"},{"$f":"Master!E43","v":"Active"},{"$f":"Master!F43","v":0},{"$f":"Master!H43","v":0},{"$f":"IF(Master!Q43=\"\",\"B\",Master!Q43)","v":"R"},{"$f":"IF(Master!AB43=\"\",\"B\",Master!AB43)","v":"R"},{"$f":"IF(Master!AM43=\"\",\"B\",Master!AM43)","v":"B"},{"$f":"IF(Master!AX43=\"\",\"B\",Master!AX43)","v":"B"},{"$f":"IF(Master!BI43=\"\",\"B\",Master!BI43)","v":"B"},{"$f":"IF(Master!BT43=\"\",\"B\",Master!BT43)","v":"B"}]
[{"$f":"Master!A44","v":"SS"},{"$f":"Master!B44","v":"Formatting Text in Word 2016 "},{"$f":"Master!C44","v":"mo_bewo_a02_dt_enus"},{"$f":"Master!D44","v":"OLT"},{"$f":"Master!E44","v":"Active"},{"$f":"Master!F44","v":0},{"$f":"Master!H44","v":0},{"$f":"IF(Master!Q44=\"\",\"B\",Master!Q44)","v":"R"},{"$f":"IF(Master!AB44=\"\",\"B\",Master!AB44)","v":"R"},{"$f":"IF(Master!AM44=\"\",\"B\",Master!AM44)","v":"B"},{"$f":"IF(Master!AX44=\"\",\"B\",Master!AX44)","v":"B"},{"$f":"IF(Master!BI44=\"\",\"B\",Master!BI44)","v":"B"},{"$f":"IF(Master!BT44=\"\",\"B\",Master!BT44)","v":"B"}]
[{"$f":"Master!A45","v":"SS"},{"$f":"Master!B45","v":"Headers, Footers, Page Numbering, and Layout in Word 2016 "},{"$f":"Master!C45","v":"mo_bewo_a05_dt_enus"},{"$f":"Master!D45","v":"OLT"},{"$f":"Master!E45","v":"Active"},{"$f":"Master!F45","v":0},{"$f":"Master!H45","v":0},{"$f":"IF(Master!Q45=\"\",\"B\",Master!Q45)","v":"R"},{"$f":"IF(Master!AB45=\"\",\"B\",Master!AB45)","v":"R"},{"$f":"IF(Master!AM45=\"\",\"B\",Master!AM45)","v":"B"},{"$f":"IF(Master!AX45=\"\",\"B\",Master!AX45)","v":"B"},{"$f":"IF(Master!BI45=\"\",\"B\",Master!BI45)","v":"B"},{"$f":"IF(Master!BT45=\"\",\"B\",Master!BT45)","v":"B"}]
[{"$f":"Master!A46","v":"SS"},{"$f":"Master!B46","v":"Using the Navigation Pane and Creating Lists in Word 2016 "},{"$f":"Master!C46","v":"mo_bewo_a06_dt_enus"},{"$f":"Master!D46","v":"OLT"},{"$f":"Master!E46","v":"Active"},{"$f":"Master!F46","v":0},{"$f":"Master!H46","v":0},{"$f":"IF(Master!Q46=\"\",\"B\",Master!Q46)","v":"R"},{"$f":"IF(Master!AB46=\"\",\"B\",Master!AB46)","v":"R"},{"$f":"IF(Master!AM46=\"\",\"B\",Master!AM46)","v":"B"},{"$f":"IF(Master!AX46=\"\",\"B\",Master!AX46)","v":"B"},{"$f":"IF(Master!BI46=\"\",\"B\",Master!BI46)","v":"B"},{"$f":"IF(Master!BT46=\"\",\"B\",Master!BT46)","v":"B"}]
[{"$f":"Master!A47","v":"SS"},{"$f":"Master!B47","v":"Customizing Options and Using Document Views in Word 2016 "},{"$f":"Master!C47","v":"mo_bewo_a03_dt_enus"},{"$f":"Master!D47","v":"OLT"},{"$f":"Master!E47","v":"Active"},{"$f":"Master!F47","v":0},{"$f":"Master!H47","v":0},{"$f":"IF(Master!Q47=\"\",\"B\",Master!Q47)","v":2},{"$f":"IF(Master!AB47=\"\",\"B\",Master!AB47)","v":2},{"$f":"IF(Master!AM47=\"\",\"B\",Master!AM47)","v":2},{"$f":"IF(Master!AX47=\"\",\"B\",Master!AX47)","v":"B"},{"$f":"IF(Master!BI47=\"\",\"B\",Master!BI47)","v":"B"},{"$f":"IF(Master!BT47=\"\",\"B\",Master!BT47)","v":"B"}]
[{"$f":"Master!A48","v":"SS"},{"$f":"Master!B48","v":"Creating and Formatting Tables in Word 2016 "},{"$f":"Master!C48","v":"mo_bewo_a04_dt_enus"},{"$f":"Master!D48","v":"OLT"},{"$f":"Master!E48","v":"Active"},{"$f":"Master!F48","v":0},{"$f":"Master!H48","v":0},{"$f":"IF(Master!Q48=\"\",\"B\",Master!Q48)","v":2},{"$f":"IF(Master!AB48=\"\",\"B\",Master!AB48)","v":2},{"$f":"IF(Master!AM48=\"\",\"B\",Master!AM48)","v":2},{"$f":"IF(Master!AX48=\"\",\"B\",Master!AX48)","v":"B"},{"$f":"IF(Master!BI48=\"\",\"B\",Master!BI48)","v":"B"},{"$f":"IF(Master!BT48=\"\",\"B\",Master!BT48)","v":"B"}]
[{"$f":"Master!A49","v":"Human Resource"},null,null,null,null,null,null,{"$f":"IF(Master!Q49=\"\",\"B\",Master!Q49)","v":"B"},{"$f":"IF(Master!AB49=\"\",\"B\",Master!AB49)","v":"B"},{"$f":"IF(Master!AM49=\"\",\"B\",Master!AM49)","v":"B"},{"$f":"IF(Master!AX49=\"\",\"B\",Master!AX49)","v":"B"},{"$f":"IF(Master!BI49=\"\",\"B\",Master!BI49)","v":"B"},{"$f":"IF(Master!BT49=\"\",\"B\",Master!BT49)","v":"B"}]
[{"$f":"Master!A50","v":"Conflict Management - The following two courses are available"},null,null,null,null,null,null,{"$f":"IF(Master!Q50=\"\",\"B\",Master!Q50)","v":"B"},{"$f":"IF(Master!AB50=\"\",\"B\",Master!AB50)","v":"B"},{"$f":"IF(Master!AM50=\"\",\"B\",Master!AM50)","v":"B"},{"$f":"IF(Master!AX50=\"\",\"B\",Master!AX50)","v":"B"},{"$f":"IF(Master!BI50=\"\",\"B\",Master!BI50)","v":"B"},{"$f":"IF(Master!BT50=\"\",\"B\",Master!BT50)","v":"B"}]
[{"$f":"Master!A51","v":"SS"},{"$f":"Master!B51","v":"Preparing for a Difficult Conversation"},{"$f":"Master!C51","v":"mgmt_36_a01_bs_enus"},{"$f":"Master!D51","v":"OLT"},{"$f":"Master!E51","v":"Active"},{"$f":"Master!F51","v":0},{"$f":"Master!H51","v":"Take this course first."},{"$f":"IF(Master!Q51=\"\",\"B\",Master!Q51)","v":2},{"$f":"IF(Master!AB51=\"\",\"B\",Master!AB51)","v":2},{"$f":"IF(Master!AM51=\"\",\"B\",Master!AM51)","v":2},{"$f":"IF(Master!AX51=\"\",\"B\",Master!AX51)","v":1},{"$f":"IF(Master!BI51=\"\",\"B\",Master!BI51)","v":1},{"$f":"IF(Master!BT51=\"\",\"B\",Master!BT51)","v":1}]
[{"$f":"Master!A52","v":"ES"},{"$f":"Master!B52","v":"Managing Emotions in the Workplace"},{"$f":"Master!C52","v":"Enterprise Services Course\n1/2 Day - $100"},{"$f":"Master!D52","v":"ILT"},{"$f":"Master!E52","v":"Active"},{"$f":"Master!F52","v":0},{"$f":"Master!H52","v":"To register for this course, \ncall the LMS Helpdesk at \n360-705-7060."},{"$f":"IF(Master!Q52=\"\",\"B\",Master!Q52)","v":2},{"$f":"IF(Master!AB52=\"\",\"B\",Master!AB52)","v":2},{"$f":"IF(Master!AM52=\"\",\"B\",Master!AM52)","v":2},{"$f":"IF(Master!AX52=\"\",\"B\",Master!AX52)","v":1},{"$f":"IF(Master!BI52=\"\",\"B\",Master!BI52)","v":1},{"$f":"IF(Master!BT52=\"\",\"B\",Master!BT52)","v":1}]
[{"$f":"Master!A53","v":"Interpersonal Communications - The following two courses are available"},null,null,null,null,null,null,{"$f":"IF(Master!Q53=\"\",\"B\",Master!Q53)","v":"B"},{"$f":"IF(Master!AB53=\"\",\"B\",Master!AB53)","v":"B"},{"$f":"IF(Master!AM53=\"\",\"B\",Master!AM53)","v":"B"},{"$f":"IF(Master!AX53=\"\",\"B\",Master!AX53)","v":"B"},{"$f":"IF(Master!BI53=\"\",\"B\",Master!BI53)","v":"B"},{"$f":"IF(Master!BT53=\"\",\"B\",Master!BT53)","v":"B"}]
[{"$f":"Master!A54","v":"SS"},{"$f":"Master!B54","v":"Difficult People: Strategies to Keep Everyone Working Together"},{"$f":"Master!C54","v":"comm_46_a03_bs_enus"},{"$f":"Master!D54","v":"OLT"},{"$f":"Master!E54","v":"Active"},{"$f":"Master!F54","v":0},{"$f":"Master!H54","v":"Take this course first."},{"$f":"IF(Master!Q54=\"\",\"B\",Master!Q54)","v":1},{"$f":"IF(Master!AB54=\"\",\"B\",Master!AB54)","v":1},{"$f":"IF(Master!AM54=\"\",\"B\",Master!AM54)","v":1},{"$f":"IF(Master!AX54=\"\",\"B\",Master!AX54)","v":1},{"$f":"IF(Master!BI54=\"\",\"B\",Master!BI54)","v":1},{"$f":"IF(Master!BT54=\"\",\"B\",Master!BT54)","v":1}]
[{"$f":"Master!A55","v":"ES"},{"$f":"Master!B55","v":"Interpersonal Communication Skills"},{"$f":"Master!C55","v":"Enterprise Services Course\nTwo Days - $195"},{"$f":"Master!D55","v":"ILT"},{"$f":"Master!E55","v":"Active"},{"$f":"Master!F55","v":0},{"$f":"Master!H55","v":"To register for this course, \ncall the LMS Helpdesk at \n360-705-7060."},{"$f":"IF(Master!Q55=\"\",\"B\",Master!Q55)","v":1},{"$f":"IF(Master!AB55=\"\",\"B\",Master!AB55)","v":1},{"$f":"IF(Master!AM55=\"\",\"B\",Master!AM55)","v":1},{"$f":"IF(Master!AX55=\"\",\"B\",Master!AX55)","v":1},{"$f":"IF(Master!BI55=\"\",\"B\",Master!BI55)","v":1},{"$f":"IF(Master!BT55=\"\",\"B\",Master!BT55)","v":1}]
[{"$f":"Master!A56","v":"Interpersonal Communications - The following two courses are available"},null,null,null,null,null,null,{"$f":"IF(Master!Q56=\"\",\"B\",Master!Q56)","v":"B"},{"$f":"IF(Master!AB56=\"\",\"B\",Master!AB56)","v":"B"},{"$f":"IF(Master!AM56=\"\",\"B\",Master!AM56)","v":"B"},{"$f":"IF(Master!AX56=\"\",\"B\",Master!AX56)","v":"B"},{"$f":"IF(Master!BI56=\"\",\"B\",Master!BI56)","v":"B"},{"$f":"IF(Master!BT56=\"\",\"B\",Master!BT56)","v":"B"}]
[{"$f":"Master!A57","v":"SS"},{"$f":"Master!B57","v":"Active Listening Skills for Professionals"},{"$f":"Master!C57","v":"comm_43_a03_bs_enus"},{"$f":"Master!D57","v":"OLT"},{"$f":"Master!E57","v":"Active"},{"$f":"Master!F57","v":0},{"$f":"Master!H57","v":"Take this course first."},{"$f":"IF(Master!Q57=\"\",\"B\",Master!Q57)","v":1},{"$f":"IF(Master!AB57=\"\",\"B\",Master!AB57)","v":1},{"$f":"IF(Master!AM57=\"\",\"B\",Master!AM57)","v":1},{"$f":"IF(Master!AX57=\"\",\"B\",Master!AX57)","v":1},{"$f":"IF(Master!BI57=\"\",\"B\",Master!BI57)","v":1},{"$f":"IF(Master!BT57=\"\",\"B\",Master!BT57)","v":1}]
[{"$f":"Master!A58","v":"ES"},{"$f":"Master!B58","v":"Crucial Conversations"},{"$f":"Master!C58","v":"Enterprise Services Course\nTwo Days - $450"},{"$f":"Master!D58","v":"ILT"},{"$f":"Master!E58","v":"Active"},{"$f":"Master!F58","v":0},{"$f":"Master!H58","v":"To register for this course, \ncall the LMS Helpdesk at \n360-705-7060."},{"$f":"IF(Master!Q58=\"\",\"B\",Master!Q58)","v":1},{"$f":"IF(Master!AB58=\"\",\"B\",Master!AB58)","v":1},{"$f":"IF(Master!AM58=\"\",\"B\",Master!AM58)","v":1},{"$f":"IF(Master!AX58=\"\",\"B\",Master!AX58)","v":1},{"$f":"IF(Master!BI58=\"\",\"B\",Master!BI58)","v":1},{"$f":"IF(Master!BT58=\"\",\"B\",Master!BT58)","v":1}]
[{"$f":"Master!A59","v":"Oral Presentation Techniques"},null,null,null,null,null,null,{"$f":"IF(Master!Q59=\"\",\"B\",Master!Q59)","v":"B"},{"$f":"IF(Master!AB59=\"\",\"B\",Master!AB59)","v":"B"},{"$f":"IF(Master!AM59=\"\",\"B\",Master!AM59)","v":"B"},{"$f":"IF(Master!AX59=\"\",\"B\",Master!AX59)","v":"B"},{"$f":"IF(Master!BI59=\"\",\"B\",Master!BI59)","v":"B"},{"$f":"IF(Master!BT59=\"\",\"B\",Master!BT59)","v":"B"}]
[{"$f":"Master!A60","v":"ES"},{"$f":"Master!B60","v":"Presentation & Training Design & Delivery "},{"$f":"Master!C60","v":"Enterprise Services Course \nTwo Days - $205"},{"$f":"Master!D60","v":"ILT"},{"$f":"Master!E60","v":"Active"},{"$f":"Master!F60","v":0},{"$f":"Master!H60","v":"To register for this course, \ncall the LMS Helpdesk at \n360-705-7060."},{"$f":"IF(Master!Q60=\"\",\"B\",Master!Q60)","v":"B"},{"$f":"IF(Master!AB60=\"\",\"B\",Master!AB60)","v":"B"},{"$f":"IF(Master!AM60=\"\",\"B\",Master!AM60)","v":"B"},{"$f":"IF(Master!AX60=\"\",\"B\",Master!AX60)","v":"B"},{"$f":"IF(Master!BI60=\"\",\"B\",Master!BI60)","v":2},{"$f":"IF(Master!BT60=\"\",\"B\",Master!BT60)","v":1}]
[{"$f":"Master!A61","v":"Stress Management -  The following two courses are available"},null,null,null,null,null,null,{"$f":"IF(Master!Q61=\"\",\"B\",Master!Q61)","v":"B"},{"$f":"IF(Master!AB61=\"\",\"B\",Master!AB61)","v":"B"},{"$f":"IF(Master!AM61=\"\",\"B\",Master!AM61)","v":"B"},{"$f":"IF(Master!AX61=\"\",\"B\",Master!AX61)","v":"B"},{"$f":"IF(Master!BI61=\"\",\"B\",Master!BI61)","v":"B"},{"$f":"IF(Master!BT61=\"\",\"B\",Master!BT61)","v":"B"}]
[{"$f":"Master!A62","v":"SS"},{"$f":"Master!B62","v":"Conflict, Stress, and Time Management"},{"$f":"Master!C62","v":"cust_07_a03_bs_enus"},{"$f":"Master!D62","v":"OLT"},{"$f":"Master!E62","v":"Active"},{"$f":"Master!F62","v":0},{"$f":"Master!H62","v":"Take this course first."},{"$f":"IF(Master!Q62=\"\",\"B\",Master!Q62)","v":1},{"$f":"IF(Master!AB62=\"\",\"B\",Master!AB62)","v":1},{"$f":"IF(Master!AM62=\"\",\"B\",Master!AM62)","v":1},{"$f":"IF(Master!AX62=\"\",\"B\",Master!AX62)","v":1},{"$f":"IF(Master!BI62=\"\",\"B\",Master!BI62)","v":1},{"$f":"IF(Master!BT62=\"\",\"B\",Master!BT62)","v":1}]
[{"$f":"Master!A63","v":"ES"},{"$f":"Master!B63","v":"Managing Job Stress"},{"$f":"Master!C63","v":"Enterprise Services Course\nOne Day - $135"},{"$f":"Master!D63","v":"ILT"},{"$f":"Master!E63","v":"Active"},{"$f":"Master!F63","v":0},{"$f":"Master!H63","v":"To register for this course, \ncall the LMS Helpdesk at \n360-705-7060."},{"$f":"IF(Master!Q63=\"\",\"B\",Master!Q63)","v":1},{"$f":"IF(Master!AB63=\"\",\"B\",Master!AB63)","v":1},{"$f":"IF(Master!AM63=\"\",\"B\",Master!AM63)","v":1},{"$f":"IF(Master!AX63=\"\",\"B\",Master!AX63)","v":1},{"$f":"IF(Master!BI63=\"\",\"B\",Master!BI63)","v":1},{"$f":"IF(Master!BT63=\"\",\"B\",Master!BT63)","v":1}]
[{"$f":"Master!A64","v":"Time Management -  The following six courses are available"},null,null,null,null,null,null,{"$f":"IF(Master!Q64=\"\",\"B\",Master!Q64)","v":"B"},{"$f":"IF(Master!AB64=\"\",\"B\",Master!AB64)","v":"B"},{"$f":"IF(Master!AM64=\"\",\"B\",Master!AM64)","v":"B"},{"$f":"IF(Master!AX64=\"\",\"B\",Master!AX64)","v":"B"},{"$f":"IF(Master!BI64=\"\",\"B\",Master!BI64)","v":"B"},{"$f":"IF(Master!BT64=\"\",\"B\",Master!BT64)","v":"B"}]
[{"$f":"Master!A65","v":"SS"},{"$f":"Master!B65","v":"Getting Time under Control"},{"$f":"Master!C65","v":"_pc_ch_pach021"},{"$f":"Master!D65","v":"OLT"},{"$f":"Master!E65","v":"Active"},{"$f":"Master!F65","v":0},{"$f":"Master!H65","v":"Take this course before the Enterprise Services course"},{"$f":"IF(Master!Q65=\"\",\"B\",Master!Q65)","v":1},{"$f":"IF(Master!AB65=\"\",\"B\",Master!AB65)","v":1},{"$f":"IF(Master!AM65=\"\",\"B\",Master!AM65)","v":1},{"$f":"IF(Master!AX65=\"\",\"B\",Master!AX65)","v":1},{"$f":"IF(Master!BI65=\"\",\"B\",Master!BI65)","v":1},{"$f":"IF(Master!BT65=\"\",\"B\",Master!BT65)","v":1}]
[{"$f":"Master!A66","v":"SS"},{"$f":"Master!B66","v":"Make the Time You Need: Get Organized"},{"$f":"Master!C66","v":"apd_08_a02_bs_enus"},{"$f":"Master!D66","v":"OLT"},{"$f":"Master!E66","v":"Active"},{"$f":"Master!F66","v":0},{"$f":"Master!H66","v":"Take this course before the Enterprise Services course"},{"$f":"IF(Master!Q66=\"\",\"B\",Master!Q66)","v":1},{"$f":"IF(Master!AB66=\"\",\"B\",Master!AB66)","v":1},{"$f":"IF(Master!AM66=\"\",\"B\",Master!AM66)","v":1},{"$f":"IF(Master!AX66=\"\",\"B\",Master!AX66)","v":1},{"$f":"IF(Master!BI66=\"\",\"B\",Master!BI66)","v":1},{"$f":"IF(Master!BT66=\"\",\"B\",Master!BT66)","v":1}]
[{"$f":"Master!A67","v":"SS"},{"$f":"Master!B67","v":"Time Management: Too Much to Do and Too Little Time"},{"$f":"Master!C67","v":"pd_20_a01_bs_enus"},{"$f":"Master!D67","v":"OLT"},{"$f":"Master!E67","v":"Active"},{"$f":"Master!F67","v":0},{"$f":"Master!H67","v":"Take this course before the Enterprise Services course"},{"$f":"IF(Master!Q67=\"\",\"B\",Master!Q67)","v":1},{"$f":"IF(Master!AB67=\"\",\"B\",Master!AB67)","v":1},{"$f":"IF(Master!AM67=\"\",\"B\",Master!AM67)","v":1},{"$f":"IF(Master!AX67=\"\",\"B\",Master!AX67)","v":1},{"$f":"IF(Master!BI67=\"\",\"B\",Master!BI67)","v":1},{"$f":"IF(Master!BT67=\"\",\"B\",Master!BT67)","v":1}]
[{"$f":"Master!A68","v":"SS"},{"$f":"Master!B68","v":"Time Management: Quit Making Excuses and Make Time Instead"},{"$f":"Master!C68","v":"pd_20_a02_bs_enus"},{"$f":"Master!D68","v":"OLT"},{"$f":"Master!E68","v":"Active"},{"$f":"Master!F68","v":0},{"$f":"Master!H68","v":"Take this course before the Enterprise Services course"},{"$f":"IF(Master!Q68=\"\",\"B\",Master!Q68)","v":1},{"$f":"IF(Master!AB68=\"\",\"B\",Master!AB68)","v":1},{"$f":"IF(Master!AM68=\"\",\"B\",Master!AM68)","v":1},{"$f":"IF(Master!AX68=\"\",\"B\",Master!AX68)","v":1},{"$f":"IF(Master!BI68=\"\",\"B\",Master!BI68)","v":1},{"$f":"IF(Master!BT68=\"\",\"B\",Master!BT68)","v":1}]
[{"$f":"Master!A69","v":"SS"},{"$f":"Master!B69","v":"Time Management: Ready, Set…Focus!"},{"$f":"Master!C69","v":"pd_20_a03_bs_enus"},{"$f":"Master!D69","v":"OLT"},{"$f":"Master!E69","v":"Active"},{"$f":"Master!F69","v":0},{"$f":"Master!H69","v":"Take this course before the Enterprise Services course"},{"$f":"IF(Master!Q69=\"\",\"B\",Master!Q69)","v":1},{"$f":"IF(Master!AB69=\"\",\"B\",Master!AB69)","v":1},{"$f":"IF(Master!AM69=\"\",\"B\",Master!AM69)","v":1},{"$f":"IF(Master!AX69=\"\",\"B\",Master!AX69)","v":1},{"$f":"IF(Master!BI69=\"\",\"B\",Master!BI69)","v":1},{"$f":"IF(Master!BT69=\"\",\"B\",Master!BT69)","v":1}]
[{"$f":"Master!A70","v":"ES"},{"$f":"Master!B70","v":"Time Management"},{"$f":"Master!C70","v":"Enterprise Services Course\nOne Day - $135"},{"$f":"Master!D70","v":"ILT"},{"$f":"Master!E70","v":"Active"},{"$f":"Master!F70","v":0},{"$f":"Master!H70","v":"To register for this course, \ncall the LMS Helpdesk at \n360-705-7060."},{"$f":"IF(Master!Q70=\"\",\"B\",Master!Q70)","v":1},{"$f":"IF(Master!AB70=\"\",\"B\",Master!AB70)","v":1},{"$f":"IF(Master!AM70=\"\",\"B\",Master!AM70)","v":1},{"$f":"IF(Master!AX70=\"\",\"B\",Master!AX70)","v":1},{"$f":"IF(Master!BI70=\"\",\"B\",Master!BI70)","v":1},{"$f":"IF(Master!BT70=\"\",\"B\",Master!BT70)","v":1}]
[{"$f":"Master!A71","v":"Technical Writing -  The following five courses are available"},null,null,null,null,null,null,{"$f":"IF(Master!Q71=\"\",\"B\",Master!Q71)","v":"B"},{"$f":"IF(Master!AB71=\"\",\"B\",Master!AB71)","v":"B"},{"$f":"IF(Master!AM71=\"\",\"B\",Master!AM71)","v":"B"},{"$f":"IF(Master!AX71=\"\",\"B\",Master!AX71)","v":"B"},{"$f":"IF(Master!BI71=\"\",\"B\",Master!BI71)","v":"B"},{"$f":"IF(Master!BT71=\"\",\"B\",Master!BT71)","v":"B"}]
[{"$f":"Master!A72","v":"SS"},{"$f":"Master!B72","v":"Improving Your Technical Writing Skills"},{"$f":"Master!C72","v":"acm_06_a01_it_enus"},{"$f":"Master!D72","v":"OLT"},{"$f":"Master!E72","v":"Active"},{"$f":"Master!F72","v":0},{"$f":"Master!H72","v":0},{"$f":"IF(Master!Q72=\"\",\"B\",Master!Q72)","v":2},{"$f":"IF(Master!AB72=\"\",\"B\",Master!AB72)","v":2},{"$f":"IF(Master!AM72=\"\",\"B\",Master!AM72)","v":2},{"$f":"IF(Master!AX72=\"\",\"B\",Master!AX72)","v":2},{"$f":"IF(Master!BI72=\"\",\"B\",Master!BI72)","v":"B"},{"$f":"IF(Master!BT72=\"\",\"B\",Master!BT72)","v":"B"}]
[{"$f":"Master!A73","v":"SS"},{"$f":"Master!B73","v":"Writing for Technical Professionals: Effective Writing Techniques"},{"$f":"Master!C73","v":"ib_wstp_a02_it_enus"},{"$f":"Master!D73","v":"OLT"},{"$f":"Master!E73","v":"Active"},{"$f":"Master!F73","v":0},{"$f":"Master!H73","v":0},{"$f":"IF(Master!Q73=\"\",\"B\",Master!Q73)","v":2},{"$f":"IF(Master!AB73=\"\",\"B\",Master!AB73)","v":2},{"$f":"IF(Master!AM73=\"\",\"B\",Master!AM73)","v":2},{"$f":"IF(Master!AX73=\"\",\"B\",Master!AX73)","v":2},{"$f":"IF(Master!BI73=\"\",\"B\",Master!BI73)","v":"B"},{"$f":"IF(Master!BT73=\"\",\"B\",Master!BT73)","v":"B"}]
[{"$f":"Master!A74","v":"SS"},{"$f":"Master!B74","v":"Writing for Technical Professionals: Preparation and Planning"},{"$f":"Master!C74","v":"ib_wstp_a01_it_enus"},{"$f":"Master!D74","v":"OLT"},{"$f":"Master!E74","v":"Active"},{"$f":"Master!F74","v":0},{"$f":"Master!H74","v":0},{"$f":"IF(Master!Q74=\"\",\"B\",Master!Q74)","v":2},{"$f":"IF(Master!AB74=\"\",\"B\",Master!AB74)","v":2},{"$f":"IF(Master!AM74=\"\",\"B\",Master!AM74)","v":2},{"$f":"IF(Master!AX74=\"\",\"B\",Master!AX74)","v":2},{"$f":"IF(Master!BI74=\"\",\"B\",Master!BI74)","v":"B"},{"$f":"IF(Master!BT74=\"\",\"B\",Master!BT74)","v":"B"}]
[{"$f":"Master!A75","v":"ES"},{"$f":"Master!B75","v":"Technical Writing: Tricks of the Trade"},{"$f":"Master!C75","v":"Enterprise Services Course\nTwo Day Course - $185"},{"$f":"Master!D75","v":"ILT"},{"$f":"Master!E75","v":"Active"},{"$f":"Master!F75","v":0},{"$f":"Master!H75","v":"To register for this course, call the LMS Helpdesk at \n360-705-7060."},{"$f":"IF(Master!Q75=\"\",\"B\",Master!Q75)","v":2},{"$f":"IF(Master!AB75=\"\",\"B\",Master!AB75)","v":2},{"$f":"IF(Master!AM75=\"\",\"B\",Master!AM75)","v":2},{"$f":"IF(Master!AX75=\"\",\"B\",Master!AX75)","v":2},{"$f":"IF(Master!BI75=\"\",\"B\",Master!BI75)","v":"B"},{"$f":"IF(Master!BT75=\"\",\"B\",Master!BT75)","v":"B"}]
[{"$f":"Master!A76","v":"ES"},{"$f":"Master!B76","v":"Writing Skills"},{"$f":"Master!C76","v":"Enterprise Services Course\nOne Day - $145"},{"$f":"Master!D76","v":"ILT"},{"$f":"Master!E76","v":"Active"},{"$f":"Master!F76","v":0},{"$f":"Master!H76","v":"To register for this course, \ncall the LMS Helpdesk at \n360-705-7060."},{"$f":"IF(Master!Q76=\"\",\"B\",Master!Q76)","v":2},{"$f":"IF(Master!AB76=\"\",\"B\",Master!AB76)","v":2},{"$f":"IF(Master!AM76=\"\",\"B\",Master!AM76)","v":2},{"$f":"IF(Master!AX76=\"\",\"B\",Master!AX76)","v":2},{"$f":"IF(Master!BI76=\"\",\"B\",Master!BI76)","v":"B"},{"$f":"IF(Master!BT76=\"\",\"B\",Master!BT76)","v":"B"}]
[{"$f":"Master!A77","v":"Effective Meeting Management -  The following six courses are available"},null,null,null,null,null,null,{"$f":"IF(Master!Q77=\"\",\"B\",Master!Q77)","v":"B"},{"$f":"IF(Master!AB77=\"\",\"B\",Master!AB77)","v":"B"},{"$f":"IF(Master!AM77=\"\",\"B\",Master!AM77)","v":"B"},{"$f":"IF(Master!AX77=\"\",\"B\",Master!AX77)","v":"B"},{"$f":"IF(Master!BI77=\"\",\"B\",Master!BI77)","v":"B"},{"$f":"IF(Master!BT77=\"\",\"B\",Master!BT77)","v":"B"}]
[{"$f":"Master!A78","v":"SS"},{"$f":"Master!B78","v":"Dealing with Common Meeting Problems"},{"$f":"Master!C78","v":"comm_32_a03_bs_enus"},{"$f":"Master!D78","v":"OLT"},{"$f":"Master!E78","v":"Active"},{"$f":"Master!F78","v":0},{"$f":"Master!H78","v":0},{"$f":"IF(Master!Q78=\"\",\"B\",Master!Q78)","v":"B"},{"$f":"IF(Master!AB78=\"\",\"B\",Master!AB78)","v":"B"},{"$f":"IF(Master!AM78=\"\",\"B\",Master!AM78)","v":"B"},{"$f":"IF(Master!AX78=\"\",\"B\",Master!AX78)","v":"B"},{"$f":"IF(Master!BI78=\"\",\"B\",Master!BI78)","v":"B"},{"$f":"IF(Master!BT78=\"\",\"B\",Master!BT78)","v":"B"}]
[{"$f":"Master!A79","v":"SS"},{"$f":"Master!B79","v":"Preparing for Effective Business Meetings"},{"$f":"Master!C79","v":"comm_32_a01_bs_enus"},{"$f":"Master!D79","v":"OLT"},{"$f":"Master!E79","v":"Active"},{"$f":"Master!F79","v":0},{"$f":"Master!H79","v":0},{"$f":"IF(Master!Q79=\"\",\"B\",Master!Q79)","v":"B"},{"$f":"IF(Master!AB79=\"\",\"B\",Master!AB79)","v":"B"},{"$f":"IF(Master!AM79=\"\",\"B\",Master!AM79)","v":"B"},{"$f":"IF(Master!AX79=\"\",\"B\",Master!AX79)","v":"B"},{"$f":"IF(Master!BI79=\"\",\"B\",Master!BI79)","v":"B"},{"$f":"IF(Master!BT79=\"\",\"B\",Master!BT79)","v":"B"}]
[{"$f":"Master!A80","v":"SS"},{"$f":"Master!B80","v":"Planning Meetings Fit for Purpose"},{"$f":"Master!C80","v":"comm_50_a01_bs_enus"},{"$f":"Master!D80","v":"OLT"},{"$f":"Master!E80","v":"Active"},{"$f":"Master!F80","v":0},{"$f":"Master!H80","v":0},{"$f":"IF(Master!Q80=\"\",\"B\",Master!Q80)","v":"B"},{"$f":"IF(Master!AB80=\"\",\"B\",Master!AB80)","v":"B"},{"$f":"IF(Master!AM80=\"\",\"B\",Master!AM80)","v":"B"},{"$f":"IF(Master!AX80=\"\",\"B\",Master!AX80)","v":"B"},{"$f":"IF(Master!BI80=\"\",\"B\",Master!BI80)","v":"B"},{"$f":"IF(Master!BT80=\"\",\"B\",Master!BT80)","v":"B"}]
[{"$f":"Master!A81","v":"SS"},{"$f":"Master!B81","v":"Managing Effective Business Meetings"},{"$f":"Master!C81","v":"comm_32_a02_bs_enus"},{"$f":"Master!D81","v":"OLT"},{"$f":"Master!E81","v":"Active"},{"$f":"Master!F81","v":0},{"$f":"Master!H81","v":0},{"$f":"IF(Master!Q81=\"\",\"B\",Master!Q81)","v":"B"},{"$f":"IF(Master!AB81=\"\",\"B\",Master!AB81)","v":"B"},{"$f":"IF(Master!AM81=\"\",\"B\",Master!AM81)","v":"B"},{"$f":"IF(Master!AX81=\"\",\"B\",Master!AX81)","v":"B"},{"$f":"IF(Master!BI81=\"\",\"B\",Master!BI81)","v":"B"},{"$f":"IF(Master!BT81=\"\",\"B\",Master!BT81)","v":"B"}]
[{"$f":"Master!A82","v":"SS"},{"$f":"Master!B82","v":"Running Meetings in Better Directions"},{"$f":"Master!C82","v":"comm_50_a02_bs_enus"},{"$f":"Master!D82","v":"OLT"},{"$f":"Master!E82","v":"Active"},{"$f":"Master!F82","v":0},{"$f":"Master!H82","v":0},{"$f":"IF(Master!Q82=\"\",\"B\",Master!Q82)","v":"B"},{"$f":"IF(Master!AB82=\"\",\"B\",Master!AB82)","v":"B"},{"$f":"IF(Master!AM82=\"\",\"B\",Master!AM82)","v":"B"},{"$f":"IF(Master!AX82=\"\",\"B\",Master!AX82)","v":"B"},{"$f":"IF(Master!BI82=\"\",\"B\",Master!BI82)","v":"B"},{"$f":"IF(Master!BT82=\"\",\"B\",Master!BT82)","v":"B"}]
[{"$f":"Master!A83","v":"ES"},{"$f":"Master!B83","v":"Effective Meeting Management  (or one of the following five SkillSoft)"},{"$f":"Master!C83","v":"Enterprise Services Course\nOne Day - $165"},{"$f":"Master!D83","v":"ILT"},{"$f":"Master!E83","v":"Active"},{"$f":"Master!F83","v":0},{"$f":"Master!H83","v":"To register for this course, call the LMS Helpdesk at \n360-705-7060."},{"$f":"IF(Master!Q83=\"\",\"B\",Master!Q83)","v":"B"},{"$f":"IF(Master!AB83=\"\",\"B\",Master!AB83)","v":"B"},{"$f":"IF(Master!AM83=\"\",\"B\",Master!AM83)","v":"B"},{"$f":"IF(Master!AX83=\"\",\"B\",Master!AX83)","v":"B"},{"$f":"IF(Master!BI83=\"\",\"B\",Master!BI83)","v":"B"},{"$f":"IF(Master!BT83=\"\",\"B\",Master!BT83)","v":"B"}]
[{"$f":"Master!A84","v":"Enhanced Leadership for WSDOT"},null,null,null,null,null,null,{"$f":"IF(Master!Q84=\"\",\"B\",Master!Q84)","v":"B"},{"$f":"IF(Master!AB84=\"\",\"B\",Master!AB84)","v":"B"},{"$f":"IF(Master!AM84=\"\",\"B\",Master!AM84)","v":"B"},{"$f":"IF(Master!AX84=\"\",\"B\",Master!AX84)","v":"B"},{"$f":"IF(Master!BI84=\"\",\"B\",Master!BI84)","v":"B"},{"$f":"IF(Master!BT84=\"\",\"B\",Master!BT84)","v":"B"}]
[{"$f":"Master!A85","v":"ES"},{"$f":"Master!B85","v":"Leading Teams"},{"$f":"Master!C85","v":"Enterprise Services Course\nThree Days - $500"},{"$f":"Master!D85","v":"ILT"},{"$f":"Master!E85","v":"Active"},{"$f":"Master!F85","v":0},{"$f":"Master!H85","v":"To register for this course, \ncall the LMS Helpdesk at \n360-705-7060."},{"$f":"IF(Master!Q85=\"\",\"B\",Master!Q85)","v":"B"},{"$f":"IF(Master!AB85=\"\",\"B\",Master!AB85)","v":"B"},{"$f":"IF(Master!AM85=\"\",\"B\",Master!AM85)","v":"B"},{"$f":"IF(Master!AX85=\"\",\"B\",Master!AX85)","v":"B"},{"$f":"IF(Master!BI85=\"\",\"B\",Master!BI85)","v":"B"},{"$f":"IF(Master!BT85=\"\",\"B\",Master!BT85)","v":2}]
[{"$f":"Master!A86","v":"Entry Management Development"},null,null,null,null,null,null,{"$f":"IF(Master!Q86=\"\",\"B\",Master!Q86)","v":"B"},{"$f":"IF(Master!AB86=\"\",\"B\",Master!AB86)","v":"B"},{"$f":"IF(Master!AM86=\"\",\"B\",Master!AM86)","v":"B"},{"$f":"IF(Master!AX86=\"\",\"B\",Master!AX86)","v":"B"},{"$f":"IF(Master!BI86=\"\",\"B\",Master!BI86)","v":"B"},{"$f":"IF(Master!BT86=\"\",\"B\",Master!BT86)","v":"B"}]
[{"$f":"Master!A87","v":"ES"},{"$f":"Master!B87","v":"Leading Others"},{"$f":"Master!C87","v":"Enterprise Services Course\nFour Days - $500"},{"$f":"Master!D87","v":"ILT"},{"$f":"Master!E87","v":"Active"},{"$f":"Master!F87","v":0},{"$f":"Master!H87","v":"To register for this course, \ncall the LMS Helpdesk at \n360-705-7060."},{"$f":"IF(Master!Q87=\"\",\"B\",Master!Q87)","v":"B"},{"$f":"IF(Master!AB87=\"\",\"B\",Master!AB87)","v":"B"},{"$f":"IF(Master!AM87=\"\",\"B\",Master!AM87)","v":"B"},{"$f":"IF(Master!AX87=\"\",\"B\",Master!AX87)","v":"B"},{"$f":"IF(Master!BI87=\"\",\"B\",Master!BI87)","v":2},{"$f":"IF(Master!BT87=\"\",\"B\",Master!BT87)","v":1}]
[{"$f":"Master!A88","v":"ES"},{"$f":"Master!B88","v":"Supervision Essentials-Phase II (Prerequisite is Leading Others)"},{"$f":"Master!C88","v":"Enterprise Services Course\nTwo Days - $285"},{"$f":"Master!D88","v":"ILT"},{"$f":"Master!E88","v":"Active"},{"$f":"Master!F88","v":0},{"$f":"Master!H88","v":"To register for this course, \ncall the LMS Helpdesk at \n360-705-7060."},{"$f":"IF(Master!Q88=\"\",\"B\",Master!Q88)","v":"B"},{"$f":"IF(Master!AB88=\"\",\"B\",Master!AB88)","v":"B"},{"$f":"IF(Master!AM88=\"\",\"B\",Master!AM88)","v":"B"},{"$f":"IF(Master!AX88=\"\",\"B\",Master!AX88)","v":"B"},{"$f":"IF(Master!BI88=\"\",\"B\",Master!BI88)","v":"B"},{"$f":"IF(Master!BT88=\"\",\"B\",Master!BT88)","v":2}]
[{"$f":"Master!A89","v":"Safety"},null,null,null,null,null,null,{"$f":"IF(Master!Q89=\"\",\"B\",Master!Q89)","v":"B"},{"$f":"IF(Master!AB89=\"\",\"B\",Master!AB89)","v":"B"},{"$f":"IF(Master!AM89=\"\",\"B\",Master!AM89)","v":"B"},{"$f":"IF(Master!AX89=\"\",\"B\",Master!AX89)","v":"B"},{"$f":"IF(Master!BI89=\"\",\"B\",Master!BI89)","v":"B"},{"$f":"IF(Master!BT89=\"\",\"B\",Master!BT89)","v":"B"}]
[{"$f":"Master!A90","v":"SAFE"},{"$f":"Master!B90","v":"WSDOT SAFE: FALL PROTECTION"},{"$f":"Master!C90","v":"WSDOT_BN9"},{"$f":"Master!D90","v":"ILT"},{"$f":"Master!E90","v":"Active"},{"$f":"Master!F90","v":0},{"$f":"Master!H90","v":0},{"$f":"IF(Master!Q90=\"\",\"B\",Master!Q90)","v":2},{"$f":"IF(Master!AB90=\"\",\"B\",Master!AB90)","v":2},{"$f":"IF(Master!AM90=\"\",\"B\",Master!AM90)","v":2},{"$f":"IF(Master!AX90=\"\",\"B\",Master!AX90)","v":2},{"$f":"IF(Master!BI90=\"\",\"B\",Master!BI90)","v":"B"},{"$f":"IF(Master!BT90=\"\",\"B\",Master!BT90)","v":"B"}]
[{"$f":"Master!A91","v":"SAFE"},{"$f":"Master!B91","v":"WSDOT SAFE: FIRST AID"},{"$f":"Master!C91","v":"WSDOT_APS"},{"$f":"Master!D91","v":"ILT"},{"$f":"Master!E91","v":"Active"},{"$f":"Master!F91","v":0},{"$f":"Master!H91","v":0},{"$f":"IF(Master!Q91=\"\",\"B\",Master!Q91)","v":"R"},{"$f":"IF(Master!AB91=\"\",\"B\",Master!AB91)","v":"R"},{"$f":"IF(Master!AM91=\"\",\"B\",Master!AM91)","v":1},{"$f":"IF(Master!AX91=\"\",\"B\",Master!AX91)","v":1},{"$f":"IF(Master!BI91=\"\",\"B\",Master!BI91)","v":1},{"$f":"IF(Master!BT91=\"\",\"B\",Master!BT91)","v":1}]
[{"$f":"Master!A92","v":"SAFE"},{"$f":"Master!B92","v":"WSDOT SAFE: FLAGGING, TRAFFIC CONTROL"},{"$f":"Master!C92","v":"WSDOT_AFZ"},{"$f":"Master!D92","v":"ILT"},{"$f":"Master!E92","v":"Active"},{"$f":"Master!F92","v":0},{"$f":"Master!H92","v":0},{"$f":"IF(Master!Q92=\"\",\"B\",Master!Q92)","v":"R"},{"$f":"IF(Master!AB92=\"\",\"B\",Master!AB92)","v":"R"},{"$f":"IF(Master!AM92=\"\",\"B\",Master!AM92)","v":1},{"$f":"IF(Master!AX92=\"\",\"B\",Master!AX92)","v":1},{"$f":"IF(Master!BI92=\"\",\"B\",Master!BI92)","v":"B"},{"$f":"IF(Master!BT92=\"\",\"B\",Master!BT92)","v":"B"}]
[{"$f":"Master!A93","v":"SAFE"},{"$f":"Master!B93","v":"WSDOT SAFE: HAZARD COMMUNICATION STANDARD (HCS)"},{"$f":"Master!C93","v":"WSDOT_AEX"},{"$f":"Master!D93","v":"ILT"},{"$f":"Master!E93","v":"Active"},{"$f":"Master!F93","v":0},{"$f":"Master!H93","v":0},{"$f":"IF(Master!Q93=\"\",\"B\",Master!Q93)","v":2},{"$f":"IF(Master!AB93=\"\",\"B\",Master!AB93)","v":2},{"$f":"IF(Master!AM93=\"\",\"B\",Master!AM93)","v":2},{"$f":"IF(Master!AX93=\"\",\"B\",Master!AX93)","v":2},{"$f":"IF(Master!BI93=\"\",\"B\",Master!BI93)","v":2},{"$f":"IF(Master!BT93=\"\",\"B\",Master!BT93)","v":2}]
[{"$f":"Master!A94","v":"SAFE"},{"$f":"Master!B94","v":"WSDOT SAFE: HEARING CONSERVATION (ILT, and/or Self-Study)"},{"$f":"Master!C94","v":"WSDOT_ATS"},{"$f":"Master!D94","v":"OLT/ILT"},{"$f":"Master!E94","v":"Active"},{"$f":"Master!F94","v":0},{"$f":"Master!H94","v":0},{"$f":"IF(Master!Q94=\"\",\"B\",Master!Q94)","v":"R"},{"$f":"IF(Master!AB94=\"\",\"B\",Master!AB94)","v":"R"},{"$f":"IF(Master!AM94=\"\",\"B\",Master!AM94)","v":1},{"$f":"IF(Master!AX94=\"\",\"B\",Master!AX94)","v":1},{"$f":"IF(Master!BI94=\"\",\"B\",Master!BI94)","v":1},{"$f":"IF(Master!BT94=\"\",\"B\",Master!BT94)","v":1}]
[{"$f":"Master!A95","v":"SAFE"},{"$f":"Master!B95","v":"WSDOT SAFE: RESPIRATOR PROTECTION TRAINING"},{"$f":"Master!C95","v":"WSDOT_ARZ"},{"$f":"Master!D95","v":"ILT"},{"$f":"Master!E95","v":"Active"},{"$f":"Master!F95","v":0},{"$f":"Master!H95","v":0},{"$f":"IF(Master!Q95=\"\",\"B\",Master!Q95)","v":"B"},{"$f":"IF(Master!AB95=\"\",\"B\",Master!AB95)","v":"B"},{"$f":"IF(Master!AM95=\"\",\"B\",Master!AM95)","v":"B"},{"$f":"IF(Master!AX95=\"\",\"B\",Master!AX95)","v":"B"},{"$f":"IF(Master!BI95=\"\",\"B\",Master!BI95)","v":"B"},{"$f":"IF(Master!BT95=\"\",\"B\",Master!BT95)","v":"B"}]
[{"$f":"Master!A96","v":"Construction Division"},null,null,null,null,null,null,{"$f":"IF(Master!Q96=\"\",\"B\",Master!Q96)","v":"B"},{"$f":"IF(Master!AB96=\"\",\"B\",Master!AB96)","v":"B"},{"$f":"IF(Master!AM96=\"\",\"B\",Master!AM96)","v":"B"},{"$f":"IF(Master!AX96=\"\",\"B\",Master!AX96)","v":"B"},{"$f":"IF(Master!BI96=\"\",\"B\",Master!BI96)","v":"B"},{"$f":"IF(Master!BT96=\"\",\"B\",Master!BT96)","v":"B"}]
[{"$f":"Master!A97","v":"CN"},{"$f":"Master!B97","v":"WSDOT CN: AGGREGATE PRODUCTION & TESTING INSPECTION"},{"$f":"Master!C97","v":"WSDOT_ACA"},{"$f":"Master!D97","v":"ILT"},{"$f":"Master!E97","v":"Active"},{"$f":"Master!F97","v":0},{"$f":"Master!G97","v":0},{"$f":"IF(Master!H97=\"\",\"B\",Master!H97)","v":"B"},{"$f":"IF(Master!I97=\"\",\"B\",Master!I97)","v":"B"},{"$f":"IF(Master!J97=\"\",\"B\",Master!J97)","v":"B"},{"$f":"IF(Master!K97=\"\",\"B\",Master!K97)","v":"B"},{"$f":"IF(Master!L97=\"\",\"B\",Master!L97)","v":"B"},{"$f":"IF(Master!M97=\"\",\"B\",Master!M97)","v":"B"}]
[{"$f":"Master!A98","v":"CN"},{"$f":"Master!B98","v":"WSDOT CN: BITUMINOUS SURFACE TREATMENT INSPECTION"},{"$f":"Master!C98","v":"WSDOT_CN_BST_ACC"},{"$f":"Master!D98","v":"ILT"},{"$f":"Master!E98","v":"Active"},{"$f":"Master!F98","v":0},{"$f":"Master!G98","v":0},{"$f":"IF(Master!H98=\"\",\"B\",Master!H98)","v":"B"},{"$f":"IF(Master!I98=\"\",\"B\",Master!I98)","v":"B"},{"$f":"IF(Master!J98=\"\",\"B\",Master!J98)","v":2},{"$f":"IF(Master!K98=\"\",\"B\",Master!K98)","v":"B"},{"$f":"IF(Master!L98=\"\",\"B\",Master!L98)","v":"B"},{"$f":"IF(Master!M98=\"\",\"B\",Master!M98)","v":"B"}]
[{"$f":"Master!A99","v":"CN"},{"$f":"Master!B99","v":"WSDOT CN: ACCEPTANCE AND APPROVAL OF MATERIAL"},{"$f":"Master!C99","v":"WSDOT_CN_Acceptance_Material_CX8_OLT"},{"$f":"Master!D99","v":"OLT"},{"$f":"Master!E99","v":"Active"},{"$f":"Master!F99","v":0},{"$f":"Master!G99","v":0},{"$f":"IF(Master!H99=\"\",\"B\",Master!H99)","v":"B"},{"$f":"IF(Master!I99=\"\",\"B\",Master!I99)","v":"B"},{"$f":"IF(Master!J99=\"\",\"B\",Master!J99)","v":1},{"$f":"IF(Master!K99=\"\",\"B\",Master!K99)","v":2},{"$f":"IF(Master!L99=\"\",\"B\",Master!L99)","v":"B"},{"$f":"IF(Master!M99=\"\",\"B\",Master!M99)","v":"B"}]
[{"$f":"Master!A100","v":"CN"},{"$f":"Master!B100","v":"WSDOT CN: COMPOSING AN INSPECTOR'S DAILY REPORT"},{"$f":"Master!C100","v":"WSDOT_CZ9_OLT"},{"$f":"Master!D100","v":"OLT"},{"$f":"Master!E100","v":"Active"},{"$f":"Master!F100","v":0},{"$f":"Master!G100","v":0},{"$f":"IF(Master!H100=\"\",\"B\",Master!H100)","v":"B"},{"$f":"IF(Master!I100=\"\",\"B\",Master!I100)","v":"B"},{"$f":"IF(Master!J100=\"\",\"B\",Master!J100)","v":1},{"$f":"IF(Master!K100=\"\",\"B\",Master!K100)","v":2},{"$f":"IF(Master!L100=\"\",\"B\",Master!L100)","v":"B"},{"$f":"IF(Master!M100=\"\",\"B\",Master!M100)","v":"B"}]
[{"$f":"Master!A101","v":"CN"},{"$f":"Master!B101","v":"WSDOT CN: INSPECTING BRIDGE CONSTRUCTION"},{"$f":"Master!C101","v":"WSDOT_ACM"},{"$f":"Master!D101","v":"ILT"},{"$f":"Master!E101","v":"Active"},{"$f":"Master!F101","v":0},{"$f":"Master!G101","v":0},{"$f":"IF(Master!H101=\"\",\"B\",Master!H101)","v":"B"},{"$f":"IF(Master!I101=\"\",\"B\",Master!I101)","v":"B"},{"$f":"IF(Master!J101=\"\",\"B\",Master!J101)","v":2},{"$f":"IF(Master!K101=\"\",\"B\",Master!K101)","v":"B"},{"$f":"IF(Master!L101=\"\",\"B\",Master!L101)","v":"B"},{"$f":"IF(Master!M101=\"\",\"B\",Master!M101)","v":"B"}]
[{"$f":"Master!A102","v":"CN"},{"$f":"Master!B102","v":"WSDOT CN: CONSTRUCTION INSPECTION DOCUMENTATION"},{"$f":"Master!C102","v":"WSDOT_ACY"},{"$f":"Master!D102","v":"ILT"},{"$f":"Master!E102","v":"Active"},{"$f":"Master!F102","v":0},{"$f":"Master!G102","v":0},{"$f":"IF(Master!H102=\"\",\"B\",Master!H102)","v":"B"},{"$f":"IF(Master!I102=\"\",\"B\",Master!I102)","v":"B"},{"$f":"IF(Master!J102=\"\",\"B\",Master!J102)","v":1},{"$f":"IF(Master!K102=\"\",\"B\",Master!K102)","v":2},{"$f":"IF(Master!L102=\"\",\"B\",Master!L102)","v":"B"},{"$f":"IF(Master!M102=\"\",\"B\",Master!M102)","v":"B"}]
[{"$f":"Master!A103","v":"CN"},{"$f":"Master!B103","v":"WSDOT CN:CONSTRUCTION MATERIALS, APPROVAL AND ACCEPTANCE"},{"$f":"Master!C103","v":"WSDOT_DAP"},{"$f":"Master!D103","v":"ILT"},{"$f":"Master!E103","v":"Active"},{"$f":"Master!F103","v":0},{"$f":"Master!G103","v":0},{"$f":"IF(Master!H103=\"\",\"B\",Master!H103)","v":"B"},{"$f":"IF(Master!I103=\"\",\"B\",Master!I103)","v":"B"},{"$f":"IF(Master!J103=\"\",\"B\",Master!J103)","v":1},{"$f":"IF(Master!K103=\"\",\"B\",Master!K103)","v":2},{"$f":"IF(Master!L103=\"\",\"B\",Master!L103)","v":"B"},{"$f":"IF(Master!M103=\"\",\"B\",Master!M103)","v":"B"}]
[{"$f":"Master!A104","v":"CN"},{"$f":"Master!B104","v":"WSDOT CN: DRAINAGE INSPECTION"},{"$f":"Master!C104","v":"WSDOT_ACF"},{"$f":"Master!D104","v":"ILT"},{"$f":"Master!E104","v":"Active"},{"$f":"Master!F104","v":0},{"$f":"Master!G104","v":0},{"$f":"IF(Master!H104=\"\",\"B\",Master!H104)","v":"B"},{"$f":"IF(Master!I104=\"\",\"B\",Master!I104)","v":"B"},{"$f":"IF(Master!J104=\"\",\"B\",Master!J104)","v":2},{"$f":"IF(Master!K104=\"\",\"B\",Master!K104)","v":"B"},{"$f":"IF(Master!L104=\"\",\"B\",Master!L104)","v":"B"},{"$f":"IF(Master!M104=\"\",\"B\",Master!M104)","v":"B"}]
[{"$f":"Master!A105","v":"CN"},{"$f":"Master!B105","v":"WSDOT CN: EARTHWORK INSPECTION"},{"$f":"Master!C105","v":"WSDOT_Earthwork_OLT"},{"$f":"Master!D105","v":"OLT"},{"$f":"Master!E105","v":"Active"},{"$f":"Master!F105","v":0},{"$f":"Master!G105","v":0},{"$f":"IF(Master!H105=\"\",\"B\",Master!H105)","v":"B"},{"$f":"IF(Master!I105=\"\",\"B\",Master!I105)","v":"B"},{"$f":"IF(Master!J105=\"\",\"B\",Master!J105)","v":2},{"$f":"IF(Master!K105=\"\",\"B\",Master!K105)","v":"B"},{"$f":"IF(Master!L105=\"\",\"B\",Master!L105)","v":"B"},{"$f":"IF(Master!M105=\"\",\"B\",Master!M105)","v":"B"}]
[{"$f":"Master!A106","v":"CN"},{"$f":"Master!B106","v":"WSDOT CN: ELECTRICAL CONDUCTORS AND FIBER for ICP"},{"$f":"Master!C106","v":"WSDOT_ICP_Electrical_Conductors_Fiber_OLT"},{"$f":"Master!D106","v":"OLT"},{"$f":"Master!E106","v":"Active"},{"$f":"Master!F106","v":0},{"$f":"Master!G106","v":0},{"$f":"IF(Master!H106=\"\",\"B\",Master!H106)","v":"B"},{"$f":"IF(Master!I106=\"\",\"B\",Master!I106)","v":"B"},{"$f":"IF(Master!J106=\"\",\"B\",Master!J106)","v":"B"},{"$f":"IF(Master!K106=\"\",\"B\",Master!K106)","v":2},{"$f":"IF(Master!L106=\"\",\"B\",Master!L106)","v":"B"},{"$f":"IF(Master!M106=\"\",\"B\",Master!M106)","v":"B"}]
[{"$f":"Master!A107","v":"CN"},{"$f":"Master!B107","v":"WSDOT CN: ELECTRICAL-ILLUMINATION-SIGNALS & ITS INSPECTION"},{"$f":"Master!C107","v":"WSDOT_API"},{"$f":"Master!D107","v":"ILT"},{"$f":"Master!E107","v":"Active"},{"$f":"Master!F107","v":0},{"$f":"Master!G107","v":0},{"$f":"IF(Master!H107=\"\",\"B\",Master!H107)","v":"B"},{"$f":"IF(Master!I107=\"\",\"B\",Master!I107)","v":"B"},{"$f":"IF(Master!J107=\"\",\"B\",Master!J107)","v":"B"},{"$f":"IF(Master!K107=\"\",\"B\",Master!K107)","v":2},{"$f":"IF(Master!L107=\"\",\"B\",Master!L107)","v":"B"},{"$f":"IF(Master!M107=\"\",\"B\",Master!M107)","v":"B"}]
[{"$f":"Master!A108","v":"CN"},{"$f":"Master!B108","v":"WSDOT CN: EXCAVATION & EMBANKMENTS INSPECTION"},{"$f":"Master!C108","v":"WSDOT_AC3"},{"$f":"Master!D108","v":"ILT"},{"$f":"Master!E108","v":"Active"},{"$f":"Master!F108","v":0},{"$f":"Master!G108","v":0},{"$f":"IF(Master!H108=\"\",\"B\",Master!H108)","v":"B"},{"$f":"IF(Master!I108=\"\",\"B\",Master!I108)","v":"B"},{"$f":"IF(Master!J108=\"\",\"B\",Master!J108)","v":1},{"$f":"IF(Master!K108=\"\",\"B\",Master!K108)","v":"B"},{"$f":"IF(Master!L108=\"\",\"B\",Master!L108)","v":"B"},{"$f":"IF(Master!M108=\"\",\"B\",Master!M108)","v":"B"}]
[{"$f":"Master!A109","v":"CN"},{"$f":"Master!B109","v":"WSDOT CN: FIELD PAINTING STRUCTURAL STEEL"},{"$f":"Master!C109","v":"WSDOT_CN_Field_Painting_OLT"},{"$f":"Master!D109","v":"OLT"},{"$f":"Master!E109","v":"Active"},{"$f":"Master!F109","v":0},{"$f":"Master!G109","v":0},{"$f":"IF(Master!H109=\"\",\"B\",Master!H109)","v":"B"},{"$f":"IF(Master!I109=\"\",\"B\",Master!I109)","v":"B"},{"$f":"IF(Master!J109=\"\",\"B\",Master!J109)","v":"B"},{"$f":"IF(Master!K109=\"\",\"B\",Master!K109)","v":"B"},{"$f":"IF(Master!L109=\"\",\"B\",Master!L109)","v":"B"},{"$f":"IF(Master!M109=\"\",\"B\",Master!M109)","v":"B"}]
[{"$f":"Master!A110","v":"CN"},{"$f":"Master!B110","v":"WSDOT CN: FORCE ACCOUNT DOCUMENTATION AND PAYMENT"},{"$f":"Master!C110","v":"WSDOT_CN_ForceAccount_DG2_OLT"},{"$f":"Master!D110","v":"OLT"},{"$f":"Master!E110","v":"Active"},{"$f":"Master!F110","v":0},{"$f":"Master!G110","v":0},{"$f":"IF(Master!H110=\"\",\"B\",Master!H110)","v":"B"},{"$f":"IF(Master!I110=\"\",\"B\",Master!I110)","v":"B"},{"$f":"IF(Master!J110=\"\",\"B\",Master!J110)","v":1},{"$f":"IF(Master!K110=\"\",\"B\",Master!K110)","v":2},{"$f":"IF(Master!L110=\"\",\"B\",Master!L110)","v":"B"},{"$f":"IF(Master!M110=\"\",\"B\",Master!M110)","v":"B"}]
[{"$f":"Master!A111","v":"CN"},{"$f":"Master!B111","v":"WSDOT CN: FORMS AND FALSEWORK for ICP"},{"$f":"Master!C111","v":"WSDOT_ICP_Forms and Falsework_OLT"},{"$f":"Master!D111","v":"OLT"},{"$f":"Master!E111","v":"Active"},{"$f":"Master!F111","v":0},{"$f":"Master!G111","v":0},{"$f":"IF(Master!H111=\"\",\"B\",Master!H111)","v":"B"},{"$f":"IF(Master!I111=\"\",\"B\",Master!I111)","v":"B"},{"$f":"IF(Master!J111=\"\",\"B\",Master!J111)","v":2},{"$f":"IF(Master!K111=\"\",\"B\",Master!K111)","v":"B"},{"$f":"IF(Master!L111=\"\",\"B\",Master!L111)","v":"B"},{"$f":"IF(Master!M111=\"\",\"B\",Master!M111)","v":"B"}]
[{"$f":"Master!A112","v":"CN"},{"$f":"Master!B112","v":"WSDOT CN: GUARDRAIL INSTALLATION FOR INSPECTORS"},{"$f":"Master!C112","v":"WSDOT_DD4"},{"$f":"Master!D112","v":"ILT"},{"$f":"Master!E112","v":"Active"},{"$f":"Master!F112","v":0},{"$f":"Master!G112","v":0},{"$f":"IF(Master!H112=\"\",\"B\",Master!H112)","v":"B"},{"$f":"IF(Master!I112=\"\",\"B\",Master!I112)","v":"B"},{"$f":"IF(Master!J112=\"\",\"B\",Master!J112)","v":2},{"$f":"IF(Master!K112=\"\",\"B\",Master!K112)","v":"B"},{"$f":"IF(Master!L112=\"\",\"B\",Master!L112)","v":"B"},{"$f":"IF(Master!M112=\"\",\"B\",Master!M112)","v":"B"}]
[{"$f":"Master!A113","v":"CN"},{"$f":"Master!B113","v":"WSDOT CN: HAZMAT FOR THE PORTABLE NUCLEAR GAUGE"},{"$f":"Master!C113","v":"WSDOT Hazmat_for_Transportation_of_the_Nuclear_Gauge_ORG"},{"$f":"Master!D113","v":"OLT"},{"$f":"Master!E113","v":"Active"},{"$f":"Master!F113","v":0},{"$f":"Master!G113","v":0},{"$f":"IF(Master!H113=\"\",\"B\",Master!H113)","v":"B"},{"$f":"IF(Master!I113=\"\",\"B\",Master!I113)","v":"B"},{"$f":"IF(Master!J113=\"\",\"B\",Master!J113)","v":2},{"$f":"IF(Master!K113=\"\",\"B\",Master!K113)","v":"B"},{"$f":"IF(Master!L113=\"\",\"B\",Master!L113)","v":"B"},{"$f":"IF(Master!M113=\"\",\"B\",Master!M113)","v":"B"}]
[{"$f":"Master!A114","v":"CN"},{"$f":"Master!B114","v":"WSDOT CN: HMA PLACEMENT INSPECTION"},{"$f":"Master!C114","v":"WSDOT_HMAPlacement_OLT"},{"$f":"Master!D114","v":"OLT"},{"$f":"Master!E114","v":"Active"},{"$f":"Master!F114","v":0},{"$f":"Master!G114","v":0},{"$f":"IF(Master!H114=\"\",\"B\",Master!H114)","v":"B"},{"$f":"IF(Master!I114=\"\",\"B\",Master!I114)","v":"B"},{"$f":"IF(Master!J114=\"\",\"B\",Master!J114)","v":2},{"$f":"IF(Master!K114=\"\",\"B\",Master!K114)","v":"B"},{"$f":"IF(Master!L114=\"\",\"B\",Master!L114)","v":"B"},{"$f":"IF(Master!M114=\"\",\"B\",Master!M114)","v":"B"}]
[{"$f":"Master!A115","v":"CN"},{"$f":"Master!B115","v":"WSDOT CN: HOT MIX ASPHALT PLACEMENT"},{"$f":"Master!C115","v":"WSDOT_ACB"},{"$f":"Master!D115","v":"ILT"},{"$f":"Master!E115","v":"Active"},{"$f":"Master!F115","v":0},{"$f":"Master!G115","v":0},{"$f":"IF(Master!H115=\"\",\"B\",Master!H115)","v":"B"},{"$f":"IF(Master!I115=\"\",\"B\",Master!I115)","v":"B"},{"$f":"IF(Master!J115=\"\",\"B\",Master!J115)","v":2},{"$f":"IF(Master!K115=\"\",\"B\",Master!K115)","v":"B"},{"$f":"IF(Master!L115=\"\",\"B\",Master!L115)","v":"B"},{"$f":"IF(Master!M115=\"\",\"B\",Master!M115)","v":"B"}]
[{"$f":"Master!A116","v":"CN"},{"$f":"Master!B116","v":"WSDOT CN: HOT MIX ASPHALT PRODUCTION & TESTING"},{"$f":"Master!C116","v":"WSDOT_BG9"},{"$f":"Master!D116","v":"ILT"},{"$f":"Master!E116","v":"Active"},{"$f":"Master!F116","v":0},{"$f":"Master!G116","v":0},{"$f":"IF(Master!H116=\"\",\"B\",Master!H116)","v":"B"},{"$f":"IF(Master!I116=\"\",\"B\",Master!I116)","v":"B"},{"$f":"IF(Master!J116=\"\",\"B\",Master!J116)","v":2},{"$f":"IF(Master!K116=\"\",\"B\",Master!K116)","v":"B"},{"$f":"IF(Master!L116=\"\",\"B\",Master!L116)","v":"B"},{"$f":"IF(Master!M116=\"\",\"B\",Master!M116)","v":"B"}]
[{"$f":"Master!A117","v":"CN"},{"$f":"Master!B117","v":"WSDOT CN: INSPECTING BRIDGE CONSTRUCTION"},{"$f":"Master!C117","v":"WSDOT_ACM"},{"$f":"Master!D117","v":"ILT"},{"$f":"Master!E117","v":"Active"},{"$f":"Master!F117","v":0},{"$f":"Master!G117","v":0},{"$f":"IF(Master!H117=\"\",\"B\",Master!H117)","v":"B"},{"$f":"IF(Master!I117=\"\",\"B\",Master!I117)","v":"B"},{"$f":"IF(Master!J117=\"\",\"B\",Master!J117)","v":2},{"$f":"IF(Master!K117=\"\",\"B\",Master!K117)","v":"B"},{"$f":"IF(Master!L117=\"\",\"B\",Master!L117)","v":"B"},{"$f":"IF(Master!M117=\"\",\"B\",Master!M117)","v":"B"}]
[{"$f":"Master!A118","v":"CN"},{"$f":"Master!B118","v":"WSDOT CN: INSPECTION OF PEDESTRIAN FACILITIES"},{"$f":"Master!C118","v":"WSDOT_IFP_OLT"},{"$f":"Master!D118","v":"OLT"},{"$f":"Master!E118","v":"Active"},{"$f":"Master!F118","v":0},{"$f":"Master!G118","v":0},{"$f":"IF(Master!H118=\"\",\"B\",Master!H118)","v":"B"},{"$f":"IF(Master!I118=\"\",\"B\",Master!I118)","v":2},{"$f":"IF(Master!J118=\"\",\"B\",Master!J118)","v":2},{"$f":"IF(Master!K118=\"\",\"B\",Master!K118)","v":2},{"$f":"IF(Master!L118=\"\",\"B\",Master!L118)","v":2},{"$f":"IF(Master!M118=\"\",\"B\",Master!M118)","v":"B"}]
[{"$f":"Master!A119","v":"CN"},{"$f":"Master!B119","v":"WSDOT CN: INSPECTOR'S ROLE FOR CHANGE ORDER WORK"},{"$f":"Master!C119","v":"WSDOT_DH9_OLT"},{"$f":"Master!D119","v":"OLT"},{"$f":"Master!E119","v":"Active"},{"$f":"Master!F119","v":0},{"$f":"Master!G119","v":0},{"$f":"IF(Master!H119=\"\",\"B\",Master!H119)","v":"B"},{"$f":"IF(Master!I119=\"\",\"B\",Master!I119)","v":"B"},{"$f":"IF(Master!J119=\"\",\"B\",Master!J119)","v":1},{"$f":"IF(Master!K119=\"\",\"B\",Master!K119)","v":2},{"$f":"IF(Master!L119=\"\",\"B\",Master!L119)","v":"B"},{"$f":"IF(Master!M119=\"\",\"B\",Master!M119)","v":"B"}]
[{"$f":"Master!A120","v":"CN"},{"$f":"Master!B120","v":"WSDOT CN:INSPECTOR’S USE OF CONTRACT RESOURCES"},{"$f":"Master!C120","v":"WSDOT_UR1_OLT"},{"$f":"Master!D120","v":"OLT"},{"$f":"Master!E120","v":"Active"},{"$f":"Master!F120","v":0},{"$f":"Master!G120","v":0},{"$f":"IF(Master!H120=\"\",\"B\",Master!H120)","v":"B"},{"$f":"IF(Master!I120=\"\",\"B\",Master!I120)","v":"B"},{"$f":"IF(Master!J120=\"\",\"B\",Master!J120)","v":1},{"$f":"IF(Master!K120=\"\",\"B\",Master!K120)","v":2},{"$f":"IF(Master!L120=\"\",\"B\",Master!L120)","v":"B"},{"$f":"IF(Master!M120=\"\",\"B\",Master!M120)","v":"B"}]
[{"$f":"Master!A121","v":"CN"},{"$f":"Master!B121","v":"WSDOT CN: NHI CONTRACT ADMINISTRATION CORE CURRICULUM"},{"$f":"Master!C121","v":"WSDOT_NHI CONTRACT ADM"},{"$f":"Master!D121","v":"ILT"},{"$f":"Master!E121","v":"Active"},{"$f":"Master!F121","v":0},{"$f":"Master!G121","v":0},{"$f":"IF(Master!H121=\"\",\"B\",Master!H121)","v":"B"},{"$f":"IF(Master!I121=\"\",\"B\",Master!I121)","v":"B"},{"$f":"IF(Master!J121=\"\",\"B\",Master!J121)","v":"B"},{"$f":"IF(Master!K121=\"\",\"B\",Master!K121)","v":"B"},{"$f":"IF(Master!L121=\"\",\"B\",Master!L121)","v":"B"},{"$f":"IF(Master!M121=\"\",\"B\",Master!M121)","v":"B"}]
[{"$f":"Master!A122","v":"CN"},{"$f":"Master!B122","v":"WSDOT CN:NUCLEAR GAUGE SAFETY AND OPERATION"},{"$f":"Master!C122","v":"WSDOT_DCX_OLT"},{"$f":"Master!D122","v":"ILT"},{"$f":"Master!E122","v":"Active"},{"$f":"Master!F122","v":0},{"$f":"Master!G122","v":0},{"$f":"IF(Master!H122=\"\",\"B\",Master!H122)","v":"B"},{"$f":"IF(Master!I122=\"\",\"B\",Master!I122)","v":"B"},{"$f":"IF(Master!J122=\"\",\"B\",Master!J122)","v":2},{"$f":"IF(Master!K122=\"\",\"B\",Master!K122)","v":"B"},{"$f":"IF(Master!L122=\"\",\"B\",Master!L122)","v":"B"},{"$f":"IF(Master!M122=\"\",\"B\",Master!M122)","v":"B"}]
[{"$f":"Master!A123","v":"CN"},{"$f":"Master!B123","v":"WSDOT CN: NUCLEAR GAUGE, EMBANKMENT/SURFACING/PAVEMENT APPLICATIONS"},{"$f":"Master!C123","v":"WSDOT_ANQ"},{"$f":"Master!D123","v":"ILT"},{"$f":"Master!E123","v":"Active"},{"$f":"Master!F123","v":0},{"$f":"Master!G123","v":0},{"$f":"IF(Master!H123=\"\",\"B\",Master!H123)","v":"B"},{"$f":"IF(Master!I123=\"\",\"B\",Master!I123)","v":"B"},{"$f":"IF(Master!J123=\"\",\"B\",Master!J123)","v":2},{"$f":"IF(Master!K123=\"\",\"B\",Master!K123)","v":"B"},{"$f":"IF(Master!L123=\"\",\"B\",Master!L123)","v":"B"},{"$f":"IF(Master!M123=\"\",\"B\",Master!M123)","v":"B"}]
[{"$f":"Master!A124","v":"CN"},{"$f":"Master!B124","v":"WSDOT CN: PAVEMENT REHABILITATION"},{"$f":"Master!C124","v":"WSDOT_BQL"},{"$f":"Master!D124","v":"ILT"},{"$f":"Master!E124","v":"Active"},{"$f":"Master!F124","v":0},{"$f":"Master!G124","v":0},{"$f":"IF(Master!H124=\"\",\"B\",Master!H124)","v":"B"},{"$f":"IF(Master!I124=\"\",\"B\",Master!I124)","v":"B"},{"$f":"IF(Master!J124=\"\",\"B\",Master!J124)","v":"B"},{"$f":"IF(Master!K124=\"\",\"B\",Master!K124)","v":"B"},{"$f":"IF(Master!L124=\"\",\"B\",Master!L124)","v":"B"},{"$f":"IF(Master!M124=\"\",\"B\",Master!M124)","v":"B"}]
[{"$f":"Master!A125","v":"CN"},{"$f":"Master!B125","v":"WSDOT CN: PCC FIELD TESTING PROCEDURES"},{"$f":"Master!C125","v":"WSDOT_ABT"},{"$f":"Master!D125","v":"ILT"},{"$f":"Master!E125","v":"Active"},{"$f":"Master!F125","v":0},{"$f":"Master!G125","v":0},{"$f":"IF(Master!H125=\"\",\"B\",Master!H125)","v":"B"},{"$f":"IF(Master!I125=\"\",\"B\",Master!I125)","v":"B"},{"$f":"IF(Master!J125=\"\",\"B\",Master!J125)","v":"B"},{"$f":"IF(Master!K125=\"\",\"B\",Master!K125)","v":"B"},{"$f":"IF(Master!L125=\"\",\"B\",Master!L125)","v":"B"},{"$f":"IF(Master!M125=\"\",\"B\",Master!M125)","v":"B"}]
[{"$f":"Master!A126","v":"CN"},{"$f":"Master!B126","v":"WSDOT CN: PILE DRIVING INSPECTION"},{"$f":"Master!C126","v":"Piling_OLT"},{"$f":"Master!D126","v":"OLT"},{"$f":"Master!E126","v":"Active"},{"$f":"Master!F126","v":0},{"$f":"Master!G126","v":0},{"$f":"IF(Master!H126=\"\",\"B\",Master!H126)","v":"B"},{"$f":"IF(Master!I126=\"\",\"B\",Master!I126)","v":"B"},{"$f":"IF(Master!J126=\"\",\"B\",Master!J126)","v":"B"},{"$f":"IF(Master!K126=\"\",\"B\",Master!K126)","v":"B"},{"$f":"IF(Master!L126=\"\",\"B\",Master!L126)","v":"B"},{"$f":"IF(Master!M126=\"\",\"B\",Master!M126)","v":"B"}]
[{"$f":"Master!A127","v":"CN"},{"$f":"Master!B127","v":"WSDOT CN: PORTLAND CEMENT CONCRETE INSPECTION"},{"$f":"Master!C127","v":"WSDOT_PCC_OLT"},{"$f":"Master!D127","v":"OLT"},{"$f":"Master!E127","v":"Active"},{"$f":"Master!F127","v":0},{"$f":"Master!G127","v":0},{"$f":"IF(Master!H127=\"\",\"B\",Master!H127)","v":"B"},{"$f":"IF(Master!I127=\"\",\"B\",Master!I127)","v":"B"},{"$f":"IF(Master!J127=\"\",\"B\",Master!J127)","v":2},{"$f":"IF(Master!K127=\"\",\"B\",Master!K127)","v":"B"},{"$f":"IF(Master!L127=\"\",\"B\",Master!L127)","v":"B"},{"$f":"IF(Master!M127=\"\",\"B\",Master!M127)","v":"B"}]
[{"$f":"Master!A128","v":"CN"},{"$f":"Master!B128","v":"WSDOT CN: PRODUCING SOURCE DOCUMENTS"},{"$f":"Master!C128","v":"WSDOT_C1H_OLT"},{"$f":"Master!D128","v":"OLT"},{"$f":"Master!E128","v":"Active"},{"$f":"Master!F128","v":0},{"$f":"Master!G128","v":0},{"$f":"IF(Master!H128=\"\",\"B\",Master!H128)","v":"B"},{"$f":"IF(Master!I128=\"\",\"B\",Master!I128)","v":"B"},{"$f":"IF(Master!J128=\"\",\"B\",Master!J128)","v":"B"},{"$f":"IF(Master!K128=\"\",\"B\",Master!K128)","v":"B"},{"$f":"IF(Master!L128=\"\",\"B\",Master!L128)","v":"B"},{"$f":"IF(Master!M128=\"\",\"B\",Master!M128)","v":"B"}]
[{"$f":"Master!A129","v":"CN"},{"$f":"Master!B129","v":"WSDOT CN: SIGN BRIDGES AND CANTILEVER SIGNS"},{"$f":"Master!C129","v":"WSDOT_SBI_OLT"},{"$f":"Master!D129","v":"OLT"},{"$f":"Master!E129","v":"Active"},{"$f":"Master!F129","v":0},{"$f":"Master!G129","v":0},{"$f":"IF(Master!H129=\"\",\"B\",Master!H129)","v":"B"},{"$f":"IF(Master!I129=\"\",\"B\",Master!I129)","v":"B"},{"$f":"IF(Master!J129=\"\",\"B\",Master!J129)","v":2},{"$f":"IF(Master!K129=\"\",\"B\",Master!K129)","v":2},{"$f":"IF(Master!L129=\"\",\"B\",Master!L129)","v":"B"},{"$f":"IF(Master!M129=\"\",\"B\",Master!M129)","v":"B"}]
[{"$f":"Master!A130","v":"CN"},{"$f":"Master!B130","v":"WSDOT CN: SIGN INSPECTOR DUTIES"},{"$f":"Master!C130","v":"WSDOT_SID_OLT"},{"$f":"Master!D130","v":"OLT"},{"$f":"Master!E130","v":"Active"},{"$f":"Master!F130","v":0},{"$f":"Master!G130","v":0},{"$f":"IF(Master!H130=\"\",\"B\",Master!H130)","v":"B"},{"$f":"IF(Master!I130=\"\",\"B\",Master!I130)","v":"B"},{"$f":"IF(Master!J130=\"\",\"B\",Master!J130)","v":"B"},{"$f":"IF(Master!K130=\"\",\"B\",Master!K130)","v":2},{"$f":"IF(Master!L130=\"\",\"B\",Master!L130)","v":"B"},{"$f":"IF(Master!M130=\"\",\"B\",Master!M130)","v":"B"}]
[{"$f":"Master!A131","v":"CN"},{"$f":"Master!B131","v":"WSDOT CN: SIGN INSTALLATION INSPECTION"},{"$f":"Master!C131","v":"WSDOT_DFV"},{"$f":"Master!D131","v":"ILT"},{"$f":"Master!E131","v":"Active"},{"$f":"Master!F131","v":0},{"$f":"Master!G131","v":0},{"$f":"IF(Master!H131=\"\",\"B\",Master!H131)","v":"B"},{"$f":"IF(Master!I131=\"\",\"B\",Master!I131)","v":"B"},{"$f":"IF(Master!J131=\"\",\"B\",Master!J131)","v":"B"},{"$f":"IF(Master!K131=\"\",\"B\",Master!K131)","v":2},{"$f":"IF(Master!L131=\"\",\"B\",Master!L131)","v":"B"},{"$f":"IF(Master!M131=\"\",\"B\",Master!M131)","v":"B"}]
[{"$f":"Master!A132","v":"CN"},{"$f":"Master!B132","v":"WSDOT CN: SMALL AND LARGE SIGN INSPECTION REVIEW"},{"$f":"Master!C132","v":"WSDOT_SLR_OLT"},{"$f":"Master!D132","v":"OLT"},{"$f":"Master!E132","v":"Active"},{"$f":"Master!F132","v":0},{"$f":"Master!G132","v":0},{"$f":"IF(Master!H132=\"\",\"B\",Master!H132)","v":"B"},{"$f":"IF(Master!I132=\"\",\"B\",Master!I132)","v":"B"},{"$f":"IF(Master!J132=\"\",\"B\",Master!J132)","v":2},{"$f":"IF(Master!K132=\"\",\"B\",Master!K132)","v":2},{"$f":"IF(Master!L132=\"\",\"B\",Master!L132)","v":"B"},{"$f":"IF(Master!M132=\"\",\"B\",Master!M132)","v":"B"}]
[{"$f":"Master!A133","v":"CN"},{"$f":"Master!B133","v":"WSDOT CN: WORK ZONE TRAFFIC CONTROL"},{"$f":"Master!C133","v":"WSDOT_WZTC_OLT"},{"$f":"Master!D133","v":"OLT"},{"$f":"Master!E133","v":"Active"},{"$f":"Master!F133","v":0},{"$f":"Master!G133","v":0},{"$f":"IF(Master!H133=\"\",\"B\",Master!H133)","v":"B"},{"$f":"IF(Master!I133=\"\",\"B\",Master!I133)","v":"B"},{"$f":"IF(Master!J133=\"\",\"B\",Master!J133)","v":1},{"$f":"IF(Master!K133=\"\",\"B\",Master!K133)","v":1},{"$f":"IF(Master!L133=\"\",\"B\",Master!L133)","v":"B"},{"$f":"IF(Master!M133=\"\",\"B\",Master!M133)","v":"B"}]
[{"$f":"Master!A134","v":"CN"},{"$f":"Master!B134","v":"WSDOT DB: ALTERNATIVE TECHNICAL CONCEPT (ATC) REVIEW PROCESS"},{"$f":"Master!C134","v":"WSDOT_DB_ATC"},{"$f":"Master!D134","v":"ILT"},{"$f":"Master!E134","v":"Active"},{"$f":"Master!F134","v":0},{"$f":"Master!G134","v":0},{"$f":"IF(Master!H134=\"\",\"B\",Master!H134)","v":"B"},{"$f":"IF(Master!I134=\"\",\"B\",Master!I134)","v":"B"},{"$f":"IF(Master!J134=\"\",\"B\",Master!J134)","v":"B"},{"$f":"IF(Master!K134=\"\",\"B\",Master!K134)","v":"B"},{"$f":"IF(Master!L134=\"\",\"B\",Master!L134)","v":"B"},{"$f":"IF(Master!M134=\"\",\"B\",Master!M134)","v":"B"}]
[{"$f":"Master!A135","v":"CN"},{"$f":"Master!B135","v":"WSDOT DB: INTRODUCTION TO DESIGN-BUILD"},{"$f":"Master!C135","v":"WSDOT_DB_IDB"},{"$f":"Master!D135","v":"ILT"},{"$f":"Master!E135","v":"Active"},{"$f":"Master!F135","v":0},{"$f":"Master!G135","v":0},{"$f":"IF(Master!H135=\"\",\"B\",Master!H135)","v":"B"},{"$f":"IF(Master!I135=\"\",\"B\",Master!I135)","v":"B"},{"$f":"IF(Master!J135=\"\",\"B\",Master!J135)","v":"B"},{"$f":"IF(Master!K135=\"\",\"B\",Master!K135)","v":"B"},{"$f":"IF(Master!L135=\"\",\"B\",Master!L135)","v":"B"},{"$f":"IF(Master!M135=\"\",\"B\",Master!M135)","v":"B"}]
[{"$f":"Master!A136","v":"CN"},{"$f":"Master!B136","v":"WSDOT DB: DESIGN-BUILD BEST PRACTICES IN TRANSPORTATION"},{"$f":"Master!C136","v":"WSDOT_DB_BPT"},{"$f":"Master!D136","v":"ILT"},{"$f":"Master!E136","v":"Active"},{"$f":"Master!F136","v":0},{"$f":"Master!G136","v":0},{"$f":"IF(Master!H136=\"\",\"B\",Master!H136)","v":"B"},{"$f":"IF(Master!I136=\"\",\"B\",Master!I136)","v":"B"},{"$f":"IF(Master!J136=\"\",\"B\",Master!J136)","v":"B"},{"$f":"IF(Master!K136=\"\",\"B\",Master!K136)","v":"B"},{"$f":"IF(Master!L136=\"\",\"B\",Master!L136)","v":"B"},{"$f":"IF(Master!M136=\"\",\"B\",Master!M136)","v":"B"}]
[{"$f":"Master!A137","v":"CN"},{"$f":"Master!B137","v":"WSDOT DB: DESIGN-BUILD CLOSEOUT"},{"$f":"Master!C137","v":"WSDOT_DB_CO"},{"$f":"Master!D137","v":"ILT"},{"$f":"Master!E137","v":"Active"},{"$f":"Master!F137","v":0},{"$f":"Master!G137","v":0},{"$f":"IF(Master!H137=\"\",\"B\",Master!H137)","v":"B"},{"$f":"IF(Master!I137=\"\",\"B\",Master!I137)","v":"B"},{"$f":"IF(Master!J137=\"\",\"B\",Master!J137)","v":"B"},{"$f":"IF(Master!K137=\"\",\"B\",Master!K137)","v":"B"},{"$f":"IF(Master!L137=\"\",\"B\",Master!L137)","v":"B"},{"$f":"IF(Master!M137=\"\",\"B\",Master!M137)","v":"B"}]
[{"$f":"Master!A138","v":"CN"},{"$f":"Master!B138","v":"WSDOT DB: DESIGN-BUILD INSTRUCTIONS TO PROPOSERS (ITP) AND REQUEST FOR PROPOSALS (RFP)"},{"$f":"Master!C138","v":"WSDOT_DB_ITP_RFP"},{"$f":"Master!D138","v":"ILT"},{"$f":"Master!E138","v":"Active"},{"$f":"Master!F138","v":0},{"$f":"Master!G138","v":0},{"$f":"IF(Master!H138=\"\",\"B\",Master!H138)","v":"B"},{"$f":"IF(Master!I138=\"\",\"B\",Master!I138)","v":"B"},{"$f":"IF(Master!J138=\"\",\"B\",Master!J138)","v":"B"},{"$f":"IF(Master!K138=\"\",\"B\",Master!K138)","v":"B"},{"$f":"IF(Master!L138=\"\",\"B\",Master!L138)","v":"B"},{"$f":"IF(Master!M138=\"\",\"B\",Master!M138)","v":"B"}]
[{"$f":"Master!A139","v":"CN"},{"$f":"Master!B139","v":"WSDOT DB: DESIGN-BUILD OFFICE MANAGEMENT AND CONTRACT ADMINISTRATION"},{"$f":"Master!C139","v":"WSDOT_DB_CA"},{"$f":"Master!D139","v":"ILT"},{"$f":"Master!E139","v":"Active"},{"$f":"Master!F139","v":0},{"$f":"Master!G139","v":0},{"$f":"IF(Master!H139=\"\",\"B\",Master!H139)","v":"B"},{"$f":"IF(Master!I139=\"\",\"B\",Master!I139)","v":"B"},{"$f":"IF(Master!J139=\"\",\"B\",Master!J139)","v":"B"},{"$f":"IF(Master!K139=\"\",\"B\",Master!K139)","v":"B"},{"$f":"IF(Master!L139=\"\",\"B\",Master!L139)","v":"B"},{"$f":"IF(Master!M139=\"\",\"B\",Master!M139)","v":"B"}]
[{"$f":"Master!A140","v":"CN"},{"$f":"Master!B140","v":"WSDOT DB: DESIGN-BUILD STARTUP AND REQUEST FOR QUALIFICATIONS (RFQ\") DEVELOPMENT"},{"$f":"Master!C140","v":"WSDOT_DB_RFQ"},{"$f":"Master!D140","v":"ILT"},{"$f":"Master!E140","v":"Active"},{"$f":"Master!F140","v":0},{"$f":"Master!G140","v":0},{"$f":"IF(Master!H140=\"\",\"B\",Master!H140)","v":"B"},{"$f":"IF(Master!I140=\"\",\"B\",Master!I140)","v":"B"},{"$f":"IF(Master!J140=\"\",\"B\",Master!J140)","v":"B"},{"$f":"IF(Master!K140=\"\",\"B\",Master!K140)","v":"B"},{"$f":"IF(Master!L140=\"\",\"B\",Master!L140)","v":"B"},{"$f":"IF(Master!M140=\"\",\"B\",Master!M140)","v":"B"}]
[{"$f":"Master!A141","v":"CN"},{"$f":"Master!B141","v":"WSDOT DB: ENVIRONMENTAL IN DESIGN-BUILD"},{"$f":"Master!C141","v":"WSDOT_DB_E"},{"$f":"Master!D141","v":"ILT"},{"$f":"Master!E141","v":"Active"},{"$f":"Master!F141","v":0},{"$f":"Master!G141","v":0},{"$f":"IF(Master!H141=\"\",\"B\",Master!H141)","v":"B"},{"$f":"IF(Master!I141=\"\",\"B\",Master!I141)","v":"B"},{"$f":"IF(Master!J141=\"\",\"B\",Master!J141)","v":"B"},{"$f":"IF(Master!K141=\"\",\"B\",Master!K141)","v":"B"},{"$f":"IF(Master!L141=\"\",\"B\",Master!L141)","v":"B"},{"$f":"IF(Master!M141=\"\",\"B\",Master!M141)","v":"B"}]
[{"$f":"Master!A142","v":"CN"},{"$f":"Master!B142","v":"WSDOT DB: LESSONS LEARNED"},{"$f":"Master!C142","v":"WSDOT_DB_LL"},{"$f":"Master!D142","v":"ILT"},{"$f":"Master!E142","v":"Active"},{"$f":"Master!F142","v":0},{"$f":"Master!G142","v":0},{"$f":"IF(Master!H142=\"\",\"B\",Master!H142)","v":"B"},{"$f":"IF(Master!I142=\"\",\"B\",Master!I142)","v":"B"},{"$f":"IF(Master!J142=\"\",\"B\",Master!J142)","v":"B"},{"$f":"IF(Master!K142=\"\",\"B\",Master!K142)","v":"B"},{"$f":"IF(Master!L142=\"\",\"B\",Master!L142)","v":"B"},{"$f":"IF(Master!M142=\"\",\"B\",Master!M142)","v":"B"}]
[{"$f":"Master!A143","v":"CN"},{"$f":"Master!B143","v":"WSDOT DB: PROPOSAL EVALUATION"},{"$f":"Master!C143","v":"WSDOT_DB_PE"},{"$f":"Master!D143","v":"ILT"},{"$f":"Master!E143","v":"Active"},{"$f":"Master!F143","v":0},{"$f":"Master!G143","v":0},{"$f":"IF(Master!H143=\"\",\"B\",Master!H143)","v":"B"},{"$f":"IF(Master!I143=\"\",\"B\",Master!I143)","v":"B"},{"$f":"IF(Master!J143=\"\",\"B\",Master!J143)","v":"B"},{"$f":"IF(Master!K143=\"\",\"B\",Master!K143)","v":"B"},{"$f":"IF(Master!L143=\"\",\"B\",Master!L143)","v":"B"},{"$f":"IF(Master!M143=\"\",\"B\",Master!M143)","v":"B"}]
[{"$f":"Master!A144","v":"CN"},{"$f":"Master!B144","v":"WSDOT DB: QUALITY IN DESIGN-BUILD"},{"$f":"Master!C144","v":"WSDOT_DB_Q"},{"$f":"Master!D144","v":"ILT"},{"$f":"Master!E144","v":"Active"},{"$f":"Master!F144","v":0},{"$f":"Master!G144","v":0},{"$f":"IF(Master!H144=\"\",\"B\",Master!H144)","v":"B"},{"$f":"IF(Master!I144=\"\",\"B\",Master!I144)","v":"B"},{"$f":"IF(Master!J144=\"\",\"B\",Master!J144)","v":"B"},{"$f":"IF(Master!K144=\"\",\"B\",Master!K144)","v":"B"},{"$f":"IF(Master!L144=\"\",\"B\",Master!L144)","v":"B"},{"$f":"IF(Master!M144=\"\",\"B\",Master!M144)","v":"B"}]
[{"$f":"Master!A145","v":"CN"},{"$f":"Master!B145","v":"WSDOT DB: STATEMENT OF QUALIFICATIONS (SOQ) EVALUATION"},{"$f":"Master!C145","v":"WSDOT_DB_SOQE"},{"$f":"Master!D145","v":"ILT"},{"$f":"Master!E145","v":"Active"},{"$f":"Master!F145","v":0},{"$f":"Master!G145","v":0},{"$f":"IF(Master!H145=\"\",\"B\",Master!H145)","v":"B"},{"$f":"IF(Master!I145=\"\",\"B\",Master!I145)","v":"B"},{"$f":"IF(Master!J145=\"\",\"B\",Master!J145)","v":"B"},{"$f":"IF(Master!K145=\"\",\"B\",Master!K145)","v":"B"},{"$f":"IF(Master!L145=\"\",\"B\",Master!L145)","v":"B"},{"$f":"IF(Master!M145=\"\",\"B\",Master!M145)","v":"B"}]
[{"$f":"Master!A146","v":"CN"},{"$f":"Master!B146","v":"**WSDOT DB: EVALUATION"},{"$f":"Master!C146","v":0},{"$f":"Master!D146","v":"ILT"},{"$f":"Master!E146","v":"Under Development"},{"$f":"Master!F146","v":"Q1 2019"},{"$f":"Master!G146","v":0},{"$f":"IF(Master!H146=\"\",\"B\",Master!H146)","v":"B"},{"$f":"IF(Master!I146=\"\",\"B\",Master!I146)","v":"B"},{"$f":"IF(Master!J146=\"\",\"B\",Master!J146)","v":"B"},{"$f":"IF(Master!K146=\"\",\"B\",Master!K146)","v":"B"},{"$f":"IF(Master!L146=\"\",\"B\",Master!L146)","v":"B"},{"$f":"IF(Master!M146=\"\",\"B\",Master!M146)","v":"B"}]
[{"$f":"Master!A147","v":"CN"},{"$f":"Master!B147","v":"WSDOT DB: DESIGN-BUILD INVOICE PROCESSING"},{"$f":"Master!C147","v":0},{"$f":"Master!D147","v":"ILT"},{"$f":"Master!E147","v":"Active"},{"$f":"Master!F147","v":0},{"$f":"Master!G147","v":0},{"$f":"IF(Master!H147=\"\",\"B\",Master!H147)","v":"B"},{"$f":"IF(Master!I147=\"\",\"B\",Master!I147)","v":"B"},{"$f":"IF(Master!J147=\"\",\"B\",Master!J147)","v":"B"},{"$f":"IF(Master!K147=\"\",\"B\",Master!K147)","v":"B"},{"$f":"IF(Master!L147=\"\",\"B\",Master!L147)","v":"B"},{"$f":"IF(Master!M147=\"\",\"B\",Master!M147)","v":"B"}]
[{"$f":"Master!A148","v":"CN"},{"$f":"Master!B148","v":"WSDOT DB: INTERNAL AND EXTERNAL DEBRIEFING"},{"$f":"Master!C148","v":0},{"$f":"Master!D148","v":"ILT"},{"$f":"Master!E148","v":"Active"},{"$f":"Master!F148","v":0},{"$f":"Master!G148","v":0},{"$f":"IF(Master!H148=\"\",\"B\",Master!H148)","v":"B"},{"$f":"IF(Master!I148=\"\",\"B\",Master!I148)","v":"B"},{"$f":"IF(Master!J148=\"\",\"B\",Master!J148)","v":"B"},{"$f":"IF(Master!K148=\"\",\"B\",Master!K148)","v":"B"},{"$f":"IF(Master!L148=\"\",\"B\",Master!L148)","v":"B"},{"$f":"IF(Master!M148=\"\",\"B\",Master!M148)","v":"B"}]
[{"$f":"Master!A149","v":"CN"},{"$f":"Master!B149","v":"WSDOT DB: DESIGN-BUILD QUALITY VERIFICATION"},{"$f":"Master!C149","v":0},{"$f":"Master!D149","v":"ILT"},{"$f":"Master!E149","v":"Active"},{"$f":"Master!F149","v":0},{"$f":"Master!G149","v":0},{"$f":"IF(Master!H149=\"\",\"B\",Master!H149)","v":"B"},{"$f":"IF(Master!I149=\"\",\"B\",Master!I149)","v":"B"},{"$f":"IF(Master!J149=\"\",\"B\",Master!J149)","v":"B"},{"$f":"IF(Master!K149=\"\",\"B\",Master!K149)","v":"B"},{"$f":"IF(Master!L149=\"\",\"B\",Master!L149)","v":"B"},{"$f":"IF(Master!M149=\"\",\"B\",Master!M149)","v":"B"}]
[{"$f":"Master!A150","v":"CN"},{"$f":"Master!B150","v":"**WSDOT DB: QV ADMINISTRATION"},{"$f":"Master!C150","v":0},{"$f":"Master!D150","v":"ILT"},{"$f":"Master!E150","v":"Under Development"},{"$f":"Master!F150","v":"Q1 2019"},{"$f":"Master!G150","v":0},{"$f":"IF(Master!H150=\"\",\"B\",Master!H150)","v":"B"},{"$f":"IF(Master!I150=\"\",\"B\",Master!I150)","v":"B"},{"$f":"IF(Master!J150=\"\",\"B\",Master!J150)","v":"B"},{"$f":"IF(Master!K150=\"\",\"B\",Master!K150)","v":"B"},{"$f":"IF(Master!L150=\"\",\"B\",Master!L150)","v":"B"},{"$f":"IF(Master!M150=\"\",\"B\",Master!M150)","v":"B"}]
[{"$f":"Master!A151","v":"CN"},{"$f":"Master!B151","v":"**WSDOT DB: RISK ANALYSIS AND ALLOCATION FOR DB CONTRACTS"},{"$f":"Master!C151","v":0},{"$f":"Master!D151","v":"ILT"},{"$f":"Master!E151","v":"Under Development"},{"$f":"Master!F151","v":"Q1 2019"},{"$f":"Master!G151","v":0},{"$f":"IF(Master!H151=\"\",\"B\",Master!H151)","v":"B"},{"$f":"IF(Master!I151=\"\",\"B\",Master!I151)","v":"B"},{"$f":"IF(Master!J151=\"\",\"B\",Master!J151)","v":"B"},{"$f":"IF(Master!K151=\"\",\"B\",Master!K151)","v":"B"},{"$f":"IF(Master!L151=\"\",\"B\",Master!L151)","v":"B"},{"$f":"IF(Master!M151=\"\",\"B\",Master!M151)","v":"B"}]
[{"$f":"Master!A152","v":"Development Division"},null,null,null,null,null,null,{"$f":"IF(Master!Q152=\"\",\"B\",Master!Q152)","v":"B"},{"$f":"IF(Master!AB152=\"\",\"B\",Master!AB152)","v":"B"},{"$f":"IF(Master!AM152=\"\",\"B\",Master!AM152)","v":"B"},{"$f":"IF(Master!AX152=\"\",\"B\",Master!AX152)","v":"B"},{"$f":"IF(Master!BI152=\"\",\"B\",Master!BI152)","v":"B"},{"$f":"IF(Master!BT152=\"\",\"B\",Master!BT152)","v":"B"}]
[{"$f":"Master!A153","v":"Design"},null,null,null,null,null,null,{"$f":"IF(Master!Q153=\"\",\"B\",Master!Q153)","v":"B"},{"$f":"IF(Master!AB153=\"\",\"B\",Master!AB153)","v":"B"},{"$f":"IF(Master!AM153=\"\",\"B\",Master!AM153)","v":"B"},{"$f":"IF(Master!AX153=\"\",\"B\",Master!AX153)","v":"B"},{"$f":"IF(Master!BI153=\"\",\"B\",Master!BI153)","v":"B"},{"$f":"IF(Master!BT153=\"\",\"B\",Master!BT153)","v":"B"}]
[{"$f":"Master!A154","v":"DES"},{"$f":"Master!B154","v":"CONTRACT PLANS REVIEW (SELF-STUDY)"},{"$f":"Master!C154","v":"Paper and Pencil"},{"$f":"Master!D154","v":"SS"},{"$f":"Master!E154","v":"Active"},{"$f":"Master!F154","v":0},{"$f":"Master!H154","v":"E-Learning option as well.  Updated in 2013."},{"$f":"IF(Master!Q154=\"\",\"B\",Master!Q154)","v":"R"},{"$f":"IF(Master!AB154=\"\",\"B\",Master!AB154)","v":"R"},{"$f":"IF(Master!AM154=\"\",\"B\",Master!AM154)","v":1},{"$f":"IF(Master!AX154=\"\",\"B\",Master!AX154)","v":1},{"$f":"IF(Master!BI154=\"\",\"B\",Master!BI154)","v":"B"},{"$f":"IF(Master!BT154=\"\",\"B\",Master!BT154)","v":"B"}]
[{"$f":"Master!A155","v":"DES"},{"$f":"Master!B155","v":"CONTRACT PLANS READING (SELF-STUDY)"},{"$f":"Master!C155","v":"Paper and Pencil"},{"$f":"Master!D155","v":"SS"},{"$f":"Master!E155","v":"Active"},{"$f":"Master!F155","v":0},{"$f":"Master!H155","v":"Obtain material through Staff Development."},{"$f":"IF(Master!Q155=\"\",\"B\",Master!Q155)","v":"R"},{"$f":"IF(Master!AB155=\"\",\"B\",Master!AB155)","v":"R"},{"$f":"IF(Master!AM155=\"\",\"B\",Master!AM155)","v":1},{"$f":"IF(Master!AX155=\"\",\"B\",Master!AX155)","v":1},{"$f":"IF(Master!BI155=\"\",\"B\",Master!BI155)","v":"B"},{"$f":"IF(Master!BT155=\"\",\"B\",Master!BT155)","v":"B"}]
[{"$f":"Master!A156","v":"DES"},{"$f":"Master!B156","v":"WSDOT DES: CONTRACT PLANS & ESTIMATE PREPARATION"},{"$f":"Master!C156","v":"WSDOT_A4J"},{"$f":"Master!D156","v":"ILT"},{"$f":"Master!E156","v":"Inactive"},{"$f":"Master!F156","v":"None"},{"$f":"Master!H156","v":0},{"$f":"IF(Master!Q156=\"\",\"B\",Master!Q156)","v":"B"},{"$f":"IF(Master!AB156=\"\",\"B\",Master!AB156)","v":"B"},{"$f":"IF(Master!AM156=\"\",\"B\",Master!AM156)","v":"B"},{"$f":"IF(Master!AX156=\"\",\"B\",Master!AX156)","v":"B"},{"$f":"IF(Master!BI156=\"\",\"B\",Master!BI156)","v":"B"},{"$f":"IF(Master!BT156=\"\",\"B\",Master!BT156)","v":"B"}]
[{"$f":"Master!A157","v":"DES"},{"$f":"Master!B157","v":"WSDOT DES: CONTRACT PROVISION PREPARATION"},{"$f":"Master!C157","v":"WSDOT_BGN"},{"$f":"Master!D157","v":"ILT"},{"$f":"Master!E157","v":"Inactive"},{"$f":"Master!F157","v":"None"},{"$f":"Master!H157","v":0},{"$f":"IF(Master!Q157=\"\",\"B\",Master!Q157)","v":"B"},{"$f":"IF(Master!AB157=\"\",\"B\",Master!AB157)","v":"B"},{"$f":"IF(Master!AM157=\"\",\"B\",Master!AM157)","v":"B"},{"$f":"IF(Master!AX157=\"\",\"B\",Master!AX157)","v":"B"},{"$f":"IF(Master!BI157=\"\",\"B\",Master!BI157)","v":"B"},{"$f":"IF(Master!BT157=\"\",\"B\",Master!BT157)","v":"B"}]
[{"$f":"Master!A158","v":"DES"},{"$f":"Master!B158","v":"WSDOT DESIGN DOCUMENTATION"},{"$f":"Master!C158","v":"WSDOT DES: Design Documentation"},{"$f":"Master!D158","v":"ILT"},{"$f":"Master!E158","v":"Active"},{"$f":"Master!F158","v":0},{"$f":"Master!H158","v":"Contact ASDE; course material is at https://www.wsdot.wa.gov/Design/Support.htm."},{"$f":"IF(Master!Q158=\"\",\"B\",Master!Q158)","v":"B"},{"$f":"IF(Master!AB158=\"\",\"B\",Master!AB158)","v":"B"},{"$f":"IF(Master!AM158=\"\",\"B\",Master!AM158)","v":"B"},{"$f":"IF(Master!AX158=\"\",\"B\",Master!AX158)","v":"B"},{"$f":"IF(Master!BI158=\"\",\"B\",Master!BI158)","v":"B"},{"$f":"IF(Master!BT158=\"\",\"B\",Master!BT158)","v":"B"}]
[{"$f":"Master!A159","v":"DES"},{"$f":"Master!B159","v":"WSDOT DES: INTERSECTION DESIGN"},{"$f":"Master!C159","v":"WSDOT_CBD"},{"$f":"Master!D159","v":"ILT"},{"$f":"Master!E159","v":"Active"},{"$f":"Master!F159","v":0},{"$f":"Master!H159","v":"Course  updated in 2019,  delivered to all regions; class delivered by request."},{"$f":"IF(Master!Q159=\"\",\"B\",Master!Q159)","v":"B"},{"$f":"IF(Master!AB159=\"\",\"B\",Master!AB159)","v":"B"},{"$f":"IF(Master!AM159=\"\",\"B\",Master!AM159)","v":"B"},{"$f":"IF(Master!AX159=\"\",\"B\",Master!AX159)","v":"B"},{"$f":"IF(Master!BI159=\"\",\"B\",Master!BI159)","v":"B"},{"$f":"IF(Master!BT159=\"\",\"B\",Master!BT159)","v":"B"}]
[{"$f":"Master!A160","v":"DES"},{"$f":"Master!B160","v":"WSDOT DES: PROJECT DEVELOPMENT PROCESS"},{"$f":"Master!C160","v":"WSDOT_CF4"},{"$f":"Master!D160","v":"ILT"},{"$f":"Master!E160","v":"Active"},{"$f":"Master!F160","v":"None"},{"$f":"Master!H160","v":"Updated January 2020; will deliver to regions by 6/30/2021"},{"$f":"IF(Master!Q160=\"\",\"B\",Master!Q160)","v":"B"},{"$f":"IF(Master!AB160=\"\",\"B\",Master!AB160)","v":"B"},{"$f":"IF(Master!AM160=\"\",\"B\",Master!AM160)","v":"B"},{"$f":"IF(Master!AX160=\"\",\"B\",Master!AX160)","v":"B"},{"$f":"IF(Master!BI160=\"\",\"B\",Master!BI160)","v":"B"},{"$f":"IF(Master!BT160=\"\",\"B\",Master!BT160)","v":"B"}]
[{"$f":"Master!A161","v":"DES"},{"$f":"Master!B161","v":"WSDOT PM: SCHEDULING BASICS"},{"$f":"Master!C161","v":"WSDOT_CB5"},{"$f":"Master!D161","v":"ILT"},{"$f":"Master!E161","v":"Inactive"},{"$f":"Master!F161","v":"None"},{"$f":"Master!H161","v":0},{"$f":"IF(Master!Q161=\"\",\"B\",Master!Q161)","v":"B"},{"$f":"IF(Master!AB161=\"\",\"B\",Master!AB161)","v":"B"},{"$f":"IF(Master!AM161=\"\",\"B\",Master!AM161)","v":"B"},{"$f":"IF(Master!AX161=\"\",\"B\",Master!AX161)","v":"B"},{"$f":"IF(Master!BI161=\"\",\"B\",Master!BI161)","v":"B"},{"$f":"IF(Master!BT161=\"\",\"B\",Master!BT161)","v":"B"}]
[{"$f":"Master!A162","v":"DES"},{"$f":"Master!B162","v":"AASHTO T3 CPM SCHEDULING"},{"$f":"Master!C162","v":"Resources:\nCPM Scheduling (2 PDHs)\nCPM Scheduling (3 PDHs)"},{"$f":"Master!D162","v":"OLT"},{"$f":"Master!E162","v":"Active"},{"$f":"Master!F162","v":0},{"$f":"Master!H162","v":"The online CPM training is free for WSDOT employees. To sign up, create an AASHTO account (use your WSDOT email address for the username) then navigate to the CPM training and add it to your cart. Follow the instructions that are emailed to you. There are a variety of other courses available to WSDOT employees at no cost."}]
[{"$f":"Master!A163","v":"DES"},{"$f":"Master!B163","v":"WSDOT DES: RIGHT OF WAY PLANS PREPARATION"},{"$f":"Master!C163","v":"WSDOT_BCN"},{"$f":"Master!D163","v":"ILT"},{"$f":"Master!E163","v":"Inactive"},{"$f":"Master!F163","v":"None"},{"$f":"Master!H163","v":0},{"$f":"IF(Master!Q163=\"\",\"B\",Master!Q163)","v":"B"},{"$f":"IF(Master!AB163=\"\",\"B\",Master!AB163)","v":"B"},{"$f":"IF(Master!AM163=\"\",\"B\",Master!AM163)","v":"B"},{"$f":"IF(Master!AX163=\"\",\"B\",Master!AX163)","v":"B"},{"$f":"IF(Master!BI163=\"\",\"B\",Master!BI163)","v":"B"},{"$f":"IF(Master!BT163=\"\",\"B\",Master!BT163)","v":"B"}]
[{"$f":"Master!A164","v":"DES"},{"$f":"Master!B164","v":"WSDOT DES: ROADSIDE SAFETY"},{"$f":"Master!C164","v":"WSDOT_B74"},{"$f":"Master!D164","v":"ILT"},{"$f":"Master!E164","v":"Inactive"},{"$f":"Master!F164","v":"None"},{"$f":"Master!H164","v":0},{"$f":"IF(Master!Q164=\"\",\"B\",Master!Q164)","v":"B"},{"$f":"IF(Master!AB164=\"\",\"B\",Master!AB164)","v":"B"},{"$f":"IF(Master!AM164=\"\",\"B\",Master!AM164)","v":"B"},{"$f":"IF(Master!AX164=\"\",\"B\",Master!AX164)","v":"B"},{"$f":"IF(Master!BI164=\"\",\"B\",Master!BI164)","v":"B"},{"$f":"IF(Master!BT164=\"\",\"B\",Master!BT164)","v":"B"}]
[{"$f":"Master!A165","v":"DES"},{"$f":"Master!B165","v":"WSDOT DES: ROADWAY GEOMETRIC DESIGN"},{"$f":"Master!C165","v":"WSDOT_BWE"},{"$f":"Master!D165","v":"ILT"},{"$f":"Master!E165","v":"Inactive"},{"$f":"Master!F165","v":"None"},{"$f":"Master!H165","v":0},{"$f":"IF(Master!Q165=\"\",\"B\",Master!Q165)","v":"B"},{"$f":"IF(Master!AB165=\"\",\"B\",Master!AB165)","v":"B"},{"$f":"IF(Master!AM165=\"\",\"B\",Master!AM165)","v":"B"},{"$f":"IF(Master!AX165=\"\",\"B\",Master!AX165)","v":"B"},{"$f":"IF(Master!BI165=\"\",\"B\",Master!BI165)","v":"B"},{"$f":"IF(Master!BT165=\"\",\"B\",Master!BT165)","v":"B"}]
[{"$f":"Master!A166","v":"DES"},{"$f":"Master!B166","v":"WSDOT DES: INTERCHANGE DESIGN"},{"$f":"Master!C166","v":"WSDOT_CFU"},{"$f":"Master!D166","v":"ILT"},{"$f":"Master!E166","v":"Inactive"},{"$f":"Master!F166","v":"None"},{"$f":"Master!H166","v":"FHWA delivered their interchange training at WSDOT in 2019; course delivery depends on demand."},{"$f":"IF(Master!Q166=\"\",\"B\",Master!Q166)","v":"B"},{"$f":"IF(Master!AB166=\"\",\"B\",Master!AB166)","v":"B"},{"$f":"IF(Master!AM166=\"\",\"B\",Master!AM166)","v":"B"},{"$f":"IF(Master!AX166=\"\",\"B\",Master!AX166)","v":"B"},{"$f":"IF(Master!BI166=\"\",\"B\",Master!BI166)","v":"B"},{"$f":"IF(Master!BT166=\"\",\"B\",Master!BT166)","v":"B"}]
[{"$f":"Master!A167","v":"DES"},{"$f":"Master!B167","v":"WSDOT DES: ACCESS MANAGEMENT"},{"$f":"Master!C167","v":"WSDOT_DAS"},{"$f":"Master!D167","v":"ILT"},{"$f":"Master!E167","v":"Active"},{"$f":"Master!F167","v":0},{"$f":"Master!H167","v":"Being updated, but current class can be given at any time"},{"$f":"IF(Master!Q167=\"\",\"B\",Master!Q167)","v":"B"},{"$f":"IF(Master!AB167=\"\",\"B\",Master!AB167)","v":"B"},{"$f":"IF(Master!AM167=\"\",\"B\",Master!AM167)","v":"B"},{"$f":"IF(Master!AX167=\"\",\"B\",Master!AX167)","v":"B"},{"$f":"IF(Master!BI167=\"\",\"B\",Master!BI167)","v":"B"},{"$f":"IF(Master!BT167=\"\",\"B\",Master!BT167)","v":"B"}]
[{"$f":"Master!A168","v":"DES"},{"$f":"Master!B168","v":"ALTERNATIVES COMPARISON WORKSHOP"},{"$f":"Master!C168","v":"None"},{"$f":"Master!D168","v":"ILT"},{"$f":"Master!E168","v":"Inactive"},{"$f":"Master!F168","v":"None"},{"$f":"Master!H168","v":0},{"$f":"IF(Master!Q168=\"\",\"B\",Master!Q168)","v":"B"},{"$f":"IF(Master!AB168=\"\",\"B\",Master!AB168)","v":"B"},{"$f":"IF(Master!AM168=\"\",\"B\",Master!AM168)","v":"B"},{"$f":"IF(Master!AX168=\"\",\"B\",Master!AX168)","v":"B"},{"$f":"IF(Master!BI168=\"\",\"B\",Master!BI168)","v":"B"},{"$f":"IF(Master!BT168=\"\",\"B\",Master!BT168)","v":"B"}]
[{"$f":"Master!A169","v":"DES"},{"$f":"Master!B169","v":"WSDOT DES: COST ESTIMATING"},{"$f":"Master!C169","v":"WSDOT_CZV"},{"$f":"Master!D169","v":"ILT"},{"$f":"Master!E169","v":"Active"},{"$f":"Master!F169","v":0},{"$f":"Master!H169","v":"This class was updated in 2019 and delivered to all regions 2019-2020; this class can be delivered by request."},{"$f":"IF(Master!Q169=\"\",\"B\",Master!Q169)","v":"B"},{"$f":"IF(Master!AB169=\"\",\"B\",Master!AB169)","v":"B"},{"$f":"IF(Master!AM169=\"\",\"B\",Master!AM169)","v":"B"},{"$f":"IF(Master!AX169=\"\",\"B\",Master!AX169)","v":"B"},{"$f":"IF(Master!BI169=\"\",\"B\",Master!BI169)","v":"B"},{"$f":"IF(Master!BT169=\"\",\"B\",Master!BT169)","v":"B"}]
[{"$f":"Master!A170","v":"DES"},{"$f":"Master!B170","v":"RISK MANAGEMENT"},{"$f":"Master!C170","v":"None"},{"$f":"Master!D170","v":"ILT"},{"$f":"Master!E170","v":"Inactive"},{"$f":"Master!F170","v":"None"},{"$f":"Master!H170","v":"Available by arrangement; contact Mark Gabel or Mark Suijka."},{"$f":"IF(Master!Q170=\"\",\"B\",Master!Q170)","v":"B"},{"$f":"IF(Master!AB170=\"\",\"B\",Master!AB170)","v":"B"},{"$f":"IF(Master!AM170=\"\",\"B\",Master!AM170)","v":"B"},{"$f":"IF(Master!AX170=\"\",\"B\",Master!AX170)","v":"B"},{"$f":"IF(Master!BI170=\"\",\"B\",Master!BI170)","v":"B"},{"$f":"IF(Master!BT170=\"\",\"B\",Master!BT170)","v":"B"}]
[{"$f":"Master!A171","v":"DES"},{"$f":"Master!B171","v":"MANAGING PROJECT DELIVERY"},{"$f":"Master!C171","v":"None"},{"$f":"Master!D171","v":0},{"$f":"Master!E171","v":"Inactive"},{"$f":"Master!F171","v":"None"},{"$f":"Master!H171","v":"PM courses abailable through SkillSoft:  https://wsdot.skillport.com/skillportfe/main.action#whatshappening"},{"$f":"IF(Master!Q171=\"\",\"B\",Master!Q171)","v":"B"},{"$f":"IF(Master!AB171=\"\",\"B\",Master!AB171)","v":"B"},{"$f":"IF(Master!AM171=\"\",\"B\",Master!AM171)","v":"B"},{"$f":"IF(Master!AX171=\"\",\"B\",Master!AX171)","v":"B"},{"$f":"IF(Master!BI171=\"\",\"B\",Master!BI171)","v":"B"},{"$f":"IF(Master!BT171=\"\",\"B\",Master!BT171)","v":"B"}]
[{"$f":"Master!A172","v":"DES"},{"$f":"Master!B172","v":"HUMAN FACTORS IN TRANSPORTATION DESIGN"},{"$f":"Master!C172","v":"None"},{"$f":"Master!D172","v":"ILT"},{"$f":"Master!E172","v":"Inactive"},{"$f":"Master!F172","v":"None"},{"$f":"Master!H172","v":"Partly covered in the HSM Training"},{"$f":"IF(Master!Q172=\"\",\"B\",Master!Q172)","v":"B"},{"$f":"IF(Master!AB172=\"\",\"B\",Master!AB172)","v":"B"},{"$f":"IF(Master!AM172=\"\",\"B\",Master!AM172)","v":"B"},{"$f":"IF(Master!AX172=\"\",\"B\",Master!AX172)","v":"B"},{"$f":"IF(Master!BI172=\"\",\"B\",Master!BI172)","v":"B"},{"$f":"IF(Master!BT172=\"\",\"B\",Master!BT172)","v":"B"}]
[{"$f":"Master!A173","v":"DES"},{"$f":"Master!B173","v":"WSDOT DES: [YYYY] DESIGN MANUAL TRAINING"},{"$f":"Master!C173","v":"WSDOT_DMUT01202016"},{"$f":"Master!D173","v":"ILT"},{"$f":"Master!E173","v":"Active"},{"$f":"Master!F173","v":0},{"$f":"Master!H173","v":0},{"$f":"IF(Master!Q173=\"\",\"B\",Master!Q173)","v":"B"},{"$f":"IF(Master!AB173=\"\",\"B\",Master!AB173)","v":"B"},{"$f":"IF(Master!AM173=\"\",\"B\",Master!AM173)","v":"B"},{"$f":"IF(Master!AX173=\"\",\"B\",Master!AX173)","v":"B"},{"$f":"IF(Master!BI173=\"\",\"B\",Master!BI173)","v":"B"},{"$f":"IF(Master!BT173=\"\",\"B\",Master!BT173)","v":"B"}]
[{"$f":"Master!A174","v":"DES"},{"$f":"Master!B174","v":"WSDOT DES: DESIGN MANUAL DIVISION 11 PRACTICAL DESIGN"},{"$f":"Master!C174","v":"DMUT_ORG"},{"$f":"Master!D174","v":"OLT"},{"$f":"Master!E174","v":"Active"},{"$f":"Master!F174","v":0},{"$f":"Master!H174","v":"Available in LMS for credit, also at https://www.wsdot.wa.gov/LocalPrograms/Training/eTraining.htm "},{"$f":"IF(Master!Q174=\"\",\"B\",Master!Q174)","v":"B"},{"$f":"IF(Master!AB174=\"\",\"B\",Master!AB174)","v":"B"},{"$f":"IF(Master!AM174=\"\",\"B\",Master!AM174)","v":"B"},{"$f":"IF(Master!AX174=\"\",\"B\",Master!AX174)","v":"B"},{"$f":"IF(Master!BI174=\"\",\"B\",Master!BI174)","v":"B"},{"$f":"IF(Master!BT174=\"\",\"B\",Master!BT174)","v":"B"}]
[{"$f":"Master!A175","v":"DES"},{"$f":"Master!B175","v":"WSDOT PS 201 MULTIMODAL MAKING THE CASE MODULE1 OLT"},{"$f":"Master!C175","v":"Module_1:_Why_Multimodal?_ORG"},{"$f":"Master!D175","v":"OLT"},{"$f":"Master!E175","v":"Active"},{"$f":"Master!F175","v":0},{"$f":"Master!H175","v":0},{"$f":"IF(Master!Q175=\"\",\"B\",Master!Q175)","v":"B"},{"$f":"IF(Master!AB175=\"\",\"B\",Master!AB175)","v":"B"},{"$f":"IF(Master!AM175=\"\",\"B\",Master!AM175)","v":"B"},{"$f":"IF(Master!AX175=\"\",\"B\",Master!AX175)","v":"B"},{"$f":"IF(Master!BI175=\"\",\"B\",Master!BI175)","v":"B"},{"$f":"IF(Master!BT175=\"\",\"B\",Master!BT175)","v":"B"}]
[{"$f":"Master!A176","v":"DES"},{"$f":"Master!B176","v":"WSDOT PS 201 MULTIMODAL LAND USE MODULE2 OLT"},{"$f":"Master!C176","v":"Module_2_Land_Use_&_Transportation_ORG"},{"$f":"Master!D176","v":"OLT"},{"$f":"Master!E176","v":"Active"},{"$f":"Master!F176","v":0},{"$f":"Master!H176","v":0},{"$f":"IF(Master!Q176=\"\",\"B\",Master!Q176)","v":"B"},{"$f":"IF(Master!AB176=\"\",\"B\",Master!AB176)","v":"B"},{"$f":"IF(Master!AM176=\"\",\"B\",Master!AM176)","v":"B"},{"$f":"IF(Master!AX176=\"\",\"B\",Master!AX176)","v":"B"},{"$f":"IF(Master!BI176=\"\",\"B\",Master!BI176)","v":"B"},{"$f":"IF(Master!BT176=\"\",\"B\",Master!BT176)","v":"B"}]
[{"$f":"Master!A177","v":"DES"},{"$f":"Master!B177","v":"WSDOT PS 201 MULTIMODAL PHASES AND NEEDS MODULE3 OLT"},{"$f":"Master!C177","v":"Module_3_Phases_and_Needs_ORG"},{"$f":"Master!D177","v":"OLT"},{"$f":"Master!E177","v":" Active"},{"$f":"Master!F177","v":0},{"$f":"Master!H177","v":0},{"$f":"IF(Master!Q177=\"\",\"B\",Master!Q177)","v":"B"},{"$f":"IF(Master!AB177=\"\",\"B\",Master!AB177)","v":"B"},{"$f":"IF(Master!AM177=\"\",\"B\",Master!AM177)","v":"B"},{"$f":"IF(Master!AX177=\"\",\"B\",Master!AX177)","v":"B"},{"$f":"IF(Master!BI177=\"\",\"B\",Master!BI177)","v":"B"},{"$f":"IF(Master!BT177=\"\",\"B\",Master!BT177)","v":"B"}]
[{"$f":"Master!A178","v":"DES"},{"$f":"Master!B178","v":"WSDOT PS 201 MULTIMODAL PERFORMANCE BASICS MODULE4 OLT"},{"$f":"Master!C178","v":"Module_4_Performance_Basics_ORG"},{"$f":"Master!D178","v":"OLT"},{"$f":"Master!E178","v":"Active"},{"$f":"Master!F178","v":0},{"$f":"Master!H178","v":0},{"$f":"IF(Master!Q178=\"\",\"B\",Master!Q178)","v":"B"},{"$f":"IF(Master!AB178=\"\",\"B\",Master!AB178)","v":"B"},{"$f":"IF(Master!AM178=\"\",\"B\",Master!AM178)","v":"B"},{"$f":"IF(Master!AX178=\"\",\"B\",Master!AX178)","v":"B"},{"$f":"IF(Master!BI178=\"\",\"B\",Master!BI178)","v":"B"},{"$f":"IF(Master!BT178=\"\",\"B\",Master!BT178)","v":"B"}]
[{"$f":"Master!A179","v":"DES"},{"$f":"Master!B179","v":"WSDOT PS 201 MULTIMODAL TRANSIT MODULE5 OLT"},{"$f":"Master!C179","v":"Module_5_Transit_ORG"},{"$f":"Master!D179","v":"OLT"},{"$f":"Master!E179","v":"Active"},{"$f":"Master!F179","v":0},{"$f":"Master!H179","v":0},{"$f":"IF(Master!Q179=\"\",\"B\",Master!Q179)","v":"B"},{"$f":"IF(Master!AB179=\"\",\"B\",Master!AB179)","v":"B"},{"$f":"IF(Master!AM179=\"\",\"B\",Master!AM179)","v":"B"},{"$f":"IF(Master!AX179=\"\",\"B\",Master!AX179)","v":"B"},{"$f":"IF(Master!BI179=\"\",\"B\",Master!BI179)","v":"B"},{"$f":"IF(Master!BT179=\"\",\"B\",Master!BT179)","v":"B"}]
[{"$f":"Master!A180","v":"DES"},{"$f":"Master!B180","v":"WSDOT PS 201 MULTIMODAL WALKING MODULE6 OLT"},{"$f":"Master!C180","v":"Module_6_People_Walking_ORG"},{"$f":"Master!D180","v":"OLT"},{"$f":"Master!E180","v":"Active"},{"$f":"Master!F180","v":0},{"$f":"Master!H180","v":0},{"$f":"IF(Master!Q180=\"\",\"B\",Master!Q180)","v":"B"},{"$f":"IF(Master!AB180=\"\",\"B\",Master!AB180)","v":"B"},{"$f":"IF(Master!AM180=\"\",\"B\",Master!AM180)","v":"B"},{"$f":"IF(Master!AX180=\"\",\"B\",Master!AX180)","v":"B"},{"$f":"IF(Master!BI180=\"\",\"B\",Master!BI180)","v":"B"},{"$f":"IF(Master!BT180=\"\",\"B\",Master!BT180)","v":"B"}]
[{"$f":"Master!A181","v":"DES"},{"$f":"Master!B181","v":"WSDOT PS 201 MULTIMODAL BIKING MODULE7 OLT"},{"$f":"Master!C181","v":"Module_7_People_Biking_ORG"},{"$f":"Master!D181","v":"OLT"},{"$f":"Master!E181","v":"Active"},{"$f":"Master!F181","v":0},{"$f":"Master!H181","v":0},{"$f":"IF(Master!Q181=\"\",\"B\",Master!Q181)","v":"B"},{"$f":"IF(Master!AB181=\"\",\"B\",Master!AB181)","v":"B"},{"$f":"IF(Master!AM181=\"\",\"B\",Master!AM181)","v":"B"},{"$f":"IF(Master!AX181=\"\",\"B\",Master!AX181)","v":"B"},{"$f":"IF(Master!BI181=\"\",\"B\",Master!BI181)","v":"B"},{"$f":"IF(Master!BT181=\"\",\"B\",Master!BT181)","v":"B"}]
[{"$f":"Master!A182","v":"DES"},{"$f":"Master!B182","v":"WSDOT PS 201 MULTIMODAL FREIGHT MODULE8 OLT"},{"$f":"Master!C182","v":"Module_8_Freight_Transportation_ORG"},{"$f":"Master!D182","v":"OLT"},{"$f":"Master!E182","v":"Active"},{"$f":"Master!F182","v":0},{"$f":"Master!H182","v":0},{"$f":"IF(Master!Q182=\"\",\"B\",Master!Q182)","v":"B"},{"$f":"IF(Master!AB182=\"\",\"B\",Master!AB182)","v":"B"},{"$f":"IF(Master!AM182=\"\",\"B\",Master!AM182)","v":"B"},{"$f":"IF(Master!AX182=\"\",\"B\",Master!AX182)","v":"B"},{"$f":"IF(Master!BI182=\"\",\"B\",Master!BI182)","v":"B"},{"$f":"IF(Master!BT182=\"\",\"B\",Master!BT182)","v":"B"}]
[{"$f":"Master!A183","v":"DES"},{"$f":"Master!B183","v":"WSDOT PS 201 MULTIMODAL CONFLICTS AND HUBS MODULE9 OLT"},{"$f":"Master!C183","v":"Module_9_Modal_Conflicts_and_Hubs_ORG"},{"$f":"Master!D183","v":"OLT"},{"$f":"Master!E183","v":"Active"},{"$f":"Master!F183","v":0},{"$f":"Master!H183","v":0},{"$f":"IF(Master!Q183=\"\",\"B\",Master!Q183)","v":"B"},{"$f":"IF(Master!AB183=\"\",\"B\",Master!AB183)","v":"B"},{"$f":"IF(Master!AM183=\"\",\"B\",Master!AM183)","v":"B"},{"$f":"IF(Master!AX183=\"\",\"B\",Master!AX183)","v":"B"},{"$f":"IF(Master!BI183=\"\",\"B\",Master!BI183)","v":"B"},{"$f":"IF(Master!BT183=\"\",\"B\",Master!BT183)","v":"B"}]
[{"$f":"Master!A184","v":"DES"},{"$f":"Master!B184","v":"WSDOT PRACTICAL SOLUTIONS OVERVIEW OLT"},{"$f":"Master!C184","v":"Practical_Solutions_Overview_ORG"},{"$f":"Master!D184","v":"OLT"},{"$f":"Master!E184","v":"Active"},{"$f":"Master!F184","v":0},{"$f":"Master!H184","v":0},{"$f":"IF(Master!Q184=\"\",\"B\",Master!Q184)","v":2},{"$f":"IF(Master!AB184=\"\",\"B\",Master!AB184)","v":2},{"$f":"IF(Master!AM184=\"\",\"B\",Master!AM184)","v":2},{"$f":"IF(Master!AX184=\"\",\"B\",Master!AX184)","v":2},{"$f":"IF(Master!BI184=\"\",\"B\",Master!BI184)","v":2},{"$f":"IF(Master!BT184=\"\",\"B\",Master!BT184)","v":2}]
[{"$f":"Master!A185","v":"DES"},{"$f":"Master!B185","v":"WSDOT PS 101: PRACTICAL SOLUTIONS APPROACH TO PROJECT DEVELOPMENT OVERVIEW"},{"$f":"Master!C185","v":"WSDOT_PS101"},{"$f":"Master!D185","v":"ILT"},{"$f":"Master!E185","v":"Inactive"},{"$f":"Master!F185","v":0},{"$f":"Master!H185","v":0},{"$f":"IF(Master!Q185=\"\",\"B\",Master!Q185)","v":2},{"$f":"IF(Master!AB185=\"\",\"B\",Master!AB185)","v":2},{"$f":"IF(Master!AM185=\"\",\"B\",Master!AM185)","v":2},{"$f":"IF(Master!AX185=\"\",\"B\",Master!AX185)","v":2},{"$f":"IF(Master!BI185=\"\",\"B\",Master!BI185)","v":2},{"$f":"IF(Master!BT185=\"\",\"B\",Master!BT185)","v":2}]
[{"$f":"Master!A186","v":"Hydraulics"},null,null,null,null,null,null,{"$f":"IF(Master!Q186=\"\",\"B\",Master!Q186)","v":"B"},{"$f":"IF(Master!AB186=\"\",\"B\",Master!AB186)","v":"B"},{"$f":"IF(Master!AM186=\"\",\"B\",Master!AM186)","v":"B"},{"$f":"IF(Master!AX186=\"\",\"B\",Master!AX186)","v":"B"},{"$f":"IF(Master!BI186=\"\",\"B\",Master!BI186)","v":"B"},{"$f":"IF(Master!BT186=\"\",\"B\",Master!BT186)","v":"B"}]
[{"$f":"Master!A187","v":"HYD"},{"$f":"Master!B187","v":"WSDOT DES: HYDRAULICS AND HYDROLOGY"},{"$f":"Master!C187","v":"WSDOT_DES_HYDRAULICS_AND_HYDROLOGY"},{"$f":"Master!D187","v":"ILT"},{"$f":"Master!E187","v":"Active"},{"$f":"Master!F187","v":0},{"$f":"Master!H187","v":0},{"$f":"IF(Master!Q187=\"\",\"B\",Master!Q187)","v":"B"},{"$f":"IF(Master!AB187=\"\",\"B\",Master!AB187)","v":"B"},{"$f":"IF(Master!AM187=\"\",\"B\",Master!AM187)","v":"B"},{"$f":"IF(Master!AX187=\"\",\"B\",Master!AX187)","v":"B"},{"$f":"IF(Master!BI187=\"\",\"B\",Master!BI187)","v":"B"},{"$f":"IF(Master!BT187=\"\",\"B\",Master!BT187)","v":"B"}]
[{"$f":"Master!A188","v":"HYD"},{"$f":"Master!B188","v":"WSDOT DES: 2014 HIGHWAY RUNOFF MANUAL TRAINING"},{"$f":"Master!C188","v":"WSDOT_DBI"},{"$f":"Master!D188","v":"ILT"},{"$f":"Master!E188","v":"Active"},{"$f":"Master!F188","v":0},{"$f":"Master!H188","v":0},{"$f":"IF(Master!Q188=\"\",\"B\",Master!Q188)","v":"B"},{"$f":"IF(Master!AB188=\"\",\"B\",Master!AB188)","v":"B"},{"$f":"IF(Master!AM188=\"\",\"B\",Master!AM188)","v":"B"},{"$f":"IF(Master!AX188=\"\",\"B\",Master!AX188)","v":"B"},{"$f":"IF(Master!BI188=\"\",\"B\",Master!BI188)","v":"B"},{"$f":"IF(Master!BT188=\"\",\"B\",Master!BT188)","v":"B"}]
[{"$f":"Master!A189","v":"HYD"},{"$f":"Master!B189","v":"WSDOT_MGSFLOOD_TRAINING"},{"$f":"Master!C189","v":"WSDOT_MGSFLOOD_TRAINING"},{"$f":"Master!D189","v":"ILT"},{"$f":"Master!E189","v":"Active"},{"$f":"Master!F189","v":0},{"$f":"Master!H189","v":0},{"$f":"IF(Master!Q189=\"\",\"B\",Master!Q189)","v":"B"},{"$f":"IF(Master!AB189=\"\",\"B\",Master!AB189)","v":"B"},{"$f":"IF(Master!AM189=\"\",\"B\",Master!AM189)","v":"B"},{"$f":"IF(Master!AX189=\"\",\"B\",Master!AX189)","v":"B"},{"$f":"IF(Master!BI189=\"\",\"B\",Master!BI189)","v":"B"},{"$f":"IF(Master!BT189=\"\",\"B\",Master!BT189)","v":"B"}]
[{"$f":"Master!A190","v":"HYD"},{"$f":"Master!B190","v":"WSDOT DES: STORMSHED BEGINNING"},{"$f":"Master!C190","v":"WSDOT_DES_STORMSHED_BEGINNING"},{"$f":"Master!D190","v":"ILT"},{"$f":"Master!E190","v":"Active"},{"$f":"Master!F190","v":0},{"$f":"Master!H190","v":0},{"$f":"IF(Master!Q190=\"\",\"B\",Master!Q190)","v":"B"},{"$f":"IF(Master!AB190=\"\",\"B\",Master!AB190)","v":"B"},{"$f":"IF(Master!AM190=\"\",\"B\",Master!AM190)","v":"B"},{"$f":"IF(Master!AX190=\"\",\"B\",Master!AX190)","v":"B"},{"$f":"IF(Master!BI190=\"\",\"B\",Master!BI190)","v":"B"},{"$f":"IF(Master!BT190=\"\",\"B\",Master!BT190)","v":"B"}]
[{"$f":"Master!A191","v":"HYD"},{"$f":"Master!B191","v":"WSDOT DES: STORMSHED INTERMEDIATE"},{"$f":"Master!C191","v":"WSDOT_DES_STORMSHED_INTERMEDIATE"},{"$f":"Master!D191","v":"ILT"},{"$f":"Master!E191","v":"Active"},{"$f":"Master!F191","v":0},{"$f":"Master!H191","v":0},{"$f":"IF(Master!Q191=\"\",\"B\",Master!Q191)","v":"B"},{"$f":"IF(Master!AB191=\"\",\"B\",Master!AB191)","v":"B"},{"$f":"IF(Master!AM191=\"\",\"B\",Master!AM191)","v":"B"},{"$f":"IF(Master!AX191=\"\",\"B\",Master!AX191)","v":"B"},{"$f":"IF(Master!BI191=\"\",\"B\",Master!BI191)","v":"B"},{"$f":"IF(Master!BT191=\"\",\"B\",Master!BT191)","v":"B"}]
[{"$f":"Master!A192","v":"Environmental"},null,null,null,null,null,null,{"$f":"IF(Master!Q192=\"\",\"B\",Master!Q192)","v":"B"},{"$f":"IF(Master!AB192=\"\",\"B\",Master!AB192)","v":"B"},{"$f":"IF(Master!AM192=\"\",\"B\",Master!AM192)","v":"B"},{"$f":"IF(Master!AX192=\"\",\"B\",Master!AX192)","v":"B"},{"$f":"IF(Master!BI192=\"\",\"B\",Master!BI192)","v":"B"},{"$f":"IF(Master!BT192=\"\",\"B\",Master!BT192)","v":"B"}]
[{"$f":"Master!A193","v":"ENV"},{"$f":"Master!B193","v":"WSDOT ENV: SPILL PLAN REVIEWER TRAINING (OLT)"},{"$f":"Master!C193","v":"WSDOT_BYZ_OLT"},{"$f":"Master!D193","v":"OLT"},{"$f":"Master!E193","v":"Active"},{"$f":"Master!F193","v":0},{"$f":"Master!G193","v":"NA"},{"$f":"IF(Master!Q193=\"\",\"B\",Master!Q193)","v":"B"},{"$f":"IF(Master!AB193=\"\",\"B\",Master!AB193)","v":"B"},{"$f":"IF(Master!AM193=\"\",\"B\",Master!AM193)","v":"B"},{"$f":"IF(Master!AX193=\"\",\"B\",Master!AX193)","v":"B"},{"$f":"IF(Master!BI193=\"\",\"B\",Master!BI193)","v":"B"},{"$f":"IF(Master!BT193=\"\",\"B\",Master!BT193)","v":"B"}]
[{"$f":"Master!A194","v":"ENV"},{"$f":"Master!B194","v":"WSDOT ENV: CONSTRUCTION SITE EROSION AND SEDIMENT CONTROL"},{"$f":"Master!C194","v":"WSDOT_BPW"},{"$f":"Master!D194","v":"ILT"},{"$f":"Master!E194","v":"Active"},{"$f":"Master!F194","v":0},{"$f":"Master!G194","v":"Once per year per Region or by request"},{"$f":"IF(Master!Q194=\"\",\"B\",Master!Q194)","v":"B"},{"$f":"IF(Master!AB194=\"\",\"B\",Master!AB194)","v":"B"},{"$f":"IF(Master!AM194=\"\",\"B\",Master!AM194)","v":"B"},{"$f":"IF(Master!AX194=\"\",\"B\",Master!AX194)","v":"B"},{"$f":"IF(Master!BI194=\"\",\"B\",Master!BI194)","v":"B"},{"$f":"IF(Master!BT194=\"\",\"B\",Master!BT194)","v":"B"}]
[{"$f":"Master!A195","v":"ENV"},{"$f":"Master!B195","v":"WSDOT ENV: CULTURAL RESOURCE TRAINING"},{"$f":"Master!C195","v":"WSDOT_B7T"},{"$f":"Master!D195","v":"ILT"},{"$f":"Master!E195","v":"Active"},{"$f":"Master!F195","v":0},{"$f":"Master!G195","v":"Offered 1-2 times per year"},{"$f":"IF(Master!Q195=\"\",\"B\",Master!Q195)","v":"B"},{"$f":"IF(Master!AB195=\"\",\"B\",Master!AB195)","v":"B"},{"$f":"IF(Master!AM195=\"\",\"B\",Master!AM195)","v":"B"},{"$f":"IF(Master!AX195=\"\",\"B\",Master!AX195)","v":"B"},{"$f":"IF(Master!BI195=\"\",\"B\",Master!BI195)","v":"B"},{"$f":"IF(Master!BT195=\"\",\"B\",Master!BT195)","v":"B"}]
[{"$f":"Master!A196","v":"ENV"},{"$f":"Master!B196","v":"WSDOT ENV: ENVIRONMENTAL JUSTICE INCLUSION TRAINING (OLT)"},{"$f":"Master!C196","v":"WSDOT_EJ1_OLT"},{"$f":"Master!D196","v":"OLT"},{"$f":"Master!E196","v":"Active"},{"$f":"Master!F196","v":0},{"$f":"Master!G196","v":"NA"},{"$f":"IF(Master!Q196=\"\",\"B\",Master!Q196)","v":1},{"$f":"IF(Master!AB196=\"\",\"B\",Master!AB196)","v":1},{"$f":"IF(Master!AM196=\"\",\"B\",Master!AM196)","v":1},{"$f":"IF(Master!AX196=\"\",\"B\",Master!AX196)","v":1},{"$f":"IF(Master!BI196=\"\",\"B\",Master!BI196)","v":1},{"$f":"IF(Master!BT196=\"\",\"B\",Master!BT196)","v":1}]
[{"$f":"Master!A197","v":"ENV"},{"$f":"Master!B197","v":"WSDOT ENV: ENVIRONMENTAL OVERVIEW - COMPLIANCE FOR CONSTRUCTION (OLT)"},{"$f":"Master!C197","v":"WSDOT_CR5_OLT"},{"$f":"Master!D197","v":"OLT"},{"$f":"Master!E197","v":"Active"},{"$f":"Master!F197","v":0},{"$f":"Master!G197","v":"NA"},{"$f":"IF(Master!Q197=\"\",\"B\",Master!Q197)","v":"B"},{"$f":"IF(Master!AB197=\"\",\"B\",Master!AB197)","v":"B"},{"$f":"IF(Master!AM197=\"\",\"B\",Master!AM197)","v":"B"},{"$f":"IF(Master!AX197=\"\",\"B\",Master!AX197)","v":"B"},{"$f":"IF(Master!BI197=\"\",\"B\",Master!BI197)","v":"B"},{"$f":"IF(Master!BT197=\"\",\"B\",Master!BT197)","v":"B"}]
[{"$f":"Master!A198","v":"ENV"},{"$f":"Master!B198","v":"WSDOT ENV: ESA (ENDANGERED SPECIES ACT) FOR NON-BIOLOGISTS (OLT)"},{"$f":"Master!C198","v":"WSDOT_EV9_OLT"},{"$f":"Master!D198","v":"OLT"},{"$f":"Master!E198","v":"Active"},{"$f":"Master!F198","v":0},{"$f":"Master!G198","v":"NA"},{"$f":"IF(Master!Q198=\"\",\"B\",Master!Q198)","v":"B"},{"$f":"IF(Master!AB198=\"\",\"B\",Master!AB198)","v":"B"},{"$f":"IF(Master!AM198=\"\",\"B\",Master!AM198)","v":"B"},{"$f":"IF(Master!AX198=\"\",\"B\",Master!AX198)","v":"B"},{"$f":"IF(Master!BI198=\"\",\"B\",Master!BI198)","v":"B"},{"$f":"IF(Master!BT198=\"\",\"B\",Master!BT198)","v":"B"}]
[{"$f":"Master!A199","v":"ENV"},{"$f":"Master!B199","v":"WSDOT ENV: NEPA/SEPA - MODULE 1 - OVERVIEW"},{"$f":"Master!C199","v":"WSDOT_DDV"},{"$f":"Master!D199","v":"ILT"},{"$f":"Master!E199","v":"Active"},{"$f":"Master!F199","v":0},{"$f":"Master!G199","v":"Once per year per Region or by request"},{"$f":"IF(Master!Q199=\"\",\"B\",Master!Q199)","v":"B"},{"$f":"IF(Master!AB199=\"\",\"B\",Master!AB199)","v":"B"},{"$f":"IF(Master!AM199=\"\",\"B\",Master!AM199)","v":"B"},{"$f":"IF(Master!AX199=\"\",\"B\",Master!AX199)","v":"B"},{"$f":"IF(Master!BI199=\"\",\"B\",Master!BI199)","v":"B"},{"$f":"IF(Master!BT199=\"\",\"B\",Master!BT199)","v":"B"}]
[{"$f":"Master!A200","v":"ENV"},{"$f":"Master!B200","v":"WSDOT ENV: NEPA/SEPA - MODULE 2 - DOCUMENTING CATEGORICAL EXCLUSIONS"},{"$f":"Master!C200","v":"WSDOT_ENV"},{"$f":"Master!D200","v":"ILT"},{"$f":"Master!E200","v":"Active"},{"$f":"Master!F200","v":0},{"$f":"Master!G200","v":"Once per year per Region or by request"},{"$f":"IF(Master!Q200=\"\",\"B\",Master!Q200)","v":"B"},{"$f":"IF(Master!AB200=\"\",\"B\",Master!AB200)","v":"B"},{"$f":"IF(Master!AM200=\"\",\"B\",Master!AM200)","v":"B"},{"$f":"IF(Master!AX200=\"\",\"B\",Master!AX200)","v":"B"},{"$f":"IF(Master!BI200=\"\",\"B\",Master!BI200)","v":"B"},{"$f":"IF(Master!BT200=\"\",\"B\",Master!BT200)","v":"B"}]
[{"$f":"Master!A201","v":"ENV"},{"$f":"Master!B201","v":"WSDOT ENV: NEPA/SEPA - MODULE 3 - DOCUMENTING EAs AND EISs"},{"$f":"Master!C201","v":"WSDOT_ENV_2"},{"$f":"Master!D201","v":"ILT"},{"$f":"Master!E201","v":"Active"},{"$f":"Master!F201","v":0},{"$f":"Master!G201","v":"Once per year per Region or by request"},{"$f":"IF(Master!Q201=\"\",\"B\",Master!Q201)","v":"B"},{"$f":"IF(Master!AB201=\"\",\"B\",Master!AB201)","v":"B"},{"$f":"IF(Master!AM201=\"\",\"B\",Master!AM201)","v":"B"},{"$f":"IF(Master!AX201=\"\",\"B\",Master!AX201)","v":"B"},{"$f":"IF(Master!BI201=\"\",\"B\",Master!BI201)","v":"B"},{"$f":"IF(Master!BT201=\"\",\"B\",Master!BT201)","v":"B"}]
[{"$f":"Master!A202","v":"ENV"},{"$f":"Master!B202","v":"WSDOT ENV: POISONOUS AND HARMFUL PLANTS IN WASHINGTON STATE"},{"$f":"Master!C202","v":"WSDOT_019_OLT"},{"$f":"Master!D202","v":"OLT"},{"$f":"Master!E202","v":"Active"},{"$f":"Master!F202","v":0},{"$f":"Master!G202","v":"NA"},{"$f":"IF(Master!Q202=\"\",\"B\",Master!Q202)","v":"B"},{"$f":"IF(Master!AB202=\"\",\"B\",Master!AB202)","v":"B"},{"$f":"IF(Master!AM202=\"\",\"B\",Master!AM202)","v":"B"},{"$f":"IF(Master!AX202=\"\",\"B\",Master!AX202)","v":"B"},{"$f":"IF(Master!BI202=\"\",\"B\",Master!BI202)","v":"B"},{"$f":"IF(Master!BT202=\"\",\"B\",Master!BT202)","v":"B"}]
[{"$f":"Master!A203","v":"Computer Aided Engineering"},null,null,null,null,null,null,{"$f":"IF(Master!Q203=\"\",\"B\",Master!Q203)","v":"B"},{"$f":"IF(Master!AB203=\"\",\"B\",Master!AB203)","v":"B"},{"$f":"IF(Master!AM203=\"\",\"B\",Master!AM203)","v":"B"},{"$f":"IF(Master!AX203=\"\",\"B\",Master!AX203)","v":"B"},{"$f":"IF(Master!BI203=\"\",\"B\",Master!BI203)","v":"B"},{"$f":"IF(Master!BT203=\"\",\"B\",Master!BT203)","v":"B"}]
[{"$f":"Master!A204","v":"CAE"},{"$f":"Master!B204","v":"WSDOT CAE: MICROSTATION - 101 ENTRY LEVEL"},{"$f":"Master!C204","v":"WSDOT_AX4"},{"$f":"Master!D204","v":"ILT"},{"$f":"Master!E204","v":"Active"},{"$f":"Master!F204","v":0},{"$f":"Master!H204","v":0},{"$f":"IF(Master!Q204=\"\",\"B\",Master!Q204)","v":"B"},{"$f":"IF(Master!AB204=\"\",\"B\",Master!AB204)","v":"B"},{"$f":"IF(Master!AM204=\"\",\"B\",Master!AM204)","v":"B"},{"$f":"IF(Master!AX204=\"\",\"B\",Master!AX204)","v":"B"},{"$f":"IF(Master!BI204=\"\",\"B\",Master!BI204)","v":"B"},{"$f":"IF(Master!BT204=\"\",\"B\",Master!BT204)","v":"B"}]
[{"$f":"Master!A205","v":"CAE"},{"$f":"Master!B205","v":"WSDOT CAE: MICROSTATION - 201 PRODUCTION LEVEL"},{"$f":"Master!C205","v":"WSDOT_AI6"},{"$f":"Master!D205","v":"ILT"},{"$f":"Master!E205","v":"Active"},{"$f":"Master!F205","v":0},{"$f":"Master!H205","v":0},{"$f":"IF(Master!Q205=\"\",\"B\",Master!Q205)","v":"B"},{"$f":"IF(Master!AB205=\"\",\"B\",Master!AB205)","v":"B"},{"$f":"IF(Master!AM205=\"\",\"B\",Master!AM205)","v":"B"},{"$f":"IF(Master!AX205=\"\",\"B\",Master!AX205)","v":"B"},{"$f":"IF(Master!BI205=\"\",\"B\",Master!BI205)","v":"B"},{"$f":"IF(Master!BT205=\"\",\"B\",Master!BT205)","v":"B"}]
[{"$f":"Master!A206","v":"CAE"},{"$f":"Master!B206","v":"WSDOT CAE: INROADS - 201 PRODUCTION LEVEL DESIGN"},{"$f":"Master!C206","v":"WSDOT_CRZ"},{"$f":"Master!D206","v":"ILT"},{"$f":"Master!E206","v":"Active"},{"$f":"Master!F206","v":0},{"$f":"Master!H206","v":0},{"$f":"IF(Master!Q206=\"\",\"B\",Master!Q206)","v":"B"},{"$f":"IF(Master!AB206=\"\",\"B\",Master!AB206)","v":"B"},{"$f":"IF(Master!AM206=\"\",\"B\",Master!AM206)","v":"B"},{"$f":"IF(Master!AX206=\"\",\"B\",Master!AX206)","v":"B"},{"$f":"IF(Master!BI206=\"\",\"B\",Master!BI206)","v":"B"},{"$f":"IF(Master!BT206=\"\",\"B\",Master!BT206)","v":"B"}]
[{"$f":"Master!A207","v":"CAE"},{"$f":"Master!B207","v":"WSDOT CAE: INROADS - 202 SURVEY DATA PROCESSING"},{"$f":"Master!C207","v":"WSDOT_CU1"},{"$f":"Master!D207","v":"ILT"},{"$f":"Master!E207","v":"Active"},{"$f":"Master!F207","v":0},{"$f":"Master!H207","v":0},{"$f":"IF(Master!Q207=\"\",\"B\",Master!Q207)","v":"B"},{"$f":"IF(Master!AB207=\"\",\"B\",Master!AB207)","v":"B"},{"$f":"IF(Master!AM207=\"\",\"B\",Master!AM207)","v":"B"},{"$f":"IF(Master!AX207=\"\",\"B\",Master!AX207)","v":"B"},{"$f":"IF(Master!BI207=\"\",\"B\",Master!BI207)","v":"B"},{"$f":"IF(Master!BT207=\"\",\"B\",Master!BT207)","v":"B"}]
[{"$f":"Master!A208","v":"CAE"},{"$f":"Master!B208","v":"WSDOT CAE: INROADS - 203 GEOMETRICS"},{"$f":"Master!C208","v":"WSDOT_DBF"},{"$f":"Master!D208","v":"ILT"},{"$f":"Master!E208","v":"Active"},{"$f":"Master!F208","v":0},{"$f":"Master!H208","v":0},{"$f":"IF(Master!Q208=\"\",\"B\",Master!Q208)","v":"B"},{"$f":"IF(Master!AB208=\"\",\"B\",Master!AB208)","v":"B"},{"$f":"IF(Master!AM208=\"\",\"B\",Master!AM208)","v":"B"},{"$f":"IF(Master!AX208=\"\",\"B\",Master!AX208)","v":"B"},{"$f":"IF(Master!BI208=\"\",\"B\",Master!BI208)","v":"B"},{"$f":"IF(Master!BT208=\"\",\"B\",Master!BT208)","v":"B"}]
[{"$f":"Master!A209","v":"CAE"},{"$f":"Master!B209","v":"WSDOT CAE: INROADS - 205 CONSTRUCTION PROCESSES"},{"$f":"Master!C209","v":"WSDOT_DH2"},{"$f":"Master!D209","v":"ILT"},{"$f":"Master!E209","v":"Active"},{"$f":"Master!F209","v":0},{"$f":"Master!H209","v":0},{"$f":"IF(Master!Q209=\"\",\"B\",Master!Q209)","v":"B"},{"$f":"IF(Master!AB209=\"\",\"B\",Master!AB209)","v":"B"},{"$f":"IF(Master!AM209=\"\",\"B\",Master!AM209)","v":"B"},{"$f":"IF(Master!AX209=\"\",\"B\",Master!AX209)","v":"B"},{"$f":"IF(Master!BI209=\"\",\"B\",Master!BI209)","v":"B"},{"$f":"IF(Master!BT209=\"\",\"B\",Master!BT209)","v":"B"}]
[{"$f":"Master!A210","v":"CAE"},{"$f":"Master!B210","v":"WSDOT CAE: INROADS - 251 INTERMEDIATE ROADWAY DESIGN"},{"$f":"Master!C210","v":"WSDOT_DDL"},{"$f":"Master!D210","v":"ILT"},{"$f":"Master!E210","v":"Active"},{"$f":"Master!F210","v":0},{"$f":"Master!H210","v":0},{"$f":"IF(Master!Q210=\"\",\"B\",Master!Q210)","v":"B"},{"$f":"IF(Master!AB210=\"\",\"B\",Master!AB210)","v":"B"},{"$f":"IF(Master!AM210=\"\",\"B\",Master!AM210)","v":"B"},{"$f":"IF(Master!AX210=\"\",\"B\",Master!AX210)","v":"B"},{"$f":"IF(Master!BI210=\"\",\"B\",Master!BI210)","v":"B"},{"$f":"IF(Master!BT210=\"\",\"B\",Master!BT210)","v":"B"}]
[{"$f":"Master!A211","v":"Survey"},null,null,null,null,null,null,{"$f":"IF(Master!Q211=\"\",\"B\",Master!Q211)","v":"B"},{"$f":"IF(Master!AB211=\"\",\"B\",Master!AB211)","v":"B"},{"$f":"IF(Master!AM211=\"\",\"B\",Master!AM211)","v":"B"},{"$f":"IF(Master!AX211=\"\",\"B\",Master!AX211)","v":"B"},{"$f":"IF(Master!BI211=\"\",\"B\",Master!BI211)","v":"B"},{"$f":"IF(Master!BT211=\"\",\"B\",Master!BT211)","v":"B"}]
[{"$f":"Master!A212","v":"SUR"},{"$f":"Master!B212","v":"WSDOT SUR: BASIC SURVEYING (SELF-STUDY)"},{"$f":"Master!C212","v":"WSDOT_APK"},{"$f":"Master!D212","v":"SS"},{"$f":"Master!E212","v":"Active"},{"$f":"Master!F212","v":0},{"$f":"Master!H212","v":0},{"$f":"IF(Master!Q212=\"\",\"B\",Master!Q212)","v":"R"},{"$f":"IF(Master!AB212=\"\",\"B\",Master!AB212)","v":"R"},{"$f":"IF(Master!AM212=\"\",\"B\",Master!AM212)","v":"B"},{"$f":"IF(Master!AX212=\"\",\"B\",Master!AX212)","v":"B"},{"$f":"IF(Master!BI212=\"\",\"B\",Master!BI212)","v":"B"},{"$f":"IF(Master!BT212=\"\",\"B\",Master!BT212)","v":"B"}]
[{"$f":"Master!A213","v":"SUR"},{"$f":"Master!B213","v":"WSDOT SUR: INTERMEDIATE SURVEYING"},{"$f":"Master!C213","v":"WSDOT A4U"},{"$f":"Master!D213","v":"ILT"},{"$f":"Master!E213","v":"Under Development"},{"$f":"Master!F213","v":"Q3 2019"},{"$f":"Master!H213","v":0},{"$f":"IF(Master!Q213=\"\",\"B\",Master!Q213)","v":"B"},{"$f":"IF(Master!AB213=\"\",\"B\",Master!AB213)","v":"B"},{"$f":"IF(Master!AM213=\"\",\"B\",Master!AM213)","v":"B"},{"$f":"IF(Master!AX213=\"\",\"B\",Master!AX213)","v":"B"},{"$f":"IF(Master!BI213=\"\",\"B\",Master!BI213)","v":"B"},{"$f":"IF(Master!BT213=\"\",\"B\",Master!BT213)","v":"B"}]
[{"$f":"Master!A214","v":"Traffic Operations Division"},null,null,null,null,null,null,{"$f":"IF(Master!Q214=\"\",\"B\",Master!Q214)","v":"B"},{"$f":"IF(Master!AB214=\"\",\"B\",Master!AB214)","v":"B"},{"$f":"IF(Master!AM214=\"\",\"B\",Master!AM214)","v":"B"},{"$f":"IF(Master!AX214=\"\",\"B\",Master!AX214)","v":"B"},{"$f":"IF(Master!BI214=\"\",\"B\",Master!BI214)","v":"B"},{"$f":"IF(Master!BT214=\"\",\"B\",Master!BT214)","v":"B"}]
[{"$f":"Master!A215","v":"TR"},{"$f":"Master!B215","v":"WSDOT TR: Work Zone Traffic Control Supervisor Re-Certification"},{"$f":"Master!C215","v":"WSDOT_BQD"},{"$f":"Master!D215","v":"OLT/ILT"},{"$f":"Master!E215","v":"Active"},{"$f":"Master!F215","v":0},{"$f":"Master!H215","v":0},{"$f":"IF(Master!Q215=\"\",\"B\",Master!Q215)","v":"B"},{"$f":"IF(Master!AB215=\"\",\"B\",Master!AB215)","v":"B"},{"$f":"IF(Master!AM215=\"\",\"B\",Master!AM215)","v":"B"},{"$f":"IF(Master!AX215=\"\",\"B\",Master!AX215)","v":"B"},{"$f":"IF(Master!BI215=\"\",\"B\",Master!BI215)","v":"B"},{"$f":"IF(Master!BT215=\"\",\"B\",Master!BT215)","v":"B"}]
[{"$f":"Master!A216","v":"TR"},{"$f":"Master!B216","v":"WSDOT TR: Work Zone Traffic Control Supervisor Certification"},{"$f":"Master!C216","v":"WSDOT_A42"},{"$f":"Master!D216","v":"OLT/ILT"},{"$f":"Master!E216","v":"Active"},{"$f":"Master!F216","v":0},{"$f":"Master!H216","v":0},{"$f":"IF(Master!Q216=\"\",\"B\",Master!Q216)","v":"B"},{"$f":"IF(Master!AB216=\"\",\"B\",Master!AB216)","v":"B"},{"$f":"IF(Master!AM216=\"\",\"B\",Master!AM216)","v":"B"},{"$f":"IF(Master!AX216=\"\",\"B\",Master!AX216)","v":"B"},{"$f":"IF(Master!BI216=\"\",\"B\",Master!BI216)","v":"B"},{"$f":"IF(Master!BT216=\"\",\"B\",Master!BT216)","v":"B"}]
[{"$f":"Master!A217","v":"TR"},{"$f":"Master!B217","v":"WSDOT TR: Work Zone Traffic Control Plan Design"},{"$f":"Master!C217","v":"WSDOT_DD7 (day one) and WSDOT_DBK (day two)"},{"$f":"Master!D217","v":"OLT/ILT"},{"$f":"Master!E217","v":"Active"},{"$f":"Master!F217","v":0},{"$f":"Master!H217","v":0},{"$f":"IF(Master!Q217=\"\",\"B\",Master!Q217)","v":"B"},{"$f":"IF(Master!AB217=\"\",\"B\",Master!AB217)","v":"B"},{"$f":"IF(Master!AM217=\"\",\"B\",Master!AM217)","v":"B"},{"$f":"IF(Master!AX217=\"\",\"B\",Master!AX217)","v":"B"},{"$f":"IF(Master!BI217=\"\",\"B\",Master!BI217)","v":"B"},{"$f":"IF(Master!BT217=\"\",\"B\",Master!BT217)","v":"B"}]
[{"$f":"Master!A218","v":"TR"},{"$f":"Master!B218","v":"**VISUM"},{"$f":"Master!C218","v":0},{"$f":"Master!D218","v":"OLT/ILT"},{"$f":"Master!E218","v":"Inactive"},{"$f":"Master!F218","v":"None"},{"$f":"Master!H218","v":"No technical lead within WSDOT available to teach"},{"$f":"IF(Master!Q218=\"\",\"B\",Master!Q218)","v":"B"},{"$f":"IF(Master!AB218=\"\",\"B\",Master!AB218)","v":"B"},{"$f":"IF(Master!AM218=\"\",\"B\",Master!AM218)","v":"B"},{"$f":"IF(Master!AX218=\"\",\"B\",Master!AX218)","v":"B"},{"$f":"IF(Master!BI218=\"\",\"B\",Master!BI218)","v":"B"},{"$f":"IF(Master!BT218=\"\",\"B\",Master!BT218)","v":"B"}]
[{"$f":"Master!A219","v":"TR"},{"$f":"Master!B219","v":"**VISSIM"},{"$f":"Master!C219","v":0},{"$f":"Master!D219","v":"OLT/ILT"},{"$f":"Master!E219","v":"Inactive"},{"$f":"Master!F219","v":"None"},{"$f":"Master!H219","v":"No technical lead within WSDOT available to teach"},{"$f":"IF(Master!Q219=\"\",\"B\",Master!Q219)","v":"B"},{"$f":"IF(Master!AB219=\"\",\"B\",Master!AB219)","v":"B"},{"$f":"IF(Master!AM219=\"\",\"B\",Master!AM219)","v":"B"},{"$f":"IF(Master!AX219=\"\",\"B\",Master!AX219)","v":"B"},{"$f":"IF(Master!BI219=\"\",\"B\",Master!BI219)","v":"B"},{"$f":"IF(Master!BT219=\"\",\"B\",Master!BT219)","v":"B"}]
[{"$f":"Master!A220","v":"TR"},{"$f":"Master!B220","v":"**SIDRA"},{"$f":"Master!C220","v":0},{"$f":"Master!D220","v":"OLT/ILT"},{"$f":"Master!E220","v":"Inactive"},{"$f":"Master!F220","v":"None"},{"$f":"Master!H220","v":"No technical lead within WSDOT available to teach"},{"$f":"IF(Master!Q220=\"\",\"B\",Master!Q220)","v":"B"},{"$f":"IF(Master!AB220=\"\",\"B\",Master!AB220)","v":"B"},{"$f":"IF(Master!AM220=\"\",\"B\",Master!AM220)","v":"B"},{"$f":"IF(Master!AX220=\"\",\"B\",Master!AX220)","v":"B"},{"$f":"IF(Master!BI220=\"\",\"B\",Master!BI220)","v":"B"},{"$f":"IF(Master!BT220=\"\",\"B\",Master!BT220)","v":"B"}]
[{"$f":"Master!A221","v":"TR"},{"$f":"Master!B221","v":"**SYNCHRO"},{"$f":"Master!C221","v":0},{"$f":"Master!D221","v":"OLT/ILT"},{"$f":"Master!E221","v":"Inactive"},{"$f":"Master!F221","v":"None"},{"$f":"Master!H221","v":"No technical lead within WSDOT available to teach"},{"$f":"IF(Master!Q221=\"\",\"B\",Master!Q221)","v":"B"},{"$f":"IF(Master!AB221=\"\",\"B\",Master!AB221)","v":"B"},{"$f":"IF(Master!AM221=\"\",\"B\",Master!AM221)","v":"B"},{"$f":"IF(Master!AX221=\"\",\"B\",Master!AX221)","v":"B"},{"$f":"IF(Master!BI221=\"\",\"B\",Master!BI221)","v":"B"},{"$f":"IF(Master!BT221=\"\",\"B\",Master!BT221)","v":"B"}]
[{"$f":"Master!A222","v":"TR"},{"$f":"Master!B222","v":"WSDOT PSHSM: Highway Safety Manual Level B"},{"$f":"Master!C222","v":"PSHSM_B01"},{"$f":"Master!D222","v":"OLT/ILT"},{"$f":"Master!E222","v":"Inactive"},{"$f":"Master!F222","v":"None"},{"$f":"Master!H222","v":"No technical lead within WSDOT available to teach"},{"$f":"IF(Master!Q222=\"\",\"B\",Master!Q222)","v":"B"},{"$f":"IF(Master!AB222=\"\",\"B\",Master!AB222)","v":"B"},{"$f":"IF(Master!AM222=\"\",\"B\",Master!AM222)","v":"B"},{"$f":"IF(Master!AX222=\"\",\"B\",Master!AX222)","v":"B"},{"$f":"IF(Master!BI222=\"\",\"B\",Master!BI222)","v":"B"},{"$f":"IF(Master!BT222=\"\",\"B\",Master!BT222)","v":"B"}]
[{"$f":"Master!A223","v":"TR"},{"$f":"Master!B223","v":"WSDOT PSHSM: Highway Safety Manual Level C1"},{"$f":"Master!C223","v":"PSHSM_C01"},{"$f":"Master!D223","v":"OLT/ILT"},{"$f":"Master!E223","v":"Inactive"},{"$f":"Master!F223","v":"None"},{"$f":"Master!H223","v":"No technical lead within WSDOT available to teach"},{"$f":"IF(Master!Q223=\"\",\"B\",Master!Q223)","v":"B"},{"$f":"IF(Master!AB223=\"\",\"B\",Master!AB223)","v":"B"},{"$f":"IF(Master!AM223=\"\",\"B\",Master!AM223)","v":"B"},{"$f":"IF(Master!AX223=\"\",\"B\",Master!AX223)","v":"B"},{"$f":"IF(Master!BI223=\"\",\"B\",Master!BI223)","v":"B"},{"$f":"IF(Master!BT223=\"\",\"B\",Master!BT223)","v":"B"}]
[{"$f":"Master!A224","v":"TR"},{"$f":"Master!B224","v":"WSDOT PSHSM: Highway Safety Manual Level C2"},{"$f":"Master!C224","v":"PSHSM C2"},{"$f":"Master!D224","v":"OLT/ILT"},{"$f":"Master!E224","v":"Inactive"},{"$f":"Master!F224","v":"None"},{"$f":"Master!H224","v":"No technical lead within WSDOT available to teach"},{"$f":"IF(Master!Q224=\"\",\"B\",Master!Q224)","v":"B"},{"$f":"IF(Master!AB224=\"\",\"B\",Master!AB224)","v":"B"},{"$f":"IF(Master!AM224=\"\",\"B\",Master!AM224)","v":"B"},{"$f":"IF(Master!AX224=\"\",\"B\",Master!AX224)","v":"B"},{"$f":"IF(Master!BI224=\"\",\"B\",Master!BI224)","v":"B"},{"$f":"IF(Master!BT224=\"\",\"B\",Master!BT224)","v":"B"}]
[{"$f":"Master!A225","v":"TR"},{"$f":"Master!B225","v":"WSDOT PSHSM: Highway Safety Manual Level C3"},{"$f":"Master!C225","v":"PSHSM C3"},{"$f":"Master!D225","v":"OLT/ILT"},{"$f":"Master!E225","v":"Inactive"},{"$f":"Master!F225","v":"None"},{"$f":"Master!H225","v":"No technical lead within WSDOT available to teach"},{"$f":"IF(Master!Q225=\"\",\"B\",Master!Q225)","v":"B"},{"$f":"IF(Master!AB225=\"\",\"B\",Master!AB225)","v":"B"},{"$f":"IF(Master!AM225=\"\",\"B\",Master!AM225)","v":"B"},{"$f":"IF(Master!AX225=\"\",\"B\",Master!AX225)","v":"B"},{"$f":"IF(Master!BI225=\"\",\"B\",Master!BI225)","v":"B"},{"$f":"IF(Master!BT225=\"\",\"B\",Master!BT225)","v":"B"}]
[{"$f":"Master!A226","v":"TR"},{"$f":"Master!B226","v":"WSDOT PSHSM: Highway Safety Manual Level D1"},{"$f":"Master!C226","v":"PSHSM D1"},{"$f":"Master!D226","v":"OLT/ILT"},{"$f":"Master!E226","v":"Inactive"},{"$f":"Master!F226","v":"None"},{"$f":"Master!H226","v":"No technical lead within WSDOT available to teach"},{"$f":"IF(Master!Q226=\"\",\"B\",Master!Q226)","v":"B"},{"$f":"IF(Master!AB226=\"\",\"B\",Master!AB226)","v":"B"},{"$f":"IF(Master!AM226=\"\",\"B\",Master!AM226)","v":"B"},{"$f":"IF(Master!AX226=\"\",\"B\",Master!AX226)","v":"B"},{"$f":"IF(Master!BI226=\"\",\"B\",Master!BI226)","v":"B"},{"$f":"IF(Master!BT226=\"\",\"B\",Master!BT226)","v":"B"}]
[{"$f":"Master!A227","v":"TR"},{"$f":"Master!B227","v":"**ILLUMINATION DESIGN FOR TRANSPORTATION APPLICATIONS"},{"$f":"Master!C227","v":0},{"$f":"Master!D227","v":"OLT/ILT"},{"$f":"Master!E227","v":"Under Development"},{"$f":"Master!F227","v":"Q2 2018"},{"$f":"Master!H227","v":0},{"$f":"IF(Master!Q227=\"\",\"B\",Master!Q227)","v":"B"},{"$f":"IF(Master!AB227=\"\",\"B\",Master!AB227)","v":"B"},{"$f":"IF(Master!AM227=\"\",\"B\",Master!AM227)","v":"B"},{"$f":"IF(Master!AX227=\"\",\"B\",Master!AX227)","v":"B"},{"$f":"IF(Master!BI227=\"\",\"B\",Master!BI227)","v":"B"},{"$f":"IF(Master!BT227=\"\",\"B\",Master!BT227)","v":"B"}]
[{"$f":"Master!A228","v":"TR"},{"$f":"Master!B228","v":"WSDOT TR: Power Supply Design for Transportation Applications"},{"$f":"Master!C228","v":"WSDOT_BZA"},{"$f":"Master!D228","v":"OLT/ILT"},{"$f":"Master!E228","v":"Active"},{"$f":"Master!F228","v":0},{"$f":"Master!H228","v":0},{"$f":"IF(Master!Q228=\"\",\"B\",Master!Q228)","v":"B"},{"$f":"IF(Master!AB228=\"\",\"B\",Master!AB228)","v":"B"},{"$f":"IF(Master!AM228=\"\",\"B\",Master!AM228)","v":"B"},{"$f":"IF(Master!AX228=\"\",\"B\",Master!AX228)","v":"B"},{"$f":"IF(Master!BI228=\"\",\"B\",Master!BI228)","v":"B"},{"$f":"IF(Master!BT228=\"\",\"B\",Master!BT228)","v":"B"}]
[{"$f":"Master!A229","v":"TR"},{"$f":"Master!B229","v":"**TRAFFIC SIGNAL LAYOUT AND CONDUCTOR TERMINATION"},{"$f":"Master!C229","v":0},{"$f":"Master!D229","v":"OLT/ILT"},{"$f":"Master!E229","v":"Inactive"},{"$f":"Master!F229","v":0},{"$f":"Master!H229","v":"No technical lead within WSDOT available to teach"},{"$f":"IF(Master!Q229=\"\",\"B\",Master!Q229)","v":"B"},{"$f":"IF(Master!AB229=\"\",\"B\",Master!AB229)","v":"B"},{"$f":"IF(Master!AM229=\"\",\"B\",Master!AM229)","v":"B"},{"$f":"IF(Master!AX229=\"\",\"B\",Master!AX229)","v":"B"},{"$f":"IF(Master!BI229=\"\",\"B\",Master!BI229)","v":"B"},{"$f":"IF(Master!BT229=\"\",\"B\",Master!BT229)","v":"B"}]
[{"$f":"Master!A230","v":"TR"},{"$f":"Master!B230","v":"**SIGN DESIGN"},{"$f":"Master!C230","v":0},{"$f":"Master!D230","v":"OLT/ILT"},{"$f":"Master!E230","v":"Inactive"},{"$f":"Master!F230","v":"None"},{"$f":"Master!H230","v":"No technical lead within WSDOT available to teach"},{"$f":"IF(Master!Q230=\"\",\"B\",Master!Q230)","v":"B"},{"$f":"IF(Master!AB230=\"\",\"B\",Master!AB230)","v":"B"},{"$f":"IF(Master!AM230=\"\",\"B\",Master!AM230)","v":"B"},{"$f":"IF(Master!AX230=\"\",\"B\",Master!AX230)","v":"B"},{"$f":"IF(Master!BI230=\"\",\"B\",Master!BI230)","v":"B"},{"$f":"IF(Master!BT230=\"\",\"B\",Master!BT230)","v":"B"}]
[{"$f":"Master!A231","v":"TR"},{"$f":"Master!B231","v":"WSDOT NHI: TR-Traffic Signal Design and Operations"},{"$f":"Master!C231","v":"WSDOT_TSD"},{"$f":"Master!D231","v":"OLT/ILT"},{"$f":"Master!E231","v":"Inactive"},{"$f":"Master!F231","v":"None"},{"$f":"Master!H231","v":"No technical lead within WSDOT available to teach"},{"$f":"IF(Master!Q231=\"\",\"B\",Master!Q231)","v":"B"},{"$f":"IF(Master!AB231=\"\",\"B\",Master!AB231)","v":"B"},{"$f":"IF(Master!AM231=\"\",\"B\",Master!AM231)","v":"B"},{"$f":"IF(Master!AX231=\"\",\"B\",Master!AX231)","v":"B"},{"$f":"IF(Master!BI231=\"\",\"B\",Master!BI231)","v":"B"},{"$f":"IF(Master!BT231=\"\",\"B\",Master!BT231)","v":"B"}]
[{"$f":"Master!A232","v":"TR"},{"$f":"Master!B232","v":"WSDOT NHI: TR-Traffic Signal Timing Concepts"},{"$f":"Master!C232","v":"WSDOT_STC"},{"$f":"Master!D232","v":"OLT/ILT"},{"$f":"Master!E232","v":"Inactive"},{"$f":"Master!F232","v":"None"},{"$f":"Master!H232","v":"No technical lead within WSDOT available to teach"},{"$f":"IF(Master!Q232=\"\",\"B\",Master!Q232)","v":"B"},{"$f":"IF(Master!AB232=\"\",\"B\",Master!AB232)","v":"B"},{"$f":"IF(Master!AM232=\"\",\"B\",Master!AM232)","v":"B"},{"$f":"IF(Master!AX232=\"\",\"B\",Master!AX232)","v":"B"},{"$f":"IF(Master!BI232=\"\",\"B\",Master!BI232)","v":"B"},{"$f":"IF(Master!BT232=\"\",\"B\",Master!BT232)","v":"B"}]
[{"$f":"Master!A233","v":"TR"},{"$f":"Master!B233","v":"**SYSTEMS ENGINEERING FOR SIGNAL SYSTEMS"},{"$f":"Master!C233","v":0},{"$f":"Master!D233","v":"OLT/ILT"},{"$f":"Master!E233","v":"Inactive"},{"$f":"Master!F233","v":"None"},{"$f":"Master!H233","v":"No technical lead within WSDOT available to teach"},{"$f":"IF(Master!Q233=\"\",\"B\",Master!Q233)","v":"B"},{"$f":"IF(Master!AB233=\"\",\"B\",Master!AB233)","v":"B"},{"$f":"IF(Master!AM233=\"\",\"B\",Master!AM233)","v":"B"},{"$f":"IF(Master!AX233=\"\",\"B\",Master!AX233)","v":"B"},{"$f":"IF(Master!BI233=\"\",\"B\",Master!BI233)","v":"B"},{"$f":"IF(Master!BT233=\"\",\"B\",Master!BT233)","v":"B"}]
[{"$f":"Master!A234","v":"TR"},{"$f":"Master!B234","v":"**TRAFFIC SIGNAL MANAGEMENT"},{"$f":"Master!C234","v":0},{"$f":"Master!D234","v":"OLT/ILT"},{"$f":"Master!E234","v":"Inactive"},{"$f":"Master!F234","v":"None"},{"$f":"Master!H234","v":"No technical lead within WSDOT available to teach"},{"$f":"IF(Master!Q234=\"\",\"B\",Master!Q234)","v":"B"},{"$f":"IF(Master!AB234=\"\",\"B\",Master!AB234)","v":"B"},{"$f":"IF(Master!AM234=\"\",\"B\",Master!AM234)","v":"B"},{"$f":"IF(Master!AX234=\"\",\"B\",Master!AX234)","v":"B"},{"$f":"IF(Master!BI234=\"\",\"B\",Master!BI234)","v":"B"},{"$f":"IF(Master!BT234=\"\",\"B\",Master!BT234)","v":"B"}]
[{"$f":"Master!A235","v":"TR"},{"$f":"Master!B235","v":"**ITS PROCUREMENT"},{"$f":"Master!C235","v":0},{"$f":"Master!D235","v":"OLT/ILT"},{"$f":"Master!E235","v":"Inactive"},{"$f":"Master!F235","v":"None"},{"$f":"Master!H235","v":"No technical lead within WSDOT available to teach"},{"$f":"IF(Master!Q235=\"\",\"B\",Master!Q235)","v":"B"},{"$f":"IF(Master!AB235=\"\",\"B\",Master!AB235)","v":"B"},{"$f":"IF(Master!AM235=\"\",\"B\",Master!AM235)","v":"B"},{"$f":"IF(Master!AX235=\"\",\"B\",Master!AX235)","v":"B"},{"$f":"IF(Master!BI235=\"\",\"B\",Master!BI235)","v":"B"},{"$f":"IF(Master!BT235=\"\",\"B\",Master!BT235)","v":"B"}]
[{"$f":"Master!A236","v":"TR"},{"$f":"Master!B236","v":"**BASICS OF TRANSPORTATION PLANNING"},{"$f":"Master!C236","v":0},{"$f":"Master!D236","v":"OLT/ILT"},{"$f":"Master!E236","v":"Inactive"},{"$f":"Master!F236","v":"None"},{"$f":"Master!H236","v":"No technical lead within WSDOT available to teach"},{"$f":"IF(Master!Q236=\"\",\"B\",Master!Q236)","v":"B"},{"$f":"IF(Master!AB236=\"\",\"B\",Master!AB236)","v":"B"},{"$f":"IF(Master!AM236=\"\",\"B\",Master!AM236)","v":"B"},{"$f":"IF(Master!AX236=\"\",\"B\",Master!AX236)","v":"B"},{"$f":"IF(Master!BI236=\"\",\"B\",Master!BI236)","v":"B"},{"$f":"IF(Master!BT236=\"\",\"B\",Master!BT236)","v":"B"}]
[{"$f":"Master!A237","v":"TR"},{"$f":"Master!B237","v":"**ADA/APS DESIGN"},{"$f":"Master!C237","v":0},{"$f":"Master!D237","v":"OLT/ILT"},{"$f":"Master!E237","v":"Inactive"},{"$f":"Master!F237","v":"None"},{"$f":"Master!H237","v":"No technical lead within WSDOT available to teach"},{"$f":"IF(Master!Q237=\"\",\"B\",Master!Q237)","v":"B"},{"$f":"IF(Master!AB237=\"\",\"B\",Master!AB237)","v":"B"},{"$f":"IF(Master!AM237=\"\",\"B\",Master!AM237)","v":"B"},{"$f":"IF(Master!AX237=\"\",\"B\",Master!AX237)","v":"B"},{"$f":"IF(Master!BI237=\"\",\"B\",Master!BI237)","v":"B"},{"$f":"IF(Master!BT237=\"\",\"B\",Master!BT237)","v":"B"}]
[{"$f":"Master!A238","v":"TR"},{"$f":"Master!B238","v":"**SIGNAL WARRANT ANALYSIS"},{"$f":"Master!C238","v":0},{"$f":"Master!D238","v":"OLT/ILT"},{"$f":"Master!E238","v":"Inactive"},{"$f":"Master!F238","v":"None"},{"$f":"Master!H238","v":"No technical lead within WSDOT available to teach"},{"$f":"IF(Master!Q238=\"\",\"B\",Master!Q238)","v":"B"},{"$f":"IF(Master!AB238=\"\",\"B\",Master!AB238)","v":"B"},{"$f":"IF(Master!AM238=\"\",\"B\",Master!AM238)","v":"B"},{"$f":"IF(Master!AX238=\"\",\"B\",Master!AX238)","v":"B"},{"$f":"IF(Master!BI238=\"\",\"B\",Master!BI238)","v":"B"},{"$f":"IF(Master!BT238=\"\",\"B\",Master!BT238)","v":"B"}]
[{"$f":"Master!A239","v":"TR"},{"$f":"Master!B239","v":"WSDOT TR: Introduction to ITS Design"},{"$f":"Master!C239","v":"WSDOT_DA6"},{"$f":"Master!D239","v":"OLT/ILT"},{"$f":"Master!E239","v":"Inactive"},{"$f":"Master!F239","v":"None"},{"$f":"Master!H239","v":"No technical lead within WSDOT available to teach"},{"$f":"IF(Master!Q239=\"\",\"B\",Master!Q239)","v":"B"},{"$f":"IF(Master!AB239=\"\",\"B\",Master!AB239)","v":"B"},{"$f":"IF(Master!AM239=\"\",\"B\",Master!AM239)","v":"B"},{"$f":"IF(Master!AX239=\"\",\"B\",Master!AX239)","v":"B"},{"$f":"IF(Master!BI239=\"\",\"B\",Master!BI239)","v":"B"},{"$f":"IF(Master!BT239=\"\",\"B\",Master!BT239)","v":"B"}]
[{"$f":"Master!A240","v":"TR"},{"$f":"Master!B240","v":"WSDOT TR: Intermediate/Advanced ITS Design"},{"$f":"Master!C240","v":"WSDOT_DA7"},{"$f":"Master!D240","v":"OLT/ILT"},{"$f":"Master!E240","v":"Inactive"},{"$f":"Master!F240","v":"None"},{"$f":"Master!H240","v":"No technical lead within WSDOT available to teach"},{"$f":"IF(Master!Q240=\"\",\"B\",Master!Q240)","v":"B"},{"$f":"IF(Master!AB240=\"\",\"B\",Master!AB240)","v":"B"},{"$f":"IF(Master!AM240=\"\",\"B\",Master!AM240)","v":"B"},{"$f":"IF(Master!AX240=\"\",\"B\",Master!AX240)","v":"B"},{"$f":"IF(Master!BI240=\"\",\"B\",Master!BI240)","v":"B"},{"$f":"IF(Master!BT240=\"\",\"B\",Master!BT240)","v":"B"}]
[{"$f":"Master!A241","v":"TR"},{"$f":"Master!B241","v":"**BASIC HIGHWAY CAPACITY FOR ENGINEERS AND PLANNERS"},{"$f":"Master!C241","v":0},{"$f":"Master!D241","v":"OLT/ILT"},{"$f":"Master!E241","v":"Inactive"},{"$f":"Master!F241","v":"None"},{"$f":"Master!H241","v":"No technical lead within WSDOT available to teach"},{"$f":"IF(Master!Q241=\"\",\"B\",Master!Q241)","v":2},{"$f":"IF(Master!AB241=\"\",\"B\",Master!AB241)","v":2},{"$f":"IF(Master!AM241=\"\",\"B\",Master!AM241)","v":2},{"$f":"IF(Master!AX241=\"\",\"B\",Master!AX241)","v":2},{"$f":"IF(Master!BI241=\"\",\"B\",Master!BI241)","v":"B"},{"$f":"IF(Master!BT241=\"\",\"B\",Master!BT241)","v":"B"}]
[{"$f":"Master!A242","v":"TR"},{"$f":"Master!B242","v":"WSDOT UW: Gen-Uniform Traffic Control Devices"},{"$f":"Master!C242","v":"WSDOT_BML"},{"$f":"Master!D242","v":"OLT/ILT"},{"$f":"Master!E242","v":"Inactive"},{"$f":"Master!F242","v":"None"},{"$f":"Master!H242","v":"No technical lead within WSDOT available to teach"},{"$f":"IF(Master!Q242=\"\",\"B\",Master!Q242)","v":"B"},{"$f":"IF(Master!AB242=\"\",\"B\",Master!AB242)","v":"B"},{"$f":"IF(Master!AM242=\"\",\"B\",Master!AM242)","v":"B"},{"$f":"IF(Master!AX242=\"\",\"B\",Master!AX242)","v":"B"},{"$f":"IF(Master!BI242=\"\",\"B\",Master!BI242)","v":"B"},{"$f":"IF(Master!BT242=\"\",\"B\",Master!BT242)","v":"B"}]
[{"$f":"Master!A243","v":"TR"},{"$f":"Master!B243","v":"WSDOT UW: TR-Advanced Highway Capacity Analysis"},{"$f":"Master!C243","v":"WSDOT_A3C"},{"$f":"Master!D243","v":"OLT/ILT"},{"$f":"Master!E243","v":"Inactive"},{"$f":"Master!F243","v":"None"},{"$f":"Master!H243","v":"No technical lead within WSDOT available to teach"},{"$f":"IF(Master!Q243=\"\",\"B\",Master!Q243)","v":"B"},{"$f":"IF(Master!AB243=\"\",\"B\",Master!AB243)","v":"B"},{"$f":"IF(Master!AM243=\"\",\"B\",Master!AM243)","v":"B"},{"$f":"IF(Master!AX243=\"\",\"B\",Master!AX243)","v":"B"},{"$f":"IF(Master!BI243=\"\",\"B\",Master!BI243)","v":"B"},{"$f":"IF(Master!BT243=\"\",\"B\",Master!BT243)","v":"B"}]
[{"$f":"Master!A244","v":"TR"},{"$f":"Master!B244","v":"WSDOT UW: TR-Fundamentals of Traffic Engineering"},{"$f":"Master!C244","v":"WSDOT_BS3"},{"$f":"Master!D244","v":"OLT/ILT"},{"$f":"Master!E244","v":"Inactive"},{"$f":"Master!F244","v":"None"},{"$f":"Master!H244","v":"No technical lead within WSDOT available to teach"},{"$f":"IF(Master!Q244=\"\",\"B\",Master!Q244)","v":"B"},{"$f":"IF(Master!AB244=\"\",\"B\",Master!AB244)","v":"B"},{"$f":"IF(Master!AM244=\"\",\"B\",Master!AM244)","v":"B"},{"$f":"IF(Master!AX244=\"\",\"B\",Master!AX244)","v":"B"},{"$f":"IF(Master!BI244=\"\",\"B\",Master!BI244)","v":"B"},{"$f":"IF(Master!BT244=\"\",\"B\",Master!BT244)","v":"B"}]
[{"$f":"Master!A245","v":"TR"},{"$f":"Master!B245","v":"WSDOT UW:TR-Traffic Engineering Operations"},{"$f":"Master!C245","v":"WSDOT_BS4"},{"$f":"Master!D245","v":"OLT/ILT"},{"$f":"Master!E245","v":"Inactive"},{"$f":"Master!F245","v":"None"},{"$f":"Master!H245","v":"No technical lead within WSDOT available to teach"},{"$f":"IF(Master!Q245=\"\",\"B\",Master!Q245)","v":"B"},{"$f":"IF(Master!AB245=\"\",\"B\",Master!AB245)","v":"B"},{"$f":"IF(Master!AM245=\"\",\"B\",Master!AM245)","v":"B"},{"$f":"IF(Master!AX245=\"\",\"B\",Master!AX245)","v":"B"},{"$f":"IF(Master!BI245=\"\",\"B\",Master!BI245)","v":"B"},{"$f":"IF(Master!BT245=\"\",\"B\",Master!BT245)","v":"B"}]
[{"$f":"Master!A246","v":0},{"$f":"Master!B246","v":"** no LMS course"},{"$f":"Master!C246","v":0},{"$f":"Master!D246","v":0},{"$f":"Master!E246","v":0},{"$f":"Master!F246","v":0},{"$f":"Master!H246","v":0}]
[{"$f":"Master!A247","v":0},{"$f":"Master!B247","v":"*** SS=Self Study, OLT=Online Training, ILT=Instructor Led Training"},{"$f":"Master!C247","v":0},{"$f":"Master!D247","v":0},{"$f":"Master!E247","v":0},{"$f":"Master!F247","v":0},{"$f":"Master!H247","v":0}]
[{"$f":"Master!A248","v":"ES"},{"$f":"Master!B248","v":"= Course offered by Department of Enterprise Services (DES). Contact LMS Helpdesk at 360-705-7060."},{"$f":"Master!C248","v":0},{"$f":"Master!D248","v":0},{"$f":"Master!E248","v":0},{"$f":"Master!F248","v":0},{"$f":"Master!H248","v":0}]
[{"$f":"Master!A249","v":"HR"},{"$f":"Master!B249","v":"= Course registration controlled by Human Resources. Contact LMS Helpdesk at 360-705-7060 to Register."},{"$f":"Master!C249","v":0},{"$f":"Master!D249","v":0},{"$f":"Master!E249","v":0},{"$f":"Master!F249","v":0},{"$f":"Master!H249","v":0}]
[{"$f":"Master!A250","v":0},{"$f":"Master!B250","v":0},{"$f":"Master!C250","v":0},{"$f":"Master!D250","v":0},{"$f":"Master!E250","v":0},{"$f":"Master!F250","v":0},{"$f":"Master!H250","v":0}]
[{"$f":"Master!A251","v":0},{"$f":"Master!B251","v":0},{"$f":"Master!C251","v":0},{"$f":"Master!D251","v":0},{"$f":"Master!E251","v":0},{"$f":"Master!F251","v":0},{"$f":"Master!H251","v":0}]
[{"$f":"Master!A252","v":0},{"$f":"Master!B252","v":0},{"$f":"Master!C252","v":0},{"$f":"Master!D252","v":0},{"$f":"Master!E252","v":0},{"$f":"Master!F252","v":0},{"$f":"Master!H252","v":0}]
[{"$f":"Master!A253","v":0},{"$f":"Master!B253","v":0},{"$f":"Master!C253","v":0},{"$f":"Master!D253","v":0},{"$f":"Master!E253","v":0},{"$f":"Master!F253","v":0},{"$f":"Master!H253","v":0}]
[{"$f":"Master!A254","v":0},{"$f":"Master!B254","v":0},{"$f":"Master!C254","v":0},{"$f":"Master!D254","v":0},{"$f":"Master!E254","v":0},{"$f":"Master!F254","v":0},{"$f":"Master!H254","v":0}]
[{"$f":"Master!A255","v":0},{"$f":"Master!B255","v":0},{"$f":"Master!C255","v":0},{"$f":"Master!D255","v":0},{"$f":"Master!E255","v":0},{"$f":"Master!F255","v":0},{"$f":"Master!H255","v":0}]
[{"$f":"Master!A256","v":0},{"$f":"Master!B256","v":0},{"$f":"Master!C256","v":0},{"$f":"Master!D256","v":0},{"$f":"Master!E256","v":0},{"$f":"Master!F256","v":0},{"$f":"Master!H256","v":0}]
[{"$f":"Master!A257","v":0},{"$f":"Master!B257","v":0},{"$f":"Master!C257","v":0},{"$f":"Master!D257","v":0},{"$f":"Master!E257","v":0},{"$f":"Master!F257","v":0},{"$f":"Master!H257","v":0}]
[{"$f":"Master!A258","v":0},{"$f":"Master!B258","v":0},{"$f":"Master!C258","v":0},{"$f":"Master!D258","v":0},{"$f":"Master!E258","v":0},{"$f":"Master!F258","v":0},{"$f":"Master!H258","v":0}]
[{"$f":"Master!A259","v":0},{"$f":"Master!B259","v":0},{"$f":"Master!C259","v":0},{"$f":"Master!D259","v":0},{"$f":"Master!E259","v":0},{"$f":"Master!F259","v":0},{"$f":"Master!H259","v":0}]
[{"$f":"Master!A260","v":0},{"$f":"Master!B260","v":0},{"$f":"Master!C260","v":0},{"$f":"Master!D260","v":0},{"$f":"Master!E260","v":0},{"$f":"Master!F260","v":0},{"$f":"Master!H260","v":0}]
[{"$f":"Master!A261","v":0},{"$f":"Master!B261","v":0},{"$f":"Master!C261","v":0},{"$f":"Master!D261","v":0},{"$f":"Master!E261","v":0},{"$f":"Master!F261","v":0},{"$f":"Master!H261","v":0}]
[{"$f":"Master!A262","v":0},{"$f":"Master!B262","v":0},{"$f":"Master!C262","v":0},{"$f":"Master!D262","v":0},{"$f":"Master!E262","v":0},{"$f":"Master!F262","v":0},{"$f":"Master!H262","v":0}]
[{"$f":"Master!A263","v":0},{"$f":"Master!B263","v":0},{"$f":"Master!C263","v":0},{"$f":"Master!D263","v":0},{"$f":"Master!E263","v":0},{"$f":"Master!F263","v":0},{"$f":"Master!H263","v":0}]
[{"$f":"Master!A264","v":0},{"$f":"Master!B264","v":0},{"$f":"Master!C264","v":0},{"$f":"Master!D264","v":0},{"$f":"Master!E264","v":0},{"$f":"Master!F264","v":0},{"$f":"Master!H264","v":0}]
[{"$f":"Master!A265","v":0},{"$f":"Master!B265","v":0},{"$f":"Master!C265","v":0},{"$f":"Master!D265","v":0},{"$f":"Master!E265","v":0},{"$f":"Master!F265","v":0},{"$f":"Master!H265","v":0}]
[{"$f":"Master!A266","v":0},{"$f":"Master!B266","v":0},{"$f":"Master!C266","v":0},{"$f":"Master!D266","v":0},{"$f":"Master!E266","v":0},{"$f":"Master!F266","v":0},{"$f":"Master!H266","v":0}]
[{"$f":"Master!A267","v":0},{"$f":"Master!B267","v":0},{"$f":"Master!C267","v":0},{"$f":"Master!D267","v":0},{"$f":"Master!E267","v":0},{"$f":"Master!F267","v":0},{"$f":"Master!H267","v":0}]
[{"$f":"Master!A268","v":0},{"$f":"Master!B268","v":0},{"$f":"Master!C268","v":0},{"$f":"Master!D268","v":0},{"$f":"Master!E268","v":0},{"$f":"Master!F268","v":0},{"$f":"Master!H268","v":0}]
[{"$f":"Master!A269","v":0},{"$f":"Master!B269","v":0},{"$f":"Master!C269","v":0},{"$f":"Master!D269","v":0},{"$f":"Master!E269","v":0},{"$f":"Master!F269","v":0},{"$f":"Master!H269","v":0}]
[{"$f":"Master!A270","v":0},{"$f":"Master!B270","v":0},{"$f":"Master!C270","v":0},{"$f":"Master!D270","v":0},{"$f":"Master!E270","v":0},{"$f":"Master!F270","v":0},{"$f":"Master!H270","v":0}]
[{"$f":"Master!A271","v":0},{"$f":"Master!B271","v":0},{"$f":"Master!C271","v":0},{"$f":"Master!D271","v":0},{"$f":"Master!E271","v":0},{"$f":"Master!F271","v":0},{"$f":"Master!H271","v":0}]
[{"$f":"Master!A272","v":0},{"$f":"Master!B272","v":0},{"$f":"Master!C272","v":0},{"$f":"Master!D272","v":0},{"$f":"Master!E272","v":0},{"$f":"Master!F272","v":0},{"$f":"Master!H272","v":0}]
[{"$f":"Master!A273","v":0},{"$f":"Master!B273","v":0},{"$f":"Master!C273","v":0},{"$f":"Master!D273","v":0},{"$f":"Master!E273","v":0},{"$f":"Master!F273","v":0},{"$f":"Master!H273","v":0}]
[{"$f":"Master!A274","v":0},{"$f":"Master!B274","v":0},{"$f":"Master!C274","v":0},{"$f":"Master!D274","v":0},{"$f":"Master!E274","v":0},{"$f":"Master!F274","v":0},{"$f":"Master!H274","v":0}]
[{"$f":"Master!A275","v":0},{"$f":"Master!B275","v":0},{"$f":"Master!C275","v":0},{"$f":"Master!D275","v":0},{"$f":"Master!E275","v":0},{"$f":"Master!F275","v":0},{"$f":"Master!H275","v":0}]
[{"$f":"Master!A276","v":0},{"$f":"Master!B276","v":0},{"$f":"Master!C276","v":0},{"$f":"Master!D276","v":0},{"$f":"Master!E276","v":0},{"$f":"Master!F276","v":0},{"$f":"Master!H276","v":0}]
[{"$f":"Master!A277","v":0},{"$f":"Master!B277","v":0},{"$f":"Master!C277","v":0},{"$f":"Master!D277","v":0},{"$f":"Master!E277","v":0},{"$f":"Master!F277","v":0},{"$f":"Master!H277","v":0}]
[{"$f":"Master!A278","v":0},{"$f":"Master!B278","v":0},{"$f":"Master!C278","v":0},{"$f":"Master!D278","v":0},{"$f":"Master!E278","v":0},{"$f":"Master!F278","v":0},{"$f":"Master!H278","v":0}]
[{"$f":"Master!A279","v":0},{"$f":"Master!B279","v":0},{"$f":"Master!C279","v":0},{"$f":"Master!D279","v":0},{"$f":"Master!E279","v":0},{"$f":"Master!F279","v":0},{"$f":"Master!H279","v":0}]
[{"$f":"Master!A280","v":0},{"$f":"Master!B280","v":0},{"$f":"Master!C280","v":0},{"$f":"Master!D280","v":0},{"$f":"Master!E280","v":0},{"$f":"Master!F280","v":0},{"$f":"Master!H280","v":0}]
[{"$f":"Master!A281","v":0},{"$f":"Master!B281","v":0},{"$f":"Master!C281","v":0},{"$f":"Master!D281","v":0},{"$f":"Master!E281","v":0},{"$f":"Master!F281","v":0},{"$f":"Master!H281","v":0}]
[{"$f":"Master!A282","v":0},{"$f":"Master!B282","v":0},{"$f":"Master!C282","v":0},{"$f":"Master!D282","v":0},{"$f":"Master!E282","v":0},{"$f":"Master!F282","v":0},{"$f":"Master!H282","v":0}]
[{"$f":"Master!A283","v":0},{"$f":"Master!B283","v":0},{"$f":"Master!C283","v":0},{"$f":"Master!D283","v":0},{"$f":"Master!E283","v":0},{"$f":"Master!F283","v":0},{"$f":"Master!H283","v":0}]

{"sheet":"PLN","index":19,"n_rows":283,"n_cols":13,"rows_kept":283,"cut":false,"hidden":false,"merged":[[191,0,191,6],[202,0,202,6],[210,0,210,6],[213,0,213,6],[85,0,85,6],[88,0,88,6],[95,0,95,6],[151,0,151,6],[152,0,152,6],[185,0,185,6],[83,0,83,6],[2,0,2,6],[13,0,13,6],[48,0,48,6],[49,0,49,6],[52,0,52,6],[55,0,55,6],[58,0,58,6],[60,0,60,6],[63,0,63,6],[70,0,70,6],[76,0,76,6]]}
[null,null,null,7,6]
["Responsible Division","LMS COURSE NAME"," LMS COURSE CODE","Self Study (SS), \nOnline (OLT), or \nInstructor Led (ILT)","TRAINING\nSTATUS","If training status is \"inactive\", when will the course be developed?","NOTES","TT1","TT2","TT3","TE1","TE2","TE3"]
["Mandatory",null,null,null,null,null,null,{"$f":"IF(Master!R3=\"\",\"B\",Master!R3)","v":"B"},{"$f":"IF(Master!AC3=\"\",\"B\",Master!AC3)","v":"B"},{"$f":"IF(Master!AN3=\"\",\"B\",Master!AN3)","v":"B"},{"$f":"IF(Master!AY3=\"\",\"B\",Master!AY3)","v":"B"},{"$f":"IF(Master!BJ3=\"\",\"B\",Master!BJ3)","v":"B"},{"$f":"IF(Master!BU3=\"\",\"B\",Master!BU3)","v":"B"}]
[{"$f":"Master!A4","v":"HR"},{"$f":"Master!B4","v":"WA-State Ethics in State Government"},{"$f":"Master!C4","v":"WA-State Ethics 8-7-2014-V6"},{"$f":"Master!D4","v":"OLT"},{"$f":"Master!E4","v":"Active"},{"$f":"Master!F4","v":0},{"$f":"Master!H4","v":"To register for this course, \ncall the LMS Helpdesk at \n360-705-7060."},{"$f":"IF(Master!R4=\"\",\"B\",Master!R4)","v":"M"},{"$f":"IF(Master!AC4=\"\",\"B\",Master!AC4)","v":"M"},{"$f":"IF(Master!AN4=\"\",\"B\",Master!AN4)","v":"M"},{"$f":"IF(Master!AY4=\"\",\"B\",Master!AY4)","v":"M"},{"$f":"IF(Master!BJ4=\"\",\"B\",Master!BJ4)","v":"M"},{"$f":"IF(Master!BU4=\"\",\"B\",Master!BU4)","v":"M"}]
[{"$f":"Master!A5","v":"HR"},{"$f":"Master!B5","v":"WSDOT Mandatory: Ethical Standards WSDOT Specific Training"},{"$f":"Master!C5","v":"WSDOT_BKB Specific"},{"$f":"Master!D5","v":"OLT"},{"$f":"Master!E5","v":"Active"},{"$f":"Master!F5","v":0},{"$f":"Master!H5","v":"To register for this course, \ncall the LMS Helpdesk at \n360-705-7060."},{"$f":"IF(Master!R5=\"\",\"B\",Master!R5)","v":"M"},{"$f":"IF(Master!AC5=\"\",\"B\",Master!AC5)","v":"M"},{"$f":"IF(Master!AN5=\"\",\"B\",Master!AN5)","v":"M"},{"$f":"IF(Master!AY5=\"\",\"B\",Master!AY5)","v":"M"},{"$f":"IF(Master!BJ5=\"\",\"B\",Master!BJ5)","v":"M"},{"$f":"IF(Master!BU5=\"\",\"B\",Master!BU5)","v":"M"}]
[{"$f":"Master!A6","v":"HR"},{"$f":"Master!B6","v":"WSDOT Mandatory: System Security Awareness For Transportation Employees (Self Study)"},{"$f":"Master!C6","v":"WSDOT_CJJ_UDT"},{"$f":"Master!D6","v":"SS"},{"$f":"Master!E6","v":"Active"},{"$f":"Master!F6","v":0},{"$f":"Master!H6","v":"To register for this course, \ncall the LMS Helpdesk at \n360-705-7060."},{"$f":"IF(Master!R6=\"\",\"B\",Master!R6)","v":"M"},{"$f":"IF(Master!AC6=\"\",\"B\",Master!AC6)","v":"M"},{"$f":"IF(Master!AN6=\"\",\"B\",Master!AN6)","v":"M"},{"$f":"IF(Master!AY6=\"\",\"B\",Master!AY6)","v":"M"},{"$f":"IF(Master!BJ6=\"\",\"B\",Master!BJ6)","v":"M"},{"$f":"IF(Master!BU6=\"\",\"B\",Master!BU6)","v":"M"}]
[{"$f":"Master!A7","v":"HR"},{"$f":"Master!B7","v":"WSDOT Mandatory: Violence That Affects The Workplace (Self Study)"},{"$f":"Master!C7","v":"WSDOT_B9V"},{"$f":"Master!D7","v":"SS"},{"$f":"Master!E7","v":"Active"},{"$f":"Master!F7","v":0},{"$f":"Master!H7","v":"To register for this course, \ncall the LMS Helpdesk at \n360-705-7060."},{"$f":"IF(Master!R7=\"\",\"B\",Master!R7)","v":"M"},{"$f":"IF(Master!AC7=\"\",\"B\",Master!AC7)","v":"M"},{"$f":"IF(Master!AN7=\"\",\"B\",Master!AN7)","v":"M"},{"$f":"IF(Master!AY7=\"\",\"B\",Master!AY7)","v":"M"},{"$f":"IF(Master!BJ7=\"\",\"B\",Master!BJ7)","v":"M"},{"$f":"IF(Master!BU7=\"\",\"B\",Master!BU7)","v":"M"}]
[{"$f":"Master!A8","v":"HR"},{"$f":"Master!B8","v":"WA-State IT Security Awareness Training"},{"$f":"Master!C8","v":"WA-State IT Security Awareness Training - Initial Training-8/16/2013"},{"$f":"Master!D8","v":"OLT"},{"$f":"Master!E8","v":"Active"},{"$f":"Master!F8","v":0},{"$f":"Master!H8","v":"To register for this course, \ncall the LMS Helpdesk at \n360-705-7060."},{"$f":"IF(Master!R8=\"\",\"B\",Master!R8)","v":"M"},{"$f":"IF(Master!AC8=\"\",\"B\",Master!AC8)","v":"M"},{"$f":"IF(Master!AN8=\"\",\"B\",Master!AN8)","v":"M"},{"$f":"IF(Master!AY8=\"\",\"B\",Master!AY8)","v":"M"},{"$f":"IF(Master!BJ8=\"\",\"B\",Master!BJ8)","v":"M"},{"$f":"IF(Master!BU8=\"\",\"B\",Master!BU8)","v":"M"}]
[{"$f":"Master!A9","v":"HR"},{"$f":"Master!B9","v":"WA-State Sexual Harassment Awareness and Prevention"},{"$f":"Master!C9","v":"DES_shap_2013_Updated_9-3-2014"},{"$f":"Master!D9","v":"OLT"},{"$f":"Master!E9","v":"Active"},{"$f":"Master!F9","v":0},{"$f":"Master!H9","v":"To register for this course, \ncall the LMS Helpdesk at \n360-705-7060."},{"$f":"IF(Master!R9=\"\",\"B\",Master!R9)","v":"M"},{"$f":"IF(Master!AC9=\"\",\"B\",Master!AC9)","v":"M"},{"$f":"IF(Master!AN9=\"\",\"B\",Master!AN9)","v":"M"},{"$f":"IF(Master!AY9=\"\",\"B\",Master!AY9)","v":"M"},{"$f":"IF(Master!BJ9=\"\",\"B\",Master!BJ9)","v":"M"},{"$f":"IF(Master!BU9=\"\",\"B\",Master!BU9)","v":"M"}]
[{"$f":"Master!A10","v":"HR"},{"$f":"Master!B10","v":"WSDOT Mandatory: Disability Awareness Step 1, Understanding the Americans with Disabilities Act (ADA)  "},{"$f":"Master!C10","v":"lchr_01_a15_lc_enus"},{"$f":"Master!D10","v":"OLT"},{"$f":"Master!E10","v":"Active"},{"$f":"Master!F10","v":0},{"$f":"Master!H10","v":"To register for this course, \ncall the LMS Helpdesk at \n360-705-7060."},{"$f":"IF(Master!R10=\"\",\"B\",Master!R10)","v":"M"},{"$f":"IF(Master!AC10=\"\",\"B\",Master!AC10)","v":"M"},{"$f":"IF(Master!AN10=\"\",\"B\",Master!AN10)","v":"M"},{"$f":"IF(Master!AY10=\"\",\"B\",Master!AY10)","v":"M"},{"$f":"IF(Master!BJ10=\"\",\"B\",Master!BJ10)","v":"M"},{"$f":"IF(Master!BU10=\"\",\"B\",Master!BU10)","v":"M"}]
[{"$f":"Master!A11","v":"HR"},{"$f":"Master!B11","v":"WSDOT Mandatory: Disability Awareness Step 2 of Learning Plan"},{"$f":"Master!C11","v":"WSDOT_CD8_UDT2"},{"$f":"Master!D11","v":"OLT"},{"$f":"Master!E11","v":"Active"},{"$f":"Master!F11","v":0},{"$f":"Master!H11","v":"To register for this course, \ncall the LMS Helpdesk at \n360-705-7060."},{"$f":"IF(Master!R11=\"\",\"B\",Master!R11)","v":"M"},{"$f":"IF(Master!AC11=\"\",\"B\",Master!AC11)","v":"M"},{"$f":"IF(Master!AN11=\"\",\"B\",Master!AN11)","v":"M"},{"$f":"IF(Master!AY11=\"\",\"B\",Master!AY11)","v":"M"},{"$f":"IF(Master!BJ11=\"\",\"B\",Master!BJ11)","v":"M"},{"$f":"IF(Master!BU11=\"\",\"B\",Master!BU11)","v":"M"}]
[{"$f":"Master!A12","v":"HR"},{"$f":"Master!B12","v":"WSDOT Mandatory: Discrimination In The Workplace (Self Study)"},{"$f":"Master!C12","v":"WSDOT_DIS"},{"$f":"Master!D12","v":"SS"},{"$f":"Master!E12","v":"Active"},{"$f":"Master!F12","v":0},{"$f":"Master!H12","v":"To register for this course, \ncall the LMS Helpdesk at \n360-705-7060."},{"$f":"IF(Master!R12=\"\",\"B\",Master!R12)","v":"M"},{"$f":"IF(Master!AC12=\"\",\"B\",Master!AC12)","v":"M"},{"$f":"IF(Master!AN12=\"\",\"B\",Master!AN12)","v":"M"},{"$f":"IF(Master!AY12=\"\",\"B\",Master!AY12)","v":"M"},{"$f":"IF(Master!BJ12=\"\",\"B\",Master!BJ12)","v":"M"},{"$f":"IF(Master!BU12=\"\",\"B\",Master!BU12)","v":"M"}]
[{"$f":"Master!A13","v":"HR"},{"$f":"Master!B13","v":"WSDOT Mandatory: Valuing Diversity Step 2, Promoting Respect in the Global Workplace – Employee Edition"},{"$f":"Master!C13","v":"WSDOT_lch_01_a09_lc_enus"},{"$f":"Master!D13","v":"OLT"},{"$f":"Master!E13","v":"Active"},{"$f":"Master!F13","v":0},{"$f":"Master!H13","v":"To register for this course, \ncall the LMS Helpdesk at \n360-705-7060."},{"$f":"IF(Master!R13=\"\",\"B\",Master!R13)","v":"M"},{"$f":"IF(Master!AC13=\"\",\"B\",Master!AC13)","v":"M"},{"$f":"IF(Master!AN13=\"\",\"B\",Master!AN13)","v":"M"},{"$f":"IF(Master!AY13=\"\",\"B\",Master!AY13)","v":"M"},{"$f":"IF(Master!BJ13=\"\",\"B\",Master!BJ13)","v":"M"},{"$f":"IF(Master!BU13=\"\",\"B\",Master!BU13)","v":"M"}]
[{"$f":"Master!A14","v":"General Knowledge"},null,null,null,null,null,null,{"$f":"IF(Master!R14=\"\",\"B\",Master!R14)","v":"B"},{"$f":"IF(Master!AC14=\"\",\"B\",Master!AC14)","v":"B"},{"$f":"IF(Master!AN14=\"\",\"B\",Master!AN14)","v":"B"},{"$f":"IF(Master!AY14=\"\",\"B\",Master!AY14)","v":"B"},{"$f":"IF(Master!BJ14=\"\",\"B\",Master!BJ14)","v":"B"},{"$f":"IF(Master!BU14=\"\",\"B\",Master!BU14)","v":"B"}]
[{"$f":"Master!A15","v":"GEN"},{"$f":"Master!B15","v":"**Legal Liability for Transportation Professionals - Entry"},{"$f":"Master!C15","v":0},{"$f":"Master!D15","v":"ILT"},{"$f":"Master!E15","v":"Inactive"},{"$f":"Master!F15","v":0},{"$f":"Master!H15","v":0},{"$f":"IF(Master!R15=\"\",\"B\",Master!R15)","v":1},{"$f":"IF(Master!AC15=\"\",\"B\",Master!AC15)","v":1},{"$f":"IF(Master!AN15=\"\",\"B\",Master!AN15)","v":1},{"$f":"IF(Master!AY15=\"\",\"B\",Master!AY15)","v":1},{"$f":"IF(Master!BJ15=\"\",\"B\",Master!BJ15)","v":1},{"$f":"IF(Master!BU15=\"\",\"B\",Master!BU15)","v":"B"}]
[{"$f":"Master!A16","v":"GEN"},{"$f":"Master!B16","v":"**Legal Liability for Transportation Professionals - In-Depth"},{"$f":"Master!C16","v":0},{"$f":"Master!D16","v":"ILT"},{"$f":"Master!E16","v":"Inactive"},{"$f":"Master!F16","v":0},{"$f":"Master!H16","v":0},{"$f":"IF(Master!R16=\"\",\"B\",Master!R16)","v":"B"},{"$f":"IF(Master!AC16=\"\",\"B\",Master!AC16)","v":"B"},{"$f":"IF(Master!AN16=\"\",\"B\",Master!AN16)","v":"B"},{"$f":"IF(Master!AY16=\"\",\"B\",Master!AY16)","v":"B"},{"$f":"IF(Master!BJ16=\"\",\"B\",Master!BJ16)","v":"B"},{"$f":"IF(Master!BU16=\"\",\"B\",Master!BU16)","v":1}]
[{"$f":"Master!A17","v":"GEN"},{"$f":"Master!B17","v":"WSDOT GEN: TECHNICAL MATHEMATICS I (SELF-STUDY)"},{"$f":"Master!C17","v":"WSDOT_AFN"},{"$f":"Master!D17","v":"SS"},{"$f":"Master!E17","v":"Active"},{"$f":"Master!F17","v":0},{"$f":"Master!H17","v":0},{"$f":"IF(Master!R17=\"\",\"B\",Master!R17)","v":"R"},{"$f":"IF(Master!AC17=\"\",\"B\",Master!AC17)","v":"R"},{"$f":"IF(Master!AN17=\"\",\"B\",Master!AN17)","v":"B"},{"$f":"IF(Master!AY17=\"\",\"B\",Master!AY17)","v":"B"},{"$f":"IF(Master!BJ17=\"\",\"B\",Master!BJ17)","v":"B"},{"$f":"IF(Master!BU17=\"\",\"B\",Master!BU17)","v":"B"}]
[{"$f":"Master!A18","v":"GEN"},{"$f":"Master!B18","v":"WSDOT GEN: TECHNICAL MATHEMATICS II (SELF-STUDY)"},{"$f":"Master!C18","v":"WSDOT_A7J"},{"$f":"Master!D18","v":"SS"},{"$f":"Master!E18","v":"Active"},{"$f":"Master!F18","v":0},{"$f":"Master!H18","v":0},{"$f":"IF(Master!R18=\"\",\"B\",Master!R18)","v":"R"},{"$f":"IF(Master!AC18=\"\",\"B\",Master!AC18)","v":"R"},{"$f":"IF(Master!AN18=\"\",\"B\",Master!AN18)","v":"B"},{"$f":"IF(Master!AY18=\"\",\"B\",Master!AY18)","v":"B"},{"$f":"IF(Master!BJ18=\"\",\"B\",Master!BJ18)","v":"B"},{"$f":"IF(Master!BU18=\"\",\"B\",Master!BU18)","v":"B"}]
[{"$f":"Master!A19","v":"SS"},{"$f":"Master!B19","v":"Finding Your Bearings as a Project Manager"},{"$f":"Master!C19","v":"apj_151_a01_bs_enus"},{"$f":"Master!D19","v":"OLT"},{"$f":"Master!E19","v":"Active"},{"$f":"Master!F19","v":0},{"$f":"Master!H19","v":0},{"$f":"IF(Master!R19=\"\",\"B\",Master!R19)","v":"R"},{"$f":"IF(Master!AC19=\"\",\"B\",Master!AC19)","v":"R"},{"$f":"IF(Master!AN19=\"\",\"B\",Master!AN19)","v":"B"},{"$f":"IF(Master!AY19=\"\",\"B\",Master!AY19)","v":"B"},{"$f":"IF(Master!BJ19=\"\",\"B\",Master!BJ19)","v":"B"},{"$f":"IF(Master!BU19=\"\",\"B\",Master!BU19)","v":"B"}]
[{"$f":"Master!A20","v":"SS"},{"$f":"Master!B20","v":"Getting to the Root of a Problem"},{"$f":"Master!C20","v":"apj_15_a01_bs_enus"},{"$f":"Master!D20","v":"OLT"},{"$f":"Master!E20","v":"Active"},{"$f":"Master!F20","v":0},{"$f":"Master!H20","v":0},{"$f":"IF(Master!R20=\"\",\"B\",Master!R20)","v":"R"},{"$f":"IF(Master!AC20=\"\",\"B\",Master!AC20)","v":"R"},{"$f":"IF(Master!AN20=\"\",\"B\",Master!AN20)","v":"B"},{"$f":"IF(Master!AY20=\"\",\"B\",Master!AY20)","v":"B"},{"$f":"IF(Master!BJ20=\"\",\"B\",Master!BJ20)","v":"B"},{"$f":"IF(Master!BU20=\"\",\"B\",Master!BU20)","v":"B"}]
[{"$f":"Master!A21","v":"SS"},{"$f":"Master!B21","v":"The Process Groups (PMBOK® Guide Fifth Edition)"},{"$f":"Master!C21","v":"apj_01_a03_bs_enus"},{"$f":"Master!D21","v":"OLT"},{"$f":"Master!E21","v":"Active"},{"$f":"Master!F21","v":0},{"$f":"Master!H21","v":0},{"$f":"IF(Master!R21=\"\",\"B\",Master!R21)","v":"R"},{"$f":"IF(Master!AC21=\"\",\"B\",Master!AC21)","v":"R"},{"$f":"IF(Master!AN21=\"\",\"B\",Master!AN21)","v":"B"},{"$f":"IF(Master!AY21=\"\",\"B\",Master!AY21)","v":"B"},{"$f":"IF(Master!BJ21=\"\",\"B\",Master!BJ21)","v":"B"},{"$f":"IF(Master!BU21=\"\",\"B\",Master!BU21)","v":"B"}]
[{"$f":"Master!A22","v":"SS"},{"$f":"Master!B22","v":"Solving Problems: Generating and Evaluating Alternatives"},{"$f":"Master!C22","v":"pd_29_a02_bs_enus"},{"$f":"Master!D22","v":"OLT"},{"$f":"Master!E22","v":"Active"},{"$f":"Master!F22","v":0},{"$f":"Master!H22","v":0},{"$f":"IF(Master!R22=\"\",\"B\",Master!R22)","v":"R"},{"$f":"IF(Master!AC22=\"\",\"B\",Master!AC22)","v":"R"},{"$f":"IF(Master!AN22=\"\",\"B\",Master!AN22)","v":"B"},{"$f":"IF(Master!AY22=\"\",\"B\",Master!AY22)","v":"B"},{"$f":"IF(Master!BJ22=\"\",\"B\",Master!BJ22)","v":"B"},{"$f":"IF(Master!BU22=\"\",\"B\",Master!BU22)","v":"B"}]
[{"$f":"Master!A23","v":"SS"},{"$f":"Master!B23","v":"Making and Carrying Out Tough Decisions"},{"$f":"Master!C23","v":"pd_29_a03_bs_enus"},{"$f":"Master!D23","v":"OLT"},{"$f":"Master!E23","v":"Active"},{"$f":"Master!F23","v":0},{"$f":"Master!H23","v":0},{"$f":"IF(Master!R23=\"\",\"B\",Master!R23)","v":"R"},{"$f":"IF(Master!AC23=\"\",\"B\",Master!AC23)","v":"R"},{"$f":"IF(Master!AN23=\"\",\"B\",Master!AN23)","v":"B"},{"$f":"IF(Master!AY23=\"\",\"B\",Master!AY23)","v":"B"},{"$f":"IF(Master!BJ23=\"\",\"B\",Master!BJ23)","v":"B"},{"$f":"IF(Master!BU23=\"\",\"B\",Master!BU23)","v":"B"}]
[{"$f":"Master!A24","v":"SS"},{"$f":"Master!B24","v":"Solving Problems: Framing the Problem"},{"$f":"Master!C24","v":"pd_29_a01_bs_enus"},{"$f":"Master!D24","v":"OLT"},{"$f":"Master!E24","v":"Active"},{"$f":"Master!F24","v":0},{"$f":"Master!H24","v":0},{"$f":"IF(Master!R24=\"\",\"B\",Master!R24)","v":"R"},{"$f":"IF(Master!AC24=\"\",\"B\",Master!AC24)","v":"R"},{"$f":"IF(Master!AN24=\"\",\"B\",Master!AN24)","v":"B"},{"$f":"IF(Master!AY24=\"\",\"B\",Master!AY24)","v":"B"},{"$f":"IF(Master!BJ24=\"\",\"B\",Master!BJ24)","v":"B"},{"$f":"IF(Master!BU24=\"\",\"B\",Master!BU24)","v":"B"}]
[{"$f":"Master!A25","v":"SS"},{"$f":"Master!B25","v":"Problem-Solving and Process Management Tools"},{"$f":"Master!C25","v":"oper_04_a07_bs_enus"},{"$f":"Master!D25","v":"OLT"},{"$f":"Master!E25","v":"Active"},{"$f":"Master!F25","v":0},{"$f":"Master!H25","v":0},{"$f":"IF(Master!R25=\"\",\"B\",Master!R25)","v":"R"},{"$f":"IF(Master!AC25=\"\",\"B\",Master!AC25)","v":"R"},{"$f":"IF(Master!AN25=\"\",\"B\",Master!AN25)","v":"B"},{"$f":"IF(Master!AY25=\"\",\"B\",Master!AY25)","v":"B"},{"$f":"IF(Master!BJ25=\"\",\"B\",Master!BJ25)","v":"B"},{"$f":"IF(Master!BU25=\"\",\"B\",Master!BU25)","v":"B"}]
[{"$f":"Master!A26","v":"SS"},{"$f":"Master!B26","v":"Basic Presentation Skills: Delivering a Presentation"},{"$f":"Master!C26","v":"comm_33_a03_bs_enus"},{"$f":"Master!D26","v":"OLT"},{"$f":"Master!E26","v":"Active"},{"$f":"Master!F26","v":0},{"$f":"Master!H26","v":0},{"$f":"IF(Master!R26=\"\",\"B\",Master!R26)","v":"R"},{"$f":"IF(Master!AC26=\"\",\"B\",Master!AC26)","v":"R"},{"$f":"IF(Master!AN26=\"\",\"B\",Master!AN26)","v":"B"},{"$f":"IF(Master!AY26=\"\",\"B\",Master!AY26)","v":"B"},{"$f":"IF(Master!BJ26=\"\",\"B\",Master!BJ26)","v":"B"},{"$f":"IF(Master!BU26=\"\",\"B\",Master!BU26)","v":"B"}]
[{"$f":"Master!A27","v":"SS"},{"$f":"Master!B27","v":"Basic Presentation Skills: Creating a Presentation"},{"$f":"Master!C27","v":"comm_33_a02_bs_enus"},{"$f":"Master!D27","v":"OLT"},{"$f":"Master!E27","v":"Active"},{"$f":"Master!F27","v":0},{"$f":"Master!H27","v":0},{"$f":"IF(Master!R27=\"\",\"B\",Master!R27)","v":"R"},{"$f":"IF(Master!AC27=\"\",\"B\",Master!AC27)","v":"R"},{"$f":"IF(Master!AN27=\"\",\"B\",Master!AN27)","v":"B"},{"$f":"IF(Master!AY27=\"\",\"B\",Master!AY27)","v":"B"},{"$f":"IF(Master!BJ27=\"\",\"B\",Master!BJ27)","v":"B"},{"$f":"IF(Master!BU27=\"\",\"B\",Master!BU27)","v":"B"}]
[{"$f":"Master!A28","v":"SS"},{"$f":"Master!B28","v":"Building the Foundation for an Effective Team"},{"$f":"Master!C28","v":"atm_01_a01_bs_enus"},{"$f":"Master!D28","v":"OLT"},{"$f":"Master!E28","v":"Active"},{"$f":"Master!F28","v":0},{"$f":"Master!H28","v":0},{"$f":"IF(Master!R28=\"\",\"B\",Master!R28)","v":"R"},{"$f":"IF(Master!AC28=\"\",\"B\",Master!AC28)","v":"R"},{"$f":"IF(Master!AN28=\"\",\"B\",Master!AN28)","v":"B"},{"$f":"IF(Master!AY28=\"\",\"B\",Master!AY28)","v":"B"},{"$f":"IF(Master!BJ28=\"\",\"B\",Master!BJ28)","v":"B"},{"$f":"IF(Master!BU28=\"\",\"B\",Master!BU28)","v":"B"}]
[{"$f":"Master!A29","v":"SS"},{"$f":"Master!B29","v":"Developing a Successful Team"},{"$f":"Master!C29","v":"atm_01_a02_bs_enus"},{"$f":"Master!D29","v":"OLT"},{"$f":"Master!E29","v":"Active"},{"$f":"Master!F29","v":0},{"$f":"Master!H29","v":0},{"$f":"IF(Master!R29=\"\",\"B\",Master!R29)","v":"R"},{"$f":"IF(Master!AC29=\"\",\"B\",Master!AC29)","v":"R"},{"$f":"IF(Master!AN29=\"\",\"B\",Master!AN29)","v":"B"},{"$f":"IF(Master!AY29=\"\",\"B\",Master!AY29)","v":"B"},{"$f":"IF(Master!BJ29=\"\",\"B\",Master!BJ29)","v":"B"},{"$f":"IF(Master!BU29=\"\",\"B\",Master!BU29)","v":"B"}]
[{"$f":"Master!A30","v":"SS"},{"$f":"Master!B30","v":"Encouraging Team Communication and Collaboration"},{"$f":"Master!C30","v":"atm_01_a03_bs_enus"},{"$f":"Master!D30","v":"OLT"},{"$f":"Master!E30","v":"Active"},{"$f":"Master!F30","v":0},{"$f":"Master!H30","v":0},{"$f":"IF(Master!R30=\"\",\"B\",Master!R30)","v":"R"},{"$f":"IF(Master!AC30=\"\",\"B\",Master!AC30)","v":"R"},{"$f":"IF(Master!AN30=\"\",\"B\",Master!AN30)","v":"B"},{"$f":"IF(Master!AY30=\"\",\"B\",Master!AY30)","v":"B"},{"$f":"IF(Master!BJ30=\"\",\"B\",Master!BJ30)","v":"B"},{"$f":"IF(Master!BU30=\"\",\"B\",Master!BU30)","v":"B"}]
[{"$f":"Master!A31","v":"SS"},{"$f":"Master!B31","v":"Handling Team Conflict"},{"$f":"Master!C31","v":"atm_01_a04_bs_enus"},{"$f":"Master!D31","v":"OLT"},{"$f":"Master!E31","v":"Active"},{"$f":"Master!F31","v":0},{"$f":"Master!H31","v":0},{"$f":"IF(Master!R31=\"\",\"B\",Master!R31)","v":"R"},{"$f":"IF(Master!AC31=\"\",\"B\",Master!AC31)","v":"R"},{"$f":"IF(Master!AN31=\"\",\"B\",Master!AN31)","v":"B"},{"$f":"IF(Master!AY31=\"\",\"B\",Master!AY31)","v":"B"},{"$f":"IF(Master!BJ31=\"\",\"B\",Master!BJ31)","v":"B"},{"$f":"IF(Master!BU31=\"\",\"B\",Master!BU31)","v":"B"}]
[{"$f":"Master!A32","v":"SS"},{"$f":"Master!B32","v":"Thinking Critically: Coming to Terms with Assumptions"},{"$f":"Master!C32","v":"pe_01_a01_bs_enus"},{"$f":"Master!D32","v":"OLT"},{"$f":"Master!E32","v":"Active"},{"$f":"Master!F32","v":0},{"$f":"Master!H32","v":0},{"$f":"IF(Master!R32=\"\",\"B\",Master!R32)","v":"R"},{"$f":"IF(Master!AC32=\"\",\"B\",Master!AC32)","v":"R"},{"$f":"IF(Master!AN32=\"\",\"B\",Master!AN32)","v":"B"},{"$f":"IF(Master!AY32=\"\",\"B\",Master!AY32)","v":"B"},{"$f":"IF(Master!BJ32=\"\",\"B\",Master!BJ32)","v":"B"},{"$f":"IF(Master!BU32=\"\",\"B\",Master!BU32)","v":"B"}]
[{"$f":"Master!A33","v":"SS"},{"$f":"Master!B33","v":"Thinking Critically: Getting Your Arms around Arguments"},{"$f":"Master!C33","v":"pe_01_a02_bs_enus"},{"$f":"Master!D33","v":"OLT"},{"$f":"Master!E33","v":"Active"},{"$f":"Master!F33","v":0},{"$f":"Master!H33","v":0},{"$f":"IF(Master!R33=\"\",\"B\",Master!R33)","v":"R"},{"$f":"IF(Master!AC33=\"\",\"B\",Master!AC33)","v":"R"},{"$f":"IF(Master!AN33=\"\",\"B\",Master!AN33)","v":"B"},{"$f":"IF(Master!AY33=\"\",\"B\",Master!AY33)","v":"B"},{"$f":"IF(Master!BJ33=\"\",\"B\",Master!BJ33)","v":"B"},{"$f":"IF(Master!BU33=\"\",\"B\",Master!BU33)","v":"B"}]
[{"$f":"Master!A34","v":"SS"},{"$f":"Master!B34","v":"Thinking Critically: Drawing Conclusions with Confidence"},{"$f":"Master!C34","v":"pe_01_a03_bs_enus"},{"$f":"Master!D34","v":"OLT"},{"$f":"Master!E34","v":"Active"},{"$f":"Master!F34","v":0},{"$f":"Master!H34","v":0},{"$f":"IF(Master!R34=\"\",\"B\",Master!R34)","v":"R"},{"$f":"IF(Master!AC34=\"\",\"B\",Master!AC34)","v":"R"},{"$f":"IF(Master!AN34=\"\",\"B\",Master!AN34)","v":"B"},{"$f":"IF(Master!AY34=\"\",\"B\",Master!AY34)","v":"B"},{"$f":"IF(Master!BJ34=\"\",\"B\",Master!BJ34)","v":"B"},{"$f":"IF(Master!BU34=\"\",\"B\",Master!BU34)","v":"B"}]
[{"$f":"Master!A35","v":"SS"},{"$f":"Master!B35","v":"Microsoft Excel 2016 Essentials: Creating, Editing, and Saving Workbooks"},{"$f":"Master!C35","v":"mo_beel_a01_dt_enus"},{"$f":"Master!D35","v":"OLT"},{"$f":"Master!E35","v":"Active"},{"$f":"Master!F35","v":0},{"$f":"Master!H35","v":0},{"$f":"IF(Master!R35=\"\",\"B\",Master!R35)","v":"R"},{"$f":"IF(Master!AC35=\"\",\"B\",Master!AC35)","v":"R"},{"$f":"IF(Master!AN35=\"\",\"B\",Master!AN35)","v":"B"},{"$f":"IF(Master!AY35=\"\",\"B\",Master!AY35)","v":"B"},{"$f":"IF(Master!BJ35=\"\",\"B\",Master!BJ35)","v":"B"},{"$f":"IF(Master!BU35=\"\",\"B\",Master!BU35)","v":"B"}]
[{"$f":"Master!A36","v":"SS"},{"$f":"Master!B36","v":"Microsoft Excel 2016 Essentials: Formulas and Functions"},{"$f":"Master!C36","v":"mo_beel_a04_dt_enus"},{"$f":"Master!D36","v":"OLT"},{"$f":"Master!E36","v":"Active"},{"$f":"Master!F36","v":0},{"$f":"Master!H36","v":0},{"$f":"IF(Master!R36=\"\",\"B\",Master!R36)","v":"R"},{"$f":"IF(Master!AC36=\"\",\"B\",Master!AC36)","v":"R"},{"$f":"IF(Master!AN36=\"\",\"B\",Master!AN36)","v":"B"},{"$f":"IF(Master!AY36=\"\",\"B\",Master!AY36)","v":"B"},{"$f":"IF(Master!BJ36=\"\",\"B\",Master!BJ36)","v":"B"},{"$f":"IF(Master!BU36=\"\",\"B\",Master!BU36)","v":"B"}]
[{"$f":"Master!A37","v":"SS"},{"$f":"Master!B37","v":"Microsoft Excel 2016 Essentials: Formatting Data"},{"$f":"Master!C37","v":"mo_beel_a02_dt_enus"},{"$f":"Master!D37","v":"OLT"},{"$f":"Master!E37","v":"Active"},{"$f":"Master!F37","v":0},{"$f":"Master!H37","v":0},{"$f":"IF(Master!R37=\"\",\"B\",Master!R37)","v":"R"},{"$f":"IF(Master!AC37=\"\",\"B\",Master!AC37)","v":"R"},{"$f":"IF(Master!AN37=\"\",\"B\",Master!AN37)","v":"B"},{"$f":"IF(Master!AY37=\"\",\"B\",Master!AY37)","v":"B"},{"$f":"IF(Master!BJ37=\"\",\"B\",Master!BJ37)","v":"B"},{"$f":"IF(Master!BU37=\"\",\"B\",Master!BU37)","v":"B"}]
[{"$f":"Master!A38","v":"SS"},{"$f":"Master!B38","v":"Microsoft Excel 2016 Essentials: Data Presentation Strategies"},{"$f":"Master!C38","v":"mo_beel_a03_dt_enus"},{"$f":"Master!D38","v":"OLT"},{"$f":"Master!E38","v":"Active"},{"$f":"Master!F38","v":0},{"$f":"Master!H38","v":0},{"$f":"IF(Master!R38=\"\",\"B\",Master!R38)","v":"R"},{"$f":"IF(Master!AC38=\"\",\"B\",Master!AC38)","v":"R"},{"$f":"IF(Master!AN38=\"\",\"B\",Master!AN38)","v":"B"},{"$f":"IF(Master!AY38=\"\",\"B\",Master!AY38)","v":"B"},{"$f":"IF(Master!BJ38=\"\",\"B\",Master!BJ38)","v":"B"},{"$f":"IF(Master!BU38=\"\",\"B\",Master!BU38)","v":"B"}]
[{"$f":"Master!A39","v":"SS"},{"$f":"Master!B39","v":"Microsoft Excel 2016 Essentials: Charts, Tables, and Images"},{"$f":"Master!C39","v":"mo_beel_a05_dt_enus"},{"$f":"Master!D39","v":"OLT"},{"$f":"Master!E39","v":"Active"},{"$f":"Master!F39","v":0},{"$f":"Master!H39","v":0},{"$f":"IF(Master!R39=\"\",\"B\",Master!R39)","v":"R"},{"$f":"IF(Master!AC39=\"\",\"B\",Master!AC39)","v":"R"},{"$f":"IF(Master!AN39=\"\",\"B\",Master!AN39)","v":"B"},{"$f":"IF(Master!AY39=\"\",\"B\",Master!AY39)","v":"B"},{"$f":"IF(Master!BJ39=\"\",\"B\",Master!BJ39)","v":"B"},{"$f":"IF(Master!BU39=\"\",\"B\",Master!BU39)","v":"B"}]
[{"$f":"Master!A40","v":"SS"},{"$f":"Master!B40","v":"Microsoft Office 2016 Intermediate Excel: Working with Data "},{"$f":"Master!C40","v":"mo_inel_a03_dt_enus"},{"$f":"Master!D40","v":"OLT"},{"$f":"Master!E40","v":"Active"},{"$f":"Master!F40","v":0},{"$f":"Master!H40","v":0},{"$f":"IF(Master!R40=\"\",\"B\",Master!R40)","v":2},{"$f":"IF(Master!AC40=\"\",\"B\",Master!AC40)","v":2},{"$f":"IF(Master!AN40=\"\",\"B\",Master!AN40)","v":2},{"$f":"IF(Master!AY40=\"\",\"B\",Master!AY40)","v":"B"},{"$f":"IF(Master!BJ40=\"\",\"B\",Master!BJ40)","v":"B"},{"$f":"IF(Master!BU40=\"\",\"B\",Master!BU40)","v":"B"}]
[{"$f":"Master!A41","v":"SS"},{"$f":"Master!B41","v":"Microsoft Office 2016 Intermediate Excel: Share, Review, and Collaborate "},{"$f":"Master!C41","v":"mo_inel_a06_dt_enus"},{"$f":"Master!D41","v":"OLT"},{"$f":"Master!E41","v":"Active"},{"$f":"Master!F41","v":0},{"$f":"Master!H41","v":0},{"$f":"IF(Master!R41=\"\",\"B\",Master!R41)","v":2},{"$f":"IF(Master!AC41=\"\",\"B\",Master!AC41)","v":2},{"$f":"IF(Master!AN41=\"\",\"B\",Master!AN41)","v":2},{"$f":"IF(Master!AY41=\"\",\"B\",Master!AY41)","v":"B"},{"$f":"IF(Master!BJ41=\"\",\"B\",Master!BJ41)","v":"B"},{"$f":"IF(Master!BU41=\"\",\"B\",Master!BU41)","v":"B"}]
[{"$f":"Master!A42","v":"SS"},{"$f":"Master!B42","v":"Microsoft Office 2016 Intermediate Excel: Creating Custom Visual Effects "},{"$f":"Master!C42","v":"mo_inel_a02_dt_enus"},{"$f":"Master!D42","v":"OLT"},{"$f":"Master!E42","v":"Active"},{"$f":"Master!F42","v":0},{"$f":"Master!H42","v":0},{"$f":"IF(Master!R42=\"\",\"B\",Master!R42)","v":2},{"$f":"IF(Master!AC42=\"\",\"B\",Master!AC42)","v":2},{"$f":"IF(Master!AN42=\"\",\"B\",Master!AN42)","v":2},{"$f":"IF(Master!AY42=\"\",\"B\",Master!AY42)","v":"B"},{"$f":"IF(Master!BJ42=\"\",\"B\",Master!BJ42)","v":"B"},{"$f":"IF(Master!BU42=\"\",\"B\",Master!BU42)","v":"B"}]
[{"$f":"Master!A43","v":"SS"},{"$f":"Master!B43","v":"Working with the Interface and Performing Basic Tasks in Word 2016 "},{"$f":"Master!C43","v":"mo_bewo_a01_dt_enus"},{"$f":"Master!D43","v":"OLT"},{"$f":"Master!E43","v":"Active"},{"$f":"Master!F43","v":0},{"$f":"Master!H43","v":0},{"$f":"IF(Master!R43=\"\",\"B\",Master!R43)","v":"R"},{"$f":"IF(Master!AC43=\"\",\"B\",Master!AC43)","v":"R"},{"$f":"IF(Master!AN43=\"\",\"B\",Master!AN43)","v":"B"},{"$f":"IF(Master!AY43=\"\",\"B\",Master!AY43)","v":"B"},{"$f":"IF(Master!BJ43=\"\",\"B\",Master!BJ43)","v":"B"},{"$f":"IF(Master!BU43=\"\",\"B\",Master!BU43)","v":"B"}]
[{"$f":"Master!A44","v":"SS"},{"$f":"Master!B44","v":"Formatting Text in Word 2016 "},{"$f":"Master!C44","v":"mo_bewo_a02_dt_enus"},{"$f":"Master!D44","v":"OLT"},{"$f":"Master!E44","v":"Active"},{"$f":"Master!F44","v":0},{"$f":"Master!H44","v":0},{"$f":"IF(Master!R44=\"\",\"B\",Master!R44)","v":"R"},{"$f":"IF(Master!AC44=\"\",\"B\",Master!AC44)","v":"R"},{"$f":"IF(Master!AN44=\"\",\"B\",Master!AN44)","v":"B"},{"$f":"IF(Master!AY44=\"\",\"B\",Master!AY44)","v":"B"},{"$f":"IF(Master!BJ44=\"\",\"B\",Master!BJ44)","v":"B"},{"$f":"IF(Master!BU44=\"\",\"B\",Master!BU44)","v":"B"}]
[{"$f":"Master!A45","v":"SS"},{"$f":"Master!B45","v":"Headers, Footers, Page Numbering, and Layout in Word 2016 "},{"$f":"Master!C45","v":"mo_bewo_a05_dt_enus"},{"$f":"Master!D45","v":"OLT"},{"$f":"Master!E45","v":"Active"},{"$f":"Master!F45","v":0},{"$f":"Master!H45","v":0},{"$f":"IF(Master!R45=\"\",\"B\",Master!R45)","v":"R"},{"$f":"IF(Master!AC45=\"\",\"B\",Master!AC45)","v":"R"},{"$f":"IF(Master!AN45=\"\",\"B\",Master!AN45)","v":"B"},{"$f":"IF(Master!AY45=\"\",\"B\",Master!AY45)","v":"B"},{"$f":"IF(Master!BJ45=\"\",\"B\",Master!BJ45)","v":"B"},{"$f":"IF(Master!BU45=\"\",\"B\",Master!BU45)","v":"B"}]
[{"$f":"Master!A46","v":"SS"},{"$f":"Master!B46","v":"Using the Navigation Pane and Creating Lists in Word 2016 "},{"$f":"Master!C46","v":"mo_bewo_a06_dt_enus"},{"$f":"Master!D46","v":"OLT"},{"$f":"Master!E46","v":"Active"},{"$f":"Master!F46","v":0},{"$f":"Master!H46","v":0},{"$f":"IF(Master!R46=\"\",\"B\",Master!R46)","v":"R"},{"$f":"IF(Master!AC46=\"\",\"B\",Master!AC46)","v":"R"},{"$f":"IF(Master!AN46=\"\",\"B\",Master!AN46)","v":"B"},{"$f":"IF(Master!AY46=\"\",\"B\",Master!AY46)","v":"B"},{"$f":"IF(Master!BJ46=\"\",\"B\",Master!BJ46)","v":"B"},{"$f":"IF(Master!BU46=\"\",\"B\",Master!BU46)","v":"B"}]
[{"$f":"Master!A47","v":"SS"},{"$f":"Master!B47","v":"Customizing Options and Using Document Views in Word 2016 "},{"$f":"Master!C47","v":"mo_bewo_a03_dt_enus"},{"$f":"Master!D47","v":"OLT"},{"$f":"Master!E47","v":"Active"},{"$f":"Master!F47","v":0},{"$f":"Master!H47","v":0},{"$f":"IF(Master!R47=\"\",\"B\",Master!R47)","v":2},{"$f":"IF(Master!AC47=\"\",\"B\",Master!AC47)","v":2},{"$f":"IF(Master!AN47=\"\",\"B\",Master!AN47)","v":2},{"$f":"IF(Master!AY47=\"\",\"B\",Master!AY47)","v":"B"},{"$f":"IF(Master!BJ47=\"\",\"B\",Master!BJ47)","v":"B"},{"$f":"IF(Master!BU47=\"\",\"B\",Master!BU47)","v":"B"}]
[{"$f":"Master!A48","v":"SS"},{"$f":"Master!B48","v":"Creating and Formatting Tables in Word 2016 "},{"$f":"Master!C48","v":"mo_bewo_a04_dt_enus"},{"$f":"Master!D48","v":"OLT"},{"$f":"Master!E48","v":"Active"},{"$f":"Master!F48","v":0},{"$f":"Master!H48","v":0},{"$f":"IF(Master!R48=\"\",\"B\",Master!R48)","v":2},{"$f":"IF(Master!AC48=\"\",\"B\",Master!AC48)","v":2},{"$f":"IF(Master!AN48=\"\",\"B\",Master!AN48)","v":2},{"$f":"IF(Master!AY48=\"\",\"B\",Master!AY48)","v":"B"},{"$f":"IF(Master!BJ48=\"\",\"B\",Master!BJ48)","v":"B"},{"$f":"IF(Master!BU48=\"\",\"B\",Master!BU48)","v":"B"}]
[{"$f":"Master!A49","v":"Human Resource"},null,null,null,null,null,null,{"$f":"IF(Master!R49=\"\",\"B\",Master!R49)","v":"B"},{"$f":"IF(Master!AC49=\"\",\"B\",Master!AC49)","v":"B"},{"$f":"IF(Master!AN49=\"\",\"B\",Master!AN49)","v":"B"},{"$f":"IF(Master!AY49=\"\",\"B\",Master!AY49)","v":"B"},{"$f":"IF(Master!BJ49=\"\",\"B\",Master!BJ49)","v":"B"},{"$f":"IF(Master!BU49=\"\",\"B\",Master!BU49)","v":"B"}]
[{"$f":"Master!A50","v":"Conflict Management - The following two courses are available"},null,null,null,null,null,null,{"$f":"IF(Master!R50=\"\",\"B\",Master!R50)","v":"B"},{"$f":"IF(Master!AC50=\"\",\"B\",Master!AC50)","v":"B"},{"$f":"IF(Master!AN50=\"\",\"B\",Master!AN50)","v":"B"},{"$f":"IF(Master!AY50=\"\",\"B\",Master!AY50)","v":"B"},{"$f":"IF(Master!BJ50=\"\",\"B\",Master!BJ50)","v":"B"},{"$f":"IF(Master!BU50=\"\",\"B\",Master!BU50)","v":"B"}]
[{"$f":"Master!A51","v":"SS"},{"$f":"Master!B51","v":"Preparing for a Difficult Conversation"},{"$f":"Master!C51","v":"mgmt_36_a01_bs_enus"},{"$f":"Master!D51","v":"OLT"},{"$f":"Master!E51","v":"Active"},{"$f":"Master!F51","v":0},{"$f":"Master!H51","v":"Take this course first."},{"$f":"IF(Master!R51=\"\",\"B\",Master!R51)","v":2},{"$f":"IF(Master!AC51=\"\",\"B\",Master!AC51)","v":2},{"$f":"IF(Master!AN51=\"\",\"B\",Master!AN51)","v":2},{"$f":"IF(Master!AY51=\"\",\"B\",Master!AY51)","v":1},{"$f":"IF(Master!BJ51=\"\",\"B\",Master!BJ51)","v":1},{"$f":"IF(Master!BU51=\"\",\"B\",Master!BU51)","v":1}]
[{"$f":"Master!A52","v":"ES"},{"$f":"Master!B52","v":"Managing Emotions in the Workplace"},{"$f":"Master!C52","v":"Enterprise Services Course\n1/2 Day - $100"},{"$f":"Master!D52","v":"ILT"},{"$f":"Master!E52","v":"Active"},{"$f":"Master!F52","v":0},{"$f":"Master!H52","v":"To register for this course, \ncall the LMS Helpdesk at \n360-705-7060."},{"$f":"IF(Master!R52=\"\",\"B\",Master!R52)","v":2},{"$f":"IF(Master!AC52=\"\",\"B\",Master!AC52)","v":2},{"$f":"IF(Master!AN52=\"\",\"B\",Master!AN52)","v":2},{"$f":"IF(Master!AY52=\"\",\"B\",Master!AY52)","v":1},{"$f":"IF(Master!BJ52=\"\",\"B\",Master!BJ52)","v":1},{"$f":"IF(Master!BU52=\"\",\"B\",Master!BU52)","v":1}]
[{"$f":"Master!A53","v":"Interpersonal Communications - The following two courses are available"},null,null,null,null,null,null,{"$f":"IF(Master!R53=\"\",\"B\",Master!R53)","v":"B"},{"$f":"IF(Master!AC53=\"\",\"B\",Master!AC53)","v":"B"},{"$f":"IF(Master!AN53=\"\",\"B\",Master!AN53)","v":"B"},{"$f":"IF(Master!AY53=\"\",\"B\",Master!AY53)","v":"B"},{"$f":"IF(Master!BJ53=\"\",\"B\",Master!BJ53)","v":"B"},{"$f":"IF(Master!BU53=\"\",\"B\",Master!BU53)","v":"B"}]
[{"$f":"Master!A54","v":"SS"},{"$f":"Master!B54","v":"Difficult People: Strategies to Keep Everyone Working Together"},{"$f":"Master!C54","v":"comm_46_a03_bs_enus"},{"$f":"Master!D54","v":"OLT"},{"$f":"Master!E54","v":"Active"},{"$f":"Master!F54","v":0},{"$f":"Master!H54","v":"Take this course first."},{"$f":"IF(Master!R54=\"\",\"B\",Master!R54)","v":1},{"$f":"IF(Master!AC54=\"\",\"B\",Master!AC54)","v":1},{"$f":"IF(Master!AN54=\"\",\"B\",Master!AN54)","v":1},{"$f":"IF(Master!AY54=\"\",\"B\",Master!AY54)","v":1},{"$f":"IF(Master!BJ54=\"\",\"B\",Master!BJ54)","v":1},{"$f":"IF(Master!BU54=\"\",\"B\",Master!BU54)","v":1}]
[{"$f":"Master!A55","v":"ES"},{"$f":"Master!B55","v":"Interpersonal Communication Skills"},{"$f":"Master!C55","v":"Enterprise Services Course\nTwo Days - $195"},{"$f":"Master!D55","v":"ILT"},{"$f":"Master!E55","v":"Active"},{"$f":"Master!F55","v":0},{"$f":"Master!H55","v":"To register for this course, \ncall the LMS Helpdesk at \n360-705-7060."},{"$f":"IF(Master!R55=\"\",\"B\",Master!R55)","v":1},{"$f":"IF(Master!AC55=\"\",\"B\",Master!AC55)","v":1},{"$f":"IF(Master!AN55=\"\",\"B\",Master!AN55)","v":1},{"$f":"IF(Master!AY55=\"\",\"B\",Master!AY55)","v":1},{"$f":"IF(Master!BJ55=\"\",\"B\",Master!BJ55)","v":1},{"$f":"IF(Master!BU55=\"\",\"B\",Master!BU55)","v":1}]
[{"$f":"Master!A56","v":"Interpersonal Communications - The following two courses are available"},null,null,null,null,null,null,{"$f":"IF(Master!R56=\"\",\"B\",Master!R56)","v":"B"},{"$f":"IF(Master!AC56=\"\",\"B\",Master!AC56)","v":"B"},{"$f":"IF(Master!AN56=\"\",\"B\",Master!AN56)","v":"B"},{"$f":"IF(Master!AY56=\"\",\"B\",Master!AY56)","v":"B"},{"$f":"IF(Master!BJ56=\"\",\"B\",Master!BJ56)","v":"B"},{"$f":"IF(Master!BU56=\"\",\"B\",Master!BU56)","v":"B"}]
[{"$f":"Master!A57","v":"SS"},{"$f":"Master!B57","v":"Active Listening Skills for Professionals"},{"$f":"Master!C57","v":"comm_43_a03_bs_enus"},{"$f":"Master!D57","v":"OLT"},{"$f":"Master!E57","v":"Active"},{"$f":"Master!F57","v":0},{"$f":"Master!H57","v":"Take this course first."},{"$f":"IF(Master!R57=\"\",\"B\",Master!R57)","v":1},{"$f":"IF(Master!AC57=\"\",\"B\",Master!AC57)","v":1},{"$f":"IF(Master!AN57=\"\",\"B\",Master!AN57)","v":1},{"$f":"IF(Master!AY57=\"\",\"B\",Master!AY57)","v":1},{"$f":"IF(Master!BJ57=\"\",\"B\",Master!BJ57)","v":1},{"$f":"IF(Master!BU57=\"\",\"B\",Master!BU57)","v":1}]
[{"$f":"Master!A58","v":"ES"},{"$f":"Master!B58","v":"Crucial Conversations"},{"$f":"Master!C58","v":"Enterprise Services Course\nTwo Days - $450"},{"$f":"Master!D58","v":"ILT"},{"$f":"Master!E58","v":"Active"},{"$f":"Master!F58","v":0},{"$f":"Master!H58","v":"To register for this course, \ncall the LMS Helpdesk at \n360-705-7060."},{"$f":"IF(Master!R58=\"\",\"B\",Master!R58)","v":1},{"$f":"IF(Master!AC58=\"\",\"B\",Master!AC58)","v":1},{"$f":"IF(Master!AN58=\"\",\"B\",Master!AN58)","v":1},{"$f":"IF(Master!AY58=\"\",\"B\",Master!AY58)","v":1},{"$f":"IF(Master!BJ58=\"\",\"B\",Master!BJ58)","v":1},{"$f":"IF(Master!BU58=\"\",\"B\",Master!BU58)","v":1}]
[{"$f":"Master!A59","v":"Oral Presentation Techniques"},null,null,null,null,null,null,{"$f":"IF(Master!R59=\"\",\"B\",Master!R59)","v":"B"},{"$f":"IF(Master!AC59=\"\",\"B\",Master!AC59)","v":"B"},{"$f":"IF(Master!AN59=\"\",\"B\",Master!AN59)","v":"B"},{"$f":"IF(Master!AY59=\"\",\"B\",Master!AY59)","v":"B"},{"$f":"IF(Master!BJ59=\"\",\"B\",Master!BJ59)","v":"B"},{"$f":"IF(Master!BU59=\"\",\"B\",Master!BU59)","v":"B"}]
[{"$f":"Master!A60","v":"ES"},{"$f":"Master!B60","v":"Presentation & Training Design & Delivery "},{"$f":"Master!C60","v":"Enterprise Services Course \nTwo Days - $205"},{"$f":"Master!D60","v":"ILT"},{"$f":"Master!E60","v":"Active"},{"$f":"Master!F60","v":0},{"$f":"Master!H60","v":"To register for this course, \ncall the LMS Helpdesk at \n360-705-7060."},{"$f":"IF(Master!R60=\"\",\"B\",Master!R60)","v":"B"},{"$f":"IF(Master!AC60=\"\",\"B\",Master!AC60)","v":"B"},{"$f":"IF(Master!AN60=\"\",\"B\",Master!AN60)","v":"B"},{"$f":"IF(Master!AY60=\"\",\"B\",Master!AY60)","v":"B"},{"$f":"IF(Master!BJ60=\"\",\"B\",Master!BJ60)","v":2},{"$f":"IF(Master!BU60=\"\",\"B\",Master!BU60)","v":1}]
[{"$f":"Master!A61","v":"Stress Management -  The following two courses are available"},null,null,null,null,null,null,{"$f":"IF(Master!R61=\"\",\"B\",Master!R61)","v":"B"},{"$f":"IF(Master!AC61=\"\",\"B\",Master!AC61)","v":"B"},{"$f":"IF(Master!AN61=\"\",\"B\",Master!AN61)","v":"B"},{"$f":"IF(Master!AY61=\"\",\"B\",Master!AY61)","v":"B"},{"$f":"IF(Master!BJ61=\"\",\"B\",Master!BJ61)","v":"B"},{"$f":"IF(Master!BU61=\"\",\"B\",Master!BU61)","v":"B"}]
[{"$f":"Master!A62","v":"SS"},{"$f":"Master!B62","v":"Conflict, Stress, and Time Management"},{"$f":"Master!C62","v":"cust_07_a03_bs_enus"},{"$f":"Master!D62","v":"OLT"},{"$f":"Master!E62","v":"Active"},{"$f":"Master!F62","v":0},{"$f":"Master!H62","v":"Take this course first."},{"$f":"IF(Master!R62=\"\",\"B\",Master!R62)","v":1},{"$f":"IF(Master!AC62=\"\",\"B\",Master!AC62)","v":1},{"$f":"IF(Master!AN62=\"\",\"B\",Master!AN62)","v":1},{"$f":"IF(Master!AY62=\"\",\"B\",Master!AY62)","v":1},{"$f":"IF(Master!BJ62=\"\",\"B\",Master!BJ62)","v":1},{"$f":"IF(Master!BU62=\"\",\"B\",Master!BU62)","v":1}]
[{"$f":"Master!A63","v":"ES"},{"$f":"Master!B63","v":"Managing Job Stress"},{"$f":"Master!C63","v":"Enterprise Services Course\nOne Day - $135"},{"$f":"Master!D63","v":"ILT"},{"$f":"Master!E63","v":"Active"},{"$f":"Master!F63","v":0},{"$f":"Master!H63","v":"To register for this course, \ncall the LMS Helpdesk at \n360-705-7060."},{"$f":"IF(Master!R63=\"\",\"B\",Master!R63)","v":1},{"$f":"IF(Master!AC63=\"\",\"B\",Master!AC63)","v":1},{"$f":"IF(Master!AN63=\"\",\"B\",Master!AN63)","v":1},{"$f":"IF(Master!AY63=\"\",\"B\",Master!AY63)","v":1},{"$f":"IF(Master!BJ63=\"\",\"B\",Master!BJ63)","v":1},{"$f":"IF(Master!BU63=\"\",\"B\",Master!BU63)","v":1}]
[{"$f":"Master!A64","v":"Time Management -  The following six courses are available"},null,null,null,null,null,null,{"$f":"IF(Master!R64=\"\",\"B\",Master!R64)","v":"B"},{"$f":"IF(Master!AC64=\"\",\"B\",Master!AC64)","v":"B"},{"$f":"IF(Master!AN64=\"\",\"B\",Master!AN64)","v":"B"},{"$f":"IF(Master!AY64=\"\",\"B\",Master!AY64)","v":"B"},{"$f":"IF(Master!BJ64=\"\",\"B\",Master!BJ64)","v":"B"},{"$f":"IF(Master!BU64=\"\",\"B\",Master!BU64)","v":"B"}]
[{"$f":"Master!A65","v":"SS"},{"$f":"Master!B65","v":"Getting Time under Control"},{"$f":"Master!C65","v":"_pc_ch_pach021"},{"$f":"Master!D65","v":"OLT"},{"$f":"Master!E65","v":"Active"},{"$f":"Master!F65","v":0},{"$f":"Master!H65","v":"Take this course before the Enterprise Services course"},{"$f":"IF(Master!R65=\"\",\"B\",Master!R65)","v":1},{"$f":"IF(Master!AC65=\"\",\"B\",Master!AC65)","v":1},{"$f":"IF(Master!AN65=\"\",\"B\",Master!AN65)","v":1},{"$f":"IF(Master!AY65=\"\",\"B\",Master!AY65)","v":1},{"$f":"IF(Master!BJ65=\"\",\"B\",Master!BJ65)","v":1},{"$f":"IF(Master!BU65=\"\",\"B\",Master!BU65)","v":1}]
[{"$f":"Master!A66","v":"SS"},{"$f":"Master!B66","v":"Make the Time You Need: Get Organized"},{"$f":"Master!C66","v":"apd_08_a02_bs_enus"},{"$f":"Master!D66","v":"OLT"},{"$f":"Master!E66","v":"Active"},{"$f":"Master!F66","v":0},{"$f":"Master!H66","v":"Take this course before the Enterprise Services course"},{"$f":"IF(Master!R66=\"\",\"B\",Master!R66)","v":1},{"$f":"IF(Master!AC66=\"\",\"B\",Master!AC66)","v":1},{"$f":"IF(Master!AN66=\"\",\"B\",Master!AN66)","v":1},{"$f":"IF(Master!AY66=\"\",\"B\",Master!AY66)","v":1},{"$f":"IF(Master!BJ66=\"\",\"B\",Master!BJ66)","v":1},{"$f":"IF(Master!BU66=\"\",\"B\",Master!BU66)","v":1}]
[{"$f":"Master!A67","v":"SS"},{"$f":"Master!B67","v":"Time Management: Too Much to Do and Too Little Time"},{"$f":"Master!C67","v":"pd_20_a01_bs_enus"},{"$f":"Master!D67","v":"OLT"},{"$f":"Master!E67","v":"Active"},{"$f":"Master!F67","v":0},{"$f":"Master!H67","v":"Take this course before the Enterprise Services course"},{"$f":"IF(Master!R67=\"\",\"B\",Master!R67)","v":1},{"$f":"IF(Master!AC67=\"\",\"B\",Master!AC67)","v":1},{"$f":"IF(Master!AN67=\"\",\"B\",Master!AN67)","v":1},{"$f":"IF(Master!AY67=\"\",\"B\",Master!AY67)","v":1},{"$f":"IF(Master!BJ67=\"\",\"B\",Master!BJ67)","v":1},{"$f":"IF(Master!BU67=\"\",\"B\",Master!BU67)","v":1}]
[{"$f":"Master!A68","v":"SS"},{"$f":"Master!B68","v":"Time Management: Quit Making Excuses and Make Time Instead"},{"$f":"Master!C68","v":"pd_20_a02_bs_enus"},{"$f":"Master!D68","v":"OLT"},{"$f":"Master!E68","v":"Active"},{"$f":"Master!F68","v":0},{"$f":"Master!H68","v":"Take this course before the Enterprise Services course"},{"$f":"IF(Master!R68=\"\",\"B\",Master!R68)","v":1},{"$f":"IF(Master!AC68=\"\",\"B\",Master!AC68)","v":1},{"$f":"IF(Master!AN68=\"\",\"B\",Master!AN68)","v":1},{"$f":"IF(Master!AY68=\"\",\"B\",Master!AY68)","v":1},{"$f":"IF(Master!BJ68=\"\",\"B\",Master!BJ68)","v":1},{"$f":"IF(Master!BU68=\"\",\"B\",Master!BU68)","v":1}]
[{"$f":"Master!A69","v":"SS"},{"$f":"Master!B69","v":"Time Management: Ready, Set…Focus!"},{"$f":"Master!C69","v":"pd_20_a03_bs_enus"},{"$f":"Master!D69","v":"OLT"},{"$f":"Master!E69","v":"Active"},{"$f":"Master!F69","v":0},{"$f":"Master!H69","v":"Take this course before the Enterprise Services course"},{"$f":"IF(Master!R69=\"\",\"B\",Master!R69)","v":1},{"$f":"IF(Master!AC69=\"\",\"B\",Master!AC69)","v":1},{"$f":"IF(Master!AN69=\"\",\"B\",Master!AN69)","v":1},{"$f":"IF(Master!AY69=\"\",\"B\",Master!AY69)","v":1},{"$f":"IF(Master!BJ69=\"\",\"B\",Master!BJ69)","v":1},{"$f":"IF(Master!BU69=\"\",\"B\",Master!BU69)","v":1}]
[{"$f":"Master!A70","v":"ES"},{"$f":"Master!B70","v":"Time Management"},{"$f":"Master!C70","v":"Enterprise Services Course\nOne Day - $135"},{"$f":"Master!D70","v":"ILT"},{"$f":"Master!E70","v":"Active"},{"$f":"Master!F70","v":0},{"$f":"Master!H70","v":"To register for this course, \ncall the LMS Helpdesk at \n360-705-7060."},{"$f":"IF(Master!R70=\"\",\"B\",Master!R70)","v":1},{"$f":"IF(Master!AC70=\"\",\"B\",Master!AC70)","v":1},{"$f":"IF(Master!AN70=\"\",\"B\",Master!AN70)","v":1},{"$f":"IF(Master!AY70=\"\",\"B\",Master!AY70)","v":1},{"$f":"IF(Master!BJ70=\"\",\"B\",Master!BJ70)","v":1},{"$f":"IF(Master!BU70=\"\",\"B\",Master!BU70)","v":1}]
[{"$f":"Master!A71","v":"Technical Writing -  The following five courses are available"},null,null,null,null,null,null,{"$f":"IF(Master!R71=\"\",\"B\",Master!R71)","v":"B"},{"$f":"IF(Master!AC71=\"\",\"B\",Master!AC71)","v":"B"},{"$f":"IF(Master!AN71=\"\",\"B\",Master!AN71)","v":"B"},{"$f":"IF(Master!AY71=\"\",\"B\",Master!AY71)","v":"B"},{"$f":"IF(Master!BJ71=\"\",\"B\",Master!BJ71)","v":"B"},{"$f":"IF(Master!BU71=\"\",\"B\",Master!BU71)","v":"B"}]
[{"$f":"Master!A72","v":"SS"},{"$f":"Master!B72","v":"Improving Your Technical Writing Skills"},{"$f":"Master!C72","v":"acm_06_a01_it_enus"},{"$f":"Master!D72","v":"OLT"},{"$f":"Master!E72","v":"Active"},{"$f":"Master!F72","v":0},{"$f":"Master!H72","v":0},{"$f":"IF(Master!R72=\"\",\"B\",Master!R72)","v":2},{"$f":"IF(Master!AC72=\"\",\"B\",Master!AC72)","v":2},{"$f":"IF(Master!AN72=\"\",\"B\",Master!AN72)","v":2},{"$f":"IF(Master!AY72=\"\",\"B\",Master!AY72)","v":2},{"$f":"IF(Master!BJ72=\"\",\"B\",Master!BJ72)","v":1},{"$f":"IF(Master!BU72=\"\",\"B\",Master!BU72)","v":1}]
[{"$f":"Master!A73","v":"SS"},{"$f":"Master!B73","v":"Writing for Technical Professionals: Effective Writing Techniques"},{"$f":"Master!C73","v":"ib_wstp_a02_it_enus"},{"$f":"Master!D73","v":"OLT"},{"$f":"Master!E73","v":"Active"},{"$f":"Master!F73","v":0},{"$f":"Master!H73","v":0},{"$f":"IF(Master!R73=\"\",\"B\",Master!R73)","v":2},{"$f":"IF(Master!AC73=\"\",\"B\",Master!AC73)","v":2},{"$f":"IF(Master!AN73=\"\",\"B\",Master!AN73)","v":2},{"$f":"IF(Master!AY73=\"\",\"B\",Master!AY73)","v":2},{"$f":"IF(Master!BJ73=\"\",\"B\",Master!BJ73)","v":1},{"$f":"IF(Master!BU73=\"\",\"B\",Master!BU73)","v":1}]
[{"$f":"Master!A74","v":"SS"},{"$f":"Master!B74","v":"Writing for Technical Professionals: Preparation and Planning"},{"$f":"Master!C74","v":"ib_wstp_a01_it_enus"},{"$f":"Master!D74","v":"OLT"},{"$f":"Master!E74","v":"Active"},{"$f":"Master!F74","v":0},{"$f":"Master!H74","v":0},{"$f":"IF(Master!R74=\"\",\"B\",Master!R74)","v":2},{"$f":"IF(Master!AC74=\"\",\"B\",Master!AC74)","v":2},{"$f":"IF(Master!AN74=\"\",\"B\",Master!AN74)","v":2},{"$f":"IF(Master!AY74=\"\",\"B\",Master!AY74)","v":2},{"$f":"IF(Master!BJ74=\"\",\"B\",Master!BJ74)","v":1},{"$f":"IF(Master!BU74=\"\",\"B\",Master!BU74)","v":1}]
[{"$f":"Master!A75","v":"ES"},{"$f":"Master!B75","v":"Technical Writing: Tricks of the Trade"},{"$f":"Master!C75","v":"Enterprise Services Course\nTwo Day Course - $185"},{"$f":"Master!D75","v":"ILT"},{"$f":"Master!E75","v":"Active"},{"$f":"Master!F75","v":0},{"$f":"Master!H75","v":"To register for this course, call the LMS Helpdesk at \n360-705-7060."},{"$f":"IF(Master!R75=\"\",\"B\",Master!R75)","v":2},{"$f":"IF(Master!AC75=\"\",\"B\",Master!AC75)","v":2},{"$f":"IF(Master!AN75=\"\",\"B\",Master!AN75)","v":2},{"$f":"IF(Master!AY75=\"\",\"B\",Master!AY75)","v":2},{"$f":"IF(Master!BJ75=\"\",\"B\",Master!BJ75)","v":1},{"$f":"IF(Master!BU75=\"\",\"B\",Master!BU75)","v":1}]
[{"$f":"Master!A76","v":"ES"},{"$f":"Master!B76","v":"Writing Skills"},{"$f":"Master!C76","v":"Enterprise Services Course\nOne Day - $145"},{"$f":"Master!D76","v":"ILT"},{"$f":"Master!E76","v":"Active"},{"$f":"Master!F76","v":0},{"$f":"Master!H76","v":"To register for this course, \ncall the LMS Helpdesk at \n360-705-7060."},{"$f":"IF(Master!R76=\"\",\"B\",Master!R76)","v":2},{"$f":"IF(Master!AC76=\"\",\"B\",Master!AC76)","v":2},{"$f":"IF(Master!AN76=\"\",\"B\",Master!AN76)","v":2},{"$f":"IF(Master!AY76=\"\",\"B\",Master!AY76)","v":2},{"$f":"IF(Master!BJ76=\"\",\"B\",Master!BJ76)","v":1},{"$f":"IF(Master!BU76=\"\",\"B\",Master!BU76)","v":1}]
[{"$f":"Master!A77","v":"Effective Meeting Management -  The following six courses are available"},null,null,null,null,null,null,{"$f":"IF(Master!R77=\"\",\"B\",Master!R77)","v":"B"},{"$f":"IF(Master!AC77=\"\",\"B\",Master!AC77)","v":"B"},{"$f":"IF(Master!AN77=\"\",\"B\",Master!AN77)","v":"B"},{"$f":"IF(Master!AY77=\"\",\"B\",Master!AY77)","v":"B"},{"$f":"IF(Master!BJ77=\"\",\"B\",Master!BJ77)","v":"B"},{"$f":"IF(Master!BU77=\"\",\"B\",Master!BU77)","v":"B"}]
[{"$f":"Master!A78","v":"SS"},{"$f":"Master!B78","v":"Dealing with Common Meeting Problems"},{"$f":"Master!C78","v":"comm_32_a03_bs_enus"},{"$f":"Master!D78","v":"OLT"},{"$f":"Master!E78","v":"Active"},{"$f":"Master!F78","v":0},{"$f":"Master!H78","v":0},{"$f":"IF(Master!R78=\"\",\"B\",Master!R78)","v":"B"},{"$f":"IF(Master!AC78=\"\",\"B\",Master!AC78)","v":"B"},{"$f":"IF(Master!AN78=\"\",\"B\",Master!AN78)","v":"B"},{"$f":"IF(Master!AY78=\"\",\"B\",Master!AY78)","v":"B"},{"$f":"IF(Master!BJ78=\"\",\"B\",Master!BJ78)","v":2},{"$f":"IF(Master!BU78=\"\",\"B\",Master!BU78)","v":1}]
[{"$f":"Master!A79","v":"SS"},{"$f":"Master!B79","v":"Preparing for Effective Business Meetings"},{"$f":"Master!C79","v":"comm_32_a01_bs_enus"},{"$f":"Master!D79","v":"OLT"},{"$f":"Master!E79","v":"Active"},{"$f":"Master!F79","v":0},{"$f":"Master!H79","v":0},{"$f":"IF(Master!R79=\"\",\"B\",Master!R79)","v":"B"},{"$f":"IF(Master!AC79=\"\",\"B\",Master!AC79)","v":"B"},{"$f":"IF(Master!AN79=\"\",\"B\",Master!AN79)","v":"B"},{"$f":"IF(Master!AY79=\"\",\"B\",Master!AY79)","v":"B"},{"$f":"IF(Master!BJ79=\"\",\"B\",Master!BJ79)","v":2},{"$f":"IF(Master!BU79=\"\",\"B\",Master!BU79)","v":1}]
[{"$f":"Master!A80","v":"SS"},{"$f":"Master!B80","v":"Planning Meetings Fit for Purpose"},{"$f":"Master!C80","v":"comm_50_a01_bs_enus"},{"$f":"Master!D80","v":"OLT"},{"$f":"Master!E80","v":"Active"},{"$f":"Master!F80","v":0},{"$f":"Master!H80","v":0},{"$f":"IF(Master!R80=\"\",\"B\",Master!R80)","v":"B"},{"$f":"IF(Master!AC80=\"\",\"B\",Master!AC80)","v":"B"},{"$f":"IF(Master!AN80=\"\",\"B\",Master!AN80)","v":"B"},{"$f":"IF(Master!AY80=\"\",\"B\",Master!AY80)","v":"B"},{"$f":"IF(Master!BJ80=\"\",\"B\",Master!BJ80)","v":2},{"$f":"IF(Master!BU80=\"\",\"B\",Master!BU80)","v":1}]
[{"$f":"Master!A81","v":"SS"},{"$f":"Master!B81","v":"Managing Effective Business Meetings"},{"$f":"Master!C81","v":"comm_32_a02_bs_enus"},{"$f":"Master!D81","v":"OLT"},{"$f":"Master!E81","v":"Active"},{"$f":"Master!F81","v":0},{"$f":"Master!H81","v":0},{"$f":"IF(Master!R81=\"\",\"B\",Master!R81)","v":"B"},{"$f":"IF(Master!AC81=\"\",\"B\",Master!AC81)","v":"B"},{"$f":"IF(Master!AN81=\"\",\"B\",Master!AN81)","v":"B"},{"$f":"IF(Master!AY81=\"\",\"B\",Master!AY81)","v":"B"},{"$f":"IF(Master!BJ81=\"\",\"B\",Master!BJ81)","v":2},{"$f":"IF(Master!BU81=\"\",\"B\",Master!BU81)","v":1}]
[{"$f":"Master!A82","v":"SS"},{"$f":"Master!B82","v":"Running Meetings in Better Directions"},{"$f":"Master!C82","v":"comm_50_a02_bs_enus"},{"$f":"Master!D82","v":"OLT"},{"$f":"Master!E82","v":"Active"},{"$f":"Master!F82","v":0},{"$f":"Master!H82","v":0},{"$f":"IF(Master!R82=\"\",\"B\",Master!R82)","v":"B"},{"$f":"IF(Master!AC82=\"\",\"B\",Master!AC82)","v":"B"},{"$f":"IF(Master!AN82=\"\",\"B\",Master!AN82)","v":"B"},{"$f":"IF(Master!AY82=\"\",\"B\",Master!AY82)","v":"B"},{"$f":"IF(Master!BJ82=\"\",\"B\",Master!BJ82)","v":2},{"$f":"IF(Master!BU82=\"\",\"B\",Master!BU82)","v":1}]
[{"$f":"Master!A83","v":"ES"},{"$f":"Master!B83","v":"Effective Meeting Management  (or one of the following five SkillSoft)"},{"$f":"Master!C83","v":"Enterprise Services Course\nOne Day - $165"},{"$f":"Master!D83","v":"ILT"},{"$f":"Master!E83","v":"Active"},{"$f":"Master!F83","v":0},{"$f":"Master!H83","v":"To register for this course, call the LMS Helpdesk at \n360-705-7060."},{"$f":"IF(Master!R83=\"\",\"B\",Master!R83)","v":"B"},{"$f":"IF(Master!AC83=\"\",\"B\",Master!AC83)","v":"B"},{"$f":"IF(Master!AN83=\"\",\"B\",Master!AN83)","v":"B"},{"$f":"IF(Master!AY83=\"\",\"B\",Master!AY83)","v":"B"},{"$f":"IF(Master!BJ83=\"\",\"B\",Master!BJ83)","v":2},{"$f":"IF(Master!BU83=\"\",\"B\",Master!BU83)","v":1}]
[{"$f":"Master!A84","v":"Enhanced Leadership for WSDOT"},null,null,null,null,null,null,{"$f":"IF(Master!R84=\"\",\"B\",Master!R84)","v":"B"},{"$f":"IF(Master!AC84=\"\",\"B\",Master!AC84)","v":"B"},{"$f":"IF(Master!AN84=\"\",\"B\",Master!AN84)","v":"B"},{"$f":"IF(Master!AY84=\"\",\"B\",Master!AY84)","v":"B"},{"$f":"IF(Master!BJ84=\"\",\"B\",Master!BJ84)","v":"B"},{"$f":"IF(Master!BU84=\"\",\"B\",Master!BU84)","v":"B"}]
[{"$f":"Master!A85","v":"ES"},{"$f":"Master!B85","v":"Leading Teams"},{"$f":"Master!C85","v":"Enterprise Services Course\nThree Days - $500"},{"$f":"Master!D85","v":"ILT"},{"$f":"Master!E85","v":"Active"},{"$f":"Master!F85","v":0},{"$f":"Master!H85","v":"To register for this course, \ncall the LMS Helpdesk at \n360-705-7060."},{"$f":"IF(Master!R85=\"\",\"B\",Master!R85)","v":"B"},{"$f":"IF(Master!AC85=\"\",\"B\",Master!AC85)","v":"B"},{"$f":"IF(Master!AN85=\"\",\"B\",Master!AN85)","v":"B"},{"$f":"IF(Master!AY85=\"\",\"B\",Master!AY85)","v":"B"},{"$f":"IF(Master!BJ85=\"\",\"B\",Master!BJ85)","v":"B"},{"$f":"IF(Master!BU85=\"\",\"B\",Master!BU85)","v":2}]
[{"$f":"Master!A86","v":"Entry Management Development"},null,null,null,null,null,null,{"$f":"IF(Master!R86=\"\",\"B\",Master!R86)","v":"B"},{"$f":"IF(Master!AC86=\"\",\"B\",Master!AC86)","v":"B"},{"$f":"IF(Master!AN86=\"\",\"B\",Master!AN86)","v":"B"},{"$f":"IF(Master!AY86=\"\",\"B\",Master!AY86)","v":"B"},{"$f":"IF(Master!BJ86=\"\",\"B\",Master!BJ86)","v":"B"},{"$f":"IF(Master!BU86=\"\",\"B\",Master!BU86)","v":"B"}]
[{"$f":"Master!A87","v":"ES"},{"$f":"Master!B87","v":"Leading Others"},{"$f":"Master!C87","v":"Enterprise Services Course\nFour Days - $500"},{"$f":"Master!D87","v":"ILT"},{"$f":"Master!E87","v":"Active"},{"$f":"Master!F87","v":0},{"$f":"Master!H87","v":"To register for this course, \ncall the LMS Helpdesk at \n360-705-7060."},{"$f":"IF(Master!R87=\"\",\"B\",Master!R87)","v":"B"},{"$f":"IF(Master!AC87=\"\",\"B\",Master!AC87)","v":"B"},{"$f":"IF(Master!AN87=\"\",\"B\",Master!AN87)","v":"B"},{"$f":"IF(Master!AY87=\"\",\"B\",Master!AY87)","v":"B"},{"$f":"IF(Master!BJ87=\"\",\"B\",Master!BJ87)","v":2},{"$f":"IF(Master!BU87=\"\",\"B\",Master!BU87)","v":1}]
[{"$f":"Master!A88","v":"ES"},{"$f":"Master!B88","v":"Supervision Essentials-Phase II (Prerequisite is Leading Others)"},{"$f":"Master!C88","v":"Enterprise Services Course\nTwo Days - $285"},{"$f":"Master!D88","v":"ILT"},{"$f":"Master!E88","v":"Active"},{"$f":"Master!F88","v":0},{"$f":"Master!H88","v":"To register for this course, \ncall the LMS Helpdesk at \n360-705-7060."},{"$f":"IF(Master!R88=\"\",\"B\",Master!R88)","v":"B"},{"$f":"IF(Master!AC88=\"\",\"B\",Master!AC88)","v":"B"},{"$f":"IF(Master!AN88=\"\",\"B\",Master!AN88)","v":"B"},{"$f":"IF(Master!AY88=\"\",\"B\",Master!AY88)","v":"B"},{"$f":"IF(Master!BJ88=\"\",\"B\",Master!BJ88)","v":"B"},{"$f":"IF(Master!BU88=\"\",\"B\",Master!BU88)","v":2}]
[{"$f":"Master!A89","v":"Safety"},null,null,null,null,null,null,{"$f":"IF(Master!R89=\"\",\"B\",Master!R89)","v":"B"},{"$f":"IF(Master!AC89=\"\",\"B\",Master!AC89)","v":"B"},{"$f":"IF(Master!AN89=\"\",\"B\",Master!AN89)","v":"B"},{"$f":"IF(Master!AY89=\"\",\"B\",Master!AY89)","v":"B"},{"$f":"IF(Master!BJ89=\"\",\"B\",Master!BJ89)","v":"B"},{"$f":"IF(Master!BU89=\"\",\"B\",Master!BU89)","v":"B"}]
[{"$f":"Master!A90","v":"SAFE"},{"$f":"Master!B90","v":"WSDOT SAFE: FALL PROTECTION"},{"$f":"Master!C90","v":"WSDOT_BN9"},{"$f":"Master!D90","v":"ILT"},{"$f":"Master!E90","v":"Active"},{"$f":"Master!F90","v":0},{"$f":"Master!H90","v":0},{"$f":"IF(Master!R90=\"\",\"B\",Master!R90)","v":"B"},{"$f":"IF(Master!AC90=\"\",\"B\",Master!AC90)","v":"B"},{"$f":"IF(Master!AN90=\"\",\"B\",Master!AN90)","v":"B"},{"$f":"IF(Master!AY90=\"\",\"B\",Master!AY90)","v":"B"},{"$f":"IF(Master!BJ90=\"\",\"B\",Master!BJ90)","v":"B"},{"$f":"IF(Master!BU90=\"\",\"B\",Master!BU90)","v":"B"}]
[{"$f":"Master!A91","v":"SAFE"},{"$f":"Master!B91","v":"WSDOT SAFE: FIRST AID"},{"$f":"Master!C91","v":"WSDOT_APS"},{"$f":"Master!D91","v":"ILT"},{"$f":"Master!E91","v":"Active"},{"$f":"Master!F91","v":0},{"$f":"Master!H91","v":0},{"$f":"IF(Master!R91=\"\",\"B\",Master!R91)","v":"R"},{"$f":"IF(Master!AC91=\"\",\"B\",Master!AC91)","v":"R"},{"$f":"IF(Master!AN91=\"\",\"B\",Master!AN91)","v":1},{"$f":"IF(Master!AY91=\"\",\"B\",Master!AY91)","v":1},{"$f":"IF(Master!BJ91=\"\",\"B\",Master!BJ91)","v":1},{"$f":"IF(Master!BU91=\"\",\"B\",Master!BU91)","v":1}]
[{"$f":"Master!A92","v":"SAFE"},{"$f":"Master!B92","v":"WSDOT SAFE: FLAGGING, TRAFFIC CONTROL"},{"$f":"Master!C92","v":"WSDOT_AFZ"},{"$f":"Master!D92","v":"ILT"},{"$f":"Master!E92","v":"Active"},{"$f":"Master!F92","v":0},{"$f":"Master!H92","v":0},{"$f":"IF(Master!R92=\"\",\"B\",Master!R92)","v":"R"},{"$f":"IF(Master!AC92=\"\",\"B\",Master!AC92)","v":"R"},{"$f":"IF(Master!AN92=\"\",\"B\",Master!AN92)","v":1},{"$f":"IF(Master!AY92=\"\",\"B\",Master!AY92)","v":1},{"$f":"IF(Master!BJ92=\"\",\"B\",Master!BJ92)","v":"B"},{"$f":"IF(Master!BU92=\"\",\"B\",Master!BU92)","v":"B"}]
[{"$f":"Master!A93","v":"SAFE"},{"$f":"Master!B93","v":"WSDOT SAFE: HAZARD COMMUNICATION STANDARD (HCS)"},{"$f":"Master!C93","v":"WSDOT_AEX"},{"$f":"Master!D93","v":"ILT"},{"$f":"Master!E93","v":"Active"},{"$f":"Master!F93","v":0},{"$f":"Master!H93","v":0},{"$f":"IF(Master!R93=\"\",\"B\",Master!R93)","v":2},{"$f":"IF(Master!AC93=\"\",\"B\",Master!AC93)","v":2},{"$f":"IF(Master!AN93=\"\",\"B\",Master!AN93)","v":2},{"$f":"IF(Master!AY93=\"\",\"B\",Master!AY93)","v":2},{"$f":"IF(Master!BJ93=\"\",\"B\",Master!BJ93)","v":2},{"$f":"IF(Master!BU93=\"\",\"B\",Master!BU93)","v":2}]
[{"$f":"Master!A94","v":"SAFE"},{"$f":"Master!B94","v":"WSDOT SAFE: HEARING CONSERVATION (ILT, and/or Self-Study)"},{"$f":"Master!C94","v":"WSDOT_ATS"},{"$f":"Master!D94","v":"OLT/ILT"},{"$f":"Master!E94","v":"Active"},{"$f":"Master!F94","v":0},{"$f":"Master!H94","v":0},{"$f":"IF(Master!R94=\"\",\"B\",Master!R94)","v":"R"},{"$f":"IF(Master!AC94=\"\",\"B\",Master!AC94)","v":"R"},{"$f":"IF(Master!AN94=\"\",\"B\",Master!AN94)","v":2},{"$f":"IF(Master!AY94=\"\",\"B\",Master!AY94)","v":2},{"$f":"IF(Master!BJ94=\"\",\"B\",Master!BJ94)","v":2},{"$f":"IF(Master!BU94=\"\",\"B\",Master!BU94)","v":2}]
[{"$f":"Master!A95","v":"SAFE"},{"$f":"Master!B95","v":"WSDOT SAFE: RESPIRATOR PROTECTION TRAINING"},{"$f":"Master!C95","v":"WSDOT_ARZ"},{"$f":"Master!D95","v":"ILT"},{"$f":"Master!E95","v":"Active"},{"$f":"Master!F95","v":0},{"$f":"Master!H95","v":0},{"$f":"IF(Master!R95=\"\",\"B\",Master!R95)","v":"B"},{"$f":"IF(Master!AC95=\"\",\"B\",Master!AC95)","v":"B"},{"$f":"IF(Master!AN95=\"\",\"B\",Master!AN95)","v":"B"},{"$f":"IF(Master!AY95=\"\",\"B\",Master!AY95)","v":"B"},{"$f":"IF(Master!BJ95=\"\",\"B\",Master!BJ95)","v":"B"},{"$f":"IF(Master!BU95=\"\",\"B\",Master!BU95)","v":"B"}]
[{"$f":"Master!A96","v":"Construction Division"},null,null,null,null,null,null,{"$f":"IF(Master!R96=\"\",\"B\",Master!R96)","v":"B"},{"$f":"IF(Master!AC96=\"\",\"B\",Master!AC96)","v":"B"},{"$f":"IF(Master!AN96=\"\",\"B\",Master!AN96)","v":"B"},{"$f":"IF(Master!AY96=\"\",\"B\",Master!AY96)","v":"B"},{"$f":"IF(Master!BJ96=\"\",\"B\",Master!BJ96)","v":"B"},{"$f":"IF(Master!BU96=\"\",\"B\",Master!BU96)","v":"B"}]
[{"$f":"Master!A97","v":"CN"},{"$f":"Master!B97","v":"WSDOT CN: AGGREGATE PRODUCTION & TESTING INSPECTION"},{"$f":"Master!C97","v":"WSDOT_ACA"},{"$f":"Master!D97","v":"ILT"},{"$f":"Master!E97","v":"Active"},{"$f":"Master!F97","v":0},{"$f":"Master!G97","v":0},{"$f":"IF(Master!H97=\"\",\"B\",Master!H97)","v":"B"},{"$f":"IF(Master!I97=\"\",\"B\",Master!I97)","v":"B"},{"$f":"IF(Master!J97=\"\",\"B\",Master!J97)","v":"B"},{"$f":"IF(Master!K97=\"\",\"B\",Master!K97)","v":"B"},{"$f":"IF(Master!L97=\"\",\"B\",Master!L97)","v":"B"},{"$f":"IF(Master!M97=\"\",\"B\",Master!M97)","v":"B"}]
[{"$f":"Master!A98","v":"CN"},{"$f":"Master!B98","v":"WSDOT CN: BITUMINOUS SURFACE TREATMENT INSPECTION"},{"$f":"Master!C98","v":"WSDOT_CN_BST_ACC"},{"$f":"Master!D98","v":"ILT"},{"$f":"Master!E98","v":"Active"},{"$f":"Master!F98","v":0},{"$f":"Master!G98","v":0},{"$f":"IF(Master!H98=\"\",\"B\",Master!H98)","v":"B"},{"$f":"IF(Master!I98=\"\",\"B\",Master!I98)","v":"B"},{"$f":"IF(Master!J98=\"\",\"B\",Master!J98)","v":2},{"$f":"IF(Master!K98=\"\",\"B\",Master!K98)","v":"B"},{"$f":"IF(Master!L98=\"\",\"B\",Master!L98)","v":"B"},{"$f":"IF(Master!M98=\"\",\"B\",Master!M98)","v":"B"}]
[{"$f":"Master!A99","v":"CN"},{"$f":"Master!B99","v":"WSDOT CN: ACCEPTANCE AND APPROVAL OF MATERIAL"},{"$f":"Master!C99","v":"WSDOT_CN_Acceptance_Material_CX8_OLT"},{"$f":"Master!D99","v":"OLT"},{"$f":"Master!E99","v":"Active"},{"$f":"Master!F99","v":0},{"$f":"Master!G99","v":0},{"$f":"IF(Master!H99=\"\",\"B\",Master!H99)","v":"B"},{"$f":"IF(Master!I99=\"\",\"B\",Master!I99)","v":"B"},{"$f":"IF(Master!J99=\"\",\"B\",Master!J99)","v":1},{"$f":"IF(Master!K99=\"\",\"B\",Master!K99)","v":2},{"$f":"IF(Master!L99=\"\",\"B\",Master!L99)","v":"B"},{"$f":"IF(Master!M99=\"\",\"B\",Master!M99)","v":"B"}]
[{"$f":"Master!A100","v":"CN"},{"$f":"Master!B100","v":"WSDOT CN: COMPOSING AN INSPECTOR'S DAILY REPORT"},{"$f":"Master!C100","v":"WSDOT_CZ9_OLT"},{"$f":"Master!D100","v":"OLT"},{"$f":"Master!E100","v":"Active"},{"$f":"Master!F100","v":0},{"$f":"Master!G100","v":0},{"$f":"IF(Master!H100=\"\",\"B\",Master!H100)","v":"B"},{"$f":"IF(Master!I100=\"\",\"B\",Master!I100)","v":"B"},{"$f":"IF(Master!J100=\"\",\"B\",Master!J100)","v":1},{"$f":"IF(Master!K100=\"\",\"B\",Master!K100)","v":2},{"$f":"IF(Master!L100=\"\",\"B\",Master!L100)","v":"B"},{"$f":"IF(Master!M100=\"\",\"B\",Master!M100)","v":"B"}]
[{"$f":"Master!A101","v":"CN"},{"$f":"Master!B101","v":"WSDOT CN: INSPECTING BRIDGE CONSTRUCTION"},{"$f":"Master!C101","v":"WSDOT_ACM"},{"$f":"Master!D101","v":"ILT"},{"$f":"Master!E101","v":"Active"},{"$f":"Master!F101","v":0},{"$f":"Master!G101","v":0},{"$f":"IF(Master!H101=\"\",\"B\",Master!H101)","v":"B"},{"$f":"IF(Master!I101=\"\",\"B\",Master!I101)","v":"B"},{"$f":"IF(Master!J101=\"\",\"B\",Master!J101)","v":2},{"$f":"IF(Master!K101=\"\",\"B\",Master!K101)","v":"B"},{"$f":"IF(Master!L101=\"\",\"B\",Master!L101)","v":"B"},{"$f":"IF(Master!M101=\"\",\"B\",Master!M101)","v":"B"}]
[{"$f":"Master!A102","v":"CN"},{"$f":"Master!B102","v":"WSDOT CN: CONSTRUCTION INSPECTION DOCUMENTATION"},{"$f":"Master!C102","v":"WSDOT_ACY"},{"$f":"Master!D102","v":"ILT"},{"$f":"Master!E102","v":"Active"},{"$f":"Master!F102","v":0},{"$f":"Master!G102","v":0},{"$f":"IF(Master!H102=\"\",\"B\",Master!H102)","v":"B"},{"$f":"IF(Master!I102=\"\",\"B\",Master!I102)","v":"B"},{"$f":"IF(Master!J102=\"\",\"B\",Master!J102)","v":1},{"$f":"IF(Master!K102=\"\",\"B\",Master!K102)","v":2},{"$f":"IF(Master!L102=\"\",\"B\",Master!L102)","v":"B"},{"$f":"IF(Master!M102=\"\",\"B\",Master!M102)","v":"B"}]
[{"$f":"Master!A103","v":"CN"},{"$f":"Master!B103","v":"WSDOT CN:CONSTRUCTION MATERIALS, APPROVAL AND ACCEPTANCE"},{"$f":"Master!C103","v":"WSDOT_DAP"},{"$f":"Master!D103","v":"ILT"},{"$f":"Master!E103","v":"Active"},{"$f":"Master!F103","v":0},{"$f":"Master!G103","v":0},{"$f":"IF(Master!H103=\"\",\"B\",Master!H103)","v":"B"},{"$f":"IF(Master!I103=\"\",\"B\",Master!I103)","v":"B"},{"$f":"IF(Master!J103=\"\",\"B\",Master!J103)","v":1},{"$f":"IF(Master!K103=\"\",\"B\",Master!K103)","v":2},{"$f":"IF(Master!L103=\"\",\"B\",Master!L103)","v":"B"},{"$f":"IF(Master!M103=\"\",\"B\",Master!M103)","v":"B"}]
[{"$f":"Master!A104","v":"CN"},{"$f":"Master!B104","v":"WSDOT CN: DRAINAGE INSPECTION"},{"$f":"Master!C104","v":"WSDOT_ACF"},{"$f":"Master!D104","v":"ILT"},{"$f":"Master!E104","v":"Active"},{"$f":"Master!F104","v":0},{"$f":"Master!G104","v":0},{"$f":"IF(Master!H104=\"\",\"B\",Master!H104)","v":"B"},{"$f":"IF(Master!I104=\"\",\"B\",Master!I104)","v":"B"},{"$f":"IF(Master!J104=\"\",\"B\",Master!J104)","v":2},{"$f":"IF(Master!K104=\"\",\"B\",Master!K104)","v":"B"},{"$f":"IF(Master!L104=\"\",\"B\",Master!L104)","v":"B"},{"$f":"IF(Master!M104=\"\",\"B\",Master!M104)","v":"B"}]
[{"$f":"Master!A105","v":"CN"},{"$f":"Master!B105","v":"WSDOT CN: EARTHWORK INSPECTION"},{"$f":"Master!C105","v":"WSDOT_Earthwork_OLT"},{"$f":"Master!D105","v":"OLT"},{"$f":"Master!E105","v":"Active"},{"$f":"Master!F105","v":0},{"$f":"Master!G105","v":0},{"$f":"IF(Master!H105=\"\",\"B\",Master!H105)","v":"B"},{"$f":"IF(Master!I105=\"\",\"B\",Master!I105)","v":"B"},{"$f":"IF(Master!J105=\"\",\"B\",Master!J105)","v":2},{"$f":"IF(Master!K105=\"\",\"B\",Master!K105)","v":"B"},{"$f":"IF(Master!L105=\"\",\"B\",Master!L105)","v":"B"},{"$f":"IF(Master!M105=\"\",\"B\",Master!M105)","v":"B"}]
[{"$f":"Master!A106","v":"CN"},{"$f":"Master!B106","v":"WSDOT CN: ELECTRICAL CONDUCTORS AND FIBER for ICP"},{"$f":"Master!C106","v":"WSDOT_ICP_Electrical_Conductors_Fiber_OLT"},{"$f":"Master!D106","v":"OLT"},{"$f":"Master!E106","v":"Active"},{"$f":"Master!F106","v":0},{"$f":"Master!G106","v":0},{"$f":"IF(Master!H106=\"\",\"B\",Master!H106)","v":"B"},{"$f":"IF(Master!I106=\"\",\"B\",Master!I106)","v":"B"},{"$f":"IF(Master!J106=\"\",\"B\",Master!J106)","v":"B"},{"$f":"IF(Master!K106=\"\",\"B\",Master!K106)","v":2},{"$f":"IF(Master!L106=\"\",\"B\",Master!L106)","v":"B"},{"$f":"IF(Master!M106=\"\",\"B\",Master!M106)","v":"B"}]
[{"$f":"Master!A107","v":"CN"},{"$f":"Master!B107","v":"WSDOT CN: ELECTRICAL-ILLUMINATION-SIGNALS & ITS INSPECTION"},{"$f":"Master!C107","v":"WSDOT_API"},{"$f":"Master!D107","v":"ILT"},{"$f":"Master!E107","v":"Active"},{"$f":"Master!F107","v":0},{"$f":"Master!G107","v":0},{"$f":"IF(Master!H107=\"\",\"B\",Master!H107)","v":"B"},{"$f":"IF(Master!I107=\"\",\"B\",Master!I107)","v":"B"},{"$f":"IF(Master!J107=\"\",\"B\",Master!J107)","v":"B"},{"$f":"IF(Master!K107=\"\",\"B\",Master!K107)","v":2},{"$f":"IF(Master!L107=\"\",\"B\",Master!L107)","v":"B"},{"$f":"IF(Master!M107=\"\",\"B\",Master!M107)","v":"B"}]
[{"$f":"Master!A108","v":"CN"},{"$f":"Master!B108","v":"WSDOT CN: EXCAVATION & EMBANKMENTS INSPECTION"},{"$f":"Master!C108","v":"WSDOT_AC3"},{"$f":"Master!D108","v":"ILT"},{"$f":"Master!E108","v":"Active"},{"$f":"Master!F108","v":0},{"$f":"Master!G108","v":0},{"$f":"IF(Master!H108=\"\",\"B\",Master!H108)","v":"B"},{"$f":"IF(Master!I108=\"\",\"B\",Master!I108)","v":"B"},{"$f":"IF(Master!J108=\"\",\"B\",Master!J108)","v":1},{"$f":"IF(Master!K108=\"\",\"B\",Master!K108)","v":"B"},{"$f":"IF(Master!L108=\"\",\"B\",Master!L108)","v":"B"},{"$f":"IF(Master!M108=\"\",\"B\",Master!M108)","v":"B"}]
[{"$f":"Master!A109","v":"CN"},{"$f":"Master!B109","v":"WSDOT CN: FIELD PAINTING STRUCTURAL STEEL"},{"$f":"Master!C109","v":"WSDOT_CN_Field_Painting_OLT"},{"$f":"Master!D109","v":"OLT"},{"$f":"Master!E109","v":"Active"},{"$f":"Master!F109","v":0},{"$f":"Master!G109","v":0},{"$f":"IF(Master!H109=\"\",\"B\",Master!H109)","v":"B"},{"$f":"IF(Master!I109=\"\",\"B\",Master!I109)","v":"B"},{"$f":"IF(Master!J109=\"\",\"B\",Master!J109)","v":"B"},{"$f":"IF(Master!K109=\"\",\"B\",Master!K109)","v":"B"},{"$f":"IF(Master!L109=\"\",\"B\",Master!L109)","v":"B"},{"$f":"IF(Master!M109=\"\",\"B\",Master!M109)","v":"B"}]
[{"$f":"Master!A110","v":"CN"},{"$f":"Master!B110","v":"WSDOT CN: FORCE ACCOUNT DOCUMENTATION AND PAYMENT"},{"$f":"Master!C110","v":"WSDOT_CN_ForceAccount_DG2_OLT"},{"$f":"Master!D110","v":"OLT"},{"$f":"Master!E110","v":"Active"},{"$f":"Master!F110","v":0},{"$f":"Master!G110","v":0},{"$f":"IF(Master!H110=\"\",\"B\",Master!H110)","v":"B"},{"$f":"IF(Master!I110=\"\",\"B\",Master!I110)","v":"B"},{"$f":"IF(Master!J110=\"\",\"B\",Master!J110)","v":1},{"$f":"IF(Master!K110=\"\",\"B\",Master!K110)","v":2},{"$f":"IF(Master!L110=\"\",\"B\",Master!L110)","v":"B"},{"$f":"IF(Master!M110=\"\",\"B\",Master!M110)","v":"B"}]
[{"$f":"Master!A111","v":"CN"},{"$f":"Master!B111","v":"WSDOT CN: FORMS AND FALSEWORK for ICP"},{"$f":"Master!C111","v":"WSDOT_ICP_Forms and Falsework_OLT"},{"$f":"Master!D111","v":"OLT"},{"$f":"Master!E111","v":"Active"},{"$f":"Master!F111","v":0},{"$f":"Master!G111","v":0},{"$f":"IF(Master!H111=\"\",\"B\",Master!H111)","v":"B"},{"$f":"IF(Master!I111=\"\",\"B\",Master!I111)","v":"B"},{"$f":"IF(Master!J111=\"\",\"B\",Master!J111)","v":2},{"$f":"IF(Master!K111=\"\",\"B\",Master!K111)","v":"B"},{"$f":"IF(Master!L111=\"\",\"B\",Master!L111)","v":"B"},{"$f":"IF(Master!M111=\"\",\"B\",Master!M111)","v":"B"}]
[{"$f":"Master!A112","v":"CN"},{"$f":"Master!B112","v":"WSDOT CN: GUARDRAIL INSTALLATION FOR INSPECTORS"},{"$f":"Master!C112","v":"WSDOT_DD4"},{"$f":"Master!D112","v":"ILT"},{"$f":"Master!E112","v":"Active"},{"$f":"Master!F112","v":0},{"$f":"Master!G112","v":0},{"$f":"IF(Master!H112=\"\",\"B\",Master!H112)","v":"B"},{"$f":"IF(Master!I112=\"\",\"B\",Master!I112)","v":"B"},{"$f":"IF(Master!J112=\"\",\"B\",Master!J112)","v":2},{"$f":"IF(Master!K112=\"\",\"B\",Master!K112)","v":"B"},{"$f":"IF(Master!L112=\"\",\"B\",Master!L112)","v":"B"},{"$f":"IF(Master!M112=\"\",\"B\",Master!M112)","v":"B"}]
[{"$f":"Master!A113","v":"CN"},{"$f":"Master!B113","v":"WSDOT CN: HAZMAT FOR THE PORTABLE NUCLEAR GAUGE"},{"$f":"Master!C113","v":"WSDOT Hazmat_for_Transportation_of_the_Nuclear_Gauge_ORG"},{"$f":"Master!D113","v":"OLT"},{"$f":"Master!E113","v":"Active"},{"$f":"Master!F113","v":0},{"$f":"Master!G113","v":0},{"$f":"IF(Master!H113=\"\",\"B\",Master!H113)","v":"B"},{"$f":"IF(Master!I113=\"\",\"B\",Master!I113)","v":"B"},{"$f":"IF(Master!J113=\"\",\"B\",Master!J113)","v":2},{"$f":"IF(Master!K113=\"\",\"B\",Master!K113)","v":"B"},{"$f":"IF(Master!L113=\"\",\"B\",Master!L113)","v":"B"},{"$f":"IF(Master!M113=\"\",\"B\",Master!M113)","v":"B"}]
[{"$f":"Master!A114","v":"CN"},{"$f":"Master!B114","v":"WSDOT CN: HMA PLACEMENT INSPECTION"},{"$f":"Master!C114","v":"WSDOT_HMAPlacement_OLT"},{"$f":"Master!D114","v":"OLT"},{"$f":"Master!E114","v":"Active"},{"$f":"Master!F114","v":0},{"$f":"Master!G114","v":0},{"$f":"IF(Master!H114=\"\",\"B\",Master!H114)","v":"B"},{"$f":"IF(Master!I114=\"\",\"B\",Master!I114)","v":"B"},{"$f":"IF(Master!J114=\"\",\"B\",Master!J114)","v":2},{"$f":"IF(Master!K114=\"\",\"B\",Master!K114)","v":"B"},{"$f":"IF(Master!L114=\"\",\"B\",Master!L114)","v":"B"},{"$f":"IF(Master!M114=\"\",\"B\",Master!M114)","v":"B"}]
[{"$f":"Master!A115","v":"CN"},{"$f":"Master!B115","v":"WSDOT CN: HOT MIX ASPHALT PLACEMENT"},{"$f":"Master!C115","v":"WSDOT_ACB"},{"$f":"Master!D115","v":"ILT"},{"$f":"Master!E115","v":"Active"},{"$f":"Master!F115","v":0},{"$f":"Master!G115","v":0},{"$f":"IF(Master!H115=\"\",\"B\",Master!H115)","v":"B"},{"$f":"IF(Master!I115=\"\",\"B\",Master!I115)","v":"B"},{"$f":"IF(Master!J115=\"\",\"B\",Master!J115)","v":2},{"$f":"IF(Master!K115=\"\",\"B\",Master!K115)","v":"B"},{"$f":"IF(Master!L115=\"\",\"B\",Master!L115)","v":"B"},{"$f":"IF(Master!M115=\"\",\"B\",Master!M115)","v":"B"}]
[{"$f":"Master!A116","v":"CN"},{"$f":"Master!B116","v":"WSDOT CN: HOT MIX ASPHALT PRODUCTION & TESTING"},{"$f":"Master!C116","v":"WSDOT_BG9"},{"$f":"Master!D116","v":"ILT"},{"$f":"Master!E116","v":"Active"},{"$f":"Master!F116","v":0},{"$f":"Master!G116","v":0},{"$f":"IF(Master!H116=\"\",\"B\",Master!H116)","v":"B"},{"$f":"IF(Master!I116=\"\",\"B\",Master!I116)","v":"B"},{"$f":"IF(Master!J116=\"\",\"B\",Master!J116)","v":2},{"$f":"IF(Master!K116=\"\",\"B\",Master!K116)","v":"B"},{"$f":"IF(Master!L116=\"\",\"B\",Master!L116)","v":"B"},{"$f":"IF(Master!M116=\"\",\"B\",Master!M116)","v":"B"}]
[{"$f":"Master!A117","v":"CN"},{"$f":"Master!B117","v":"WSDOT CN: INSPECTING BRIDGE CONSTRUCTION"},{"$f":"Master!C117","v":"WSDOT_ACM"},{"$f":"Master!D117","v":"ILT"},{"$f":"Master!E117","v":"Active"},{"$f":"Master!F117","v":0},{"$f":"Master!G117","v":0},{"$f":"IF(Master!H117=\"\",\"B\",Master!H117)","v":"B"},{"$f":"IF(Master!I117=\"\",\"B\",Master!I117)","v":"B"},{"$f":"IF(Master!J117=\"\",\"B\",Master!J117)","v":2},{"$f":"IF(Master!K117=\"\",\"B\",Master!K117)","v":"B"},{"$f":"IF(Master!L117=\"\",\"B\",Master!L117)","v":"B"},{"$f":"IF(Master!M117=\"\",\"B\",Master!M117)","v":"B"}]
[{"$f":"Master!A118","v":"CN"},{"$f":"Master!B118","v":"WSDOT CN: INSPECTION OF PEDESTRIAN FACILITIES"},{"$f":"Master!C118","v":"WSDOT_IFP_OLT"},{"$f":"Master!D118","v":"OLT"},{"$f":"Master!E118","v":"Active"},{"$f":"Master!F118","v":0},{"$f":"Master!G118","v":0},{"$f":"IF(Master!H118=\"\",\"B\",Master!H118)","v":"B"},{"$f":"IF(Master!I118=\"\",\"B\",Master!I118)","v":2},{"$f":"IF(Master!J118=\"\",\"B\",Master!J118)","v":2},{"$f":"IF(Master!K118=\"\",\"B\",Master!K118)","v":2},{"$f":"IF(Master!L118=\"\",\"B\",Master!L118)","v":2},{"$f":"IF(Master!M118=\"\",\"B\",Master!M118)","v":"B"}]
[{"$f":"Master!A119","v":"CN"},{"$f":"Master!B119","v":"WSDOT CN: INSPECTOR'S ROLE FOR CHANGE ORDER WORK"},{"$f":"Master!C119","v":"WSDOT_DH9_OLT"},{"$f":"Master!D119","v":"OLT"},{"$f":"Master!E119","v":"Active"},{"$f":"Master!F119","v":0},{"$f":"Master!G119","v":0},{"$f":"IF(Master!H119=\"\",\"B\",Master!H119)","v":"B"},{"$f":"IF(Master!I119=\"\",\"B\",Master!I119)","v":"B"},{"$f":"IF(Master!J119=\"\",\"B\",Master!J119)","v":1},{"$f":"IF(Master!K119=\"\",\"B\",Master!K119)","v":2},{"$f":"IF(Master!L119=\"\",\"B\",Master!L119)","v":"B"},{"$f":"IF(Master!M119=\"\",\"B\",Master!M119)","v":"B"}]
[{"$f":"Master!A120","v":"CN"},{"$f":"Master!B120","v":"WSDOT CN:INSPECTOR’S USE OF CONTRACT RESOURCES"},{"$f":"Master!C120","v":"WSDOT_UR1_OLT"},{"$f":"Master!D120","v":"OLT"},{"$f":"Master!E120","v":"Active"},{"$f":"Master!F120","v":0},{"$f":"Master!G120","v":0},{"$f":"IF(Master!H120=\"\",\"B\",Master!H120)","v":"B"},{"$f":"IF(Master!I120=\"\",\"B\",Master!I120)","v":"B"},{"$f":"IF(Master!J120=\"\",\"B\",Master!J120)","v":1},{"$f":"IF(Master!K120=\"\",\"B\",Master!K120)","v":2},{"$f":"IF(Master!L120=\"\",\"B\",Master!L120)","v":"B"},{"$f":"IF(Master!M120=\"\",\"B\",Master!M120)","v":"B"}]
[{"$f":"Master!A121","v":"CN"},{"$f":"Master!B121","v":"WSDOT CN: NHI CONTRACT ADMINISTRATION CORE CURRICULUM"},{"$f":"Master!C121","v":"WSDOT_NHI CONTRACT ADM"},{"$f":"Master!D121","v":"ILT"},{"$f":"Master!E121","v":"Active"},{"$f":"Master!F121","v":0},{"$f":"Master!G121","v":0},{"$f":"IF(Master!H121=\"\",\"B\",Master!H121)","v":"B"},{"$f":"IF(Master!I121=\"\",\"B\",Master!I121)","v":"B"},{"$f":"IF(Master!J121=\"\",\"B\",Master!J121)","v":"B"},{"$f":"IF(Master!K121=\"\",\"B\",Master!K121)","v":"B"},{"$f":"IF(Master!L121=\"\",\"B\",Master!L121)","v":"B"},{"$f":"IF(Master!M121=\"\",\"B\",Master!M121)","v":"B"}]
[{"$f":"Master!A122","v":"CN"},{"$f":"Master!B122","v":"WSDOT CN:NUCLEAR GAUGE SAFETY AND OPERATION"},{"$f":"Master!C122","v":"WSDOT_DCX_OLT"},{"$f":"Master!D122","v":"ILT"},{"$f":"Master!E122","v":"Active"},{"$f":"Master!F122","v":0},{"$f":"Master!G122","v":0},{"$f":"IF(Master!H122=\"\",\"B\",Master!H122)","v":"B"},{"$f":"IF(Master!I122=\"\",\"B\",Master!I122)","v":"B"},{"$f":"IF(Master!J122=\"\",\"B\",Master!J122)","v":2},{"$f":"IF(Master!K122=\"\",\"B\",Master!K122)","v":"B"},{"$f":"IF(Master!L122=\"\",\"B\",Master!L122)","v":"B"},{"$f":"IF(Master!M122=\"\",\"B\",Master!M122)","v":"B"}]
[{"$f":"Master!A123","v":"CN"},{"$f":"Master!B123","v":"WSDOT CN: NUCLEAR GAUGE, EMBANKMENT/SURFACING/PAVEMENT APPLICATIONS"},{"$f":"Master!C123","v":"WSDOT_ANQ"},{"$f":"Master!D123","v":"ILT"},{"$f":"Master!E123","v":"Active"},{"$f":"Master!F123","v":0},{"$f":"Master!G123","v":0},{"$f":"IF(Master!H123=\"\",\"B\",Master!H123)","v":"B"},{"$f":"IF(Master!I123=\"\",\"B\",Master!I123)","v":"B"},{"$f":"IF(Master!J123=\"\",\"B\",Master!J123)","v":2},{"$f":"IF(Master!K123=\"\",\"B\",Master!K123)","v":"B"},{"$f":"IF(Master!L123=\"\",\"B\",Master!L123)","v":"B"},{"$f":"IF(Master!M123=\"\",\"B\",Master!M123)","v":"B"}]
[{"$f":"Master!A124","v":"CN"},{"$f":"Master!B124","v":"WSDOT CN: PAVEMENT REHABILITATION"},{"$f":"Master!C124","v":"WSDOT_BQL"},{"$f":"Master!D124","v":"ILT"},{"$f":"Master!E124","v":"Active"},{"$f":"Master!F124","v":0},{"$f":"Master!G124","v":0},{"$f":"IF(Master!H124=\"\",\"B\",Master!H124)","v":"B"},{"$f":"IF(Master!I124=\"\",\"B\",Master!I124)","v":"B"},{"$f":"IF(Master!J124=\"\",\"B\",Master!J124)","v":"B"},{"$f":"IF(Master!K124=\"\",\"B\",Master!K124)","v":"B"},{"$f":"IF(Master!L124=\"\",\"B\",Master!L124)","v":"B"},{"$f":"IF(Master!M124=\"\",\"B\",Master!M124)","v":"B"}]
[{"$f":"Master!A125","v":"CN"},{"$f":"Master!B125","v":"WSDOT CN: PCC FIELD TESTING PROCEDURES"},{"$f":"Master!C125","v":"WSDOT_ABT"},{"$f":"Master!D125","v":"ILT"},{"$f":"Master!E125","v":"Active"},{"$f":"Master!F125","v":0},{"$f":"Master!G125","v":0},{"$f":"IF(Master!H125=\"\",\"B\",Master!H125)","v":"B"},{"$f":"IF(Master!I125=\"\",\"B\",Master!I125)","v":"B"},{"$f":"IF(Master!J125=\"\",\"B\",Master!J125)","v":"B"},{"$f":"IF(Master!K125=\"\",\"B\",Master!K125)","v":"B"},{"$f":"IF(Master!L125=\"\",\"B\",Master!L125)","v":"B"},{"$f":"IF(Master!M125=\"\",\"B\",Master!M125)","v":"B"}]
[{"$f":"Master!A126","v":"CN"},{"$f":"Master!B126","v":"WSDOT CN: PILE DRIVING INSPECTION"},{"$f":"Master!C126","v":"Piling_OLT"},{"$f":"Master!D126","v":"OLT"},{"$f":"Master!E126","v":"Active"},{"$f":"Master!F126","v":0},{"$f":"Master!G126","v":0},{"$f":"IF(Master!H126=\"\",\"B\",Master!H126)","v":"B"},{"$f":"IF(Master!I126=\"\",\"B\",Master!I126)","v":"B"},{"$f":"IF(Master!J126=\"\",\"B\",Master!J126)","v":"B"},{"$f":"IF(Master!K126=\"\",\"B\",Master!K126)","v":"B"},{"$f":"IF(Master!L126=\"\",\"B\",Master!L126)","v":"B"},{"$f":"IF(Master!M126=\"\",\"B\",Master!M126)","v":"B"}]
[{"$f":"Master!A127","v":"CN"},{"$f":"Master!B127","v":"WSDOT CN: PORTLAND CEMENT CONCRETE INSPECTION"},{"$f":"Master!C127","v":"WSDOT_PCC_OLT"},{"$f":"Master!D127","v":"OLT"},{"$f":"Master!E127","v":"Active"},{"$f":"Master!F127","v":0},{"$f":"Master!G127","v":0},{"$f":"IF(Master!H127=\"\",\"B\",Master!H127)","v":"B"},{"$f":"IF(Master!I127=\"\",\"B\",Master!I127)","v":"B"},{"$f":"IF(Master!J127=\"\",\"B\",Master!J127)","v":2},{"$f":"IF(Master!K127=\"\",\"B\",Master!K127)","v":"B"},{"$f":"IF(Master!L127=\"\",\"B\",Master!L127)","v":"B"},{"$f":"IF(Master!M127=\"\",\"B\",Master!M127)","v":"B"}]
[{"$f":"Master!A128","v":"CN"},{"$f":"Master!B128","v":"WSDOT CN: PRODUCING SOURCE DOCUMENTS"},{"$f":"Master!C128","v":"WSDOT_C1H_OLT"},{"$f":"Master!D128","v":"OLT"},{"$f":"Master!E128","v":"Active"},{"$f":"Master!F128","v":0},{"$f":"Master!G128","v":0},{"$f":"IF(Master!H128=\"\",\"B\",Master!H128)","v":"B"},{"$f":"IF(Master!I128=\"\",\"B\",Master!I128)","v":"B"},{"$f":"IF(Master!J128=\"\",\"B\",Master!J128)","v":"B"},{"$f":"IF(Master!K128=\"\",\"B\",Master!K128)","v":"B"},{"$f":"IF(Master!L128=\"\",\"B\",Master!L128)","v":"B"},{"$f":"IF(Master!M128=\"\",\"B\",Master!M128)","v":"B"}]
[{"$f":"Master!A129","v":"CN"},{"$f":"Master!B129","v":"WSDOT CN: SIGN BRIDGES AND CANTILEVER SIGNS"},{"$f":"Master!C129","v":"WSDOT_SBI_OLT"},{"$f":"Master!D129","v":"OLT"},{"$f":"Master!E129","v":"Active"},{"$f":"Master!F129","v":0},{"$f":"Master!G129","v":0},{"$f":"IF(Master!H129=\"\",\"B\",Master!H129)","v":"B"},{"$f":"IF(Master!I129=\"\",\"B\",Master!I129)","v":"B"},{"$f":"IF(Master!J129=\"\",\"B\",Master!J129)","v":2},{"$f":"IF(Master!K129=\"\",\"B\",Master!K129)","v":2},{"$f":"IF(Master!L129=\"\",\"B\",Master!L129)","v":"B"},{"$f":"IF(Master!M129=\"\",\"B\",Master!M129)","v":"B"}]
[{"$f":"Master!A130","v":"CN"},{"$f":"Master!B130","v":"WSDOT CN: SIGN INSPECTOR DUTIES"},{"$f":"Master!C130","v":"WSDOT_SID_OLT"},{"$f":"Master!D130","v":"OLT"},{"$f":"Master!E130","v":"Active"},{"$f":"Master!F130","v":0},{"$f":"Master!G130","v":0},{"$f":"IF(Master!H130=\"\",\"B\",Master!H130)","v":"B"},{"$f":"IF(Master!I130=\"\",\"B\",Master!I130)","v":"B"},{"$f":"IF(Master!J130=\"\",\"B\",Master!J130)","v":"B"},{"$f":"IF(Master!K130=\"\",\"B\",Master!K130)","v":2},{"$f":"IF(Master!L130=\"\",\"B\",Master!L130)","v":"B"},{"$f":"IF(Master!M130=\"\",\"B\",Master!M130)","v":"B"}]
[{"$f":"Master!A131","v":"CN"},{"$f":"Master!B131","v":"WSDOT CN: SIGN INSTALLATION INSPECTION"},{"$f":"Master!C131","v":"WSDOT_DFV"},{"$f":"Master!D131","v":"ILT"},{"$f":"Master!E131","v":"Active"},{"$f":"Master!F131","v":0},{"$f":"Master!G131","v":0},{"$f":"IF(Master!H131=\"\",\"B\",Master!H131)","v":"B"},{"$f":"IF(Master!I131=\"\",\"B\",Master!I131)","v":"B"},{"$f":"IF(Master!J131=\"\",\"B\",Master!J131)","v":"B"},{"$f":"IF(Master!K131=\"\",\"B\",Master!K131)","v":2},{"$f":"IF(Master!L131=\"\",\"B\",Master!L131)","v":"B"},{"$f":"IF(Master!M131=\"\",\"B\",Master!M131)","v":"B"}]
[{"$f":"Master!A132","v":"CN"},{"$f":"Master!B132","v":"WSDOT CN: SMALL AND LARGE SIGN INSPECTION REVIEW"},{"$f":"Master!C132","v":"WSDOT_SLR_OLT"},{"$f":"Master!D132","v":"OLT"},{"$f":"Master!E132","v":"Active"},{"$f":"Master!F132","v":0},{"$f":"Master!G132","v":0},{"$f":"IF(Master!H132=\"\",\"B\",Master!H132)","v":"B"},{"$f":"IF(Master!I132=\"\",\"B\",Master!I132)","v":"B"},{"$f":"IF(Master!J132=\"\",\"B\",Master!J132)","v":2},{"$f":"IF(Master!K132=\"\",\"B\",Master!K132)","v":2},{"$f":"IF(Master!L132=\"\",\"B\",Master!L132)","v":"B"},{"$f":"IF(Master!M132=\"\",\"B\",Master!M132)","v":"B"}]
[{"$f":"Master!A133","v":"CN"},{"$f":"Master!B133","v":"WSDOT CN: WORK ZONE TRAFFIC CONTROL"},{"$f":"Master!C133","v":"WSDOT_WZTC_OLT"},{"$f":"Master!D133","v":"OLT"},{"$f":"Master!E133","v":"Active"},{"$f":"Master!F133","v":0},{"$f":"Master!G133","v":0},{"$f":"IF(Master!H133=\"\",\"B\",Master!H133)","v":"B"},{"$f":"IF(Master!I133=\"\",\"B\",Master!I133)","v":"B"},{"$f":"IF(Master!J133=\"\",\"B\",Master!J133)","v":1},{"$f":"IF(Master!K133=\"\",\"B\",Master!K133)","v":1},{"$f":"IF(Master!L133=\"\",\"B\",Master!L133)","v":"B"},{"$f":"IF(Master!M133=\"\",\"B\",Master!M133)","v":"B"}]
[{"$f":"Master!A134","v":"CN"},{"$f":"Master!B134","v":"WSDOT DB: ALTERNATIVE TECHNICAL CONCEPT (ATC) REVIEW PROCESS"},{"$f":"Master!C134","v":"WSDOT_DB_ATC"},{"$f":"Master!D134","v":"ILT"},{"$f":"Master!E134","v":"Active"},{"$f":"Master!F134","v":0},{"$f":"Master!G134","v":0},{"$f":"IF(Master!H134=\"\",\"B\",Master!H134)","v":"B"},{"$f":"IF(Master!I134=\"\",\"B\",Master!I134)","v":"B"},{"$f":"IF(Master!J134=\"\",\"B\",Master!J134)","v":"B"},{"$f":"IF(Master!K134=\"\",\"B\",Master!K134)","v":"B"},{"$f":"IF(Master!L134=\"\",\"B\",Master!L134)","v":"B"},{"$f":"IF(Master!M134=\"\",\"B\",Master!M134)","v":"B"}]
[{"$f":"Master!A135","v":"CN"},{"$f":"Master!B135","v":"WSDOT DB: INTRODUCTION TO DESIGN-BUILD"},{"$f":"Master!C135","v":"WSDOT_DB_IDB"},{"$f":"Master!D135","v":"ILT"},{"$f":"Master!E135","v":"Active"},{"$f":"Master!F135","v":0},{"$f":"Master!G135","v":0},{"$f":"IF(Master!H135=\"\",\"B\",Master!H135)","v":"B"},{"$f":"IF(Master!I135=\"\",\"B\",Master!I135)","v":"B"},{"$f":"IF(Master!J135=\"\",\"B\",Master!J135)","v":"B"},{"$f":"IF(Master!K135=\"\",\"B\",Master!K135)","v":"B"},{"$f":"IF(Master!L135=\"\",\"B\",Master!L135)","v":"B"},{"$f":"IF(Master!M135=\"\",\"B\",Master!M135)","v":"B"}]
[{"$f":"Master!A136","v":"CN"},{"$f":"Master!B136","v":"WSDOT DB: DESIGN-BUILD BEST PRACTICES IN TRANSPORTATION"},{"$f":"Master!C136","v":"WSDOT_DB_BPT"},{"$f":"Master!D136","v":"ILT"},{"$f":"Master!E136","v":"Active"},{"$f":"Master!F136","v":0},{"$f":"Master!G136","v":0},{"$f":"IF(Master!H136=\"\",\"B\",Master!H136)","v":"B"},{"$f":"IF(Master!I136=\"\",\"B\",Master!I136)","v":"B"},{"$f":"IF(Master!J136=\"\",\"B\",Master!J136)","v":"B"},{"$f":"IF(Master!K136=\"\",\"B\",Master!K136)","v":"B"},{"$f":"IF(Master!L136=\"\",\"B\",Master!L136)","v":"B"},{"$f":"IF(Master!M136=\"\",\"B\",Master!M136)","v":"B"}]
[{"$f":"Master!A137","v":"CN"},{"$f":"Master!B137","v":"WSDOT DB: DESIGN-BUILD CLOSEOUT"},{"$f":"Master!C137","v":"WSDOT_DB_CO"},{"$f":"Master!D137","v":"ILT"},{"$f":"Master!E137","v":"Active"},{"$f":"Master!F137","v":0},{"$f":"Master!G137","v":0},{"$f":"IF(Master!H137=\"\",\"B\",Master!H137)","v":"B"},{"$f":"IF(Master!I137=\"\",\"B\",Master!I137)","v":"B"},{"$f":"IF(Master!J137=\"\",\"B\",Master!J137)","v":"B"},{"$f":"IF(Master!K137=\"\",\"B\",Master!K137)","v":"B"},{"$f":"IF(Master!L137=\"\",\"B\",Master!L137)","v":"B"},{"$f":"IF(Master!M137=\"\",\"B\",Master!M137)","v":"B"}]
[{"$f":"Master!A138","v":"CN"},{"$f":"Master!B138","v":"WSDOT DB: DESIGN-BUILD INSTRUCTIONS TO PROPOSERS (ITP) AND REQUEST FOR PROPOSALS (RFP)"},{"$f":"Master!C138","v":"WSDOT_DB_ITP_RFP"},{"$f":"Master!D138","v":"ILT"},{"$f":"Master!E138","v":"Active"},{"$f":"Master!F138","v":0},{"$f":"Master!G138","v":0},{"$f":"IF(Master!H138=\"\",\"B\",Master!H138)","v":"B"},{"$f":"IF(Master!I138=\"\",\"B\",Master!I138)","v":"B"},{"$f":"IF(Master!J138=\"\",\"B\",Master!J138)","v":"B"},{"$f":"IF(Master!K138=\"\",\"B\",Master!K138)","v":"B"},{"$f":"IF(Master!L138=\"\",\"B\",Master!L138)","v":"B"},{"$f":"IF(Master!M138=\"\",\"B\",Master!M138)","v":"B"}]
[{"$f":"Master!A139","v":"CN"},{"$f":"Master!B139","v":"WSDOT DB: DESIGN-BUILD OFFICE MANAGEMENT AND CONTRACT ADMINISTRATION"},{"$f":"Master!C139","v":"WSDOT_DB_CA"},{"$f":"Master!D139","v":"ILT"},{"$f":"Master!E139","v":"Active"},{"$f":"Master!F139","v":0},{"$f":"Master!G139","v":0},{"$f":"IF(Master!H139=\"\",\"B\",Master!H139)","v":"B"},{"$f":"IF(Master!I139=\"\",\"B\",Master!I139)","v":"B"},{"$f":"IF(Master!J139=\"\",\"B\",Master!J139)","v":"B"},{"$f":"IF(Master!K139=\"\",\"B\",Master!K139)","v":"B"},{"$f":"IF(Master!L139=\"\",\"B\",Master!L139)","v":"B"},{"$f":"IF(Master!M139=\"\",\"B\",Master!M139)","v":"B"}]
[{"$f":"Master!A140","v":"CN"},{"$f":"Master!B140","v":"WSDOT DB: DESIGN-BUILD STARTUP AND REQUEST FOR QUALIFICATIONS (RFQ\") DEVELOPMENT"},{"$f":"Master!C140","v":"WSDOT_DB_RFQ"},{"$f":"Master!D140","v":"ILT"},{"$f":"Master!E140","v":"Active"},{"$f":"Master!F140","v":0},{"$f":"Master!G140","v":0},{"$f":"IF(Master!H140=\"\",\"B\",Master!H140)","v":"B"},{"$f":"IF(Master!I140=\"\",\"B\",Master!I140)","v":"B"},{"$f":"IF(Master!J140=\"\",\"B\",Master!J140)","v":"B"},{"$f":"IF(Master!K140=\"\",\"B\",Master!K140)","v":"B"},{"$f":"IF(Master!L140=\"\",\"B\",Master!L140)","v":"B"},{"$f":"IF(Master!M140=\"\",\"B\",Master!M140)","v":"B"}]
[{"$f":"Master!A141","v":"CN"},{"$f":"Master!B141","v":"WSDOT DB: ENVIRONMENTAL IN DESIGN-BUILD"},{"$f":"Master!C141","v":"WSDOT_DB_E"},{"$f":"Master!D141","v":"ILT"},{"$f":"Master!E141","v":"Active"},{"$f":"Master!F141","v":0},{"$f":"Master!G141","v":0},{"$f":"IF(Master!H141=\"\",\"B\",Master!H141)","v":"B"},{"$f":"IF(Master!I141=\"\",\"B\",Master!I141)","v":"B"},{"$f":"IF(Master!J141=\"\",\"B\",Master!J141)","v":"B"},{"$f":"IF(Master!K141=\"\",\"B\",Master!K141)","v":"B"},{"$f":"IF(Master!L141=\"\",\"B\",Master!L141)","v":"B"},{"$f":"IF(Master!M141=\"\",\"B\",Master!M141)","v":"B"}]
[{"$f":"Master!A142","v":"CN"},{"$f":"Master!B142","v":"WSDOT DB: LESSONS LEARNED"},{"$f":"Master!C142","v":"WSDOT_DB_LL"},{"$f":"Master!D142","v":"ILT"},{"$f":"Master!E142","v":"Active"},{"$f":"Master!F142","v":0},{"$f":"Master!G142","v":0},{"$f":"IF(Master!H142=\"\",\"B\",Master!H142)","v":"B"},{"$f":"IF(Master!I142=\"\",\"B\",Master!I142)","v":"B"},{"$f":"IF(Master!J142=\"\",\"B\",Master!J142)","v":"B"},{"$f":"IF(Master!K142=\"\",\"B\",Master!K142)","v":"B"},{"$f":"IF(Master!L142=\"\",\"B\",Master!L142)","v":"B"},{"$f":"IF(Master!M142=\"\",\"B\",Master!M142)","v":"B"}]
[{"$f":"Master!A143","v":"CN"},{"$f":"Master!B143","v":"WSDOT DB: PROPOSAL EVALUATION"},{"$f":"Master!C143","v":"WSDOT_DB_PE"},{"$f":"Master!D143","v":"ILT"},{"$f":"Master!E143","v":"Active"},{"$f":"Master!F143","v":0},{"$f":"Master!G143","v":0},{"$f":"IF(Master!H143=\"\",\"B\",Master!H143)","v":"B"},{"$f":"IF(Master!I143=\"\",\"B\",Master!I143)","v":"B"},{"$f":"IF(Master!J143=\"\",\"B\",Master!J143)","v":"B"},{"$f":"IF(Master!K143=\"\",\"B\",Master!K143)","v":"B"},{"$f":"IF(Master!L143=\"\",\"B\",Master!L143)","v":"B"},{"$f":"IF(Master!M143=\"\",\"B\",Master!M143)","v":"B"}]
[{"$f":"Master!A144","v":"CN"},{"$f":"Master!B144","v":"WSDOT DB: QUALITY IN DESIGN-BUILD"},{"$f":"Master!C144","v":"WSDOT_DB_Q"},{"$f":"Master!D144","v":"ILT"},{"$f":"Master!E144","v":"Active"},{"$f":"Master!F144","v":0},{"$f":"Master!G144","v":0},{"$f":"IF(Master!H144=\"\",\"B\",Master!H144)","v":"B"},{"$f":"IF(Master!I144=\"\",\"B\",Master!I144)","v":"B"},{"$f":"IF(Master!J144=\"\",\"B\",Master!J144)","v":"B"},{"$f":"IF(Master!K144=\"\",\"B\",Master!K144)","v":"B"},{"$f":"IF(Master!L144=\"\",\"B\",Master!L144)","v":"B"},{"$f":"IF(Master!M144=\"\",\"B\",Master!M144)","v":"B"}]
[{"$f":"Master!A145","v":"CN"},{"$f":"Master!B145","v":"WSDOT DB: STATEMENT OF QUALIFICATIONS (SOQ) EVALUATION"},{"$f":"Master!C145","v":"WSDOT_DB_SOQE"},{"$f":"Master!D145","v":"ILT"},{"$f":"Master!E145","v":"Active"},{"$f":"Master!F145","v":0},{"$f":"Master!G145","v":0},{"$f":"IF(Master!H145=\"\",\"B\",Master!H145)","v":"B"},{"$f":"IF(Master!I145=\"\",\"B\",Master!I145)","v":"B"},{"$f":"IF(Master!J145=\"\",\"B\",Master!J145)","v":"B"},{"$f":"IF(Master!K145=\"\",\"B\",Master!K145)","v":"B"},{"$f":"IF(Master!L145=\"\",\"B\",Master!L145)","v":"B"},{"$f":"IF(Master!M145=\"\",\"B\",Master!M145)","v":"B"}]
[{"$f":"Master!A146","v":"CN"},{"$f":"Master!B146","v":"**WSDOT DB: EVALUATION"},{"$f":"Master!C146","v":0},{"$f":"Master!D146","v":"ILT"},{"$f":"Master!E146","v":"Under Development"},{"$f":"Master!F146","v":"Q1 2019"},{"$f":"Master!G146","v":0},{"$f":"IF(Master!H146=\"\",\"B\",Master!H146)","v":"B"},{"$f":"IF(Master!I146=\"\",\"B\",Master!I146)","v":"B"},{"$f":"IF(Master!J146=\"\",\"B\",Master!J146)","v":"B"},{"$f":"IF(Master!K146=\"\",\"B\",Master!K146)","v":"B"},{"$f":"IF(Master!L146=\"\",\"B\",Master!L146)","v":"B"},{"$f":"IF(Master!M146=\"\",\"B\",Master!M146)","v":"B"}]
[{"$f":"Master!A147","v":"CN"},{"$f":"Master!B147","v":"WSDOT DB: DESIGN-BUILD INVOICE PROCESSING"},{"$f":"Master!C147","v":0},{"$f":"Master!D147","v":"ILT"},{"$f":"Master!E147","v":"Active"},{"$f":"Master!F147","v":0},{"$f":"Master!G147","v":0},{"$f":"IF(Master!H147=\"\",\"B\",Master!H147)","v":"B"},{"$f":"IF(Master!I147=\"\",\"B\",Master!I147)","v":"B"},{"$f":"IF(Master!J147=\"\",\"B\",Master!J147)","v":"B"},{"$f":"IF(Master!K147=\"\",\"B\",Master!K147)","v":"B"},{"$f":"IF(Master!L147=\"\",\"B\",Master!L147)","v":"B"},{"$f":"IF(Master!M147=\"\",\"B\",Master!M147)","v":"B"}]
[{"$f":"Master!A148","v":"CN"},{"$f":"Master!B148","v":"WSDOT DB: INTERNAL AND EXTERNAL DEBRIEFING"},{"$f":"Master!C148","v":0},{"$f":"Master!D148","v":"ILT"},{"$f":"Master!E148","v":"Active"},{"$f":"Master!F148","v":0},{"$f":"Master!G148","v":0},{"$f":"IF(Master!H148=\"\",\"B\",Master!H148)","v":"B"},{"$f":"IF(Master!I148=\"\",\"B\",Master!I148)","v":"B"},{"$f":"IF(Master!J148=\"\",\"B\",Master!J148)","v":"B"},{"$f":"IF(Master!K148=\"\",\"B\",Master!K148)","v":"B"},{"$f":"IF(Master!L148=\"\",\"B\",Master!L148)","v":"B"},{"$f":"IF(Master!M148=\"\",\"B\",Master!M148)","v":"B"}]
[{"$f":"Master!A149","v":"CN"},{"$f":"Master!B149","v":"WSDOT DB: DESIGN-BUILD QUALITY VERIFICATION"},{"$f":"Master!C149","v":0},{"$f":"Master!D149","v":"ILT"},{"$f":"Master!E149","v":"Active"},{"$f":"Master!F149","v":0},{"$f":"Master!G149","v":0},{"$f":"IF(Master!H149=\"\",\"B\",Master!H149)","v":"B"},{"$f":"IF(Master!I149=\"\",\"B\",Master!I149)","v":"B"},{"$f":"IF(Master!J149=\"\",\"B\",Master!J149)","v":"B"},{"$f":"IF(Master!K149=\"\",\"B\",Master!K149)","v":"B"},{"$f":"IF(Master!L149=\"\",\"B\",Master!L149)","v":"B"},{"$f":"IF(Master!M149=\"\",\"B\",Master!M149)","v":"B"}]
[{"$f":"Master!A150","v":"CN"},{"$f":"Master!B150","v":"**WSDOT DB: QV ADMINISTRATION"},{"$f":"Master!C150","v":0},{"$f":"Master!D150","v":"ILT"},{"$f":"Master!E150","v":"Under Development"},{"$f":"Master!F150","v":"Q1 2019"},{"$f":"Master!G150","v":0},{"$f":"IF(Master!H150=\"\",\"B\",Master!H150)","v":"B"},{"$f":"IF(Master!I150=\"\",\"B\",Master!I150)","v":"B"},{"$f":"IF(Master!J150=\"\",\"B\",Master!J150)","v":"B"},{"$f":"IF(Master!K150=\"\",\"B\",Master!K150)","v":"B"},{"$f":"IF(Master!L150=\"\",\"B\",Master!L150)","v":"B"},{"$f":"IF(Master!M150=\"\",\"B\",Master!M150)","v":"B"}]
[{"$f":"Master!A151","v":"CN"},{"$f":"Master!B151","v":"**WSDOT DB: RISK ANALYSIS AND ALLOCATION FOR DB CONTRACTS"},{"$f":"Master!C151","v":0},{"$f":"Master!D151","v":"ILT"},{"$f":"Master!E151","v":"Under Development"},{"$f":"Master!F151","v":"Q1 2019"},{"$f":"Master!G151","v":0},{"$f":"IF(Master!H151=\"\",\"B\",Master!H151)","v":"B"},{"$f":"IF(Master!I151=\"\",\"B\",Master!I151)","v":"B"},{"$f":"IF(Master!J151=\"\",\"B\",Master!J151)","v":"B"},{"$f":"IF(Master!K151=\"\",\"B\",Master!K151)","v":"B"},{"$f":"IF(Master!L151=\"\",\"B\",Master!L151)","v":"B"},{"$f":"IF(Master!M151=\"\",\"B\",Master!M151)","v":"B"}]
[{"$f":"Master!A152","v":"Development Division"},null,null,null,null,null,null,{"$f":"IF(Master!R152=\"\",\"B\",Master!R152)","v":"B"},{"$f":"IF(Master!AC152=\"\",\"B\",Master!AC152)","v":"B"},{"$f":"IF(Master!AN152=\"\",\"B\",Master!AN152)","v":"B"},{"$f":"IF(Master!AY152=\"\",\"B\",Master!AY152)","v":"B"},{"$f":"IF(Master!BJ152=\"\",\"B\",Master!BJ152)","v":"B"},{"$f":"IF(Master!BU152=\"\",\"B\",Master!BU152)","v":"B"}]
[{"$f":"Master!A153","v":"Design"},null,null,null,null,null,null,{"$f":"IF(Master!R153=\"\",\"B\",Master!R153)","v":"B"},{"$f":"IF(Master!AC153=\"\",\"B\",Master!AC153)","v":"B"},{"$f":"IF(Master!AN153=\"\",\"B\",Master!AN153)","v":"B"},{"$f":"IF(Master!AY153=\"\",\"B\",Master!AY153)","v":"B"},{"$f":"IF(Master!BJ153=\"\",\"B\",Master!BJ153)","v":"B"},{"$f":"IF(Master!BU153=\"\",\"B\",Master!BU153)","v":"B"}]
[{"$f":"Master!A154","v":"DES"},{"$f":"Master!B154","v":"CONTRACT PLANS REVIEW (SELF-STUDY)"},{"$f":"Master!C154","v":"Paper and Pencil"},{"$f":"Master!D154","v":"SS"},{"$f":"Master!E154","v":"Active"},{"$f":"Master!F154","v":0},{"$f":"Master!H154","v":"E-Learning option as well.  Updated in 2013."},{"$f":"IF(Master!R154=\"\",\"B\",Master!R154)","v":"R"},{"$f":"IF(Master!AC154=\"\",\"B\",Master!AC154)","v":"R"},{"$f":"IF(Master!AN154=\"\",\"B\",Master!AN154)","v":1},{"$f":"IF(Master!AY154=\"\",\"B\",Master!AY154)","v":1},{"$f":"IF(Master!BJ154=\"\",\"B\",Master!BJ154)","v":"B"},{"$f":"IF(Master!BU154=\"\",\"B\",Master!BU154)","v":"B"}]
[{"$f":"Master!A155","v":"DES"},{"$f":"Master!B155","v":"CONTRACT PLANS READING (SELF-STUDY)"},{"$f":"Master!C155","v":"Paper and Pencil"},{"$f":"Master!D155","v":"SS"},{"$f":"Master!E155","v":"Active"},{"$f":"Master!F155","v":0},{"$f":"Master!H155","v":"Obtain material through Staff Development."},{"$f":"IF(Master!R155=\"\",\"B\",Master!R155)","v":"R"},{"$f":"IF(Master!AC155=\"\",\"B\",Master!AC155)","v":"R"},{"$f":"IF(Master!AN155=\"\",\"B\",Master!AN155)","v":1},{"$f":"IF(Master!AY155=\"\",\"B\",Master!AY155)","v":1},{"$f":"IF(Master!BJ155=\"\",\"B\",Master!BJ155)","v":"B"},{"$f":"IF(Master!BU155=\"\",\"B\",Master!BU155)","v":"B"}]
[{"$f":"Master!A156","v":"DES"},{"$f":"Master!B156","v":"WSDOT DES: CONTRACT PLANS & ESTIMATE PREPARATION"},{"$f":"Master!C156","v":"WSDOT_A4J"},{"$f":"Master!D156","v":"ILT"},{"$f":"Master!E156","v":"Inactive"},{"$f":"Master!F156","v":"None"},{"$f":"Master!H156","v":0},{"$f":"IF(Master!R156=\"\",\"B\",Master!R156)","v":2},{"$f":"IF(Master!AC156=\"\",\"B\",Master!AC156)","v":2},{"$f":"IF(Master!AN156=\"\",\"B\",Master!AN156)","v":2},{"$f":"IF(Master!AY156=\"\",\"B\",Master!AY156)","v":2},{"$f":"IF(Master!BJ156=\"\",\"B\",Master!BJ156)","v":2},{"$f":"IF(Master!BU156=\"\",\"B\",Master!BU156)","v":"B"}]
[{"$f":"Master!A157","v":"DES"},{"$f":"Master!B157","v":"WSDOT DES: CONTRACT PROVISION PREPARATION"},{"$f":"Master!C157","v":"WSDOT_BGN"},{"$f":"Master!D157","v":"ILT"},{"$f":"Master!E157","v":"Inactive"},{"$f":"Master!F157","v":"None"},{"$f":"Master!H157","v":0},{"$f":"IF(Master!R157=\"\",\"B\",Master!R157)","v":2},{"$f":"IF(Master!AC157=\"\",\"B\",Master!AC157)","v":2},{"$f":"IF(Master!AN157=\"\",\"B\",Master!AN157)","v":2},{"$f":"IF(Master!AY157=\"\",\"B\",Master!AY157)","v":2},{"$f":"IF(Master!BJ157=\"\",\"B\",Master!BJ157)","v":"B"},{"$f":"IF(Master!BU157=\"\",\"B\",Master!BU157)","v":"B"}]
[{"$f":"Master!A158","v":"DES"},{"$f":"Master!B158","v":"WSDOT DESIGN DOCUMENTATION"},{"$f":"Master!C158","v":"WSDOT DES: Design Documentation"},{"$f":"Master!D158","v":"ILT"},{"$f":"Master!E158","v":"Active"},{"$f":"Master!F158","v":0},{"$f":"Master!H158","v":"Contact ASDE; course material is at https://www.wsdot.wa.gov/Design/Support.htm."},{"$f":"IF(Master!R158=\"\",\"B\",Master!R158)","v":"B"},{"$f":"IF(Master!AC158=\"\",\"B\",Master!AC158)","v":"B"},{"$f":"IF(Master!AN158=\"\",\"B\",Master!AN158)","v":"B"},{"$f":"IF(Master!AY158=\"\",\"B\",Master!AY158)","v":"B"},{"$f":"IF(Master!BJ158=\"\",\"B\",Master!BJ158)","v":"B"},{"$f":"IF(Master!BU158=\"\",\"B\",Master!BU158)","v":"B"}]
[{"$f":"Master!A159","v":"DES"},{"$f":"Master!B159","v":"WSDOT DES: INTERSECTION DESIGN"},{"$f":"Master!C159","v":"WSDOT_CBD"},{"$f":"Master!D159","v":"ILT"},{"$f":"Master!E159","v":"Active"},{"$f":"Master!F159","v":0},{"$f":"Master!H159","v":"Course  updated in 2019,  delivered to all regions; class delivered by request."},{"$f":"IF(Master!R159=\"\",\"B\",Master!R159)","v":"B"},{"$f":"IF(Master!AC159=\"\",\"B\",Master!AC159)","v":"B"},{"$f":"IF(Master!AN159=\"\",\"B\",Master!AN159)","v":"B"},{"$f":"IF(Master!AY159=\"\",\"B\",Master!AY159)","v":"B"},{"$f":"IF(Master!BJ159=\"\",\"B\",Master!BJ159)","v":"B"},{"$f":"IF(Master!BU159=\"\",\"B\",Master!BU159)","v":"B"}]
[{"$f":"Master!A160","v":"DES"},{"$f":"Master!B160","v":"WSDOT DES: PROJECT DEVELOPMENT PROCESS"},{"$f":"Master!C160","v":"WSDOT_CF4"},{"$f":"Master!D160","v":"ILT"},{"$f":"Master!E160","v":"Active"},{"$f":"Master!F160","v":"None"},{"$f":"Master!H160","v":"Updated January 2020; will deliver to regions by 6/30/2021"},{"$f":"IF(Master!R160=\"\",\"B\",Master!R160)","v":2},{"$f":"IF(Master!AC160=\"\",\"B\",Master!AC160)","v":2},{"$f":"IF(Master!AN160=\"\",\"B\",Master!AN160)","v":2},{"$f":"IF(Master!AY160=\"\",\"B\",Master!AY160)","v":1},{"$f":"IF(Master!BJ160=\"\",\"B\",Master!BJ160)","v":"B"},{"$f":"IF(Master!BU160=\"\",\"B\",Master!BU160)","v":"B"}]
[{"$f":"Master!A161","v":"DES"},{"$f":"Master!B161","v":"WSDOT PM: SCHEDULING BASICS"},{"$f":"Master!C161","v":"WSDOT_CB5"},{"$f":"Master!D161","v":"ILT"},{"$f":"Master!E161","v":"Inactive"},{"$f":"Master!F161","v":"None"},{"$f":"Master!H161","v":0},{"$f":"IF(Master!R161=\"\",\"B\",Master!R161)","v":2},{"$f":"IF(Master!AC161=\"\",\"B\",Master!AC161)","v":2},{"$f":"IF(Master!AN161=\"\",\"B\",Master!AN161)","v":2},{"$f":"IF(Master!AY161=\"\",\"B\",Master!AY161)","v":2},{"$f":"IF(Master!BJ161=\"\",\"B\",Master!BJ161)","v":2},{"$f":"IF(Master!BU161=\"\",\"B\",Master!BU161)","v":2}]
[{"$f":"Master!A162","v":"DES"},{"$f":"Master!B162","v":"AASHTO T3 CPM SCHEDULING"},{"$f":"Master!C162","v":"Resources:\nCPM Scheduling (2 PDHs)\nCPM Scheduling (3 PDHs)"},{"$f":"Master!D162","v":"OLT"},{"$f":"Master!E162","v":"Active"},{"$f":"Master!F162","v":0},{"$f":"Master!H162","v":"The online CPM training is free for WSDOT employees. To sign up, create an AASHTO account (use your WSDOT email address for the username) then navigate to the CPM training and add it to your cart. Follow the instructions that are emailed to you. There are a variety of other courses available to WSDOT employees at no cost."}]
[{"$f":"Master!A163","v":"DES"},{"$f":"Master!B163","v":"WSDOT DES: RIGHT OF WAY PLANS PREPARATION"},{"$f":"Master!C163","v":"WSDOT_BCN"},{"$f":"Master!D163","v":"ILT"},{"$f":"Master!E163","v":"Inactive"},{"$f":"Master!F163","v":"None"},{"$f":"Master!H163","v":0},{"$f":"IF(Master!R163=\"\",\"B\",Master!R163)","v":"B"},{"$f":"IF(Master!AC163=\"\",\"B\",Master!AC163)","v":"B"},{"$f":"IF(Master!AN163=\"\",\"B\",Master!AN163)","v":"B"},{"$f":"IF(Master!AY163=\"\",\"B\",Master!AY163)","v":"B"},{"$f":"IF(Master!BJ163=\"\",\"B\",Master!BJ163)","v":"B"},{"$f":"IF(Master!BU163=\"\",\"B\",Master!BU163)","v":"B"}]
[{"$f":"Master!A164","v":"DES"},{"$f":"Master!B164","v":"WSDOT DES: ROADSIDE SAFETY"},{"$f":"Master!C164","v":"WSDOT_B74"},{"$f":"Master!D164","v":"ILT"},{"$f":"Master!E164","v":"Inactive"},{"$f":"Master!F164","v":"None"},{"$f":"Master!H164","v":0},{"$f":"IF(Master!R164=\"\",\"B\",Master!R164)","v":"B"},{"$f":"IF(Master!AC164=\"\",\"B\",Master!AC164)","v":"B"},{"$f":"IF(Master!AN164=\"\",\"B\",Master!AN164)","v":"B"},{"$f":"IF(Master!AY164=\"\",\"B\",Master!AY164)","v":"B"},{"$f":"IF(Master!BJ164=\"\",\"B\",Master!BJ164)","v":"B"},{"$f":"IF(Master!BU164=\"\",\"B\",Master!BU164)","v":"B"}]
[{"$f":"Master!A165","v":"DES"},{"$f":"Master!B165","v":"WSDOT DES: ROADWAY GEOMETRIC DESIGN"},{"$f":"Master!C165","v":"WSDOT_BWE"},{"$f":"Master!D165","v":"ILT"},{"$f":"Master!E165","v":"Inactive"},{"$f":"Master!F165","v":"None"},{"$f":"Master!H165","v":0},{"$f":"IF(Master!R165=\"\",\"B\",Master!R165)","v":2},{"$f":"IF(Master!AC165=\"\",\"B\",Master!AC165)","v":2},{"$f":"IF(Master!AN165=\"\",\"B\",Master!AN165)","v":2},{"$f":"IF(Master!AY165=\"\",\"B\",Master!AY165)","v":2},{"$f":"IF(Master!BJ165=\"\",\"B\",Master!BJ165)","v":2},{"$f":"IF(Master!BU165=\"\",\"B\",Master!BU165)","v":"B"}]
[{"$f":"Master!A166","v":"DES"},{"$f":"Master!B166","v":"WSDOT DES: INTERCHANGE DESIGN"},{"$f":"Master!C166","v":"WSDOT_CFU"},{"$f":"Master!D166","v":"ILT"},{"$f":"Master!E166","v":"Inactive"},{"$f":"Master!F166","v":"None"},{"$f":"Master!H166","v":"FHWA delivered their interchange training at WSDOT in 2019; course delivery depends on demand."},{"$f":"IF(Master!R166=\"\",\"B\",Master!R166)","v":"B"},{"$f":"IF(Master!AC166=\"\",\"B\",Master!AC166)","v":"B"},{"$f":"IF(Master!AN166=\"\",\"B\",Master!AN166)","v":"B"},{"$f":"IF(Master!AY166=\"\",\"B\",Master!AY166)","v":"B"},{"$f":"IF(Master!BJ166=\"\",\"B\",Master!BJ166)","v":"B"},{"$f":"IF(Master!BU166=\"\",\"B\",Master!BU166)","v":"B"}]
[{"$f":"Master!A167","v":"DES"},{"$f":"Master!B167","v":"WSDOT DES: ACCESS MANAGEMENT"},{"$f":"Master!C167","v":"WSDOT_DAS"},{"$f":"Master!D167","v":"ILT"},{"$f":"Master!E167","v":"Active"},{"$f":"Master!F167","v":0},{"$f":"Master!H167","v":"Being updated, but current class can be given at any time"},{"$f":"IF(Master!R167=\"\",\"B\",Master!R167)","v":2},{"$f":"IF(Master!AC167=\"\",\"B\",Master!AC167)","v":2},{"$f":"IF(Master!AN167=\"\",\"B\",Master!AN167)","v":2},{"$f":"IF(Master!AY167=\"\",\"B\",Master!AY167)","v":2},{"$f":"IF(Master!BJ167=\"\",\"B\",Master!BJ167)","v":2},{"$f":"IF(Master!BU167=\"\",\"B\",Master!BU167)","v":"B"}]
[{"$f":"Master!A168","v":"DES"},{"$f":"Master!B168","v":"ALTERNATIVES COMPARISON WORKSHOP"},{"$f":"Master!C168","v":"None"},{"$f":"Master!D168","v":"ILT"},{"$f":"Master!E168","v":"Inactive"},{"$f":"Master!F168","v":"None"},{"$f":"Master!H168","v":0},{"$f":"IF(Master!R168=\"\",\"B\",Master!R168)","v":1},{"$f":"IF(Master!AC168=\"\",\"B\",Master!AC168)","v":1},{"$f":"IF(Master!AN168=\"\",\"B\",Master!AN168)","v":1},{"$f":"IF(Master!AY168=\"\",\"B\",Master!AY168)","v":1},{"$f":"IF(Master!BJ168=\"\",\"B\",Master!BJ168)","v":1},{"$f":"IF(Master!BU168=\"\",\"B\",Master!BU168)","v":"B"}]
[{"$f":"Master!A169","v":"DES"},{"$f":"Master!B169","v":"WSDOT DES: COST ESTIMATING"},{"$f":"Master!C169","v":"WSDOT_CZV"},{"$f":"Master!D169","v":"ILT"},{"$f":"Master!E169","v":"Active"},{"$f":"Master!F169","v":0},{"$f":"Master!H169","v":"This class was updated in 2019 and delivered to all regions 2019-2020; this class can be delivered by request."},{"$f":"IF(Master!R169=\"\",\"B\",Master!R169)","v":1},{"$f":"IF(Master!AC169=\"\",\"B\",Master!AC169)","v":1},{"$f":"IF(Master!AN169=\"\",\"B\",Master!AN169)","v":1},{"$f":"IF(Master!AY169=\"\",\"B\",Master!AY169)","v":1},{"$f":"IF(Master!BJ169=\"\",\"B\",Master!BJ169)","v":1},{"$f":"IF(Master!BU169=\"\",\"B\",Master!BU169)","v":1}]
[{"$f":"Master!A170","v":"DES"},{"$f":"Master!B170","v":"RISK MANAGEMENT"},{"$f":"Master!C170","v":"None"},{"$f":"Master!D170","v":"ILT"},{"$f":"Master!E170","v":"Inactive"},{"$f":"Master!F170","v":"None"},{"$f":"Master!H170","v":"Available by arrangement; contact Mark Gabel or Mark Suijka."},{"$f":"IF(Master!R170=\"\",\"B\",Master!R170)","v":"B"},{"$f":"IF(Master!AC170=\"\",\"B\",Master!AC170)","v":"B"},{"$f":"IF(Master!AN170=\"\",\"B\",Master!AN170)","v":"B"},{"$f":"IF(Master!AY170=\"\",\"B\",Master!AY170)","v":"B"},{"$f":"IF(Master!BJ170=\"\",\"B\",Master!BJ170)","v":2},{"$f":"IF(Master!BU170=\"\",\"B\",Master!BU170)","v":"B"}]
[{"$f":"Master!A171","v":"DES"},{"$f":"Master!B171","v":"MANAGING PROJECT DELIVERY"},{"$f":"Master!C171","v":"None"},{"$f":"Master!D171","v":0},{"$f":"Master!E171","v":"Inactive"},{"$f":"Master!F171","v":"None"},{"$f":"Master!H171","v":"PM courses abailable through SkillSoft:  https://wsdot.skillport.com/skillportfe/main.action#whatshappening"},{"$f":"IF(Master!R171=\"\",\"B\",Master!R171)","v":2},{"$f":"IF(Master!AC171=\"\",\"B\",Master!AC171)","v":2},{"$f":"IF(Master!AN171=\"\",\"B\",Master!AN171)","v":2},{"$f":"IF(Master!AY171=\"\",\"B\",Master!AY171)","v":2},{"$f":"IF(Master!BJ171=\"\",\"B\",Master!BJ171)","v":1},{"$f":"IF(Master!BU171=\"\",\"B\",Master!BU171)","v":"B"}]
[{"$f":"Master!A172","v":"DES"},{"$f":"Master!B172","v":"HUMAN FACTORS IN TRANSPORTATION DESIGN"},{"$f":"Master!C172","v":"None"},{"$f":"Master!D172","v":"ILT"},{"$f":"Master!E172","v":"Inactive"},{"$f":"Master!F172","v":"None"},{"$f":"Master!H172","v":"Partly covered in the HSM Training"},{"$f":"IF(Master!R172=\"\",\"B\",Master!R172)","v":1},{"$f":"IF(Master!AC172=\"\",\"B\",Master!AC172)","v":1},{"$f":"IF(Master!AN172=\"\",\"B\",Master!AN172)","v":1},{"$f":"IF(Master!AY172=\"\",\"B\",Master!AY172)","v":1},{"$f":"IF(Master!BJ172=\"\",\"B\",Master!BJ172)","v":1},{"$f":"IF(Master!BU172=\"\",\"B\",Master!BU172)","v":1}]
[{"$f":"Master!A173","v":"DES"},{"$f":"Master!B173","v":"WSDOT DES: [YYYY] DESIGN MANUAL TRAINING"},{"$f":"Master!C173","v":"WSDOT_DMUT01202016"},{"$f":"Master!D173","v":"ILT"},{"$f":"Master!E173","v":"Active"},{"$f":"Master!F173","v":0},{"$f":"Master!H173","v":0},{"$f":"IF(Master!R173=\"\",\"B\",Master!R173)","v":2},{"$f":"IF(Master!AC173=\"\",\"B\",Master!AC173)","v":2},{"$f":"IF(Master!AN173=\"\",\"B\",Master!AN173)","v":2},{"$f":"IF(Master!AY173=\"\",\"B\",Master!AY173)","v":2},{"$f":"IF(Master!BJ173=\"\",\"B\",Master!BJ173)","v":2},{"$f":"IF(Master!BU173=\"\",\"B\",Master!BU173)","v":2}]
[{"$f":"Master!A174","v":"DES"},{"$f":"Master!B174","v":"WSDOT DES: DESIGN MANUAL DIVISION 11 PRACTICAL DESIGN"},{"$f":"Master!C174","v":"DMUT_ORG"},{"$f":"Master!D174","v":"OLT"},{"$f":"Master!E174","v":"Active"},{"$f":"Master!F174","v":0},{"$f":"Master!H174","v":"Available in LMS for credit, also at https://www.wsdot.wa.gov/LocalPrograms/Training/eTraining.htm "},{"$f":"IF(Master!R174=\"\",\"B\",Master!R174)","v":2},{"$f":"IF(Master!AC174=\"\",\"B\",Master!AC174)","v":2},{"$f":"IF(Master!AN174=\"\",\"B\",Master!AN174)","v":2},{"$f":"IF(Master!AY174=\"\",\"B\",Master!AY174)","v":2},{"$f":"IF(Master!BJ174=\"\",\"B\",Master!BJ174)","v":2},{"$f":"IF(Master!BU174=\"\",\"B\",Master!BU174)","v":2}]
[{"$f":"Master!A175","v":"DES"},{"$f":"Master!B175","v":"WSDOT PS 201 MULTIMODAL MAKING THE CASE MODULE1 OLT"},{"$f":"Master!C175","v":"Module_1:_Why_Multimodal?_ORG"},{"$f":"Master!D175","v":"OLT"},{"$f":"Master!E175","v":"Active"},{"$f":"Master!F175","v":0},{"$f":"Master!H175","v":0},{"$f":"IF(Master!R175=\"\",\"B\",Master!R175)","v":"B"},{"$f":"IF(Master!AC175=\"\",\"B\",Master!AC175)","v":"B"},{"$f":"IF(Master!AN175=\"\",\"B\",Master!AN175)","v":"B"},{"$f":"IF(Master!AY175=\"\",\"B\",Master!AY175)","v":"B"},{"$f":"IF(Master!BJ175=\"\",\"B\",Master!BJ175)","v":"B"},{"$f":"IF(Master!BU175=\"\",\"B\",Master!BU175)","v":"B"}]
[{"$f":"Master!A176","v":"DES"},{"$f":"Master!B176","v":"WSDOT PS 201 MULTIMODAL LAND USE MODULE2 OLT"},{"$f":"Master!C176","v":"Module_2_Land_Use_&_Transportation_ORG"},{"$f":"Master!D176","v":"OLT"},{"$f":"Master!E176","v":"Active"},{"$f":"Master!F176","v":0},{"$f":"Master!H176","v":0},{"$f":"IF(Master!R176=\"\",\"B\",Master!R176)","v":"B"},{"$f":"IF(Master!AC176=\"\",\"B\",Master!AC176)","v":"B"},{"$f":"IF(Master!AN176=\"\",\"B\",Master!AN176)","v":"B"},{"$f":"IF(Master!AY176=\"\",\"B\",Master!AY176)","v":"B"},{"$f":"IF(Master!BJ176=\"\",\"B\",Master!BJ176)","v":"B"},{"$f":"IF(Master!BU176=\"\",\"B\",Master!BU176)","v":"B"}]
[{"$f":"Master!A177","v":"DES"},{"$f":"Master!B177","v":"WSDOT PS 201 MULTIMODAL PHASES AND NEEDS MODULE3 OLT"},{"$f":"Master!C177","v":"Module_3_Phases_and_Needs_ORG"},{"$f":"Master!D177","v":"OLT"},{"$f":"Master!E177","v":" Active"},{"$f":"Master!F177","v":0},{"$f":"Master!H177","v":0},{"$f":"IF(Master!R177=\"\",\"B\",Master!R177)","v":"B"},{"$f":"IF(Master!AC177=\"\",\"B\",Master!AC177)","v":"B"},{"$f":"IF(Master!AN177=\"\",\"B\",Master!AN177)","v":"B"},{"$f":"IF(Master!AY177=\"\",\"B\",Master!AY177)","v":"B"},{"$f":"IF(Master!BJ177=\"\",\"B\",Master!BJ177)","v":"B"},{"$f":"IF(Master!BU177=\"\",\"B\",Master!BU177)","v":"B"}]
[{"$f":"Master!A178","v":"DES"},{"$f":"Master!B178","v":"WSDOT PS 201 MULTIMODAL PERFORMANCE BASICS MODULE4 OLT"},{"$f":"Master!C178","v":"Module_4_Performance_Basics_ORG"},{"$f":"Master!D178","v":"OLT"},{"$f":"Master!E178","v":"Active"},{"$f":"Master!F178","v":0},{"$f":"Master!H178","v":0},{"$f":"IF(Master!R178=\"\",\"B\",Master!R178)","v":"B"},{"$f":"IF(Master!AC178=\"\",\"B\",Master!AC178)","v":"B"},{"$f":"IF(Master!AN178=\"\",\"B\",Master!AN178)","v":"B"},{"$f":"IF(Master!AY178=\"\",\"B\",Master!AY178)","v":"B"},{"$f":"IF(Master!BJ178=\"\",\"B\",Master!BJ178)","v":"B"},{"$f":"IF(Master!BU178=\"\",\"B\",Master!BU178)","v":"B"}]
[{"$f":"Master!A179","v":"DES"},{"$f":"Master!B179","v":"WSDOT PS 201 MULTIMODAL TRANSIT MODULE5 OLT"},{"$f":"Master!C179","v":"Module_5_Transit_ORG"},{"$f":"Master!D179","v":"OLT"},{"$f":"Master!E179","v":"Active"},{"$f":"Master!F179","v":0},{"$f":"Master!H179","v":0},{"$f":"IF(Master!R179=\"\",\"B\",Master!R179)","v":"B"},{"$f":"IF(Master!AC179=\"\",\"B\",Master!AC179)","v":"B"},{"$f":"IF(Master!AN179=\"\",\"B\",Master!AN179)","v":"B"},{"$f":"IF(Master!AY179=\"\",\"B\",Master!AY179)","v":"B"},{"$f":"IF(Master!BJ179=\"\",\"B\",Master!BJ179)","v":"B"},{"$f":"IF(Master!BU179=\"\",\"B\",Master!BU179)","v":"B"}]
[{"$f":"Master!A180","v":"DES"},{"$f":"Master!B180","v":"WSDOT PS 201 MULTIMODAL WALKING MODULE6 OLT"},{"$f":"Master!C180","v":"Module_6_People_Walking_ORG"},{"$f":"Master!D180","v":"OLT"},{"$f":"Master!E180","v":"Active"},{"$f":"Master!F180","v":0},{"$f":"Master!H180","v":0},{"$f":"IF(Master!R180=\"\",\"B\",Master!R180)","v":"B"},{"$f":"IF(Master!AC180=\"\",\"B\",Master!AC180)","v":"B"},{"$f":"IF(Master!AN180=\"\",\"B\",Master!AN180)","v":"B"},{"$f":"IF(Master!AY180=\"\",\"B\",Master!AY180)","v":"B"},{"$f":"IF(Master!BJ180=\"\",\"B\",Master!BJ180)","v":"B"},{"$f":"IF(Master!BU180=\"\",\"B\",Master!BU180)","v":"B"}]
[{"$f":"Master!A181","v":"DES"},{"$f":"Master!B181","v":"WSDOT PS 201 MULTIMODAL BIKING MODULE7 OLT"},{"$f":"Master!C181","v":"Module_7_People_Biking_ORG"},{"$f":"Master!D181","v":"OLT"},{"$f":"Master!E181","v":"Active"},{"$f":"Master!F181","v":0},{"$f":"Master!H181","v":0},{"$f":"IF(Master!R181=\"\",\"B\",Master!R181)","v":"B"},{"$f":"IF(Master!AC181=\"\",\"B\",Master!AC181)","v":"B"},{"$f":"IF(Master!AN181=\"\",\"B\",Master!AN181)","v":"B"},{"$f":"IF(Master!AY181=\"\",\"B\",Master!AY181)","v":"B"},{"$f":"IF(Master!BJ181=\"\",\"B\",Master!BJ181)","v":"B"},{"$f":"IF(Master!BU181=\"\",\"B\",Master!BU181)","v":"B"}]
[{"$f":"Master!A182","v":"DES"},{"$f":"Master!B182","v":"WSDOT PS 201 MULTIMODAL FREIGHT MODULE8 OLT"},{"$f":"Master!C182","v":"Module_8_Freight_Transportation_ORG"},{"$f":"Master!D182","v":"OLT"},{"$f":"Master!E182","v":"Active"},{"$f":"Master!F182","v":0},{"$f":"Master!H182","v":0},{"$f":"IF(Master!R182=\"\",\"B\",Master!R182)","v":"B"},{"$f":"IF(Master!AC182=\"\",\"B\",Master!AC182)","v":"B"},{"$f":"IF(Master!AN182=\"\",\"B\",Master!AN182)","v":"B"},{"$f":"IF(Master!AY182=\"\",\"B\",Master!AY182)","v":"B"},{"$f":"IF(Master!BJ182=\"\",\"B\",Master!BJ182)","v":"B"},{"$f":"IF(Master!BU182=\"\",\"B\",Master!BU182)","v":"B"}]
[{"$f":"Master!A183","v":"DES"},{"$f":"Master!B183","v":"WSDOT PS 201 MULTIMODAL CONFLICTS AND HUBS MODULE9 OLT"},{"$f":"Master!C183","v":"Module_9_Modal_Conflicts_and_Hubs_ORG"},{"$f":"Master!D183","v":"OLT"},{"$f":"Master!E183","v":"Active"},{"$f":"Master!F183","v":0},{"$f":"Master!H183","v":0},{"$f":"IF(Master!R183=\"\",\"B\",Master!R183)","v":"B"},{"$f":"IF(Master!AC183=\"\",\"B\",Master!AC183)","v":"B"},{"$f":"IF(Master!AN183=\"\",\"B\",Master!AN183)","v":"B"},{"$f":"IF(Master!AY183=\"\",\"B\",Master!AY183)","v":"B"},{"$f":"IF(Master!BJ183=\"\",\"B\",Master!BJ183)","v":"B"},{"$f":"IF(Master!BU183=\"\",\"B\",Master!BU183)","v":"B"}]
[{"$f":"Master!A184","v":"DES"},{"$f":"Master!B184","v":"WSDOT PRACTICAL SOLUTIONS OVERVIEW OLT"},{"$f":"Master!C184","v":"Practical_Solutions_Overview_ORG"},{"$f":"Master!D184","v":"OLT"},{"$f":"Master!E184","v":"Active"},{"$f":"Master!F184","v":0},{"$f":"Master!H184","v":0},{"$f":"IF(Master!R184=\"\",\"B\",Master!R184)","v":2},{"$f":"IF(Master!AC184=\"\",\"B\",Master!AC184)","v":2},{"$f":"IF(Master!AN184=\"\",\"B\",Master!AN184)","v":2},{"$f":"IF(Master!AY184=\"\",\"B\",Master!AY184)","v":2},{"$f":"IF(Master!BJ184=\"\",\"B\",Master!BJ184)","v":2},{"$f":"IF(Master!BU184=\"\",\"B\",Master!BU184)","v":2}]
[{"$f":"Master!A185","v":"DES"},{"$f":"Master!B185","v":"WSDOT PS 101: PRACTICAL SOLUTIONS APPROACH TO PROJECT DEVELOPMENT OVERVIEW"},{"$f":"Master!C185","v":"WSDOT_PS101"},{"$f":"Master!D185","v":"ILT"},{"$f":"Master!E185","v":"Inactive"},{"$f":"Master!F185","v":0},{"$f":"Master!H185","v":0},{"$f":"IF(Master!R185=\"\",\"B\",Master!R185)","v":2},{"$f":"IF(Master!AC185=\"\",\"B\",Master!AC185)","v":2},{"$f":"IF(Master!AN185=\"\",\"B\",Master!AN185)","v":2},{"$f":"IF(Master!AY185=\"\",\"B\",Master!AY185)","v":2},{"$f":"IF(Master!BJ185=\"\",\"B\",Master!BJ185)","v":2},{"$f":"IF(Master!BU185=\"\",\"B\",Master!BU185)","v":2}]
[{"$f":"Master!A186","v":"Hydraulics"},null,null,null,null,null,null,{"$f":"IF(Master!R186=\"\",\"B\",Master!R186)","v":"B"},{"$f":"IF(Master!AC186=\"\",\"B\",Master!AC186)","v":"B"},{"$f":"IF(Master!AN186=\"\",\"B\",Master!AN186)","v":"B"},{"$f":"IF(Master!AY186=\"\",\"B\",Master!AY186)","v":"B"},{"$f":"IF(Master!BJ186=\"\",\"B\",Master!BJ186)","v":"B"},{"$f":"IF(Master!BU186=\"\",\"B\",Master!BU186)","v":"B"}]
[{"$f":"Master!A187","v":"HYD"},{"$f":"Master!B187","v":"WSDOT DES: HYDRAULICS AND HYDROLOGY"},{"$f":"Master!C187","v":"WSDOT_DES_HYDRAULICS_AND_HYDROLOGY"},{"$f":"Master!D187","v":"ILT"},{"$f":"Master!E187","v":"Active"},{"$f":"Master!F187","v":0},{"$f":"Master!H187","v":0},{"$f":"IF(Master!R187=\"\",\"B\",Master!R187)","v":"B"},{"$f":"IF(Master!AC187=\"\",\"B\",Master!AC187)","v":"B"},{"$f":"IF(Master!AN187=\"\",\"B\",Master!AN187)","v":"B"},{"$f":"IF(Master!AY187=\"\",\"B\",Master!AY187)","v":"B"},{"$f":"IF(Master!BJ187=\"\",\"B\",Master!BJ187)","v":"B"},{"$f":"IF(Master!BU187=\"\",\"B\",Master!BU187)","v":"B"}]
[{"$f":"Master!A188","v":"HYD"},{"$f":"Master!B188","v":"WSDOT DES: 2014 HIGHWAY RUNOFF MANUAL TRAINING"},{"$f":"Master!C188","v":"WSDOT_DBI"},{"$f":"Master!D188","v":"ILT"},{"$f":"Master!E188","v":"Active"},{"$f":"Master!F188","v":0},{"$f":"Master!H188","v":0},{"$f":"IF(Master!R188=\"\",\"B\",Master!R188)","v":"B"},{"$f":"IF(Master!AC188=\"\",\"B\",Master!AC188)","v":"B"},{"$f":"IF(Master!AN188=\"\",\"B\",Master!AN188)","v":"B"},{"$f":"IF(Master!AY188=\"\",\"B\",Master!AY188)","v":"B"},{"$f":"IF(Master!BJ188=\"\",\"B\",Master!BJ188)","v":"B"},{"$f":"IF(Master!BU188=\"\",\"B\",Master!BU188)","v":"B"}]
[{"$f":"Master!A189","v":"HYD"},{"$f":"Master!B189","v":"WSDOT_MGSFLOOD_TRAINING"},{"$f":"Master!C189","v":"WSDOT_MGSFLOOD_TRAINING"},{"$f":"Master!D189","v":"ILT"},{"$f":"Master!E189","v":"Active"},{"$f":"Master!F189","v":0},{"$f":"Master!H189","v":0},{"$f":"IF(Master!R189=\"\",\"B\",Master!R189)","v":"B"},{"$f":"IF(Master!AC189=\"\",\"B\",Master!AC189)","v":"B"},{"$f":"IF(Master!AN189=\"\",\"B\",Master!AN189)","v":"B"},{"$f":"IF(Master!AY189=\"\",\"B\",Master!AY189)","v":"B"},{"$f":"IF(Master!BJ189=\"\",\"B\",Master!BJ189)","v":"B"},{"$f":"IF(Master!BU189=\"\",\"B\",Master!BU189)","v":"B"}]
[{"$f":"Master!A190","v":"HYD"},{"$f":"Master!B190","v":"WSDOT DES: STORMSHED BEGINNING"},{"$f":"Master!C190","v":"WSDOT_DES_STORMSHED_BEGINNING"},{"$f":"Master!D190","v":"ILT"},{"$f":"Master!E190","v":"Active"},{"$f":"Master!F190","v":0},{"$f":"Master!H190","v":0},{"$f":"IF(Master!R190=\"\",\"B\",Master!R190)","v":"B"},{"$f":"IF(Master!AC190=\"\",\"B\",Master!AC190)","v":"B"},{"$f":"IF(Master!AN190=\"\",\"B\",Master!AN190)","v":"B"},{"$f":"IF(Master!AY190=\"\",\"B\",Master!AY190)","v":"B"},{"$f":"IF(Master!BJ190=\"\",\"B\",Master!BJ190)","v":"B"},{"$f":"IF(Master!BU190=\"\",\"B\",Master!BU190)","v":"B"}]
[{"$f":"Master!A191","v":"HYD"},{"$f":"Master!B191","v":"WSDOT DES: STORMSHED INTERMEDIATE"},{"$f":"Master!C191","v":"WSDOT_DES_STORMSHED_INTERMEDIATE"},{"$f":"Master!D191","v":"ILT"},{"$f":"Master!E191","v":"Active"},{"$f":"Master!F191","v":0},{"$f":"Master!H191","v":0},{"$f":"IF(Master!R191=\"\",\"B\",Master!R191)","v":"B"},{"$f":"IF(Master!AC191=\"\",\"B\",Master!AC191)","v":"B"},{"$f":"IF(Master!AN191=\"\",\"B\",Master!AN191)","v":"B"},{"$f":"IF(Master!AY191=\"\",\"B\",Master!AY191)","v":"B"},{"$f":"IF(Master!BJ191=\"\",\"B\",Master!BJ191)","v":"B"},{"$f":"IF(Master!BU191=\"\",\"B\",Master!BU191)","v":"B"}]
[{"$f":"Master!A192","v":"Environmental"},null,null,null,null,null,null,{"$f":"IF(Master!R192=\"\",\"B\",Master!R192)","v":"B"},{"$f":"IF(Master!AC192=\"\",\"B\",Master!AC192)","v":"B"},{"$f":"IF(Master!AN192=\"\",\"B\",Master!AN192)","v":"B"},{"$f":"IF(Master!AY192=\"\",\"B\",Master!AY192)","v":"B"},{"$f":"IF(Master!BJ192=\"\",\"B\",Master!BJ192)","v":"B"},{"$f":"IF(Master!BU192=\"\",\"B\",Master!BU192)","v":"B"}]
[{"$f":"Master!A193","v":"ENV"},{"$f":"Master!B193","v":"WSDOT ENV: SPILL PLAN REVIEWER TRAINING (OLT)"},{"$f":"Master!C193","v":"WSDOT_BYZ_OLT"},{"$f":"Master!D193","v":"OLT"},{"$f":"Master!E193","v":"Active"},{"$f":"Master!F193","v":0},{"$f":"Master!G193","v":"NA"},{"$f":"IF(Master!R193=\"\",\"B\",Master!R193)","v":"B"},{"$f":"IF(Master!AC193=\"\",\"B\",Master!AC193)","v":"B"},{"$f":"IF(Master!AN193=\"\",\"B\",Master!AN193)","v":"B"},{"$f":"IF(Master!AY193=\"\",\"B\",Master!AY193)","v":"B"},{"$f":"IF(Master!BJ193=\"\",\"B\",Master!BJ193)","v":"B"},{"$f":"IF(Master!BU193=\"\",\"B\",Master!BU193)","v":"B"}]
[{"$f":"Master!A194","v":"ENV"},{"$f":"Master!B194","v":"WSDOT ENV: CONSTRUCTION SITE EROSION AND SEDIMENT CONTROL"},{"$f":"Master!C194","v":"WSDOT_BPW"},{"$f":"Master!D194","v":"ILT"},{"$f":"Master!E194","v":"Active"},{"$f":"Master!F194","v":0},{"$f":"Master!G194","v":"Once per year per Region or by request"},{"$f":"IF(Master!R194=\"\",\"B\",Master!R194)","v":"B"},{"$f":"IF(Master!AC194=\"\",\"B\",Master!AC194)","v":"B"},{"$f":"IF(Master!AN194=\"\",\"B\",Master!AN194)","v":"B"},{"$f":"IF(Master!AY194=\"\",\"B\",Master!AY194)","v":"B"},{"$f":"IF(Master!BJ194=\"\",\"B\",Master!BJ194)","v":"B"},{"$f":"IF(Master!BU194=\"\",\"B\",Master!BU194)","v":"B"}]
[{"$f":"Master!A195","v":"ENV"},{"$f":"Master!B195","v":"WSDOT ENV: CULTURAL RESOURCE TRAINING"},{"$f":"Master!C195","v":"WSDOT_B7T"},{"$f":"Master!D195","v":"ILT"},{"$f":"Master!E195","v":"Active"},{"$f":"Master!F195","v":0},{"$f":"Master!G195","v":"Offered 1-2 times per year"},{"$f":"IF(Master!R195=\"\",\"B\",Master!R195)","v":2},{"$f":"IF(Master!AC195=\"\",\"B\",Master!AC195)","v":2},{"$f":"IF(Master!AN195=\"\",\"B\",Master!AN195)","v":2},{"$f":"IF(Master!AY195=\"\",\"B\",Master!AY195)","v":2},{"$f":"IF(Master!BJ195=\"\",\"B\",Master!BJ195)","v":2},{"$f":"IF(Master!BU195=\"\",\"B\",Master!BU195)","v":2}]
[{"$f":"Master!A196","v":"ENV"},{"$f":"Master!B196","v":"WSDOT ENV: ENVIRONMENTAL JUSTICE INCLUSION TRAINING (OLT)"},{"$f":"Master!C196","v":"WSDOT_EJ1_OLT"},{"$f":"Master!D196","v":"OLT"},{"$f":"Master!E196","v":"Active"},{"$f":"Master!F196","v":0},{"$f":"Master!G196","v":"NA"},{"$f":"IF(Master!R196=\"\",\"B\",Master!R196)","v":1},{"$f":"IF(Master!AC196=\"\",\"B\",Master!AC196)","v":1},{"$f":"IF(Master!AN196=\"\",\"B\",Master!AN196)","v":1},{"$f":"IF(Master!AY196=\"\",\"B\",Master!AY196)","v":1},{"$f":"IF(Master!BJ196=\"\",\"B\",Master!BJ196)","v":1},{"$f":"IF(Master!BU196=\"\",\"B\",Master!BU196)","v":1}]
[{"$f":"Master!A197","v":"ENV"},{"$f":"Master!B197","v":"WSDOT ENV: ENVIRONMENTAL OVERVIEW - COMPLIANCE FOR CONSTRUCTION (OLT)"},{"$f":"Master!C197","v":"WSDOT_CR5_OLT"},{"$f":"Master!D197","v":"OLT"},{"$f":"Master!E197","v":"Active"},{"$f":"Master!F197","v":0},{"$f":"Master!G197","v":"NA"},{"$f":"IF(Master!R197=\"\",\"B\",Master!R197)","v":1},{"$f":"IF(Master!AC197=\"\",\"B\",Master!AC197)","v":1},{"$f":"IF(Master!AN197=\"\",\"B\",Master!AN197)","v":1},{"$f":"IF(Master!AY197=\"\",\"B\",Master!AY197)","v":1},{"$f":"IF(Master!BJ197=\"\",\"B\",Master!BJ197)","v":"B"},{"$f":"IF(Master!BU197=\"\",\"B\",Master!BU197)","v":"B"}]
[{"$f":"Master!A198","v":"ENV"},{"$f":"Master!B198","v":"WSDOT ENV: ESA (ENDANGERED SPECIES ACT) FOR NON-BIOLOGISTS (OLT)"},{"$f":"Master!C198","v":"WSDOT_EV9_OLT"},{"$f":"Master!D198","v":"OLT"},{"$f":"Master!E198","v":"Active"},{"$f":"Master!F198","v":0},{"$f":"Master!G198","v":"NA"},{"$f":"IF(Master!R198=\"\",\"B\",Master!R198)","v":1},{"$f":"IF(Master!AC198=\"\",\"B\",Master!AC198)","v":1},{"$f":"IF(Master!AN198=\"\",\"B\",Master!AN198)","v":1},{"$f":"IF(Master!AY198=\"\",\"B\",Master!AY198)","v":1},{"$f":"IF(Master!BJ198=\"\",\"B\",Master!BJ198)","v":"B"},{"$f":"IF(Master!BU198=\"\",\"B\",Master!BU198)","v":"B"}]
[{"$f":"Master!A199","v":"ENV"},{"$f":"Master!B199","v":"WSDOT ENV: NEPA/SEPA - MODULE 1 - OVERVIEW"},{"$f":"Master!C199","v":"WSDOT_DDV"},{"$f":"Master!D199","v":"ILT"},{"$f":"Master!E199","v":"Active"},{"$f":"Master!F199","v":0},{"$f":"Master!G199","v":"Once per year per Region or by request"},{"$f":"IF(Master!R199=\"\",\"B\",Master!R199)","v":"B"},{"$f":"IF(Master!AC199=\"\",\"B\",Master!AC199)","v":"B"},{"$f":"IF(Master!AN199=\"\",\"B\",Master!AN199)","v":"B"},{"$f":"IF(Master!AY199=\"\",\"B\",Master!AY199)","v":"B"},{"$f":"IF(Master!BJ199=\"\",\"B\",Master!BJ199)","v":"B"},{"$f":"IF(Master!BU199=\"\",\"B\",Master!BU199)","v":"B"}]
[{"$f":"Master!A200","v":"ENV"},{"$f":"Master!B200","v":"WSDOT ENV: NEPA/SEPA - MODULE 2 - DOCUMENTING CATEGORICAL EXCLUSIONS"},{"$f":"Master!C200","v":"WSDOT_ENV"},{"$f":"Master!D200","v":"ILT"},{"$f":"Master!E200","v":"Active"},{"$f":"Master!F200","v":0},{"$f":"Master!G200","v":"Once per year per Region or by request"},{"$f":"IF(Master!R200=\"\",\"B\",Master!R200)","v":"B"},{"$f":"IF(Master!AC200=\"\",\"B\",Master!AC200)","v":"B"},{"$f":"IF(Master!AN200=\"\",\"B\",Master!AN200)","v":"B"},{"$f":"IF(Master!AY200=\"\",\"B\",Master!AY200)","v":"B"},{"$f":"IF(Master!BJ200=\"\",\"B\",Master!BJ200)","v":"B"},{"$f":"IF(Master!BU200=\"\",\"B\",Master!BU200)","v":"B"}]
[{"$f":"Master!A201","v":"ENV"},{"$f":"Master!B201","v":"WSDOT ENV: NEPA/SEPA - MODULE 3 - DOCUMENTING EAs AND EISs"},{"$f":"Master!C201","v":"WSDOT_ENV_2"},{"$f":"Master!D201","v":"ILT"},{"$f":"Master!E201","v":"Active"},{"$f":"Master!F201","v":0},{"$f":"Master!G201","v":"Once per year per Region or by request"},{"$f":"IF(Master!R201=\"\",\"B\",Master!R201)","v":"B"},{"$f":"IF(Master!AC201=\"\",\"B\",Master!AC201)","v":"B"},{"$f":"IF(Master!AN201=\"\",\"B\",Master!AN201)","v":"B"},{"$f":"IF(Master!AY201=\"\",\"B\",Master!AY201)","v":"B"},{"$f":"IF(Master!BJ201=\"\",\"B\",Master!BJ201)","v":"B"},{"$f":"IF(Master!BU201=\"\",\"B\",Master!BU201)","v":"B"}]
[{"$f":"Master!A202","v":"ENV"},{"$f":"Master!B202","v":"WSDOT ENV: POISONOUS AND HARMFUL PLANTS IN WASHINGTON STATE"},{"$f":"Master!C202","v":"WSDOT_019_OLT"},{"$f":"Master!D202","v":"OLT"},{"$f":"Master!E202","v":"Active"},{"$f":"Master!F202","v":0},{"$f":"Master!G202","v":"NA"},{"$f":"IF(Master!R202=\"\",\"B\",Master!R202)","v":"B"},{"$f":"IF(Master!AC202=\"\",\"B\",Master!AC202)","v":"B"},{"$f":"IF(Master!AN202=\"\",\"B\",Master!AN202)","v":"B"},{"$f":"IF(Master!AY202=\"\",\"B\",Master!AY202)","v":"B"},{"$f":"IF(Master!BJ202=\"\",\"B\",Master!BJ202)","v":"B"},{"$f":"IF(Master!BU202=\"\",\"B\",Master!BU202)","v":"B"}]
[{"$f":"Master!A203","v":"Computer Aided Engineering"},null,null,null,null,null,null,{"$f":"IF(Master!R203=\"\",\"B\",Master!R203)","v":"B"},{"$f":"IF(Master!AC203=\"\",\"B\",Master!AC203)","v":"B"},{"$f":"IF(Master!AN203=\"\",\"B\",Master!AN203)","v":"B"},{"$f":"IF(Master!AY203=\"\",\"B\",Master!AY203)","v":"B"},{"$f":"IF(Master!BJ203=\"\",\"B\",Master!BJ203)","v":"B"},{"$f":"IF(Master!BU203=\"\",\"B\",Master!BU203)","v":"B"}]
[{"$f":"Master!A204","v":"CAE"},{"$f":"Master!B204","v":"WSDOT CAE: MICROSTATION - 101 ENTRY LEVEL"},{"$f":"Master!C204","v":"WSDOT_AX4"},{"$f":"Master!D204","v":"ILT"},{"$f":"Master!E204","v":"Active"},{"$f":"Master!F204","v":0},{"$f":"Master!H204","v":0},{"$f":"IF(Master!R204=\"\",\"B\",Master!R204)","v":"B"},{"$f":"IF(Master!AC204=\"\",\"B\",Master!AC204)","v":"B"},{"$f":"IF(Master!AN204=\"\",\"B\",Master!AN204)","v":"B"},{"$f":"IF(Master!AY204=\"\",\"B\",Master!AY204)","v":"B"},{"$f":"IF(Master!BJ204=\"\",\"B\",Master!BJ204)","v":"B"},{"$f":"IF(Master!BU204=\"\",\"B\",Master!BU204)","v":"B"}]
[{"$f":"Master!A205","v":"CAE"},{"$f":"Master!B205","v":"WSDOT CAE: MICROSTATION - 201 PRODUCTION LEVEL"},{"$f":"Master!C205","v":"WSDOT_AI6"},{"$f":"Master!D205","v":"ILT"},{"$f":"Master!E205","v":"Active"},{"$f":"Master!F205","v":0},{"$f":"Master!H205","v":0},{"$f":"IF(Master!R205=\"\",\"B\",Master!R205)","v":"B"},{"$f":"IF(Master!AC205=\"\",\"B\",Master!AC205)","v":"B"},{"$f":"IF(Master!AN205=\"\",\"B\",Master!AN205)","v":"B"},{"$f":"IF(Master!AY205=\"\",\"B\",Master!AY205)","v":"B"},{"$f":"IF(Master!BJ205=\"\",\"B\",Master!BJ205)","v":"B"},{"$f":"IF(Master!BU205=\"\",\"B\",Master!BU205)","v":"B"}]
[{"$f":"Master!A206","v":"CAE"},{"$f":"Master!B206","v":"WSDOT CAE: INROADS - 201 PRODUCTION LEVEL DESIGN"},{"$f":"Master!C206","v":"WSDOT_CRZ"},{"$f":"Master!D206","v":"ILT"},{"$f":"Master!E206","v":"Active"},{"$f":"Master!F206","v":0},{"$f":"Master!H206","v":0},{"$f":"IF(Master!R206=\"\",\"B\",Master!R206)","v":"B"},{"$f":"IF(Master!AC206=\"\",\"B\",Master!AC206)","v":"B"},{"$f":"IF(Master!AN206=\"\",\"B\",Master!AN206)","v":"B"},{"$f":"IF(Master!AY206=\"\",\"B\",Master!AY206)","v":"B"},{"$f":"IF(Master!BJ206=\"\",\"B\",Master!BJ206)","v":"B"},{"$f":"IF(Master!BU206=\"\",\"B\",Master!BU206)","v":"B"}]
[{"$f":"Master!A207","v":"CAE"},{"$f":"Master!B207","v":"WSDOT CAE: INROADS - 202 SURVEY DATA PROCESSING"},{"$f":"Master!C207","v":"WSDOT_CU1"},{"$f":"Master!D207","v":"ILT"},{"$f":"Master!E207","v":"Active"},{"$f":"Master!F207","v":0},{"$f":"Master!H207","v":0},{"$f":"IF(Master!R207=\"\",\"B\",Master!R207)","v":"B"},{"$f":"IF(Master!AC207=\"\",\"B\",Master!AC207)","v":"B"},{"$f":"IF(Master!AN207=\"\",\"B\",Master!AN207)","v":"B"},{"$f":"IF(Master!AY207=\"\",\"B\",Master!AY207)","v":"B"},{"$f":"IF(Master!BJ207=\"\",\"B\",Master!BJ207)","v":"B"},{"$f":"IF(Master!BU207=\"\",\"B\",Master!BU207)","v":"B"}]
[{"$f":"Master!A208","v":"CAE"},{"$f":"Master!B208","v":"WSDOT CAE: INROADS - 203 GEOMETRICS"},{"$f":"Master!C208","v":"WSDOT_DBF"},{"$f":"Master!D208","v":"ILT"},{"$f":"Master!E208","v":"Active"},{"$f":"Master!F208","v":0},{"$f":"Master!H208","v":0},{"$f":"IF(Master!R208=\"\",\"B\",Master!R208)","v":"B"},{"$f":"IF(Master!AC208=\"\",\"B\",Master!AC208)","v":"B"},{"$f":"IF(Master!AN208=\"\",\"B\",Master!AN208)","v":"B"},{"$f":"IF(Master!AY208=\"\",\"B\",Master!AY208)","v":"B"},{"$f":"IF(Master!BJ208=\"\",\"B\",Master!BJ208)","v":"B"},{"$f":"IF(Master!BU208=\"\",\"B\",Master!BU208)","v":"B"}]
[{"$f":"Master!A209","v":"CAE"},{"$f":"Master!B209","v":"WSDOT CAE: INROADS - 205 CONSTRUCTION PROCESSES"},{"$f":"Master!C209","v":"WSDOT_DH2"},{"$f":"Master!D209","v":"ILT"},{"$f":"Master!E209","v":"Active"},{"$f":"Master!F209","v":0},{"$f":"Master!H209","v":0},{"$f":"IF(Master!R209=\"\",\"B\",Master!R209)","v":"B"},{"$f":"IF(Master!AC209=\"\",\"B\",Master!AC209)","v":"B"},{"$f":"IF(Master!AN209=\"\",\"B\",Master!AN209)","v":"B"},{"$f":"IF(Master!AY209=\"\",\"B\",Master!AY209)","v":"B"},{"$f":"IF(Master!BJ209=\"\",\"B\",Master!BJ209)","v":"B"},{"$f":"IF(Master!BU209=\"\",\"B\",Master!BU209)","v":"B"}]
[{"$f":"Master!A210","v":"CAE"},{"$f":"Master!B210","v":"WSDOT CAE: INROADS - 251 INTERMEDIATE ROADWAY DESIGN"},{"$f":"Master!C210","v":"WSDOT_DDL"},{"$f":"Master!D210","v":"ILT"},{"$f":"Master!E210","v":"Active"},{"$f":"Master!F210","v":0},{"$f":"Master!H210","v":0},{"$f":"IF(Master!R210=\"\",\"B\",Master!R210)","v":"B"},{"$f":"IF(Master!AC210=\"\",\"B\",Master!AC210)","v":"B"},{"$f":"IF(Master!AN210=\"\",\"B\",Master!AN210)","v":"B"},{"$f":"IF(Master!AY210=\"\",\"B\",Master!AY210)","v":"B"},{"$f":"IF(Master!BJ210=\"\",\"B\",Master!BJ210)","v":"B"},{"$f":"IF(Master!BU210=\"\",\"B\",Master!BU210)","v":"B"}]
[{"$f":"Master!A211","v":"Survey"},null,null,null,null,null,null,{"$f":"IF(Master!R211=\"\",\"B\",Master!R211)","v":"B"},{"$f":"IF(Master!AC211=\"\",\"B\",Master!AC211)","v":"B"},{"$f":"IF(Master!AN211=\"\",\"B\",Master!AN211)","v":"B"},{"$f":"IF(Master!AY211=\"\",\"B\",Master!AY211)","v":"B"},{"$f":"IF(Master!BJ211=\"\",\"B\",Master!BJ211)","v":"B"},{"$f":"IF(Master!BU211=\"\",\"B\",Master!BU211)","v":"B"}]
[{"$f":"Master!A212","v":"SUR"},{"$f":"Master!B212","v":"WSDOT SUR: BASIC SURVEYING (SELF-STUDY)"},{"$f":"Master!C212","v":"WSDOT_APK"},{"$f":"Master!D212","v":"SS"},{"$f":"Master!E212","v":"Active"},{"$f":"Master!F212","v":0},{"$f":"Master!H212","v":0},{"$f":"IF(Master!R212=\"\",\"B\",Master!R212)","v":"R"},{"$f":"IF(Master!AC212=\"\",\"B\",Master!AC212)","v":"R"},{"$f":"IF(Master!AN212=\"\",\"B\",Master!AN212)","v":"B"},{"$f":"IF(Master!AY212=\"\",\"B\",Master!AY212)","v":"B"},{"$f":"IF(Master!BJ212=\"\",\"B\",Master!BJ212)","v":"B"},{"$f":"IF(Master!BU212=\"\",\"B\",Master!BU212)","v":"B"}]
[{"$f":"Master!A213","v":"SUR"},{"$f":"Master!B213","v":"WSDOT SUR: INTERMEDIATE SURVEYING"},{"$f":"Master!C213","v":"WSDOT A4U"},{"$f":"Master!D213","v":"ILT"},{"$f":"Master!E213","v":"Under Development"},{"$f":"Master!F213","v":"Q3 2019"},{"$f":"Master!H213","v":0},{"$f":"IF(Master!R213=\"\",\"B\",Master!R213)","v":"B"},{"$f":"IF(Master!AC213=\"\",\"B\",Master!AC213)","v":"B"},{"$f":"IF(Master!AN213=\"\",\"B\",Master!AN213)","v":"B"},{"$f":"IF(Master!AY213=\"\",\"B\",Master!AY213)","v":"B"},{"$f":"IF(Master!BJ213=\"\",\"B\",Master!BJ213)","v":"B"},{"$f":"IF(Master!BU213=\"\",\"B\",Master!BU213)","v":"B"}]
[{"$f":"Master!A214","v":"Traffic Operations Division"},null,null,null,null,null,null,{"$f":"IF(Master!R214=\"\",\"B\",Master!R214)","v":"B"},{"$f":"IF(Master!AC214=\"\",\"B\",Master!AC214)","v":"B"},{"$f":"IF(Master!AN214=\"\",\"B\",Master!AN214)","v":"B"},{"$f":"IF(Master!AY214=\"\",\"B\",Master!AY214)","v":"B"},{"$f":"IF(Master!BJ214=\"\",\"B\",Master!BJ214)","v":"B"},{"$f":"IF(Master!BU214=\"\",\"B\",Master!BU214)","v":"B"}]
[{"$f":"Master!A215","v":"TR"},{"$f":"Master!B215","v":"WSDOT TR: Work Zone Traffic Control Supervisor Re-Certification"},{"$f":"Master!C215","v":"WSDOT_BQD"},{"$f":"Master!D215","v":"OLT/ILT"},{"$f":"Master!E215","v":"Active"},{"$f":"Master!F215","v":0},{"$f":"Master!H215","v":0},{"$f":"IF(Master!R215=\"\",\"B\",Master!R215)","v":"B"},{"$f":"IF(Master!AC215=\"\",\"B\",Master!AC215)","v":"B"},{"$f":"IF(Master!AN215=\"\",\"B\",Master!AN215)","v":"B"},{"$f":"IF(Master!AY215=\"\",\"B\",Master!AY215)","v":"B"},{"$f":"IF(Master!BJ215=\"\",\"B\",Master!BJ215)","v":"B"},{"$f":"IF(Master!BU215=\"\",\"B\",Master!BU215)","v":"B"}]
[{"$f":"Master!A216","v":"TR"},{"$f":"Master!B216","v":"WSDOT TR: Work Zone Traffic Control Supervisor Certification"},{"$f":"Master!C216","v":"WSDOT_A42"},{"$f":"Master!D216","v":"OLT/ILT"},{"$f":"Master!E216","v":"Active"},{"$f":"Master!F216","v":0},{"$f":"Master!H216","v":0},{"$f":"IF(Master!R216=\"\",\"B\",Master!R216)","v":"B"},{"$f":"IF(Master!AC216=\"\",\"B\",Master!AC216)","v":"B"},{"$f":"IF(Master!AN216=\"\",\"B\",Master!AN216)","v":"B"},{"$f":"IF(Master!AY216=\"\",\"B\",Master!AY216)","v":"B"},{"$f":"IF(Master!BJ216=\"\",\"B\",Master!BJ216)","v":"B"},{"$f":"IF(Master!BU216=\"\",\"B\",Master!BU216)","v":"B"}]
[{"$f":"Master!A217","v":"TR"},{"$f":"Master!B217","v":"WSDOT TR: Work Zone Traffic Control Plan Design"},{"$f":"Master!C217","v":"WSDOT_DD7 (day one) and WSDOT_DBK (day two)"},{"$f":"Master!D217","v":"OLT/ILT"},{"$f":"Master!E217","v":"Active"},{"$f":"Master!F217","v":0},{"$f":"Master!H217","v":0},{"$f":"IF(Master!R217=\"\",\"B\",Master!R217)","v":"B"},{"$f":"IF(Master!AC217=\"\",\"B\",Master!AC217)","v":"B"},{"$f":"IF(Master!AN217=\"\",\"B\",Master!AN217)","v":"B"},{"$f":"IF(Master!AY217=\"\",\"B\",Master!AY217)","v":"B"},{"$f":"IF(Master!BJ217=\"\",\"B\",Master!BJ217)","v":"B"},{"$f":"IF(Master!BU217=\"\",\"B\",Master!BU217)","v":"B"}]
[{"$f":"Master!A218","v":"TR"},{"$f":"Master!B218","v":"**VISUM"},{"$f":"Master!C218","v":0},{"$f":"Master!D218","v":"OLT/ILT"},{"$f":"Master!E218","v":"Inactive"},{"$f":"Master!F218","v":"None"},{"$f":"Master!H218","v":"No technical lead within WSDOT available to teach"},{"$f":"IF(Master!R218=\"\",\"B\",Master!R218)","v":"B"},{"$f":"IF(Master!AC218=\"\",\"B\",Master!AC218)","v":"B"},{"$f":"IF(Master!AN218=\"\",\"B\",Master!AN218)","v":"B"},{"$f":"IF(Master!AY218=\"\",\"B\",Master!AY218)","v":"B"},{"$f":"IF(Master!BJ218=\"\",\"B\",Master!BJ218)","v":"B"},{"$f":"IF(Master!BU218=\"\",\"B\",Master!BU218)","v":"B"}]
[{"$f":"Master!A219","v":"TR"},{"$f":"Master!B219","v":"**VISSIM"},{"$f":"Master!C219","v":0},{"$f":"Master!D219","v":"OLT/ILT"},{"$f":"Master!E219","v":"Inactive"},{"$f":"Master!F219","v":"None"},{"$f":"Master!H219","v":"No technical lead within WSDOT available to teach"},{"$f":"IF(Master!R219=\"\",\"B\",Master!R219)","v":"B"},{"$f":"IF(Master!AC219=\"\",\"B\",Master!AC219)","v":"B"},{"$f":"IF(Master!AN219=\"\",\"B\",Master!AN219)","v":"B"},{"$f":"IF(Master!AY219=\"\",\"B\",Master!AY219)","v":"B"},{"$f":"IF(Master!BJ219=\"\",\"B\",Master!BJ219)","v":"B"},{"$f":"IF(Master!BU219=\"\",\"B\",Master!BU219)","v":"B"}]
[{"$f":"Master!A220","v":"TR"},{"$f":"Master!B220","v":"**SIDRA"},{"$f":"Master!C220","v":0},{"$f":"Master!D220","v":"OLT/ILT"},{"$f":"Master!E220","v":"Inactive"},{"$f":"Master!F220","v":"None"},{"$f":"Master!H220","v":"No technical lead within WSDOT available to teach"},{"$f":"IF(Master!R220=\"\",\"B\",Master!R220)","v":"B"},{"$f":"IF(Master!AC220=\"\",\"B\",Master!AC220)","v":"B"},{"$f":"IF(Master!AN220=\"\",\"B\",Master!AN220)","v":"B"},{"$f":"IF(Master!AY220=\"\",\"B\",Master!AY220)","v":"B"},{"$f":"IF(Master!BJ220=\"\",\"B\",Master!BJ220)","v":"B"},{"$f":"IF(Master!BU220=\"\",\"B\",Master!BU220)","v":"B"}]
[{"$f":"Master!A221","v":"TR"},{"$f":"Master!B221","v":"**SYNCHRO"},{"$f":"Master!C221","v":0},{"$f":"Master!D221","v":"OLT/ILT"},{"$f":"Master!E221","v":"Inactive"},{"$f":"Master!F221","v":"None"},{"$f":"Master!H221","v":"No technical lead within WSDOT available to teach"},{"$f":"IF(Master!R221=\"\",\"B\",Master!R221)","v":"B"},{"$f":"IF(Master!AC221=\"\",\"B\",Master!AC221)","v":"B"},{"$f":"IF(Master!AN221=\"\",\"B\",Master!AN221)","v":"B"},{"$f":"IF(Master!AY221=\"\",\"B\",Master!AY221)","v":"B"},{"$f":"IF(Master!BJ221=\"\",\"B\",Master!BJ221)","v":"B"},{"$f":"IF(Master!BU221=\"\",\"B\",Master!BU221)","v":"B"}]
[{"$f":"Master!A222","v":"TR"},{"$f":"Master!B222","v":"WSDOT PSHSM: Highway Safety Manual Level B"},{"$f":"Master!C222","v":"PSHSM_B01"},{"$f":"Master!D222","v":"OLT/ILT"},{"$f":"Master!E222","v":"Inactive"},{"$f":"Master!F222","v":"None"},{"$f":"Master!H222","v":"No technical lead within WSDOT available to teach"},{"$f":"IF(Master!R222=\"\",\"B\",Master!R222)","v":"B"},{"$f":"IF(Master!AC222=\"\",\"B\",Master!AC222)","v":"B"},{"$f":"IF(Master!AN222=\"\",\"B\",Master!AN222)","v":"B"},{"$f":"IF(Master!AY222=\"\",\"B\",Master!AY222)","v":"B"},{"$f":"IF(Master!BJ222=\"\",\"B\",Master!BJ222)","v":"B"},{"$f":"IF(Master!BU222=\"\",\"B\",Master!BU222)","v":"B"}]
[{"$f":"Master!A223","v":"TR"},{"$f":"Master!B223","v":"WSDOT PSHSM: Highway Safety Manual Level C1"},{"$f":"Master!C223","v":"PSHSM_C01"},{"$f":"Master!D223","v":"OLT/ILT"},{"$f":"Master!E223","v":"Inactive"},{"$f":"Master!F223","v":"None"},{"$f":"Master!H223","v":"No technical lead within WSDOT available to teach"},{"$f":"IF(Master!R223=\"\",\"B\",Master!R223)","v":"B"},{"$f":"IF(Master!AC223=\"\",\"B\",Master!AC223)","v":"B"},{"$f":"IF(Master!AN223=\"\",\"B\",Master!AN223)","v":"B"},{"$f":"IF(Master!AY223=\"\",\"B\",Master!AY223)","v":"B"},{"$f":"IF(Master!BJ223=\"\",\"B\",Master!BJ223)","v":"B"},{"$f":"IF(Master!BU223=\"\",\"B\",Master!BU223)","v":"B"}]
[{"$f":"Master!A224","v":"TR"},{"$f":"Master!B224","v":"WSDOT PSHSM: Highway Safety Manual Level C2"},{"$f":"Master!C224","v":"PSHSM C2"},{"$f":"Master!D224","v":"OLT/ILT"},{"$f":"Master!E224","v":"Inactive"},{"$f":"Master!F224","v":"None"},{"$f":"Master!H224","v":"No technical lead within WSDOT available to teach"},{"$f":"IF(Master!R224=\"\",\"B\",Master!R224)","v":"B"},{"$f":"IF(Master!AC224=\"\",\"B\",Master!AC224)","v":"B"},{"$f":"IF(Master!AN224=\"\",\"B\",Master!AN224)","v":"B"},{"$f":"IF(Master!AY224=\"\",\"B\",Master!AY224)","v":"B"},{"$f":"IF(Master!BJ224=\"\",\"B\",Master!BJ224)","v":"B"},{"$f":"IF(Master!BU224=\"\",\"B\",Master!BU224)","v":"B"}]
[{"$f":"Master!A225","v":"TR"},{"$f":"Master!B225","v":"WSDOT PSHSM: Highway Safety Manual Level C3"},{"$f":"Master!C225","v":"PSHSM C3"},{"$f":"Master!D225","v":"OLT/ILT"},{"$f":"Master!E225","v":"Inactive"},{"$f":"Master!F225","v":"None"},{"$f":"Master!H225","v":"No technical lead within WSDOT available to teach"},{"$f":"IF(Master!R225=\"\",\"B\",Master!R225)","v":"B"},{"$f":"IF(Master!AC225=\"\",\"B\",Master!AC225)","v":"B"},{"$f":"IF(Master!AN225=\"\",\"B\",Master!AN225)","v":"B"},{"$f":"IF(Master!AY225=\"\",\"B\",Master!AY225)","v":"B"},{"$f":"IF(Master!BJ225=\"\",\"B\",Master!BJ225)","v":"B"},{"$f":"IF(Master!BU225=\"\",\"B\",Master!BU225)","v":"B"}]
[{"$f":"Master!A226","v":"TR"},{"$f":"Master!B226","v":"WSDOT PSHSM: Highway Safety Manual Level D1"},{"$f":"Master!C226","v":"PSHSM D1"},{"$f":"Master!D226","v":"OLT/ILT"},{"$f":"Master!E226","v":"Inactive"},{"$f":"Master!F226","v":"None"},{"$f":"Master!H226","v":"No technical lead within WSDOT available to teach"},{"$f":"IF(Master!R226=\"\",\"B\",Master!R226)","v":"B"},{"$f":"IF(Master!AC226=\"\",\"B\",Master!AC226)","v":"B"},{"$f":"IF(Master!AN226=\"\",\"B\",Master!AN226)","v":"B"},{"$f":"IF(Master!AY226=\"\",\"B\",Master!AY226)","v":"B"},{"$f":"IF(Master!BJ226=\"\",\"B\",Master!BJ226)","v":"B"},{"$f":"IF(Master!BU226=\"\",\"B\",Master!BU226)","v":"B"}]
[{"$f":"Master!A227","v":"TR"},{"$f":"Master!B227","v":"**ILLUMINATION DESIGN FOR TRANSPORTATION APPLICATIONS"},{"$f":"Master!C227","v":0},{"$f":"Master!D227","v":"OLT/ILT"},{"$f":"Master!E227","v":"Under Development"},{"$f":"Master!F227","v":"Q2 2018"},{"$f":"Master!H227","v":0},{"$f":"IF(Master!R227=\"\",\"B\",Master!R227)","v":"B"},{"$f":"IF(Master!AC227=\"\",\"B\",Master!AC227)","v":"B"},{"$f":"IF(Master!AN227=\"\",\"B\",Master!AN227)","v":"B"},{"$f":"IF(Master!AY227=\"\",\"B\",Master!AY227)","v":"B"},{"$f":"IF(Master!BJ227=\"\",\"B\",Master!BJ227)","v":"B"},{"$f":"IF(Master!BU227=\"\",\"B\",Master!BU227)","v":"B"}]
[{"$f":"Master!A228","v":"TR"},{"$f":"Master!B228","v":"WSDOT TR: Power Supply Design for Transportation Applications"},{"$f":"Master!C228","v":"WSDOT_BZA"},{"$f":"Master!D228","v":"OLT/ILT"},{"$f":"Master!E228","v":"Active"},{"$f":"Master!F228","v":0},{"$f":"Master!H228","v":0},{"$f":"IF(Master!R228=\"\",\"B\",Master!R228)","v":"B"},{"$f":"IF(Master!AC228=\"\",\"B\",Master!AC228)","v":"B"},{"$f":"IF(Master!AN228=\"\",\"B\",Master!AN228)","v":"B"},{"$f":"IF(Master!AY228=\"\",\"B\",Master!AY228)","v":"B"},{"$f":"IF(Master!BJ228=\"\",\"B\",Master!BJ228)","v":"B"},{"$f":"IF(Master!BU228=\"\",\"B\",Master!BU228)","v":"B"}]
[{"$f":"Master!A229","v":"TR"},{"$f":"Master!B229","v":"**TRAFFIC SIGNAL LAYOUT AND CONDUCTOR TERMINATION"},{"$f":"Master!C229","v":0},{"$f":"Master!D229","v":"OLT/ILT"},{"$f":"Master!E229","v":"Inactive"},{"$f":"Master!F229","v":0},{"$f":"Master!H229","v":"No technical lead within WSDOT available to teach"},{"$f":"IF(Master!R229=\"\",\"B\",Master!R229)","v":"B"},{"$f":"IF(Master!AC229=\"\",\"B\",Master!AC229)","v":"B"},{"$f":"IF(Master!AN229=\"\",\"B\",Master!AN229)","v":"B"},{"$f":"IF(Master!AY229=\"\",\"B\",Master!AY229)","v":"B"},{"$f":"IF(Master!BJ229=\"\",\"B\",Master!BJ229)","v":"B"},{"$f":"IF(Master!BU229=\"\",\"B\",Master!BU229)","v":"B"}]
[{"$f":"Master!A230","v":"TR"},{"$f":"Master!B230","v":"**SIGN DESIGN"},{"$f":"Master!C230","v":0},{"$f":"Master!D230","v":"OLT/ILT"},{"$f":"Master!E230","v":"Inactive"},{"$f":"Master!F230","v":"None"},{"$f":"Master!H230","v":"No technical lead within WSDOT available to teach"},{"$f":"IF(Master!R230=\"\",\"B\",Master!R230)","v":"B"},{"$f":"IF(Master!AC230=\"\",\"B\",Master!AC230)","v":"B"},{"$f":"IF(Master!AN230=\"\",\"B\",Master!AN230)","v":"B"},{"$f":"IF(Master!AY230=\"\",\"B\",Master!AY230)","v":"B"},{"$f":"IF(Master!BJ230=\"\",\"B\",Master!BJ230)","v":"B"},{"$f":"IF(Master!BU230=\"\",\"B\",Master!BU230)","v":"B"}]
[{"$f":"Master!A231","v":"TR"},{"$f":"Master!B231","v":"WSDOT NHI: TR-Traffic Signal Design and Operations"},{"$f":"Master!C231","v":"WSDOT_TSD"},{"$f":"Master!D231","v":"OLT/ILT"},{"$f":"Master!E231","v":"Inactive"},{"$f":"Master!F231","v":"None"},{"$f":"Master!H231","v":"No technical lead within WSDOT available to teach"},{"$f":"IF(Master!R231=\"\",\"B\",Master!R231)","v":"B"},{"$f":"IF(Master!AC231=\"\",\"B\",Master!AC231)","v":"B"},{"$f":"IF(Master!AN231=\"\",\"B\",Master!AN231)","v":"B"},{"$f":"IF(Master!AY231=\"\",\"B\",Master!AY231)","v":"B"},{"$f":"IF(Master!BJ231=\"\",\"B\",Master!BJ231)","v":"B"},{"$f":"IF(Master!BU231=\"\",\"B\",Master!BU231)","v":"B"}]
[{"$f":"Master!A232","v":"TR"},{"$f":"Master!B232","v":"WSDOT NHI: TR-Traffic Signal Timing Concepts"},{"$f":"Master!C232","v":"WSDOT_STC"},{"$f":"Master!D232","v":"OLT/ILT"},{"$f":"Master!E232","v":"Inactive"},{"$f":"Master!F232","v":"None"},{"$f":"Master!H232","v":"No technical lead within WSDOT available to teach"},{"$f":"IF(Master!R232=\"\",\"B\",Master!R232)","v":"B"},{"$f":"IF(Master!AC232=\"\",\"B\",Master!AC232)","v":"B"},{"$f":"IF(Master!AN232=\"\",\"B\",Master!AN232)","v":"B"},{"$f":"IF(Master!AY232=\"\",\"B\",Master!AY232)","v":"B"},{"$f":"IF(Master!BJ232=\"\",\"B\",Master!BJ232)","v":"B"},{"$f":"IF(Master!BU232=\"\",\"B\",Master!BU232)","v":"B"}]
[{"$f":"Master!A233","v":"TR"},{"$f":"Master!B233","v":"**SYSTEMS ENGINEERING FOR SIGNAL SYSTEMS"},{"$f":"Master!C233","v":0},{"$f":"Master!D233","v":"OLT/ILT"},{"$f":"Master!E233","v":"Inactive"},{"$f":"Master!F233","v":"None"},{"$f":"Master!H233","v":"No technical lead within WSDOT available to teach"},{"$f":"IF(Master!R233=\"\",\"B\",Master!R233)","v":"B"},{"$f":"IF(Master!AC233=\"\",\"B\",Master!AC233)","v":"B"},{"$f":"IF(Master!AN233=\"\",\"B\",Master!AN233)","v":"B"},{"$f":"IF(Master!AY233=\"\",\"B\",Master!AY233)","v":"B"},{"$f":"IF(Master!BJ233=\"\",\"B\",Master!BJ233)","v":"B"},{"$f":"IF(Master!BU233=\"\",\"B\",Master!BU233)","v":"B"}]
[{"$f":"Master!A234","v":"TR"},{"$f":"Master!B234","v":"**TRAFFIC SIGNAL MANAGEMENT"},{"$f":"Master!C234","v":0},{"$f":"Master!D234","v":"OLT/ILT"},{"$f":"Master!E234","v":"Inactive"},{"$f":"Master!F234","v":"None"},{"$f":"Master!H234","v":"No technical lead within WSDOT available to teach"},{"$f":"IF(Master!R234=\"\",\"B\",Master!R234)","v":"B"},{"$f":"IF(Master!AC234=\"\",\"B\",Master!AC234)","v":"B"},{"$f":"IF(Master!AN234=\"\",\"B\",Master!AN234)","v":"B"},{"$f":"IF(Master!AY234=\"\",\"B\",Master!AY234)","v":"B"},{"$f":"IF(Master!BJ234=\"\",\"B\",Master!BJ234)","v":"B"},{"$f":"IF(Master!BU234=\"\",\"B\",Master!BU234)","v":"B"}]
[{"$f":"Master!A235","v":"TR"},{"$f":"Master!B235","v":"**ITS PROCUREMENT"},{"$f":"Master!C235","v":0},{"$f":"Master!D235","v":"OLT/ILT"},{"$f":"Master!E235","v":"Inactive"},{"$f":"Master!F235","v":"None"},{"$f":"Master!H235","v":"No technical lead within WSDOT available to teach"},{"$f":"IF(Master!R235=\"\",\"B\",Master!R235)","v":"B"},{"$f":"IF(Master!AC235=\"\",\"B\",Master!AC235)","v":"B"},{"$f":"IF(Master!AN235=\"\",\"B\",Master!AN235)","v":"B"},{"$f":"IF(Master!AY235=\"\",\"B\",Master!AY235)","v":"B"},{"$f":"IF(Master!BJ235=\"\",\"B\",Master!BJ235)","v":"B"},{"$f":"IF(Master!BU235=\"\",\"B\",Master!BU235)","v":"B"}]
[{"$f":"Master!A236","v":"TR"},{"$f":"Master!B236","v":"**BASICS OF TRANSPORTATION PLANNING"},{"$f":"Master!C236","v":0},{"$f":"Master!D236","v":"OLT/ILT"},{"$f":"Master!E236","v":"Inactive"},{"$f":"Master!F236","v":"None"},{"$f":"Master!H236","v":"No technical lead within WSDOT available to teach"},{"$f":"IF(Master!R236=\"\",\"B\",Master!R236)","v":2},{"$f":"IF(Master!AC236=\"\",\"B\",Master!AC236)","v":2},{"$f":"IF(Master!AN236=\"\",\"B\",Master!AN236)","v":2},{"$f":"IF(Master!AY236=\"\",\"B\",Master!AY236)","v":2},{"$f":"IF(Master!BJ236=\"\",\"B\",Master!BJ236)","v":1},{"$f":"IF(Master!BU236=\"\",\"B\",Master!BU236)","v":1}]
[{"$f":"Master!A237","v":"TR"},{"$f":"Master!B237","v":"**ADA/APS DESIGN"},{"$f":"Master!C237","v":0},{"$f":"Master!D237","v":"OLT/ILT"},{"$f":"Master!E237","v":"Inactive"},{"$f":"Master!F237","v":"None"},{"$f":"Master!H237","v":"No technical lead within WSDOT available to teach"},{"$f":"IF(Master!R237=\"\",\"B\",Master!R237)","v":"B"},{"$f":"IF(Master!AC237=\"\",\"B\",Master!AC237)","v":"B"},{"$f":"IF(Master!AN237=\"\",\"B\",Master!AN237)","v":"B"},{"$f":"IF(Master!AY237=\"\",\"B\",Master!AY237)","v":"B"},{"$f":"IF(Master!BJ237=\"\",\"B\",Master!BJ237)","v":"B"},{"$f":"IF(Master!BU237=\"\",\"B\",Master!BU237)","v":"B"}]
[{"$f":"Master!A238","v":"TR"},{"$f":"Master!B238","v":"**SIGNAL WARRANT ANALYSIS"},{"$f":"Master!C238","v":0},{"$f":"Master!D238","v":"OLT/ILT"},{"$f":"Master!E238","v":"Inactive"},{"$f":"Master!F238","v":"None"},{"$f":"Master!H238","v":"No technical lead within WSDOT available to teach"},{"$f":"IF(Master!R238=\"\",\"B\",Master!R238)","v":"B"},{"$f":"IF(Master!AC238=\"\",\"B\",Master!AC238)","v":"B"},{"$f":"IF(Master!AN238=\"\",\"B\",Master!AN238)","v":"B"},{"$f":"IF(Master!AY238=\"\",\"B\",Master!AY238)","v":"B"},{"$f":"IF(Master!BJ238=\"\",\"B\",Master!BJ238)","v":"B"},{"$f":"IF(Master!BU238=\"\",\"B\",Master!BU238)","v":"B"}]
[{"$f":"Master!A239","v":"TR"},{"$f":"Master!B239","v":"WSDOT TR: Introduction to ITS Design"},{"$f":"Master!C239","v":"WSDOT_DA6"},{"$f":"Master!D239","v":"OLT/ILT"},{"$f":"Master!E239","v":"Inactive"},{"$f":"Master!F239","v":"None"},{"$f":"Master!H239","v":"No technical lead within WSDOT available to teach"},{"$f":"IF(Master!R239=\"\",\"B\",Master!R239)","v":"B"},{"$f":"IF(Master!AC239=\"\",\"B\",Master!AC239)","v":"B"},{"$f":"IF(Master!AN239=\"\",\"B\",Master!AN239)","v":"B"},{"$f":"IF(Master!AY239=\"\",\"B\",Master!AY239)","v":"B"},{"$f":"IF(Master!BJ239=\"\",\"B\",Master!BJ239)","v":"B"},{"$f":"IF(Master!BU239=\"\",\"B\",Master!BU239)","v":"B"}]
[{"$f":"Master!A240","v":"TR"},{"$f":"Master!B240","v":"WSDOT TR: Intermediate/Advanced ITS Design"},{"$f":"Master!C240","v":"WSDOT_DA7"},{"$f":"Master!D240","v":"OLT/ILT"},{"$f":"Master!E240","v":"Inactive"},{"$f":"Master!F240","v":"None"},{"$f":"Master!H240","v":"No technical lead within WSDOT available to teach"},{"$f":"IF(Master!R240=\"\",\"B\",Master!R240)","v":"B"},{"$f":"IF(Master!AC240=\"\",\"B\",Master!AC240)","v":"B"},{"$f":"IF(Master!AN240=\"\",\"B\",Master!AN240)","v":"B"},{"$f":"IF(Master!AY240=\"\",\"B\",Master!AY240)","v":"B"},{"$f":"IF(Master!BJ240=\"\",\"B\",Master!BJ240)","v":"B"},{"$f":"IF(Master!BU240=\"\",\"B\",Master!BU240)","v":"B"}]
[{"$f":"Master!A241","v":"TR"},{"$f":"Master!B241","v":"**BASIC HIGHWAY CAPACITY FOR ENGINEERS AND PLANNERS"},{"$f":"Master!C241","v":0},{"$f":"Master!D241","v":"OLT/ILT"},{"$f":"Master!E241","v":"Inactive"},{"$f":"Master!F241","v":"None"},{"$f":"Master!H241","v":"No technical lead within WSDOT available to teach"},{"$f":"IF(Master!R241=\"\",\"B\",Master!R241)","v":2},{"$f":"IF(Master!AC241=\"\",\"B\",Master!AC241)","v":2},{"$f":"IF(Master!AN241=\"\",\"B\",Master!AN241)","v":2},{"$f":"IF(Master!AY241=\"\",\"B\",Master!AY241)","v":2},{"$f":"IF(Master!BJ241=\"\",\"B\",Master!BJ241)","v":2},{"$f":"IF(Master!BU241=\"\",\"B\",Master!BU241)","v":1}]
[{"$f":"Master!A242","v":"TR"},{"$f":"Master!B242","v":"WSDOT UW: Gen-Uniform Traffic Control Devices"},{"$f":"Master!C242","v":"WSDOT_BML"},{"$f":"Master!D242","v":"OLT/ILT"},{"$f":"Master!E242","v":"Inactive"},{"$f":"Master!F242","v":"None"},{"$f":"Master!H242","v":"No technical lead within WSDOT available to teach"},{"$f":"IF(Master!R242=\"\",\"B\",Master!R242)","v":"B"},{"$f":"IF(Master!AC242=\"\",\"B\",Master!AC242)","v":"B"},{"$f":"IF(Master!AN242=\"\",\"B\",Master!AN242)","v":"B"},{"$f":"IF(Master!AY242=\"\",\"B\",Master!AY242)","v":"B"},{"$f":"IF(Master!BJ242=\"\",\"B\",Master!BJ242)","v":"B"},{"$f":"IF(Master!BU242=\"\",\"B\",Master!BU242)","v":"B"}]
[{"$f":"Master!A243","v":"TR"},{"$f":"Master!B243","v":"WSDOT UW: TR-Advanced Highway Capacity Analysis"},{"$f":"Master!C243","v":"WSDOT_A3C"},{"$f":"Master!D243","v":"OLT/ILT"},{"$f":"Master!E243","v":"Inactive"},{"$f":"Master!F243","v":"None"},{"$f":"Master!H243","v":"No technical lead within WSDOT available to teach"},{"$f":"IF(Master!R243=\"\",\"B\",Master!R243)","v":"B"},{"$f":"IF(Master!AC243=\"\",\"B\",Master!AC243)","v":"B"},{"$f":"IF(Master!AN243=\"\",\"B\",Master!AN243)","v":"B"},{"$f":"IF(Master!AY243=\"\",\"B\",Master!AY243)","v":"B"},{"$f":"IF(Master!BJ243=\"\",\"B\",Master!BJ243)","v":"B"},{"$f":"IF(Master!BU243=\"\",\"B\",Master!BU243)","v":"B"}]
[{"$f":"Master!A244","v":"TR"},{"$f":"Master!B244","v":"WSDOT UW: TR-Fundamentals of Traffic Engineering"},{"$f":"Master!C244","v":"WSDOT_BS3"},{"$f":"Master!D244","v":"OLT/ILT"},{"$f":"Master!E244","v":"Inactive"},{"$f":"Master!F244","v":"None"},{"$f":"Master!H244","v":"No technical lead within WSDOT available to teach"},{"$f":"IF(Master!R244=\"\",\"B\",Master!R244)","v":2},{"$f":"IF(Master!AC244=\"\",\"B\",Master!AC244)","v":2},{"$f":"IF(Master!AN244=\"\",\"B\",Master!AN244)","v":2},{"$f":"IF(Master!AY244=\"\",\"B\",Master!AY244)","v":2},{"$f":"IF(Master!BJ244=\"\",\"B\",Master!BJ244)","v":"B"},{"$f":"IF(Master!BU244=\"\",\"B\",Master!BU244)","v":"B"}]
[{"$f":"Master!A245","v":"TR"},{"$f":"Master!B245","v":"WSDOT UW:TR-Traffic Engineering Operations"},{"$f":"Master!C245","v":"WSDOT_BS4"},{"$f":"Master!D245","v":"OLT/ILT"},{"$f":"Master!E245","v":"Inactive"},{"$f":"Master!F245","v":"None"},{"$f":"Master!H245","v":"No technical lead within WSDOT available to teach"},{"$f":"IF(Master!R245=\"\",\"B\",Master!R245)","v":2},{"$f":"IF(Master!AC245=\"\",\"B\",Master!AC245)","v":2},{"$f":"IF(Master!AN245=\"\",\"B\",Master!AN245)","v":2},{"$f":"IF(Master!AY245=\"\",\"B\",Master!AY245)","v":2},{"$f":"IF(Master!BJ245=\"\",\"B\",Master!BJ245)","v":"B"},{"$f":"IF(Master!BU245=\"\",\"B\",Master!BU245)","v":"B"}]
[{"$f":"Master!A246","v":0},{"$f":"Master!B246","v":"** no LMS course"},{"$f":"Master!C246","v":0},{"$f":"Master!D246","v":0},{"$f":"Master!E246","v":0},{"$f":"Master!F246","v":0},{"$f":"Master!H246","v":0}]
[{"$f":"Master!A247","v":0},{"$f":"Master!B247","v":"*** SS=Self Study, OLT=Online Training, ILT=Instructor Led Training"},{"$f":"Master!C247","v":0},{"$f":"Master!D247","v":0},{"$f":"Master!E247","v":0},{"$f":"Master!F247","v":0},{"$f":"Master!H247","v":0}]
[{"$f":"Master!A248","v":"ES"},{"$f":"Master!B248","v":"= Course offered by Department of Enterprise Services (DES). Contact LMS Helpdesk at 360-705-7060."},{"$f":"Master!C248","v":0},{"$f":"Master!D248","v":0},{"$f":"Master!E248","v":0},{"$f":"Master!F248","v":0},{"$f":"Master!H248","v":0}]
[{"$f":"Master!A249","v":"HR"},{"$f":"Master!B249","v":"= Course registration controlled by Human Resources. Contact LMS Helpdesk at 360-705-7060 to Register."},{"$f":"Master!C249","v":0},{"$f":"Master!D249","v":0},{"$f":"Master!E249","v":0},{"$f":"Master!F249","v":0},{"$f":"Master!H249","v":0}]
[{"$f":"Master!A250","v":0},{"$f":"Master!B250","v":0},{"$f":"Master!C250","v":0},{"$f":"Master!D250","v":0},{"$f":"Master!E250","v":0},{"$f":"Master!F250","v":0},{"$f":"Master!H250","v":0}]
[{"$f":"Master!A251","v":0},{"$f":"Master!B251","v":0},{"$f":"Master!C251","v":0},{"$f":"Master!D251","v":0},{"$f":"Master!E251","v":0},{"$f":"Master!F251","v":0},{"$f":"Master!H251","v":0}]
[{"$f":"Master!A252","v":0},{"$f":"Master!B252","v":0},{"$f":"Master!C252","v":0},{"$f":"Master!D252","v":0},{"$f":"Master!E252","v":0},{"$f":"Master!F252","v":0},{"$f":"Master!H252","v":0}]
[{"$f":"Master!A253","v":0},{"$f":"Master!B253","v":0},{"$f":"Master!C253","v":0},{"$f":"Master!D253","v":0},{"$f":"Master!E253","v":0},{"$f":"Master!F253","v":0},{"$f":"Master!H253","v":0}]
[{"$f":"Master!A254","v":0},{"$f":"Master!B254","v":0},{"$f":"Master!C254","v":0},{"$f":"Master!D254","v":0},{"$f":"Master!E254","v":0},{"$f":"Master!F254","v":0},{"$f":"Master!H254","v":0}]
[{"$f":"Master!A255","v":0},{"$f":"Master!B255","v":0},{"$f":"Master!C255","v":0},{"$f":"Master!D255","v":0},{"$f":"Master!E255","v":0},{"$f":"Master!F255","v":0},{"$f":"Master!H255","v":0}]
[{"$f":"Master!A256","v":0},{"$f":"Master!B256","v":0},{"$f":"Master!C256","v":0},{"$f":"Master!D256","v":0},{"$f":"Master!E256","v":0},{"$f":"Master!F256","v":0},{"$f":"Master!H256","v":0}]
[{"$f":"Master!A257","v":0},{"$f":"Master!B257","v":0},{"$f":"Master!C257","v":0},{"$f":"Master!D257","v":0},{"$f":"Master!E257","v":0},{"$f":"Master!F257","v":0},{"$f":"Master!H257","v":0}]
[{"$f":"Master!A258","v":0},{"$f":"Master!B258","v":0},{"$f":"Master!C258","v":0},{"$f":"Master!D258","v":0},{"$f":"Master!E258","v":0},{"$f":"Master!F258","v":0},{"$f":"Master!H258","v":0}]
[{"$f":"Master!A259","v":0},{"$f":"Master!B259","v":0},{"$f":"Master!C259","v":0},{"$f":"Master!D259","v":0},{"$f":"Master!E259","v":0},{"$f":"Master!F259","v":0},{"$f":"Master!H259","v":0}]
[{"$f":"Master!A260","v":0},{"$f":"Master!B260","v":0},{"$f":"Master!C260","v":0},{"$f":"Master!D260","v":0},{"$f":"Master!E260","v":0},{"$f":"Master!F260","v":0},{"$f":"Master!H260","v":0}]
[{"$f":"Master!A261","v":0},{"$f":"Master!B261","v":0},{"$f":"Master!C261","v":0},{"$f":"Master!D261","v":0},{"$f":"Master!E261","v":0},{"$f":"Master!F261","v":0},{"$f":"Master!H261","v":0}]
[{"$f":"Master!A262","v":0},{"$f":"Master!B262","v":0},{"$f":"Master!C262","v":0},{"$f":"Master!D262","v":0},{"$f":"Master!E262","v":0},{"$f":"Master!F262","v":0},{"$f":"Master!H262","v":0}]
[{"$f":"Master!A263","v":0},{"$f":"Master!B263","v":0},{"$f":"Master!C263","v":0},{"$f":"Master!D263","v":0},{"$f":"Master!E263","v":0},{"$f":"Master!F263","v":0},{"$f":"Master!H263","v":0}]
[{"$f":"Master!A264","v":0},{"$f":"Master!B264","v":0},{"$f":"Master!C264","v":0},{"$f":"Master!D264","v":0},{"$f":"Master!E264","v":0},{"$f":"Master!F264","v":0},{"$f":"Master!H264","v":0}]
[{"$f":"Master!A265","v":0},{"$f":"Master!B265","v":0},{"$f":"Master!C265","v":0},{"$f":"Master!D265","v":0},{"$f":"Master!E265","v":0},{"$f":"Master!F265","v":0},{"$f":"Master!H265","v":0}]
[{"$f":"Master!A266","v":0},{"$f":"Master!B266","v":0},{"$f":"Master!C266","v":0},{"$f":"Master!D266","v":0},{"$f":"Master!E266","v":0},{"$f":"Master!F266","v":0},{"$f":"Master!H266","v":0}]
[{"$f":"Master!A267","v":0},{"$f":"Master!B267","v":0},{"$f":"Master!C267","v":0},{"$f":"Master!D267","v":0},{"$f":"Master!E267","v":0},{"$f":"Master!F267","v":0},{"$f":"Master!H267","v":0}]
[{"$f":"Master!A268","v":0},{"$f":"Master!B268","v":0},{"$f":"Master!C268","v":0},{"$f":"Master!D268","v":0},{"$f":"Master!E268","v":0},{"$f":"Master!F268","v":0},{"$f":"Master!H268","v":0}]
[{"$f":"Master!A269","v":0},{"$f":"Master!B269","v":0},{"$f":"Master!C269","v":0},{"$f":"Master!D269","v":0},{"$f":"Master!E269","v":0},{"$f":"Master!F269","v":0},{"$f":"Master!H269","v":0}]
[{"$f":"Master!A270","v":0},{"$f":"Master!B270","v":0},{"$f":"Master!C270","v":0},{"$f":"Master!D270","v":0},{"$f":"Master!E270","v":0},{"$f":"Master!F270","v":0},{"$f":"Master!H270","v":0}]
[{"$f":"Master!A271","v":0},{"$f":"Master!B271","v":0},{"$f":"Master!C271","v":0},{"$f":"Master!D271","v":0},{"$f":"Master!E271","v":0},{"$f":"Master!F271","v":0},{"$f":"Master!H271","v":0}]
[{"$f":"Master!A272","v":0},{"$f":"Master!B272","v":0},{"$f":"Master!C272","v":0},{"$f":"Master!D272","v":0},{"$f":"Master!E272","v":0},{"$f":"Master!F272","v":0},{"$f":"Master!H272","v":0}]
[{"$f":"Master!A273","v":0},{"$f":"Master!B273","v":0},{"$f":"Master!C273","v":0},{"$f":"Master!D273","v":0},{"$f":"Master!E273","v":0},{"$f":"Master!F273","v":0},{"$f":"Master!H273","v":0}]
[{"$f":"Master!A274","v":0},{"$f":"Master!B274","v":0},{"$f":"Master!C274","v":0},{"$f":"Master!D274","v":0},{"$f":"Master!E274","v":0},{"$f":"Master!F274","v":0},{"$f":"Master!H274","v":0}]
[{"$f":"Master!A275","v":0},{"$f":"Master!B275","v":0},{"$f":"Master!C275","v":0},{"$f":"Master!D275","v":0},{"$f":"Master!E275","v":0},{"$f":"Master!F275","v":0},{"$f":"Master!H275","v":0}]
[{"$f":"Master!A276","v":0},{"$f":"Master!B276","v":0},{"$f":"Master!C276","v":0},{"$f":"Master!D276","v":0},{"$f":"Master!E276","v":0},{"$f":"Master!F276","v":0},{"$f":"Master!H276","v":0}]
[{"$f":"Master!A277","v":0},{"$f":"Master!B277","v":0},{"$f":"Master!C277","v":0},{"$f":"Master!D277","v":0},{"$f":"Master!E277","v":0},{"$f":"Master!F277","v":0},{"$f":"Master!H277","v":0}]
[{"$f":"Master!A278","v":0},{"$f":"Master!B278","v":0},{"$f":"Master!C278","v":0},{"$f":"Master!D278","v":0},{"$f":"Master!E278","v":0},{"$f":"Master!F278","v":0},{"$f":"Master!H278","v":0}]
[{"$f":"Master!A279","v":0},{"$f":"Master!B279","v":0},{"$f":"Master!C279","v":0},{"$f":"Master!D279","v":0},{"$f":"Master!E279","v":0},{"$f":"Master!F279","v":0},{"$f":"Master!H279","v":0}]
[{"$f":"Master!A280","v":0},{"$f":"Master!B280","v":0},{"$f":"Master!C280","v":0},{"$f":"Master!D280","v":0},{"$f":"Master!E280","v":0},{"$f":"Master!F280","v":0},{"$f":"Master!H280","v":0}]
[{"$f":"Master!A281","v":0},{"$f":"Master!B281","v":0},{"$f":"Master!C281","v":0},{"$f":"Master!D281","v":0},{"$f":"Master!E281","v":0},{"$f":"Master!F281","v":0},{"$f":"Master!H281","v":0}]
[{"$f":"Master!A282","v":0},{"$f":"Master!B282","v":0},{"$f":"Master!C282","v":0},{"$f":"Master!D282","v":0},{"$f":"Master!E282","v":0},{"$f":"Master!F282","v":0},{"$f":"Master!H282","v":0}]
[{"$f":"Master!A283","v":0},{"$f":"Master!B283","v":0},{"$f":"Master!C283","v":0},{"$f":"Master!D283","v":0},{"$f":"Master!E283","v":0},{"$f":"Master!F283","v":0},{"$f":"Master!H283","v":0}]

{"sheet":"PGM","index":20,"n_rows":283,"n_cols":13,"rows_kept":283,"cut":false,"hidden":false,"merged":[[191,0,191,6],[202,0,202,6],[210,0,210,6],[213,0,213,6],[85,0,85,6],[88,0,88,6],[95,0,95,6],[151,0,151,6],[152,0,152,6],[185,0,185,6],[83,0,83,6],[2,0,2,6],[13,0,13,6],[48,0,48,6],[49,0,49,6],[52,0,52,6],[55,0,55,6],[58,0,58,6],[60,0,60,6],[63,0,63,6],[70,0,70,6],[76,0,76,6]]}
[null,null,null,7,6]
["Responsible Division","LMS COURSE NAME"," LMS COURSE CODE","Self Study (SS), \nOnline (OLT), or \nInstructor Led (ILT)","TRAINING\nSTATUS","If training status is \"inactive\", when will the course be developed?","NOTES","TT1","TT2","TT3","TE1","TE2","TE3"]
["Mandatory",null,null,null,null,null,null,{"$f":"IF(Master!S3=\"\",\"B\",Master!S3)","v":"B"},{"$f":"IF(Master!AD3=\"\",\"B\",Master!AD3)","v":"B"},{"$f":"IF(Master!AO3=\"\",\"B\",Master!AO3)","v":"B"},{"$f":"IF(Master!AZ3=\"\",\"B\",Master!AZ3)","v":"B"},{"$f":"IF(Master!BK3=\"\",\"B\",Master!BK3)","v":"B"},{"$f":"IF(Master!BV3=\"\",\"B\",Master!BV3)","v":"B"}]
[{"$f":"Master!A4","v":"HR"},{"$f":"Master!B4","v":"WA-State Ethics in State Government"},{"$f":"Master!C4","v":"WA-State Ethics 8-7-2014-V6"},{"$f":"Master!D4","v":"OLT"},{"$f":"Master!E4","v":"Active"},{"$f":"Master!F4","v":0},{"$f":"Master!H4","v":"To register for this course, \ncall the LMS Helpdesk at \n360-705-7060."},{"$f":"IF(Master!S4=\"\",\"B\",Master!S4)","v":"M"},{"$f":"IF(Master!AD4=\"\",\"B\",Master!AD4)","v":"M"},{"$f":"IF(Master!AO4=\"\",\"B\",Master!AO4)","v":"M"},{"$f":"IF(Master!AZ4=\"\",\"B\",Master!AZ4)","v":"M"},{"$f":"IF(Master!BK4=\"\",\"B\",Master!BK4)","v":"M"},{"$f":"IF(Master!BV4=\"\",\"B\",Master!BV4)","v":"M"}]
[{"$f":"Master!A5","v":"HR"},{"$f":"Master!B5","v":"WSDOT Mandatory: Ethical Standards WSDOT Specific Training"},{"$f":"Master!C5","v":"WSDOT_BKB Specific"},{"$f":"Master!D5","v":"OLT"},{"$f":"Master!E5","v":"Active"},{"$f":"Master!F5","v":0},{"$f":"Master!H5","v":"To register for this course, \ncall the LMS Helpdesk at \n360-705-7060."},{"$f":"IF(Master!S5=\"\",\"B\",Master!S5)","v":"M"},{"$f":"IF(Master!AD5=\"\",\"B\",Master!AD5)","v":"M"},{"$f":"IF(Master!AO5=\"\",\"B\",Master!AO5)","v":"M"},{"$f":"IF(Master!AZ5=\"\",\"B\",Master!AZ5)","v":"M"},{"$f":"IF(Master!BK5=\"\",\"B\",Master!BK5)","v":"M"},{"$f":"IF(Master!BV5=\"\",\"B\",Master!BV5)","v":"M"}]
[{"$f":"Master!A6","v":"HR"},{"$f":"Master!B6","v":"WSDOT Mandatory: System Security Awareness For Transportation Employees (Self Study)"},{"$f":"Master!C6","v":"WSDOT_CJJ_UDT"},{"$f":"Master!D6","v":"SS"},{"$f":"Master!E6","v":"Active"},{"$f":"Master!F6","v":0},{"$f":"Master!H6","v":"To register for this course, \ncall the LMS Helpdesk at \n360-705-7060."},{"$f":"IF(Master!S6=\"\",\"B\",Master!S6)","v":"M"},{"$f":"IF(Master!AD6=\"\",\"B\",Master!AD6)","v":"M"},{"$f":"IF(Master!AO6=\"\",\"B\",Master!AO6)","v":"M"},{"$f":"IF(Master!AZ6=\"\",\"B\",Master!AZ6)","v":"M"},{"$f":"IF(Master!BK6=\"\",\"B\",Master!BK6)","v":"M"},{"$f":"IF(Master!BV6=\"\",\"B\",Master!BV6)","v":"M"}]
[{"$f":"Master!A7","v":"HR"},{"$f":"Master!B7","v":"WSDOT Mandatory: Violence That Affects The Workplace (Self Study)"},{"$f":"Master!C7","v":"WSDOT_B9V"},{"$f":"Master!D7","v":"SS"},{"$f":"Master!E7","v":"Active"},{"$f":"Master!F7","v":0},{"$f":"Master!H7","v":"To register for this course, \ncall the LMS Helpdesk at \n360-705-7060."},{"$f":"IF(Master!S7=\"\",\"B\",Master!S7)","v":"M"},{"$f":"IF(Master!AD7=\"\",\"B\",Master!AD7)","v":"M"},{"$f":"IF(Master!AO7=\"\",\"B\",Master!AO7)","v":"M"},{"$f":"IF(Master!AZ7=\"\",\"B\",Master!AZ7)","v":"M"},{"$f":"IF(Master!BK7=\"\",\"B\",Master!BK7)","v":"M"},{"$f":"IF(Master!BV7=\"\",\"B\",Master!BV7)","v":"M"}]
[{"$f":"Master!A8","v":"HR"},{"$f":"Master!B8","v":"WA-State IT Security Awareness Training"},{"$f":"Master!C8","v":"WA-State IT Security Awareness Training - Initial Training-8/16/2013"},{"$f":"Master!D8","v":"OLT"},{"$f":"Master!E8","v":"Active"},{"$f":"Master!F8","v":0},{"$f":"Master!H8","v":"To register for this course, \ncall the LMS Helpdesk at \n360-705-7060."},{"$f":"IF(Master!S8=\"\",\"B\",Master!S8)","v":"M"},{"$f":"IF(Master!AD8=\"\",\"B\",Master!AD8)","v":"M"},{"$f":"IF(Master!AO8=\"\",\"B\",Master!AO8)","v":"M"},{"$f":"IF(Master!AZ8=\"\",\"B\",Master!AZ8)","v":"M"},{"$f":"IF(Master!BK8=\"\",\"B\",Master!BK8)","v":"M"},{"$f":"IF(Master!BV8=\"\",\"B\",Master!BV8)","v":"M"}]
[{"$f":"Master!A9","v":"HR"},{"$f":"Master!B9","v":"WA-State Sexual Harassment Awareness and Prevention"},{"$f":"Master!C9","v":"DES_shap_2013_Updated_9-3-2014"},{"$f":"Master!D9","v":"OLT"},{"$f":"Master!E9","v":"Active"},{"$f":"Master!F9","v":0},{"$f":"Master!H9","v":"To register for this course, \ncall the LMS Helpdesk at \n360-705-7060."},{"$f":"IF(Master!S9=\"\",\"B\",Master!S9)","v":"M"},{"$f":"IF(Master!AD9=\"\",\"B\",Master!AD9)","v":"M"},{"$f":"IF(Master!AO9=\"\",\"B\",Master!AO9)","v":"M"},{"$f":"IF(Master!AZ9=\"\",\"B\",Master!AZ9)","v":"M"},{"$f":"IF(Master!BK9=\"\",\"B\",Master!BK9)","v":"M"},{"$f":"IF(Master!BV9=\"\",\"B\",Master!BV9)","v":"M"}]
[{"$f":"Master!A10","v":"HR"},{"$f":"Master!B10","v":"WSDOT Mandatory: Disability Awareness Step 1, Understanding the Americans with Disabilities Act (ADA)  "},{"$f":"Master!C10","v":"lchr_01_a15_lc_enus"},{"$f":"Master!D10","v":"OLT"},{"$f":"Master!E10","v":"Active"},{"$f":"Master!F10","v":0},{"$f":"Master!H10","v":"To register for this course, \ncall the LMS Helpdesk at \n360-705-7060."},{"$f":"IF(Master!S10=\"\",\"B\",Master!S10)","v":"M"},{"$f":"IF(Master!AD10=\"\",\"B\",Master!AD10)","v":"M"},{"$f":"IF(Master!AO10=\"\",\"B\",Master!AO10)","v":"M"},{"$f":"IF(Master!AZ10=\"\",\"B\",Master!AZ10)","v":"M"},{"$f":"IF(Master!BK10=\"\",\"B\",Master!BK10)","v":"M"},{"$f":"IF(Master!BV10=\"\",\"B\",Master!BV10)","v":"M"}]
[{"$f":"Master!A11","v":"HR"},{"$f":"Master!B11","v":"WSDOT Mandatory: Disability Awareness Step 2 of Learning Plan"},{"$f":"Master!C11","v":"WSDOT_CD8_UDT2"},{"$f":"Master!D11","v":"OLT"},{"$f":"Master!E11","v":"Active"},{"$f":"Master!F11","v":0},{"$f":"Master!H11","v":"To register for this course, \ncall the LMS Helpdesk at \n360-705-7060."},{"$f":"IF(Master!S11=\"\",\"B\",Master!S11)","v":"M"},{"$f":"IF(Master!AD11=\"\",\"B\",Master!AD11)","v":"M"},{"$f":"IF(Master!AO11=\"\",\"B\",Master!AO11)","v":"M"},{"$f":"IF(Master!AZ11=\"\",\"B\",Master!AZ11)","v":"M"},{"$f":"IF(Master!BK11=\"\",\"B\",Master!BK11)","v":"M"},{"$f":"IF(Master!BV11=\"\",\"B\",Master!BV11)","v":"M"}]
[{"$f":"Master!A12","v":"HR"},{"$f":"Master!B12","v":"WSDOT Mandatory: Discrimination In The Workplace (Self Study)"},{"$f":"Master!C12","v":"WSDOT_DIS"},{"$f":"Master!D12","v":"SS"},{"$f":"Master!E12","v":"Active"},{"$f":"Master!F12","v":0},{"$f":"Master!H12","v":"To register for this course, \ncall the LMS Helpdesk at \n360-705-7060."},{"$f":"IF(Master!S12=\"\",\"B\",Master!S12)","v":"M"},{"$f":"IF(Master!AD12=\"\",\"B\",Master!AD12)","v":"M"},{"$f":"IF(Master!AO12=\"\",\"B\",Master!AO12)","v":"M"},{"$f":"IF(Master!AZ12=\"\",\"B\",Master!AZ12)","v":"M"},{"$f":"IF(Master!BK12=\"\",\"B\",Master!BK12)","v":"M"},{"$f":"IF(Master!BV12=\"\",\"B\",Master!BV12)","v":"M"}]
[{"$f":"Master!A13","v":"HR"},{"$f":"Master!B13","v":"WSDOT Mandatory: Valuing Diversity Step 2, Promoting Respect in the Global Workplace – Employee Edition"},{"$f":"Master!C13","v":"WSDOT_lch_01_a09_lc_enus"},{"$f":"Master!D13","v":"OLT"},{"$f":"Master!E13","v":"Active"},{"$f":"Master!F13","v":0},{"$f":"Master!H13","v":"To register for this course, \ncall the LMS Helpdesk at \n360-705-7060."},{"$f":"IF(Master!S13=\"\",\"B\",Master!S13)","v":"M"},{"$f":"IF(Master!AD13=\"\",\"B\",Master!AD13)","v":"M"},{"$f":"IF(Master!AO13=\"\",\"B\",Master!AO13)","v":"M"},{"$f":"IF(Master!AZ13=\"\",\"B\",Master!AZ13)","v":"M"},{"$f":"IF(Master!BK13=\"\",\"B\",Master!BK13)","v":"M"},{"$f":"IF(Master!BV13=\"\",\"B\",Master!BV13)","v":"M"}]
[{"$f":"Master!A14","v":"General Knowledge"},null,null,null,null,null,null,{"$f":"IF(Master!S14=\"\",\"B\",Master!S14)","v":"B"},{"$f":"IF(Master!AD14=\"\",\"B\",Master!AD14)","v":"B"},{"$f":"IF(Master!AO14=\"\",\"B\",Master!AO14)","v":"B"},{"$f":"IF(Master!AZ14=\"\",\"B\",Master!AZ14)","v":"B"},{"$f":"IF(Master!BK14=\"\",\"B\",Master!BK14)","v":"B"},{"$f":"IF(Master!BV14=\"\",\"B\",Master!BV14)","v":"B"}]
[{"$f":"Master!A15","v":"GEN"},{"$f":"Master!B15","v":"**Legal Liability for Transportation Professionals - Entry"},{"$f":"Master!C15","v":0},{"$f":"Master!D15","v":"ILT"},{"$f":"Master!E15","v":"Inactive"},{"$f":"Master!F15","v":0},{"$f":"Master!H15","v":0},{"$f":"IF(Master!S15=\"\",\"B\",Master!S15)","v":1},{"$f":"IF(Master!AD15=\"\",\"B\",Master!AD15)","v":1},{"$f":"IF(Master!AO15=\"\",\"B\",Master!AO15)","v":1},{"$f":"IF(Master!AZ15=\"\",\"B\",Master!AZ15)","v":1},{"$f":"IF(Master!BK15=\"\",\"B\",Master!BK15)","v":1},{"$f":"IF(Master!BV15=\"\",\"B\",Master!BV15)","v":"B"}]
[{"$f":"Master!A16","v":"GEN"},{"$f":"Master!B16","v":"**Legal Liability for Transportation Professionals - In-Depth"},{"$f":"Master!C16","v":0},{"$f":"Master!D16","v":"ILT"},{"$f":"Master!E16","v":"Inactive"},{"$f":"Master!F16","v":0},{"$f":"Master!H16","v":0},{"$f":"IF(Master!S16=\"\",\"B\",Master!S16)","v":"B"},{"$f":"IF(Master!AD16=\"\",\"B\",Master!AD16)","v":"B"},{"$f":"IF(Master!AO16=\"\",\"B\",Master!AO16)","v":"B"},{"$f":"IF(Master!AZ16=\"\",\"B\",Master!AZ16)","v":"B"},{"$f":"IF(Master!BK16=\"\",\"B\",Master!BK16)","v":"B"},{"$f":"IF(Master!BV16=\"\",\"B\",Master!BV16)","v":1}]
[{"$f":"Master!A17","v":"GEN"},{"$f":"Master!B17","v":"WSDOT GEN: TECHNICAL MATHEMATICS I (SELF-STUDY)"},{"$f":"Master!C17","v":"WSDOT_AFN"},{"$f":"Master!D17","v":"SS"},{"$f":"Master!E17","v":"Active"},{"$f":"Master!F17","v":0},{"$f":"Master!H17","v":0},{"$f":"IF(Master!S17=\"\",\"B\",Master!S17)","v":"R"},{"$f":"IF(Master!AD17=\"\",\"B\",Master!AD17)","v":"R"},{"$f":"IF(Master!AO17=\"\",\"B\",Master!AO17)","v":"B"},{"$f":"IF(Master!AZ17=\"\",\"B\",Master!AZ17)","v":"B"},{"$f":"IF(Master!BK17=\"\",\"B\",Master!BK17)","v":"B"},{"$f":"IF(Master!BV17=\"\",\"B\",Master!BV17)","v":"B"}]
[{"$f":"Master!A18","v":"GEN"},{"$f":"Master!B18","v":"WSDOT GEN: TECHNICAL MATHEMATICS II (SELF-STUDY)"},{"$f":"Master!C18","v":"WSDOT_A7J"},{"$f":"Master!D18","v":"SS"},{"$f":"Master!E18","v":"Active"},{"$f":"Master!F18","v":0},{"$f":"Master!H18","v":0},{"$f":"IF(Master!S18=\"\",\"B\",Master!S18)","v":"R"},{"$f":"IF(Master!AD18=\"\",\"B\",Master!AD18)","v":"R"},{"$f":"IF(Master!AO18=\"\",\"B\",Master!AO18)","v":"B"},{"$f":"IF(Master!AZ18=\"\",\"B\",Master!AZ18)","v":"B"},{"$f":"IF(Master!BK18=\"\",\"B\",Master!BK18)","v":"B"},{"$f":"IF(Master!BV18=\"\",\"B\",Master!BV18)","v":"B"}]
[{"$f":"Master!A19","v":"SS"},{"$f":"Master!B19","v":"Finding Your Bearings as a Project Manager"},{"$f":"Master!C19","v":"apj_151_a01_bs_enus"},{"$f":"Master!D19","v":"OLT"},{"$f":"Master!E19","v":"Active"},{"$f":"Master!F19","v":0},{"$f":"Master!H19","v":0},{"$f":"IF(Master!S19=\"\",\"B\",Master!S19)","v":"R"},{"$f":"IF(Master!AD19=\"\",\"B\",Master!AD19)","v":"R"},{"$f":"IF(Master!AO19=\"\",\"B\",Master!AO19)","v":"B"},{"$f":"IF(Master!AZ19=\"\",\"B\",Master!AZ19)","v":"B"},{"$f":"IF(Master!BK19=\"\",\"B\",Master!BK19)","v":"B"},{"$f":"IF(Master!BV19=\"\",\"B\",Master!BV19)","v":"B"}]
[{"$f":"Master!A20","v":"SS"},{"$f":"Master!B20","v":"Getting to the Root of a Problem"},{"$f":"Master!C20","v":"apj_15_a01_bs_enus"},{"$f":"Master!D20","v":"OLT"},{"$f":"Master!E20","v":"Active"},{"$f":"Master!F20","v":0},{"$f":"Master!H20","v":0},{"$f":"IF(Master!S20=\"\",\"B\",Master!S20)","v":"R"},{"$f":"IF(Master!AD20=\"\",\"B\",Master!AD20)","v":"R"},{"$f":"IF(Master!AO20=\"\",\"B\",Master!AO20)","v":"B"},{"$f":"IF(Master!AZ20=\"\",\"B\",Master!AZ20)","v":"B"},{"$f":"IF(Master!BK20=\"\",\"B\",Master!BK20)","v":"B"},{"$f":"IF(Master!BV20=\"\",\"B\",Master!BV20)","v":"B"}]
[{"$f":"Master!A21","v":"SS"},{"$f":"Master!B21","v":"The Process Groups (PMBOK® Guide Fifth Edition)"},{"$f":"Master!C21","v":"apj_01_a03_bs_enus"},{"$f":"Master!D21","v":"OLT"},{"$f":"Master!E21","v":"Active"},{"$f":"Master!F21","v":0},{"$f":"Master!H21","v":0},{"$f":"IF(Master!S21=\"\",\"B\",Master!S21)","v":"R"},{"$f":"IF(Master!AD21=\"\",\"B\",Master!AD21)","v":"R"},{"$f":"IF(Master!AO21=\"\",\"B\",Master!AO21)","v":"B"},{"$f":"IF(Master!AZ21=\"\",\"B\",Master!AZ21)","v":"B"},{"$f":"IF(Master!BK21=\"\",\"B\",Master!BK21)","v":"B"},{"$f":"IF(Master!BV21=\"\",\"B\",Master!BV21)","v":"B"}]
[{"$f":"Master!A22","v":"SS"},{"$f":"Master!B22","v":"Solving Problems: Generating and Evaluating Alternatives"},{"$f":"Master!C22","v":"pd_29_a02_bs_enus"},{"$f":"Master!D22","v":"OLT"},{"$f":"Master!E22","v":"Active"},{"$f":"Master!F22","v":0},{"$f":"Master!H22","v":0},{"$f":"IF(Master!S22=\"\",\"B\",Master!S22)","v":"R"},{"$f":"IF(Master!AD22=\"\",\"B\",Master!AD22)","v":"R"},{"$f":"IF(Master!AO22=\"\",\"B\",Master!AO22)","v":"B"},{"$f":"IF(Master!AZ22=\"\",\"B\",Master!AZ22)","v":"B"},{"$f":"IF(Master!BK22=\"\",\"B\",Master!BK22)","v":"B"},{"$f":"IF(Master!BV22=\"\",\"B\",Master!BV22)","v":"B"}]
[{"$f":"Master!A23","v":"SS"},{"$f":"Master!B23","v":"Making and Carrying Out Tough Decisions"},{"$f":"Master!C23","v":"pd_29_a03_bs_enus"},{"$f":"Master!D23","v":"OLT"},{"$f":"Master!E23","v":"Active"},{"$f":"Master!F23","v":0},{"$f":"Master!H23","v":0},{"$f":"IF(Master!S23=\"\",\"B\",Master!S23)","v":"R"},{"$f":"IF(Master!AD23=\"\",\"B\",Master!AD23)","v":"R"},{"$f":"IF(Master!AO23=\"\",\"B\",Master!AO23)","v":"B"},{"$f":"IF(Master!AZ23=\"\",\"B\",Master!AZ23)","v":"B"},{"$f":"IF(Master!BK23=\"\",\"B\",Master!BK23)","v":"B"},{"$f":"IF(Master!BV23=\"\",\"B\",Master!BV23)","v":"B"}]
[{"$f":"Master!A24","v":"SS"},{"$f":"Master!B24","v":"Solving Problems: Framing the Problem"},{"$f":"Master!C24","v":"pd_29_a01_bs_enus"},{"$f":"Master!D24","v":"OLT"},{"$f":"Master!E24","v":"Active"},{"$f":"Master!F24","v":0},{"$f":"Master!H24","v":0},{"$f":"IF(Master!S24=\"\",\"B\",Master!S24)","v":"R"},{"$f":"IF(Master!AD24=\"\",\"B\",Master!AD24)","v":"R"},{"$f":"IF(Master!AO24=\"\",\"B\",Master!AO24)","v":"B"},{"$f":"IF(Master!AZ24=\"\",\"B\",Master!AZ24)","v":"B"},{"$f":"IF(Master!BK24=\"\",\"B\",Master!BK24)","v":"B"},{"$f":"IF(Master!BV24=\"\",\"B\",Master!BV24)","v":"B"}]
[{"$f":"Master!A25","v":"SS"},{"$f":"Master!B25","v":"Problem-Solving and Process Management Tools"},{"$f":"Master!C25","v":"oper_04_a07_bs_enus"},{"$f":"Master!D25","v":"OLT"},{"$f":"Master!E25","v":"Active"},{"$f":"Master!F25","v":0},{"$f":"Master!H25","v":0},{"$f":"IF(Master!S25=\"\",\"B\",Master!S25)","v":"R"},{"$f":"IF(Master!AD25=\"\",\"B\",Master!AD25)","v":"R"},{"$f":"IF(Master!AO25=\"\",\"B\",Master!AO25)","v":"B"},{"$f":"IF(Master!AZ25=\"\",\"B\",Master!AZ25)","v":"B"},{"$f":"IF(Master!BK25=\"\",\"B\",Master!BK25)","v":"B"},{"$f":"IF(Master!BV25=\"\",\"B\",Master!BV25)","v":"B"}]
[{"$f":"Master!A26","v":"SS"},{"$f":"Master!B26","v":"Basic Presentation Skills: Delivering a Presentation"},{"$f":"Master!C26","v":"comm_33_a03_bs_enus"},{"$f":"Master!D26","v":"OLT"},{"$f":"Master!E26","v":"Active"},{"$f":"Master!F26","v":0},{"$f":"Master!H26","v":0},{"$f":"IF(Master!S26=\"\",\"B\",Master!S26)","v":"R"},{"$f":"IF(Master!AD26=\"\",\"B\",Master!AD26)","v":"R"},{"$f":"IF(Master!AO26=\"\",\"B\",Master!AO26)","v":"B"},{"$f":"IF(Master!AZ26=\"\",\"B\",Master!AZ26)","v":"B"},{"$f":"IF(Master!BK26=\"\",\"B\",Master!BK26)","v":"B"},{"$f":"IF(Master!BV26=\"\",\"B\",Master!BV26)","v":"B"}]
[{"$f":"Master!A27","v":"SS"},{"$f":"Master!B27","v":"Basic Presentation Skills: Creating a Presentation"},{"$f":"Master!C27","v":"comm_33_a02_bs_enus"},{"$f":"Master!D27","v":"OLT"},{"$f":"Master!E27","v":"Active"},{"$f":"Master!F27","v":0},{"$f":"Master!H27","v":0},{"$f":"IF(Master!S27=\"\",\"B\",Master!S27)","v":"R"},{"$f":"IF(Master!AD27=\"\",\"B\",Master!AD27)","v":"R"},{"$f":"IF(Master!AO27=\"\",\"B\",Master!AO27)","v":"B"},{"$f":"IF(Master!AZ27=\"\",\"B\",Master!AZ27)","v":"B"},{"$f":"IF(Master!BK27=\"\",\"B\",Master!BK27)","v":"B"},{"$f":"IF(Master!BV27=\"\",\"B\",Master!BV27)","v":"B"}]
[{"$f":"Master!A28","v":"SS"},{"$f":"Master!B28","v":"Building the Foundation for an Effective Team"},{"$f":"Master!C28","v":"atm_01_a01_bs_enus"},{"$f":"Master!D28","v":"OLT"},{"$f":"Master!E28","v":"Active"},{"$f":"Master!F28","v":0},{"$f":"Master!H28","v":0},{"$f":"IF(Master!S28=\"\",\"B\",Master!S28)","v":"R"},{"$f":"IF(Master!AD28=\"\",\"B\",Master!AD28)","v":"R"},{"$f":"IF(Master!AO28=\"\",\"B\",Master!AO28)","v":"B"},{"$f":"IF(Master!AZ28=\"\",\"B\",Master!AZ28)","v":"B"},{"$f":"IF(Master!BK28=\"\",\"B\",Master!BK28)","v":"B"},{"$f":"IF(Master!BV28=\"\",\"B\",Master!BV28)","v":"B"}]
[{"$f":"Master!A29","v":"SS"},{"$f":"Master!B29","v":"Developing a Successful Team"},{"$f":"Master!C29","v":"atm_01_a02_bs_enus"},{"$f":"Master!D29","v":"OLT"},{"$f":"Master!E29","v":"Active"},{"$f":"Master!F29","v":0},{"$f":"Master!H29","v":0},{"$f":"IF(Master!S29=\"\",\"B\",Master!S29)","v":"R"},{"$f":"IF(Master!AD29=\"\",\"B\",Master!AD29)","v":"R"},{"$f":"IF(Master!AO29=\"\",\"B\",Master!AO29)","v":"B"},{"$f":"IF(Master!AZ29=\"\",\"B\",Master!AZ29)","v":"B"},{"$f":"IF(Master!BK29=\"\",\"B\",Master!BK29)","v":"B"},{"$f":"IF(Master!BV29=\"\",\"B\",Master!BV29)","v":"B"}]
[{"$f":"Master!A30","v":"SS"},{"$f":"Master!B30","v":"Encouraging Team Communication and Collaboration"},{"$f":"Master!C30","v":"atm_01_a03_bs_enus"},{"$f":"Master!D30","v":"OLT"},{"$f":"Master!E30","v":"Active"},{"$f":"Master!F30","v":0},{"$f":"Master!H30","v":0},{"$f":"IF(Master!S30=\"\",\"B\",Master!S30)","v":"R"},{"$f":"IF(Master!AD30=\"\",\"B\",Master!AD30)","v":"R"},{"$f":"IF(Master!AO30=\"\",\"B\",Master!AO30)","v":"B"},{"$f":"IF(Master!AZ30=\"\",\"B\",Master!AZ30)","v":"B"},{"$f":"IF(Master!BK30=\"\",\"B\",Master!BK30)","v":"B"},{"$f":"IF(Master!BV30=\"\",\"B\",Master!BV30)","v":"B"}]
[{"$f":"Master!A31","v":"SS"},{"$f":"Master!B31","v":"Handling Team Conflict"},{"$f":"Master!C31","v":"atm_01_a04_bs_enus"},{"$f":"Master!D31","v":"OLT"},{"$f":"Master!E31","v":"Active"},{"$f":"Master!F31","v":0},{"$f":"Master!H31","v":0},{"$f":"IF(Master!S31=\"\",\"B\",Master!S31)","v":"R"},{"$f":"IF(Master!AD31=\"\",\"B\",Master!AD31)","v":"R"},{"$f":"IF(Master!AO31=\"\",\"B\",Master!AO31)","v":"B"},{"$f":"IF(Master!AZ31=\"\",\"B\",Master!AZ31)","v":"B"},{"$f":"IF(Master!BK31=\"\",\"B\",Master!BK31)","v":"B"},{"$f":"IF(Master!BV31=\"\",\"B\",Master!BV31)","v":"B"}]
[{"$f":"Master!A32","v":"SS"},{"$f":"Master!B32","v":"Thinking Critically: Coming to Terms with Assumptions"},{"$f":"Master!C32","v":"pe_01_a01_bs_enus"},{"$f":"Master!D32","v":"OLT"},{"$f":"Master!E32","v":"Active"},{"$f":"Master!F32","v":0},{"$f":"Master!H32","v":0},{"$f":"IF(Master!S32=\"\",\"B\",Master!S32)","v":"R"},{"$f":"IF(Master!AD32=\"\",\"B\",Master!AD32)","v":"R"},{"$f":"IF(Master!AO32=\"\",\"B\",Master!AO32)","v":"B"},{"$f":"IF(Master!AZ32=\"\",\"B\",Master!AZ32)","v":"B"},{"$f":"IF(Master!BK32=\"\",\"B\",Master!BK32)","v":"B"},{"$f":"IF(Master!BV32=\"\",\"B\",Master!BV32)","v":"B"}]
[{"$f":"Master!A33","v":"SS"},{"$f":"Master!B33","v":"Thinking Critically: Getting Your Arms around Arguments"},{"$f":"Master!C33","v":"pe_01_a02_bs_enus"},{"$f":"Master!D33","v":"OLT"},{"$f":"Master!E33","v":"Active"},{"$f":"Master!F33","v":0},{"$f":"Master!H33","v":0},{"$f":"IF(Master!S33=\"\",\"B\",Master!S33)","v":"R"},{"$f":"IF(Master!AD33=\"\",\"B\",Master!AD33)","v":"R"},{"$f":"IF(Master!AO33=\"\",\"B\",Master!AO33)","v":"B"},{"$f":"IF(Master!AZ33=\"\",\"B\",Master!AZ33)","v":"B"},{"$f":"IF(Master!BK33=\"\",\"B\",Master!BK33)","v":"B"},{"$f":"IF(Master!BV33=\"\",\"B\",Master!BV33)","v":"B"}]
[{"$f":"Master!A34","v":"SS"},{"$f":"Master!B34","v":"Thinking Critically: Drawing Conclusions with Confidence"},{"$f":"Master!C34","v":"pe_01_a03_bs_enus"},{"$f":"Master!D34","v":"OLT"},{"$f":"Master!E34","v":"Active"},{"$f":"Master!F34","v":0},{"$f":"Master!H34","v":0},{"$f":"IF(Master!S34=\"\",\"B\",Master!S34)","v":"R"},{"$f":"IF(Master!AD34=\"\",\"B\",Master!AD34)","v":"R"},{"$f":"IF(Master!AO34=\"\",\"B\",Master!AO34)","v":"B"},{"$f":"IF(Master!AZ34=\"\",\"B\",Master!AZ34)","v":"B"},{"$f":"IF(Master!BK34=\"\",\"B\",Master!BK34)","v":"B"},{"$f":"IF(Master!BV34=\"\",\"B\",Master!BV34)","v":"B"}]
[{"$f":"Master!A35","v":"SS"},{"$f":"Master!B35","v":"Microsoft Excel 2016 Essentials: Creating, Editing, and Saving Workbooks"},{"$f":"Master!C35","v":"mo_beel_a01_dt_enus"},{"$f":"Master!D35","v":"OLT"},{"$f":"Master!E35","v":"Active"},{"$f":"Master!F35","v":0},{"$f":"Master!H35","v":0},{"$f":"IF(Master!S35=\"\",\"B\",Master!S35)","v":"R"},{"$f":"IF(Master!AD35=\"\",\"B\",Master!AD35)","v":"R"},{"$f":"IF(Master!AO35=\"\",\"B\",Master!AO35)","v":"B"},{"$f":"IF(Master!AZ35=\"\",\"B\",Master!AZ35)","v":"B"},{"$f":"IF(Master!BK35=\"\",\"B\",Master!BK35)","v":"B"},{"$f":"IF(Master!BV35=\"\",\"B\",Master!BV35)","v":"B"}]
[{"$f":"Master!A36","v":"SS"},{"$f":"Master!B36","v":"Microsoft Excel 2016 Essentials: Formulas and Functions"},{"$f":"Master!C36","v":"mo_beel_a04_dt_enus"},{"$f":"Master!D36","v":"OLT"},{"$f":"Master!E36","v":"Active"},{"$f":"Master!F36","v":0},{"$f":"Master!H36","v":0},{"$f":"IF(Master!S36=\"\",\"B\",Master!S36)","v":"R"},{"$f":"IF(Master!AD36=\"\",\"B\",Master!AD36)","v":"R"},{"$f":"IF(Master!AO36=\"\",\"B\",Master!AO36)","v":"B"},{"$f":"IF(Master!AZ36=\"\",\"B\",Master!AZ36)","v":"B"},{"$f":"IF(Master!BK36=\"\",\"B\",Master!BK36)","v":"B"},{"$f":"IF(Master!BV36=\"\",\"B\",Master!BV36)","v":"B"}]
[{"$f":"Master!A37","v":"SS"},{"$f":"Master!B37","v":"Microsoft Excel 2016 Essentials: Formatting Data"},{"$f":"Master!C37","v":"mo_beel_a02_dt_enus"},{"$f":"Master!D37","v":"OLT"},{"$f":"Master!E37","v":"Active"},{"$f":"Master!F37","v":0},{"$f":"Master!H37","v":0},{"$f":"IF(Master!S37=\"\",\"B\",Master!S37)","v":"R"},{"$f":"IF(Master!AD37=\"\",\"B\",Master!AD37)","v":"R"},{"$f":"IF(Master!AO37=\"\",\"B\",Master!AO37)","v":"B"},{"$f":"IF(Master!AZ37=\"\",\"B\",Master!AZ37)","v":"B"},{"$f":"IF(Master!BK37=\"\",\"B\",Master!BK37)","v":"B"},{"$f":"IF(Master!BV37=\"\",\"B\",Master!BV37)","v":"B"}]
[{"$f":"Master!A38","v":"SS"},{"$f":"Master!B38","v":"Microsoft Excel 2016 Essentials: Data Presentation Strategies"},{"$f":"Master!C38","v":"mo_beel_a03_dt_enus"},{"$f":"Master!D38","v":"OLT"},{"$f":"Master!E38","v":"Active"},{"$f":"Master!F38","v":0},{"$f":"Master!H38","v":0},{"$f":"IF(Master!S38=\"\",\"B\",Master!S38)","v":"R"},{"$f":"IF(Master!AD38=\"\",\"B\",Master!AD38)","v":"R"},{"$f":"IF(Master!AO38=\"\",\"B\",Master!AO38)","v":"B"},{"$f":"IF(Master!AZ38=\"\",\"B\",Master!AZ38)","v":"B"},{"$f":"IF(Master!BK38=\"\",\"B\",Master!BK38)","v":"B"},{"$f":"IF(Master!BV38=\"\",\"B\",Master!BV38)","v":"B"}]
[{"$f":"Master!A39","v":"SS"},{"$f":"Master!B39","v":"Microsoft Excel 2016 Essentials: Charts, Tables, and Images"},{"$f":"Master!C39","v":"mo_beel_a05_dt_enus"},{"$f":"Master!D39","v":"OLT"},{"$f":"Master!E39","v":"Active"},{"$f":"Master!F39","v":0},{"$f":"Master!H39","v":0},{"$f":"IF(Master!S39=\"\",\"B\",Master!S39)","v":"R"},{"$f":"IF(Master!AD39=\"\",\"B\",Master!AD39)","v":"R"},{"$f":"IF(Master!AO39=\"\",\"B\",Master!AO39)","v":"B"},{"$f":"IF(Master!AZ39=\"\",\"B\",Master!AZ39)","v":"B"},{"$f":"IF(Master!BK39=\"\",\"B\",Master!BK39)","v":"B"},{"$f":"IF(Master!BV39=\"\",\"B\",Master!BV39)","v":"B"}]
[{"$f":"Master!A40","v":"SS"},{"$f":"Master!B40","v":"Microsoft Office 2016 Intermediate Excel: Working with Data "},{"$f":"Master!C40","v":"mo_inel_a03_dt_enus"},{"$f":"Master!D40","v":"OLT"},{"$f":"Master!E40","v":"Active"},{"$f":"Master!F40","v":0},{"$f":"Master!H40","v":0},{"$f":"IF(Master!S40=\"\",\"B\",Master!S40)","v":2},{"$f":"IF(Master!AD40=\"\",\"B\",Master!AD40)","v":2},{"$f":"IF(Master!AO40=\"\",\"B\",Master!AO40)","v":2},{"$f":"IF(Master!AZ40=\"\",\"B\",Master!AZ40)","v":"B"},{"$f":"IF(Master!BK40=\"\",\"B\",Master!BK40)","v":"B"},{"$f":"IF(Master!BV40=\"\",\"B\",Master!BV40)","v":"B"}]
[{"$f":"Master!A41","v":"SS"},{"$f":"Master!B41","v":"Microsoft Office 2016 Intermediate Excel: Share, Review, and Collaborate "},{"$f":"Master!C41","v":"mo_inel_a06_dt_enus"},{"$f":"Master!D41","v":"OLT"},{"$f":"Master!E41","v":"Active"},{"$f":"Master!F41","v":0},{"$f":"Master!H41","v":0},{"$f":"IF(Master!S41=\"\",\"B\",Master!S41)","v":2},{"$f":"IF(Master!AD41=\"\",\"B\",Master!AD41)","v":2},{"$f":"IF(Master!AO41=\"\",\"B\",Master!AO41)","v":2},{"$f":"IF(Master!AZ41=\"\",\"B\",Master!AZ41)","v":"B"},{"$f":"IF(Master!BK41=\"\",\"B\",Master!BK41)","v":"B"},{"$f":"IF(Master!BV41=\"\",\"B\",Master!BV41)","v":"B"}]
[{"$f":"Master!A42","v":"SS"},{"$f":"Master!B42","v":"Microsoft Office 2016 Intermediate Excel: Creating Custom Visual Effects "},{"$f":"Master!C42","v":"mo_inel_a02_dt_enus"},{"$f":"Master!D42","v":"OLT"},{"$f":"Master!E42","v":"Active"},{"$f":"Master!F42","v":0},{"$f":"Master!H42","v":0},{"$f":"IF(Master!S42=\"\",\"B\",Master!S42)","v":2},{"$f":"IF(Master!AD42=\"\",\"B\",Master!AD42)","v":2},{"$f":"IF(Master!AO42=\"\",\"B\",Master!AO42)","v":2},{"$f":"IF(Master!AZ42=\"\",\"B\",Master!AZ42)","v":"B"},{"$f":"IF(Master!BK42=\"\",\"B\",Master!BK42)","v":"B"},{"$f":"IF(Master!BV42=\"\",\"B\",Master!BV42)","v":"B"}]
[{"$f":"Master!A43","v":"SS"},{"$f":"Master!B43","v":"Working with the Interface and Performing Basic Tasks in Word 2016 "},{"$f":"Master!C43","v":"mo_bewo_a01_dt_enus"},{"$f":"Master!D43","v":"OLT"},{"$f":"Master!E43","v":"Active"},{"$f":"Master!F43","v":0},{"$f":"Master!H43","v":0},{"$f":"IF(Master!S43=\"\",\"B\",Master!S43)","v":"R"},{"$f":"IF(Master!AD43=\"\",\"B\",Master!AD43)","v":"R"},{"$f":"IF(Master!AO43=\"\",\"B\",Master!AO43)","v":"B"},{"$f":"IF(Master!AZ43=\"\",\"B\",Master!AZ43)","v":"B"},{"$f":"IF(Master!BK43=\"\",\"B\",Master!BK43)","v":"B"},{"$f":"IF(Master!BV43=\"\",\"B\",Master!BV43)","v":"B"}]
[{"$f":"Master!A44","v":"SS"},{"$f":"Master!B44","v":"Formatting Text in Word 2016 "},{"$f":"Master!C44","v":"mo_bewo_a02_dt_enus"},{"$f":"Master!D44","v":"OLT"},{"$f":"Master!E44","v":"Active"},{"$f":"Master!F44","v":0},{"$f":"Master!H44","v":0},{"$f":"IF(Master!S44=\"\",\"B\",Master!S44)","v":"R"},{"$f":"IF(Master!AD44=\"\",\"B\",Master!AD44)","v":"R"},{"$f":"IF(Master!AO44=\"\",\"B\",Master!AO44)","v":"B"},{"$f":"IF(Master!AZ44=\"\",\"B\",Master!AZ44)","v":"B"},{"$f":"IF(Master!BK44=\"\",\"B\",Master!BK44)","v":"B"},{"$f":"IF(Master!BV44=\"\",\"B\",Master!BV44)","v":"B"}]
[{"$f":"Master!A45","v":"SS"},{"$f":"Master!B45","v":"Headers, Footers, Page Numbering, and Layout in Word 2016 "},{"$f":"Master!C45","v":"mo_bewo_a05_dt_enus"},{"$f":"Master!D45","v":"OLT"},{"$f":"Master!E45","v":"Active"},{"$f":"Master!F45","v":0},{"$f":"Master!H45","v":0},{"$f":"IF(Master!S45=\"\",\"B\",Master!S45)","v":"R"},{"$f":"IF(Master!AD45=\"\",\"B\",Master!AD45)","v":"R"},{"$f":"IF(Master!AO45=\"\",\"B\",Master!AO45)","v":"B"},{"$f":"IF(Master!AZ45=\"\",\"B\",Master!AZ45)","v":"B"},{"$f":"IF(Master!BK45=\"\",\"B\",Master!BK45)","v":"B"},{"$f":"IF(Master!BV45=\"\",\"B\",Master!BV45)","v":"B"}]
[{"$f":"Master!A46","v":"SS"},{"$f":"Master!B46","v":"Using the Navigation Pane and Creating Lists in Word 2016 "},{"$f":"Master!C46","v":"mo_bewo_a06_dt_enus"},{"$f":"Master!D46","v":"OLT"},{"$f":"Master!E46","v":"Active"},{"$f":"Master!F46","v":0},{"$f":"Master!H46","v":0},{"$f":"IF(Master!S46=\"\",\"B\",Master!S46)","v":"R"},{"$f":"IF(Master!AD46=\"\",\"B\",Master!AD46)","v":"R"},{"$f":"IF(Master!AO46=\"\",\"B\",Master!AO46)","v":"B"},{"$f":"IF(Master!AZ46=\"\",\"B\",Master!AZ46)","v":"B"},{"$f":"IF(Master!BK46=\"\",\"B\",Master!BK46)","v":"B"},{"$f":"IF(Master!BV46=\"\",\"B\",Master!BV46)","v":"B"}]
[{"$f":"Master!A47","v":"SS"},{"$f":"Master!B47","v":"Customizing Options and Using Document Views in Word 2016 "},{"$f":"Master!C47","v":"mo_bewo_a03_dt_enus"},{"$f":"Master!D47","v":"OLT"},{"$f":"Master!E47","v":"Active"},{"$f":"Master!F47","v":0},{"$f":"Master!H47","v":0},{"$f":"IF(Master!S47=\"\",\"B\",Master!S47)","v":2},{"$f":"IF(Master!AD47=\"\",\"B\",Master!AD47)","v":2},{"$f":"IF(Master!AO47=\"\",\"B\",Master!AO47)","v":2},{"$f":"IF(Master!AZ47=\"\",\"B\",Master!AZ47)","v":"B"},{"$f":"IF(Master!BK47=\"\",\"B\",Master!BK47)","v":"B"},{"$f":"IF(Master!BV47=\"\",\"B\",Master!BV47)","v":"B"}]
[{"$f":"Master!A48","v":"SS"},{"$f":"Master!B48","v":"Creating and Formatting Tables in Word 2016 "},{"$f":"Master!C48","v":"mo_bewo_a04_dt_enus"},{"$f":"Master!D48","v":"OLT"},{"$f":"Master!E48","v":"Active"},{"$f":"Master!F48","v":0},{"$f":"Master!H48","v":0},{"$f":"IF(Master!S48=\"\",\"B\",Master!S48)","v":2},{"$f":"IF(Master!AD48=\"\",\"B\",Master!AD48)","v":2},{"$f":"IF(Master!AO48=\"\",\"B\",Master!AO48)","v":2},{"$f":"IF(Master!AZ48=\"\",\"B\",Master!AZ48)","v":"B"},{"$f":"IF(Master!BK48=\"\",\"B\",Master!BK48)","v":"B"},{"$f":"IF(Master!BV48=\"\",\"B\",Master!BV48)","v":"B"}]
[{"$f":"Master!A49","v":"Human Resource"},null,null,null,null,null,null,{"$f":"IF(Master!S49=\"\",\"B\",Master!S49)","v":"B"},{"$f":"IF(Master!AD49=\"\",\"B\",Master!AD49)","v":"B"},{"$f":"IF(Master!AO49=\"\",\"B\",Master!AO49)","v":"B"},{"$f":"IF(Master!AZ49=\"\",\"B\",Master!AZ49)","v":"B"},{"$f":"IF(Master!BK49=\"\",\"B\",Master!BK49)","v":"B"},{"$f":"IF(Master!BV49=\"\",\"B\",Master!BV49)","v":"B"}]
[{"$f":"Master!A50","v":"Conflict Management - The following two courses are available"},null,null,null,null,null,null,{"$f":"IF(Master!S50=\"\",\"B\",Master!S50)","v":"B"},{"$f":"IF(Master!AD50=\"\",\"B\",Master!AD50)","v":"B"},{"$f":"IF(Master!AO50=\"\",\"B\",Master!AO50)","v":"B"},{"$f":"IF(Master!AZ50=\"\",\"B\",Master!AZ50)","v":"B"},{"$f":"IF(Master!BK50=\"\",\"B\",Master!BK50)","v":"B"},{"$f":"IF(Master!BV50=\"\",\"B\",Master!BV50)","v":"B"}]
[{"$f":"Master!A51","v":"SS"},{"$f":"Master!B51","v":"Preparing for a Difficult Conversation"},{"$f":"Master!C51","v":"mgmt_36_a01_bs_enus"},{"$f":"Master!D51","v":"OLT"},{"$f":"Master!E51","v":"Active"},{"$f":"Master!F51","v":0},{"$f":"Master!H51","v":"Take this course first."},{"$f":"IF(Master!S51=\"\",\"B\",Master!S51)","v":2},{"$f":"IF(Master!AD51=\"\",\"B\",Master!AD51)","v":2},{"$f":"IF(Master!AO51=\"\",\"B\",Master!AO51)","v":2},{"$f":"IF(Master!AZ51=\"\",\"B\",Master!AZ51)","v":1},{"$f":"IF(Master!BK51=\"\",\"B\",Master!BK51)","v":1},{"$f":"IF(Master!BV51=\"\",\"B\",Master!BV51)","v":1}]
[{"$f":"Master!A52","v":"ES"},{"$f":"Master!B52","v":"Managing Emotions in the Workplace"},{"$f":"Master!C52","v":"Enterprise Services Course\n1/2 Day - $100"},{"$f":"Master!D52","v":"ILT"},{"$f":"Master!E52","v":"Active"},{"$f":"Master!F52","v":0},{"$f":"Master!H52","v":"To register for this course, \ncall the LMS Helpdesk at \n360-705-7060."},{"$f":"IF(Master!S52=\"\",\"B\",Master!S52)","v":2},{"$f":"IF(Master!AD52=\"\",\"B\",Master!AD52)","v":2},{"$f":"IF(Master!AO52=\"\",\"B\",Master!AO52)","v":2},{"$f":"IF(Master!AZ52=\"\",\"B\",Master!AZ52)","v":1},{"$f":"IF(Master!BK52=\"\",\"B\",Master!BK52)","v":1},{"$f":"IF(Master!BV52=\"\",\"B\",Master!BV52)","v":1}]
[{"$f":"Master!A53","v":"Interpersonal Communications - The following two courses are available"},null,null,null,null,null,null,{"$f":"IF(Master!S53=\"\",\"B\",Master!S53)","v":"B"},{"$f":"IF(Master!AD53=\"\",\"B\",Master!AD53)","v":"B"},{"$f":"IF(Master!AO53=\"\",\"B\",Master!AO53)","v":"B"},{"$f":"IF(Master!AZ53=\"\",\"B\",Master!AZ53)","v":"B"},{"$f":"IF(Master!BK53=\"\",\"B\",Master!BK53)","v":"B"},{"$f":"IF(Master!BV53=\"\",\"B\",Master!BV53)","v":"B"}]
[{"$f":"Master!A54","v":"SS"},{"$f":"Master!B54","v":"Difficult People: Strategies to Keep Everyone Working Together"},{"$f":"Master!C54","v":"comm_46_a03_bs_enus"},{"$f":"Master!D54","v":"OLT"},{"$f":"Master!E54","v":"Active"},{"$f":"Master!F54","v":0},{"$f":"Master!H54","v":"Take this course first."},{"$f":"IF(Master!S54=\"\",\"B\",Master!S54)","v":1},{"$f":"IF(Master!AD54=\"\",\"B\",Master!AD54)","v":1},{"$f":"IF(Master!AO54=\"\",\"B\",Master!AO54)","v":1},{"$f":"IF(Master!AZ54=\"\",\"B\",Master!AZ54)","v":1},{"$f":"IF(Master!BK54=\"\",\"B\",Master!BK54)","v":1},{"$f":"IF(Master!BV54=\"\",\"B\",Master!BV54)","v":1}]
[{"$f":"Master!A55","v":"ES"},{"$f":"Master!B55","v":"Interpersonal Communication Skills"},{"$f":"Master!C55","v":"Enterprise Services Course\nTwo Days - $195"},{"$f":"Master!D55","v":"ILT"},{"$f":"Master!E55","v":"Active"},{"$f":"Master!F55","v":0},{"$f":"Master!H55","v":"To register for this course, \ncall the LMS Helpdesk at \n360-705-7060."},{"$f":"IF(Master!S55=\"\",\"B\",Master!S55)","v":1},{"$f":"IF(Master!AD55=\"\",\"B\",Master!AD55)","v":1},{"$f":"IF(Master!AO55=\"\",\"B\",Master!AO55)","v":1},{"$f":"IF(Master!AZ55=\"\",\"B\",Master!AZ55)","v":1},{"$f":"IF(Master!BK55=\"\",\"B\",Master!BK55)","v":1},{"$f":"IF(Master!BV55=\"\",\"B\",Master!BV55)","v":1}]
[{"$f":"Master!A56","v":"Interpersonal Communications - The following two courses are available"},null,null,null,null,null,null,{"$f":"IF(Master!S56=\"\",\"B\",Master!S56)","v":"B"},{"$f":"IF(Master!AD56=\"\",\"B\",Master!AD56)","v":"B"},{"$f":"IF(Master!AO56=\"\",\"B\",Master!AO56)","v":"B"},{"$f":"IF(Master!AZ56=\"\",\"B\",Master!AZ56)","v":"B"},{"$f":"IF(Master!BK56=\"\",\"B\",Master!BK56)","v":"B"},{"$f":"IF(Master!BV56=\"\",\"B\",Master!BV56)","v":"B"}]
[{"$f":"Master!A57","v":"SS"},{"$f":"Master!B57","v":"Active Listening Skills for Professionals"},{"$f":"Master!C57","v":"comm_43_a03_bs_enus"},{"$f":"Master!D57","v":"OLT"},{"$f":"Master!E57","v":"Active"},{"$f":"Master!F57","v":0},{"$f":"Master!H57","v":"Take this course first."},{"$f":"IF(Master!S57=\"\",\"B\",Master!S57)","v":1},{"$f":"IF(Master!AD57=\"\",\"B\",Master!AD57)","v":1},{"$f":"IF(Master!AO57=\"\",\"B\",Master!AO57)","v":1},{"$f":"IF(Master!AZ57=\"\",\"B\",Master!AZ57)","v":1},{"$f":"IF(Master!BK57=\"\",\"B\",Master!BK57)","v":1},{"$f":"IF(Master!BV57=\"\",\"B\",Master!BV57)","v":1}]
[{"$f":"Master!A58","v":"ES"},{"$f":"Master!B58","v":"Crucial Conversations"},{"$f":"Master!C58","v":"Enterprise Services Course\nTwo Days - $450"},{"$f":"Master!D58","v":"ILT"},{"$f":"Master!E58","v":"Active"},{"$f":"Master!F58","v":0},{"$f":"Master!H58","v":"To register for this course, \ncall the LMS Helpdesk at \n360-705-7060."},{"$f":"IF(Master!S58=\"\",\"B\",Master!S58)","v":1},{"$f":"IF(Master!AD58=\"\",\"B\",Master!AD58)","v":1},{"$f":"IF(Master!AO58=\"\",\"B\",Master!AO58)","v":1},{"$f":"IF(Master!AZ58=\"\",\"B\",Master!AZ58)","v":1},{"$f":"IF(Master!BK58=\"\",\"B\",Master!BK58)","v":1},{"$f":"IF(Master!BV58=\"\",\"B\",Master!BV58)","v":1}]
[{"$f":"Master!A59","v":"Oral Presentation Techniques"},null,null,null,null,null,null,{"$f":"IF(Master!S59=\"\",\"B\",Master!S59)","v":"B"},{"$f":"IF(Master!AD59=\"\",\"B\",Master!AD59)","v":"B"},{"$f":"IF(Master!AO59=\"\",\"B\",Master!AO59)","v":"B"},{"$f":"IF(Master!AZ59=\"\",\"B\",Master!AZ59)","v":"B"},{"$f":"IF(Master!BK59=\"\",\"B\",Master!BK59)","v":"B"},{"$f":"IF(Master!BV59=\"\",\"B\",Master!BV59)","v":"B"}]
[{"$f":"Master!A60","v":"ES"},{"$f":"Master!B60","v":"Presentation & Training Design & Delivery "},{"$f":"Master!C60","v":"Enterprise Services Course \nTwo Days - $205"},{"$f":"Master!D60","v":"ILT"},{"$f":"Master!E60","v":"Active"},{"$f":"Master!F60","v":0},{"$f":"Master!H60","v":"To register for this course, \ncall the LMS Helpdesk at \n360-705-7060."},{"$f":"IF(Master!S60=\"\",\"B\",Master!S60)","v":"B"},{"$f":"IF(Master!AD60=\"\",\"B\",Master!AD60)","v":"B"},{"$f":"IF(Master!AO60=\"\",\"B\",Master!AO60)","v":"B"},{"$f":"IF(Master!AZ60=\"\",\"B\",Master!AZ60)","v":"B"},{"$f":"IF(Master!BK60=\"\",\"B\",Master!BK60)","v":2},{"$f":"IF(Master!BV60=\"\",\"B\",Master!BV60)","v":1}]
[{"$f":"Master!A61","v":"Stress Management -  The following two courses are available"},null,null,null,null,null,null,{"$f":"IF(Master!S61=\"\",\"B\",Master!S61)","v":"B"},{"$f":"IF(Master!AD61=\"\",\"B\",Master!AD61)","v":"B"},{"$f":"IF(Master!AO61=\"\",\"B\",Master!AO61)","v":"B"},{"$f":"IF(Master!AZ61=\"\",\"B\",Master!AZ61)","v":"B"},{"$f":"IF(Master!BK61=\"\",\"B\",Master!BK61)","v":"B"},{"$f":"IF(Master!BV61=\"\",\"B\",Master!BV61)","v":"B"}]
[{"$f":"Master!A62","v":"SS"},{"$f":"Master!B62","v":"Conflict, Stress, and Time Management"},{"$f":"Master!C62","v":"cust_07_a03_bs_enus"},{"$f":"Master!D62","v":"OLT"},{"$f":"Master!E62","v":"Active"},{"$f":"Master!F62","v":0},{"$f":"Master!H62","v":"Take this course first."},{"$f":"IF(Master!S62=\"\",\"B\",Master!S62)","v":1},{"$f":"IF(Master!AD62=\"\",\"B\",Master!AD62)","v":1},{"$f":"IF(Master!AO62=\"\",\"B\",Master!AO62)","v":1},{"$f":"IF(Master!AZ62=\"\",\"B\",Master!AZ62)","v":1},{"$f":"IF(Master!BK62=\"\",\"B\",Master!BK62)","v":1},{"$f":"IF(Master!BV62=\"\",\"B\",Master!BV62)","v":1}]
[{"$f":"Master!A63","v":"ES"},{"$f":"Master!B63","v":"Managing Job Stress"},{"$f":"Master!C63","v":"Enterprise Services Course\nOne Day - $135"},{"$f":"Master!D63","v":"ILT"},{"$f":"Master!E63","v":"Active"},{"$f":"Master!F63","v":0},{"$f":"Master!H63","v":"To register for this course, \ncall the LMS Helpdesk at \n360-705-7060."},{"$f":"IF(Master!S63=\"\",\"B\",Master!S63)","v":1},{"$f":"IF(Master!AD63=\"\",\"B\",Master!AD63)","v":1},{"$f":"IF(Master!AO63=\"\",\"B\",Master!AO63)","v":1},{"$f":"IF(Master!AZ63=\"\",\"B\",Master!AZ63)","v":1},{"$f":"IF(Master!BK63=\"\",\"B\",Master!BK63)","v":1},{"$f":"IF(Master!BV63=\"\",\"B\",Master!BV63)","v":1}]
[{"$f":"Master!A64","v":"Time Management -  The following six courses are available"},null,null,null,null,null,null,{"$f":"IF(Master!S64=\"\",\"B\",Master!S64)","v":"B"},{"$f":"IF(Master!AD64=\"\",\"B\",Master!AD64)","v":"B"},{"$f":"IF(Master!AO64=\"\",\"B\",Master!AO64)","v":"B"},{"$f":"IF(Master!AZ64=\"\",\"B\",Master!AZ64)","v":"B"},{"$f":"IF(Master!BK64=\"\",\"B\",Master!BK64)","v":"B"},{"$f":"IF(Master!BV64=\"\",\"B\",Master!BV64)","v":"B"}]
[{"$f":"Master!A65","v":"SS"},{"$f":"Master!B65","v":"Getting Time under Control"},{"$f":"Master!C65","v":"_pc_ch_pach021"},{"$f":"Master!D65","v":"OLT"},{"$f":"Master!E65","v":"Active"},{"$f":"Master!F65","v":0},{"$f":"Master!H65","v":"Take this course before the Enterprise Services course"},{"$f":"IF(Master!S65=\"\",\"B\",Master!S65)","v":1},{"$f":"IF(Master!AD65=\"\",\"B\",Master!AD65)","v":1},{"$f":"IF(Master!AO65=\"\",\"B\",Master!AO65)","v":1},{"$f":"IF(Master!AZ65=\"\",\"B\",Master!AZ65)","v":1},{"$f":"IF(Master!BK65=\"\",\"B\",Master!BK65)","v":1},{"$f":"IF(Master!BV65=\"\",\"B\",Master!BV65)","v":1}]
[{"$f":"Master!A66","v":"SS"},{"$f":"Master!B66","v":"Make the Time You Need: Get Organized"},{"$f":"Master!C66","v":"apd_08_a02_bs_enus"},{"$f":"Master!D66","v":"OLT"},{"$f":"Master!E66","v":"Active"},{"$f":"Master!F66","v":0},{"$f":"Master!H66","v":"Take this course before the Enterprise Services course"},{"$f":"IF(Master!S66=\"\",\"B\",Master!S66)","v":1},{"$f":"IF(Master!AD66=\"\",\"B\",Master!AD66)","v":1},{"$f":"IF(Master!AO66=\"\",\"B\",Master!AO66)","v":1},{"$f":"IF(Master!AZ66=\"\",\"B\",Master!AZ66)","v":1},{"$f":"IF(Master!BK66=\"\",\"B\",Master!BK66)","v":1},{"$f":"IF(Master!BV66=\"\",\"B\",Master!BV66)","v":1}]
[{"$f":"Master!A67","v":"SS"},{"$f":"Master!B67","v":"Time Management: Too Much to Do and Too Little Time"},{"$f":"Master!C67","v":"pd_20_a01_bs_enus"},{"$f":"Master!D67","v":"OLT"},{"$f":"Master!E67","v":"Active"},{"$f":"Master!F67","v":0},{"$f":"Master!H67","v":"Take this course before the Enterprise Services course"},{"$f":"IF(Master!S67=\"\",\"B\",Master!S67)","v":1},{"$f":"IF(Master!AD67=\"\",\"B\",Master!AD67)","v":1},{"$f":"IF(Master!AO67=\"\",\"B\",Master!AO67)","v":1},{"$f":"IF(Master!AZ67=\"\",\"B\",Master!AZ67)","v":1},{"$f":"IF(Master!BK67=\"\",\"B\",Master!BK67)","v":1},{"$f":"IF(Master!BV67=\"\",\"B\",Master!BV67)","v":1}]
[{"$f":"Master!A68","v":"SS"},{"$f":"Master!B68","v":"Time Management: Quit Making Excuses and Make Time Instead"},{"$f":"Master!C68","v":"pd_20_a02_bs_enus"},{"$f":"Master!D68","v":"OLT"},{"$f":"Master!E68","v":"Active"},{"$f":"Master!F68","v":0},{"$f":"Master!H68","v":"Take this course before the Enterprise Services course"},{"$f":"IF(Master!S68=\"\",\"B\",Master!S68)","v":1},{"$f":"IF(Master!AD68=\"\",\"B\",Master!AD68)","v":1},{"$f":"IF(Master!AO68=\"\",\"B\",Master!AO68)","v":1},{"$f":"IF(Master!AZ68=\"\",\"B\",Master!AZ68)","v":1},{"$f":"IF(Master!BK68=\"\",\"B\",Master!BK68)","v":1},{"$f":"IF(Master!BV68=\"\",\"B\",Master!BV68)","v":1}]
[{"$f":"Master!A69","v":"SS"},{"$f":"Master!B69","v":"Time Management: Ready, Set…Focus!"},{"$f":"Master!C69","v":"pd_20_a03_bs_enus"},{"$f":"Master!D69","v":"OLT"},{"$f":"Master!E69","v":"Active"},{"$f":"Master!F69","v":0},{"$f":"Master!H69","v":"Take this course before the Enterprise Services course"},{"$f":"IF(Master!S69=\"\",\"B\",Master!S69)","v":1},{"$f":"IF(Master!AD69=\"\",\"B\",Master!AD69)","v":1},{"$f":"IF(Master!AO69=\"\",\"B\",Master!AO69)","v":1},{"$f":"IF(Master!AZ69=\"\",\"B\",Master!AZ69)","v":1},{"$f":"IF(Master!BK69=\"\",\"B\",Master!BK69)","v":1},{"$f":"IF(Master!BV69=\"\",\"B\",Master!BV69)","v":1}]
[{"$f":"Master!A70","v":"ES"},{"$f":"Master!B70","v":"Time Management"},{"$f":"Master!C70","v":"Enterprise Services Course\nOne Day - $135"},{"$f":"Master!D70","v":"ILT"},{"$f":"Master!E70","v":"Active"},{"$f":"Master!F70","v":0},{"$f":"Master!H70","v":"To register for this course, \ncall the LMS Helpdesk at \n360-705-7060."},{"$f":"IF(Master!S70=\"\",\"B\",Master!S70)","v":1},{"$f":"IF(Master!AD70=\"\",\"B\",Master!AD70)","v":1},{"$f":"IF(Master!AO70=\"\",\"B\",Master!AO70)","v":1},{"$f":"IF(Master!AZ70=\"\",\"B\",Master!AZ70)","v":1},{"$f":"IF(Master!BK70=\"\",\"B\",Master!BK70)","v":1},{"$f":"IF(Master!BV70=\"\",\"B\",Master!BV70)","v":1}]
[{"$f":"Master!A71","v":"Technical Writing -  The following five courses are available"},null,null,null,null,null,null,{"$f":"IF(Master!S71=\"\",\"B\",Master!S71)","v":"B"},{"$f":"IF(Master!AD71=\"\",\"B\",Master!AD71)","v":"B"},{"$f":"IF(Master!AO71=\"\",\"B\",Master!AO71)","v":"B"},{"$f":"IF(Master!AZ71=\"\",\"B\",Master!AZ71)","v":"B"},{"$f":"IF(Master!BK71=\"\",\"B\",Master!BK71)","v":"B"},{"$f":"IF(Master!BV71=\"\",\"B\",Master!BV71)","v":"B"}]
[{"$f":"Master!A72","v":"SS"},{"$f":"Master!B72","v":"Improving Your Technical Writing Skills"},{"$f":"Master!C72","v":"acm_06_a01_it_enus"},{"$f":"Master!D72","v":"OLT"},{"$f":"Master!E72","v":"Active"},{"$f":"Master!F72","v":0},{"$f":"Master!H72","v":0},{"$f":"IF(Master!S72=\"\",\"B\",Master!S72)","v":2},{"$f":"IF(Master!AD72=\"\",\"B\",Master!AD72)","v":2},{"$f":"IF(Master!AO72=\"\",\"B\",Master!AO72)","v":2},{"$f":"IF(Master!AZ72=\"\",\"B\",Master!AZ72)","v":2},{"$f":"IF(Master!BK72=\"\",\"B\",Master!BK72)","v":1},{"$f":"IF(Master!BV72=\"\",\"B\",Master!BV72)","v":1}]
[{"$f":"Master!A73","v":"SS"},{"$f":"Master!B73","v":"Writing for Technical Professionals: Effective Writing Techniques"},{"$f":"Master!C73","v":"ib_wstp_a02_it_enus"},{"$f":"Master!D73","v":"OLT"},{"$f":"Master!E73","v":"Active"},{"$f":"Master!F73","v":0},{"$f":"Master!H73","v":0},{"$f":"IF(Master!S73=\"\",\"B\",Master!S73)","v":2},{"$f":"IF(Master!AD73=\"\",\"B\",Master!AD73)","v":2},{"$f":"IF(Master!AO73=\"\",\"B\",Master!AO73)","v":2},{"$f":"IF(Master!AZ73=\"\",\"B\",Master!AZ73)","v":2},{"$f":"IF(Master!BK73=\"\",\"B\",Master!BK73)","v":1},{"$f":"IF(Master!BV73=\"\",\"B\",Master!BV73)","v":1}]
[{"$f":"Master!A74","v":"SS"},{"$f":"Master!B74","v":"Writing for Technical Professionals: Preparation and Planning"},{"$f":"Master!C74","v":"ib_wstp_a01_it_enus"},{"$f":"Master!D74","v":"OLT"},{"$f":"Master!E74","v":"Active"},{"$f":"Master!F74","v":0},{"$f":"Master!H74","v":0},{"$f":"IF(Master!S74=\"\",\"B\",Master!S74)","v":2},{"$f":"IF(Master!AD74=\"\",\"B\",Master!AD74)","v":2},{"$f":"IF(Master!AO74=\"\",\"B\",Master!AO74)","v":2},{"$f":"IF(Master!AZ74=\"\",\"B\",Master!AZ74)","v":2},{"$f":"IF(Master!BK74=\"\",\"B\",Master!BK74)","v":1},{"$f":"IF(Master!BV74=\"\",\"B\",Master!BV74)","v":1}]
[{"$f":"Master!A75","v":"ES"},{"$f":"Master!B75","v":"Technical Writing: Tricks of the Trade"},{"$f":"Master!C75","v":"Enterprise Services Course\nTwo Day Course - $185"},{"$f":"Master!D75","v":"ILT"},{"$f":"Master!E75","v":"Active"},{"$f":"Master!F75","v":0},{"$f":"Master!H75","v":"To register for this course, call the LMS Helpdesk at \n360-705-7060."},{"$f":"IF(Master!S75=\"\",\"B\",Master!S75)","v":2},{"$f":"IF(Master!AD75=\"\",\"B\",Master!AD75)","v":2},{"$f":"IF(Master!AO75=\"\",\"B\",Master!AO75)","v":2},{"$f":"IF(Master!AZ75=\"\",\"B\",Master!AZ75)","v":2},{"$f":"IF(Master!BK75=\"\",\"B\",Master!BK75)","v":1},{"$f":"IF(Master!BV75=\"\",\"B\",Master!BV75)","v":1}]
[{"$f":"Master!A76","v":"ES"},{"$f":"Master!B76","v":"Writing Skills"},{"$f":"Master!C76","v":"Enterprise Services Course\nOne Day - $145"},{"$f":"Master!D76","v":"ILT"},{"$f":"Master!E76","v":"Active"},{"$f":"Master!F76","v":0},{"$f":"Master!H76","v":"To register for this course, \ncall the LMS Helpdesk at \n360-705-7060."},{"$f":"IF(Master!S76=\"\",\"B\",Master!S76)","v":2},{"$f":"IF(Master!AD76=\"\",\"B\",Master!AD76)","v":2},{"$f":"IF(Master!AO76=\"\",\"B\",Master!AO76)","v":2},{"$f":"IF(Master!AZ76=\"\",\"B\",Master!AZ76)","v":2},{"$f":"IF(Master!BK76=\"\",\"B\",Master!BK76)","v":1},{"$f":"IF(Master!BV76=\"\",\"B\",Master!BV76)","v":1}]
[{"$f":"Master!A77","v":"Effective Meeting Management -  The following six courses are available"},null,null,null,null,null,null,{"$f":"IF(Master!S77=\"\",\"B\",Master!S77)","v":"B"},{"$f":"IF(Master!AD77=\"\",\"B\",Master!AD77)","v":"B"},{"$f":"IF(Master!AO77=\"\",\"B\",Master!AO77)","v":"B"},{"$f":"IF(Master!AZ77=\"\",\"B\",Master!AZ77)","v":"B"},{"$f":"IF(Master!BK77=\"\",\"B\",Master!BK77)","v":"B"},{"$f":"IF(Master!BV77=\"\",\"B\",Master!BV77)","v":"B"}]
[{"$f":"Master!A78","v":"SS"},{"$f":"Master!B78","v":"Dealing with Common Meeting Problems"},{"$f":"Master!C78","v":"comm_32_a03_bs_enus"},{"$f":"Master!D78","v":"OLT"},{"$f":"Master!E78","v":"Active"},{"$f":"Master!F78","v":0},{"$f":"Master!H78","v":0},{"$f":"IF(Master!S78=\"\",\"B\",Master!S78)","v":"B"},{"$f":"IF(Master!AD78=\"\",\"B\",Master!AD78)","v":"B"},{"$f":"IF(Master!AO78=\"\",\"B\",Master!AO78)","v":"B"},{"$f":"IF(Master!AZ78=\"\",\"B\",Master!AZ78)","v":"B"},{"$f":"IF(Master!BK78=\"\",\"B\",Master!BK78)","v":2},{"$f":"IF(Master!BV78=\"\",\"B\",Master!BV78)","v":1}]
[{"$f":"Master!A79","v":"SS"},{"$f":"Master!B79","v":"Preparing for Effective Business Meetings"},{"$f":"Master!C79","v":"comm_32_a01_bs_enus"},{"$f":"Master!D79","v":"OLT"},{"$f":"Master!E79","v":"Active"},{"$f":"Master!F79","v":0},{"$f":"Master!H79","v":0},{"$f":"IF(Master!S79=\"\",\"B\",Master!S79)","v":"B"},{"$f":"IF(Master!AD79=\"\",\"B\",Master!AD79)","v":"B"},{"$f":"IF(Master!AO79=\"\",\"B\",Master!AO79)","v":"B"},{"$f":"IF(Master!AZ79=\"\",\"B\",Master!AZ79)","v":"B"},{"$f":"IF(Master!BK79=\"\",\"B\",Master!BK79)","v":2},{"$f":"IF(Master!BV79=\"\",\"B\",Master!BV79)","v":1}]
[{"$f":"Master!A80","v":"SS"},{"$f":"Master!B80","v":"Planning Meetings Fit for Purpose"},{"$f":"Master!C80","v":"comm_50_a01_bs_enus"},{"$f":"Master!D80","v":"OLT"},{"$f":"Master!E80","v":"Active"},{"$f":"Master!F80","v":0},{"$f":"Master!H80","v":0},{"$f":"IF(Master!S80=\"\",\"B\",Master!S80)","v":"B"},{"$f":"IF(Master!AD80=\"\",\"B\",Master!AD80)","v":"B"},{"$f":"IF(Master!AO80=\"\",\"B\",Master!AO80)","v":"B"},{"$f":"IF(Master!AZ80=\"\",\"B\",Master!AZ80)","v":"B"},{"$f":"IF(Master!BK80=\"\",\"B\",Master!BK80)","v":2},{"$f":"IF(Master!BV80=\"\",\"B\",Master!BV80)","v":1}]
[{"$f":"Master!A81","v":"SS"},{"$f":"Master!B81","v":"Managing Effective Business Meetings"},{"$f":"Master!C81","v":"comm_32_a02_bs_enus"},{"$f":"Master!D81","v":"OLT"},{"$f":"Master!E81","v":"Active"},{"$f":"Master!F81","v":0},{"$f":"Master!H81","v":0},{"$f":"IF(Master!S81=\"\",\"B\",Master!S81)","v":"B"},{"$f":"IF(Master!AD81=\"\",\"B\",Master!AD81)","v":"B"},{"$f":"IF(Master!AO81=\"\",\"B\",Master!AO81)","v":"B"},{"$f":"IF(Master!AZ81=\"\",\"B\",Master!AZ81)","v":"B"},{"$f":"IF(Master!BK81=\"\",\"B\",Master!BK81)","v":2},{"$f":"IF(Master!BV81=\"\",\"B\",Master!BV81)","v":1}]
[{"$f":"Master!A82","v":"SS"},{"$f":"Master!B82","v":"Running Meetings in Better Directions"},{"$f":"Master!C82","v":"comm_50_a02_bs_enus"},{"$f":"Master!D82","v":"OLT"},{"$f":"Master!E82","v":"Active"},{"$f":"Master!F82","v":0},{"$f":"Master!H82","v":0},{"$f":"IF(Master!S82=\"\",\"B\",Master!S82)","v":"B"},{"$f":"IF(Master!AD82=\"\",\"B\",Master!AD82)","v":"B"},{"$f":"IF(Master!AO82=\"\",\"B\",Master!AO82)","v":"B"},{"$f":"IF(Master!AZ82=\"\",\"B\",Master!AZ82)","v":"B"},{"$f":"IF(Master!BK82=\"\",\"B\",Master!BK82)","v":2},{"$f":"IF(Master!BV82=\"\",\"B\",Master!BV82)","v":1}]
[{"$f":"Master!A83","v":"ES"},{"$f":"Master!B83","v":"Effective Meeting Management  (or one of the following five SkillSoft)"},{"$f":"Master!C83","v":"Enterprise Services Course\nOne Day - $165"},{"$f":"Master!D83","v":"ILT"},{"$f":"Master!E83","v":"Active"},{"$f":"Master!F83","v":0},{"$f":"Master!H83","v":"To register for this course, call the LMS Helpdesk at \n360-705-7060."},{"$f":"IF(Master!S83=\"\",\"B\",Master!S83)","v":"B"},{"$f":"IF(Master!AD83=\"\",\"B\",Master!AD83)","v":"B"},{"$f":"IF(Master!AO83=\"\",\"B\",Master!AO83)","v":"B"},{"$f":"IF(Master!AZ83=\"\",\"B\",Master!AZ83)","v":"B"},{"$f":"IF(Master!BK83=\"\",\"B\",Master!BK83)","v":2},{"$f":"IF(Master!BV83=\"\",\"B\",Master!BV83)","v":1}]
[{"$f":"Master!A84","v":"Enhanced Leadership for WSDOT"},null,null,null,null,null,null,{"$f":"IF(Master!S84=\"\",\"B\",Master!S84)","v":"B"},{"$f":"IF(Master!AD84=\"\",\"B\",Master!AD84)","v":"B"},{"$f":"IF(Master!AO84=\"\",\"B\",Master!AO84)","v":"B"},{"$f":"IF(Master!AZ84=\"\",\"B\",Master!AZ84)","v":"B"},{"$f":"IF(Master!BK84=\"\",\"B\",Master!BK84)","v":"B"},{"$f":"IF(Master!BV84=\"\",\"B\",Master!BV84)","v":"B"}]
[{"$f":"Master!A85","v":"ES"},{"$f":"Master!B85","v":"Leading Teams"},{"$f":"Master!C85","v":"Enterprise Services Course\nThree Days - $500"},{"$f":"Master!D85","v":"ILT"},{"$f":"Master!E85","v":"Active"},{"$f":"Master!F85","v":0},{"$f":"Master!H85","v":"To register for this course, \ncall the LMS Helpdesk at \n360-705-7060."},{"$f":"IF(Master!S85=\"\",\"B\",Master!S85)","v":"B"},{"$f":"IF(Master!AD85=\"\",\"B\",Master!AD85)","v":"B"},{"$f":"IF(Master!AO85=\"\",\"B\",Master!AO85)","v":"B"},{"$f":"IF(Master!AZ85=\"\",\"B\",Master!AZ85)","v":"B"},{"$f":"IF(Master!BK85=\"\",\"B\",Master!BK85)","v":"B"},{"$f":"IF(Master!BV85=\"\",\"B\",Master!BV85)","v":2}]
[{"$f":"Master!A86","v":"Entry Management Development"},null,null,null,null,null,null,{"$f":"IF(Master!S86=\"\",\"B\",Master!S86)","v":"B"},{"$f":"IF(Master!AD86=\"\",\"B\",Master!AD86)","v":"B"},{"$f":"IF(Master!AO86=\"\",\"B\",Master!AO86)","v":"B"},{"$f":"IF(Master!AZ86=\"\",\"B\",Master!AZ86)","v":"B"},{"$f":"IF(Master!BK86=\"\",\"B\",Master!BK86)","v":"B"},{"$f":"IF(Master!BV86=\"\",\"B\",Master!BV86)","v":"B"}]
[{"$f":"Master!A87","v":"ES"},{"$f":"Master!B87","v":"Leading Others"},{"$f":"Master!C87","v":"Enterprise Services Course\nFour Days - $500"},{"$f":"Master!D87","v":"ILT"},{"$f":"Master!E87","v":"Active"},{"$f":"Master!F87","v":0},{"$f":"Master!H87","v":"To register for this course, \ncall the LMS Helpdesk at \n360-705-7060."},{"$f":"IF(Master!S87=\"\",\"B\",Master!S87)","v":"B"},{"$f":"IF(Master!AD87=\"\",\"B\",Master!AD87)","v":"B"},{"$f":"IF(Master!AO87=\"\",\"B\",Master!AO87)","v":"B"},{"$f":"IF(Master!AZ87=\"\",\"B\",Master!AZ87)","v":"B"},{"$f":"IF(Master!BK87=\"\",\"B\",Master!BK87)","v":2},{"$f":"IF(Master!BV87=\"\",\"B\",Master!BV87)","v":1}]
[{"$f":"Master!A88","v":"ES"},{"$f":"Master!B88","v":"Supervision Essentials-Phase II (Prerequisite is Leading Others)"},{"$f":"Master!C88","v":"Enterprise Services Course\nTwo Days - $285"},{"$f":"Master!D88","v":"ILT"},{"$f":"Master!E88","v":"Active"},{"$f":"Master!F88","v":0},{"$f":"Master!H88","v":"To register for this course, \ncall the LMS Helpdesk at \n360-705-7060."},{"$f":"IF(Master!S88=\"\",\"B\",Master!S88)","v":"B"},{"$f":"IF(Master!AD88=\"\",\"B\",Master!AD88)","v":"B"},{"$f":"IF(Master!AO88=\"\",\"B\",Master!AO88)","v":"B"},{"$f":"IF(Master!AZ88=\"\",\"B\",Master!AZ88)","v":"B"},{"$f":"IF(Master!BK88=\"\",\"B\",Master!BK88)","v":"B"},{"$f":"IF(Master!BV88=\"\",\"B\",Master!BV88)","v":2}]
[{"$f":"Master!A89","v":"Safety"},null,null,null,null,null,null,{"$f":"IF(Master!S89=\"\",\"B\",Master!S89)","v":"B"},{"$f":"IF(Master!AD89=\"\",\"B\",Master!AD89)","v":"B"},{"$f":"IF(Master!AO89=\"\",\"B\",Master!AO89)","v":"B"},{"$f":"IF(Master!AZ89=\"\",\"B\",Master!AZ89)","v":"B"},{"$f":"IF(Master!BK89=\"\",\"B\",Master!BK89)","v":"B"},{"$f":"IF(Master!BV89=\"\",\"B\",Master!BV89)","v":"B"}]
[{"$f":"Master!A90","v":"SAFE"},{"$f":"Master!B90","v":"WSDOT SAFE: FALL PROTECTION"},{"$f":"Master!C90","v":"WSDOT_BN9"},{"$f":"Master!D90","v":"ILT"},{"$f":"Master!E90","v":"Active"},{"$f":"Master!F90","v":0},{"$f":"Master!H90","v":0},{"$f":"IF(Master!S90=\"\",\"B\",Master!S90)","v":"B"},{"$f":"IF(Master!AD90=\"\",\"B\",Master!AD90)","v":"B"},{"$f":"IF(Master!AO90=\"\",\"B\",Master!AO90)","v":"B"},{"$f":"IF(Master!AZ90=\"\",\"B\",Master!AZ90)","v":"B"},{"$f":"IF(Master!BK90=\"\",\"B\",Master!BK90)","v":"B"},{"$f":"IF(Master!BV90=\"\",\"B\",Master!BV90)","v":"B"}]
[{"$f":"Master!A91","v":"SAFE"},{"$f":"Master!B91","v":"WSDOT SAFE: FIRST AID"},{"$f":"Master!C91","v":"WSDOT_APS"},{"$f":"Master!D91","v":"ILT"},{"$f":"Master!E91","v":"Active"},{"$f":"Master!F91","v":0},{"$f":"Master!H91","v":0},{"$f":"IF(Master!S91=\"\",\"B\",Master!S91)","v":"R"},{"$f":"IF(Master!AD91=\"\",\"B\",Master!AD91)","v":"R"},{"$f":"IF(Master!AO91=\"\",\"B\",Master!AO91)","v":1},{"$f":"IF(Master!AZ91=\"\",\"B\",Master!AZ91)","v":1},{"$f":"IF(Master!BK91=\"\",\"B\",Master!BK91)","v":1},{"$f":"IF(Master!BV91=\"\",\"B\",Master!BV91)","v":1}]
[{"$f":"Master!A92","v":"SAFE"},{"$f":"Master!B92","v":"WSDOT SAFE: FLAGGING, TRAFFIC CONTROL"},{"$f":"Master!C92","v":"WSDOT_AFZ"},{"$f":"Master!D92","v":"ILT"},{"$f":"Master!E92","v":"Active"},{"$f":"Master!F92","v":0},{"$f":"Master!H92","v":0},{"$f":"IF(Master!S92=\"\",\"B\",Master!S92)","v":"R"},{"$f":"IF(Master!AD92=\"\",\"B\",Master!AD92)","v":"R"},{"$f":"IF(Master!AO92=\"\",\"B\",Master!AO92)","v":1},{"$f":"IF(Master!AZ92=\"\",\"B\",Master!AZ92)","v":1},{"$f":"IF(Master!BK92=\"\",\"B\",Master!BK92)","v":"B"},{"$f":"IF(Master!BV92=\"\",\"B\",Master!BV92)","v":"B"}]
[{"$f":"Master!A93","v":"SAFE"},{"$f":"Master!B93","v":"WSDOT SAFE: HAZARD COMMUNICATION STANDARD (HCS)"},{"$f":"Master!C93","v":"WSDOT_AEX"},{"$f":"Master!D93","v":"ILT"},{"$f":"Master!E93","v":"Active"},{"$f":"Master!F93","v":0},{"$f":"Master!H93","v":0},{"$f":"IF(Master!S93=\"\",\"B\",Master!S93)","v":2},{"$f":"IF(Master!AD93=\"\",\"B\",Master!AD93)","v":2},{"$f":"IF(Master!AO93=\"\",\"B\",Master!AO93)","v":2},{"$f":"IF(Master!AZ93=\"\",\"B\",Master!AZ93)","v":2},{"$f":"IF(Master!BK93=\"\",\"B\",Master!BK93)","v":2},{"$f":"IF(Master!BV93=\"\",\"B\",Master!BV93)","v":2}]
[{"$f":"Master!A94","v":"SAFE"},{"$f":"Master!B94","v":"WSDOT SAFE: HEARING CONSERVATION (ILT, and/or Self-Study)"},{"$f":"Master!C94","v":"WSDOT_ATS"},{"$f":"Master!D94","v":"OLT/ILT"},{"$f":"Master!E94","v":"Active"},{"$f":"Master!F94","v":0},{"$f":"Master!H94","v":0},{"$f":"IF(Master!S94=\"\",\"B\",Master!S94)","v":"R"},{"$f":"IF(Master!AD94=\"\",\"B\",Master!AD94)","v":"R"},{"$f":"IF(Master!AO94=\"\",\"B\",Master!AO94)","v":2},{"$f":"IF(Master!AZ94=\"\",\"B\",Master!AZ94)","v":2},{"$f":"IF(Master!BK94=\"\",\"B\",Master!BK94)","v":2},{"$f":"IF(Master!BV94=\"\",\"B\",Master!BV94)","v":2}]
[{"$f":"Master!A95","v":"SAFE"},{"$f":"Master!B95","v":"WSDOT SAFE: RESPIRATOR PROTECTION TRAINING"},{"$f":"Master!C95","v":"WSDOT_ARZ"},{"$f":"Master!D95","v":"ILT"},{"$f":"Master!E95","v":"Active"},{"$f":"Master!F95","v":0},{"$f":"Master!H95","v":0},{"$f":"IF(Master!S95=\"\",\"B\",Master!S95)","v":"B"},{"$f":"IF(Master!AD95=\"\",\"B\",Master!AD95)","v":"B"},{"$f":"IF(Master!AO95=\"\",\"B\",Master!AO95)","v":"B"},{"$f":"IF(Master!AZ95=\"\",\"B\",Master!AZ95)","v":"B"},{"$f":"IF(Master!BK95=\"\",\"B\",Master!BK95)","v":"B"},{"$f":"IF(Master!BV95=\"\",\"B\",Master!BV95)","v":"B"}]
[{"$f":"Master!A96","v":"Construction Division"},null,null,null,null,null,null,{"$f":"IF(Master!S96=\"\",\"B\",Master!S96)","v":"B"},{"$f":"IF(Master!AD96=\"\",\"B\",Master!AD96)","v":"B"},{"$f":"IF(Master!AO96=\"\",\"B\",Master!AO96)","v":"B"},{"$f":"IF(Master!AZ96=\"\",\"B\",Master!AZ96)","v":"B"},{"$f":"IF(Master!BK96=\"\",\"B\",Master!BK96)","v":"B"},{"$f":"IF(Master!BV96=\"\",\"B\",Master!BV96)","v":"B"}]
[{"$f":"Master!A97","v":"CN"},{"$f":"Master!B97","v":"WSDOT CN: AGGREGATE PRODUCTION & TESTING INSPECTION"},{"$f":"Master!C97","v":"WSDOT_ACA"},{"$f":"Master!D97","v":"ILT"},{"$f":"Master!E97","v":"Active"},{"$f":"Master!F97","v":0},{"$f":"Master!G97","v":0},{"$f":"IF(Master!H97=\"\",\"B\",Master!H97)","v":"B"},{"$f":"IF(Master!I97=\"\",\"B\",Master!I97)","v":"B"},{"$f":"IF(Master!J97=\"\",\"B\",Master!J97)","v":"B"},{"$f":"IF(Master!K97=\"\",\"B\",Master!K97)","v":"B"},{"$f":"IF(Master!L97=\"\",\"B\",Master!L97)","v":"B"},{"$f":"IF(Master!M97=\"\",\"B\",Master!M97)","v":"B"}]
[{"$f":"Master!A98","v":"CN"},{"$f":"Master!B98","v":"WSDOT CN: BITUMINOUS SURFACE TREATMENT INSPECTION"},{"$f":"Master!C98","v":"WSDOT_CN_BST_ACC"},{"$f":"Master!D98","v":"ILT"},{"$f":"Master!E98","v":"Active"},{"$f":"Master!F98","v":0},{"$f":"Master!G98","v":0},{"$f":"IF(Master!H98=\"\",\"B\",Master!H98)","v":"B"},{"$f":"IF(Master!I98=\"\",\"B\",Master!I98)","v":"B"},{"$f":"IF(Master!J98=\"\",\"B\",Master!J98)","v":2},{"$f":"IF(Master!K98=\"\",\"B\",Master!K98)","v":"B"},{"$f":"IF(Master!L98=\"\",\"B\",Master!L98)","v":"B"},{"$f":"IF(Master!M98=\"\",\"B\",Master!M98)","v":"B"}]
[{"$f":"Master!A99","v":"CN"},{"$f":"Master!B99","v":"WSDOT CN: ACCEPTANCE AND APPROVAL OF MATERIAL"},{"$f":"Master!C99","v":"WSDOT_CN_Acceptance_Material_CX8_OLT"},{"$f":"Master!D99","v":"OLT"},{"$f":"Master!E99","v":"Active"},{"$f":"Master!F99","v":0},{"$f":"Master!G99","v":0},{"$f":"IF(Master!H99=\"\",\"B\",Master!H99)","v":"B"},{"$f":"IF(Master!I99=\"\",\"B\",Master!I99)","v":"B"},{"$f":"IF(Master!J99=\"\",\"B\",Master!J99)","v":1},{"$f":"IF(Master!K99=\"\",\"B\",Master!K99)","v":2},{"$f":"IF(Master!L99=\"\",\"B\",Master!L99)","v":"B"},{"$f":"IF(Master!M99=\"\",\"B\",Master!M99)","v":"B"}]
[{"$f":"Master!A100","v":"CN"},{"$f":"Master!B100","v":"WSDOT CN: COMPOSING AN INSPECTOR'S DAILY REPORT"},{"$f":"Master!C100","v":"WSDOT_CZ9_OLT"},{"$f":"Master!D100","v":"OLT"},{"$f":"Master!E100","v":"Active"},{"$f":"Master!F100","v":0},{"$f":"Master!G100","v":0},{"$f":"IF(Master!H100=\"\",\"B\",Master!H100)","v":"B"},{"$f":"IF(Master!I100=\"\",\"B\",Master!I100)","v":"B"},{"$f":"IF(Master!J100=\"\",\"B\",Master!J100)","v":1},{"$f":"IF(Master!K100=\"\",\"B\",Master!K100)","v":2},{"$f":"IF(Master!L100=\"\",\"B\",Master!L100)","v":"B"},{"$f":"IF(Master!M100=\"\",\"B\",Master!M100)","v":"B"}]
[{"$f":"Master!A101","v":"CN"},{"$f":"Master!B101","v":"WSDOT CN: INSPECTING BRIDGE CONSTRUCTION"},{"$f":"Master!C101","v":"WSDOT_ACM"},{"$f":"Master!D101","v":"ILT"},{"$f":"Master!E101","v":"Active"},{"$f":"Master!F101","v":0},{"$f":"Master!G101","v":0},{"$f":"IF(Master!H101=\"\",\"B\",Master!H101)","v":"B"},{"$f":"IF(Master!I101=\"\",\"B\",Master!I101)","v":"B"},{"$f":"IF(Master!J101=\"\",\"B\",Master!J101)","v":2},{"$f":"IF(Master!K101=\"\",\"B\",Master!K101)","v":"B"},{"$f":"IF(Master!L101=\"\",\"B\",Master!L101)","v":"B"},{"$f":"IF(Master!M101=\"\",\"B\",Master!M101)","v":"B"}]
[{"$f":"Master!A102","v":"CN"},{"$f":"Master!B102","v":"WSDOT CN: CONSTRUCTION INSPECTION DOCUMENTATION"},{"$f":"Master!C102","v":"WSDOT_ACY"},{"$f":"Master!D102","v":"ILT"},{"$f":"Master!E102","v":"Active"},{"$f":"Master!F102","v":0},{"$f":"Master!G102","v":0},{"$f":"IF(Master!H102=\"\",\"B\",Master!H102)","v":"B"},{"$f":"IF(Master!I102=\"\",\"B\",Master!I102)","v":"B"},{"$f":"IF(Master!J102=\"\",\"B\",Master!J102)","v":1},{"$f":"IF(Master!K102=\"\",\"B\",Master!K102)","v":2},{"$f":"IF(Master!L102=\"\",\"B\",Master!L102)","v":"B"},{"$f":"IF(Master!M102=\"\",\"B\",Master!M102)","v":"B"}]
[{"$f":"Master!A103","v":"CN"},{"$f":"Master!B103","v":"WSDOT CN:CONSTRUCTION MATERIALS, APPROVAL AND ACCEPTANCE"},{"$f":"Master!C103","v":"WSDOT_DAP"},{"$f":"Master!D103","v":"ILT"},{"$f":"Master!E103","v":"Active"},{"$f":"Master!F103","v":0},{"$f":"Master!G103","v":0},{"$f":"IF(Master!H103=\"\",\"B\",Master!H103)","v":"B"},{"$f":"IF(Master!I103=\"\",\"B\",Master!I103)","v":"B"},{"$f":"IF(Master!J103=\"\",\"B\",Master!J103)","v":1},{"$f":"IF(Master!K103=\"\",\"B\",Master!K103)","v":2},{"$f":"IF(Master!L103=\"\",\"B\",Master!L103)","v":"B"},{"$f":"IF(Master!M103=\"\",\"B\",Master!M103)","v":"B"}]
[{"$f":"Master!A104","v":"CN"},{"$f":"Master!B104","v":"WSDOT CN: DRAINAGE INSPECTION"},{"$f":"Master!C104","v":"WSDOT_ACF"},{"$f":"Master!D104","v":"ILT"},{"$f":"Master!E104","v":"Active"},{"$f":"Master!F104","v":0},{"$f":"Master!G104","v":0},{"$f":"IF(Master!H104=\"\",\"B\",Master!H104)","v":"B"},{"$f":"IF(Master!I104=\"\",\"B\",Master!I104)","v":"B"},{"$f":"IF(Master!J104=\"\",\"B\",Master!J104)","v":2},{"$f":"IF(Master!K104=\"\",\"B\",Master!K104)","v":"B"},{"$f":"IF(Master!L104=\"\",\"B\",Master!L104)","v":"B"},{"$f":"IF(Master!M104=\"\",\"B\",Master!M104)","v":"B"}]
[{"$f":"Master!A105","v":"CN"},{"$f":"Master!B105","v":"WSDOT CN: EARTHWORK INSPECTION"},{"$f":"Master!C105","v":"WSDOT_Earthwork_OLT"},{"$f":"Master!D105","v":"OLT"},{"$f":"Master!E105","v":"Active"},{"$f":"Master!F105","v":0},{"$f":"Master!G105","v":0},{"$f":"IF(Master!H105=\"\",\"B\",Master!H105)","v":"B"},{"$f":"IF(Master!I105=\"\",\"B\",Master!I105)","v":"B"},{"$f":"IF(Master!J105=\"\",\"B\",Master!J105)","v":2},{"$f":"IF(Master!K105=\"\",\"B\",Master!K105)","v":"B"},{"$f":"IF(Master!L105=\"\",\"B\",Master!L105)","v":"B"},{"$f":"IF(Master!M105=\"\",\"B\",Master!M105)","v":"B"}]
[{"$f":"Master!A106","v":"CN"},{"$f":"Master!B106","v":"WSDOT CN: ELECTRICAL CONDUCTORS AND FIBER for ICP"},{"$f":"Master!C106","v":"WSDOT_ICP_Electrical_Conductors_Fiber_OLT"},{"$f":"Master!D106","v":"OLT"},{"$f":"Master!E106","v":"Active"},{"$f":"Master!F106","v":0},{"$f":"Master!G106","v":0},{"$f":"IF(Master!H106=\"\",\"B\",Master!H106)","v":"B"},{"$f":"IF(Master!I106=\"\",\"B\",Master!I106)","v":"B"},{"$f":"IF(Master!J106=\"\",\"B\",Master!J106)","v":"B"},{"$f":"IF(Master!K106=\"\",\"B\",Master!K106)","v":2},{"$f":"IF(Master!L106=\"\",\"B\",Master!L106)","v":"B"},{"$f":"IF(Master!M106=\"\",\"B\",Master!M106)","v":"B"}]
[{"$f":"Master!A107","v":"CN"},{"$f":"Master!B107","v":"WSDOT CN: ELECTRICAL-ILLUMINATION-SIGNALS & ITS INSPECTION"},{"$f":"Master!C107","v":"WSDOT_API"},{"$f":"Master!D107","v":"ILT"},{"$f":"Master!E107","v":"Active"},{"$f":"Master!F107","v":0},{"$f":"Master!G107","v":0},{"$f":"IF(Master!H107=\"\",\"B\",Master!H107)","v":"B"},{"$f":"IF(Master!I107=\"\",\"B\",Master!I107)","v":"B"},{"$f":"IF(Master!J107=\"\",\"B\",Master!J107)","v":"B"},{"$f":"IF(Master!K107=\"\",\"B\",Master!K107)","v":2},{"$f":"IF(Master!L107=\"\",\"B\",Master!L107)","v":"B"},{"$f":"IF(Master!M107=\"\",\"B\",Master!M107)","v":"B"}]
[{"$f":"Master!A108","v":"CN"},{"$f":"Master!B108","v":"WSDOT CN: EXCAVATION & EMBANKMENTS INSPECTION"},{"$f":"Master!C108","v":"WSDOT_AC3"},{"$f":"Master!D108","v":"ILT"},{"$f":"Master!E108","v":"Active"},{"$f":"Master!F108","v":0},{"$f":"Master!G108","v":0},{"$f":"IF(Master!H108=\"\",\"B\",Master!H108)","v":"B"},{"$f":"IF(Master!I108=\"\",\"B\",Master!I108)","v":"B"},{"$f":"IF(Master!J108=\"\",\"B\",Master!J108)","v":1},{"$f":"IF(Master!K108=\"\",\"B\",Master!K108)","v":"B"},{"$f":"IF(Master!L108=\"\",\"B\",Master!L108)","v":"B"},{"$f":"IF(Master!M108=\"\",\"B\",Master!M108)","v":"B"}]
[{"$f":"Master!A109","v":"CN"},{"$f":"Master!B109","v":"WSDOT CN: FIELD PAINTING STRUCTURAL STEEL"},{"$f":"Master!C109","v":"WSDOT_CN_Field_Painting_OLT"},{"$f":"Master!D109","v":"OLT"},{"$f":"Master!E109","v":"Active"},{"$f":"Master!F109","v":0},{"$f":"Master!G109","v":0},{"$f":"IF(Master!H109=\"\",\"B\",Master!H109)","v":"B"},{"$f":"IF(Master!I109=\"\",\"B\",Master!I109)","v":"B"},{"$f":"IF(Master!J109=\"\",\"B\",Master!J109)","v":"B"},{"$f":"IF(Master!K109=\"\",\"B\",Master!K109)","v":"B"},{"$f":"IF(Master!L109=\"\",\"B\",Master!L109)","v":"B"},{"$f":"IF(Master!M109=\"\",\"B\",Master!M109)","v":"B"}]
[{"$f":"Master!A110","v":"CN"},{"$f":"Master!B110","v":"WSDOT CN: FORCE ACCOUNT DOCUMENTATION AND PAYMENT"},{"$f":"Master!C110","v":"WSDOT_CN_ForceAccount_DG2_OLT"},{"$f":"Master!D110","v":"OLT"},{"$f":"Master!E110","v":"Active"},{"$f":"Master!F110","v":0},{"$f":"Master!G110","v":0},{"$f":"IF(Master!H110=\"\",\"B\",Master!H110)","v":"B"},{"$f":"IF(Master!I110=\"\",\"B\",Master!I110)","v":"B"},{"$f":"IF(Master!J110=\"\",\"B\",Master!J110)","v":1},{"$f":"IF(Master!K110=\"\",\"B\",Master!K110)","v":2},{"$f":"IF(Master!L110=\"\",\"B\",Master!L110)","v":"B"},{"$f":"IF(Master!M110=\"\",\"B\",Master!M110)","v":"B"}]
[{"$f":"Master!A111","v":"CN"},{"$f":"Master!B111","v":"WSDOT CN: FORMS AND FALSEWORK for ICP"},{"$f":"Master!C111","v":"WSDOT_ICP_Forms and Falsework_OLT"},{"$f":"Master!D111","v":"OLT"},{"$f":"Master!E111","v":"Active"},{"$f":"Master!F111","v":0},{"$f":"Master!G111","v":0},{"$f":"IF(Master!H111=\"\",\"B\",Master!H111)","v":"B"},{"$f":"IF(Master!I111=\"\",\"B\",Master!I111)","v":"B"},{"$f":"IF(Master!J111=\"\",\"B\",Master!J111)","v":2},{"$f":"IF(Master!K111=\"\",\"B\",Master!K111)","v":"B"},{"$f":"IF(Master!L111=\"\",\"B\",Master!L111)","v":"B"},{"$f":"IF(Master!M111=\"\",\"B\",Master!M111)","v":"B"}]
[{"$f":"Master!A112","v":"CN"},{"$f":"Master!B112","v":"WSDOT CN: GUARDRAIL INSTALLATION FOR INSPECTORS"},{"$f":"Master!C112","v":"WSDOT_DD4"},{"$f":"Master!D112","v":"ILT"},{"$f":"Master!E112","v":"Active"},{"$f":"Master!F112","v":0},{"$f":"Master!G112","v":0},{"$f":"IF(Master!H112=\"\",\"B\",Master!H112)","v":"B"},{"$f":"IF(Master!I112=\"\",\"B\",Master!I112)","v":"B"},{"$f":"IF(Master!J112=\"\",\"B\",Master!J112)","v":2},{"$f":"IF(Master!K112=\"\",\"B\",Master!K112)","v":"B"},{"$f":"IF(Master!L112=\"\",\"B\",Master!L112)","v":"B"},{"$f":"IF(Master!M112=\"\",\"B\",Master!M112)","v":"B"}]
[{"$f":"Master!A113","v":"CN"},{"$f":"Master!B113","v":"WSDOT CN: HAZMAT FOR THE PORTABLE NUCLEAR GAUGE"},{"$f":"Master!C113","v":"WSDOT Hazmat_for_Transportation_of_the_Nuclear_Gauge_ORG"},{"$f":"Master!D113","v":"OLT"},{"$f":"Master!E113","v":"Active"},{"$f":"Master!F113","v":0},{"$f":"Master!G113","v":0},{"$f":"IF(Master!H113=\"\",\"B\",Master!H113)","v":"B"},{"$f":"IF(Master!I113=\"\",\"B\",Master!I113)","v":"B"},{"$f":"IF(Master!J113=\"\",\"B\",Master!J113)","v":2},{"$f":"IF(Master!K113=\"\",\"B\",Master!K113)","v":"B"},{"$f":"IF(Master!L113=\"\",\"B\",Master!L113)","v":"B"},{"$f":"IF(Master!M113=\"\",\"B\",Master!M113)","v":"B"}]
[{"$f":"Master!A114","v":"CN"},{"$f":"Master!B114","v":"WSDOT CN: HMA PLACEMENT INSPECTION"},{"$f":"Master!C114","v":"WSDOT_HMAPlacement_OLT"},{"$f":"Master!D114","v":"OLT"},{"$f":"Master!E114","v":"Active"},{"$f":"Master!F114","v":0},{"$f":"Master!G114","v":0},{"$f":"IF(Master!H114=\"\",\"B\",Master!H114)","v":"B"},{"$f":"IF(Master!I114=\"\",\"B\",Master!I114)","v":"B"},{"$f":"IF(Master!J114=\"\",\"B\",Master!J114)","v":2},{"$f":"IF(Master!K114=\"\",\"B\",Master!K114)","v":"B"},{"$f":"IF(Master!L114=\"\",\"B\",Master!L114)","v":"B"},{"$f":"IF(Master!M114=\"\",\"B\",Master!M114)","v":"B"}]
[{"$f":"Master!A115","v":"CN"},{"$f":"Master!B115","v":"WSDOT CN: HOT MIX ASPHALT PLACEMENT"},{"$f":"Master!C115","v":"WSDOT_ACB"},{"$f":"Master!D115","v":"ILT"},{"$f":"Master!E115","v":"Active"},{"$f":"Master!F115","v":0},{"$f":"Master!G115","v":0},{"$f":"IF(Master!H115=\"\",\"B\",Master!H115)","v":"B"},{"$f":"IF(Master!I115=\"\",\"B\",Master!I115)","v":"B"},{"$f":"IF(Master!J115=\"\",\"B\",Master!J115)","v":2},{"$f":"IF(Master!K115=\"\",\"B\",Master!K115)","v":"B"},{"$f":"IF(Master!L115=\"\",\"B\",Master!L115)","v":"B"},{"$f":"IF(Master!M115=\"\",\"B\",Master!M115)","v":"B"}]
[{"$f":"Master!A116","v":"CN"},{"$f":"Master!B116","v":"WSDOT CN: HOT MIX ASPHALT PRODUCTION & TESTING"},{"$f":"Master!C116","v":"WSDOT_BG9"},{"$f":"Master!D116","v":"ILT"},{"$f":"Master!E116","v":"Active"},{"$f":"Master!F116","v":0},{"$f":"Master!G116","v":0},{"$f":"IF(Master!H116=\"\",\"B\",Master!H116)","v":"B"},{"$f":"IF(Master!I116=\"\",\"B\",Master!I116)","v":"B"},{"$f":"IF(Master!J116=\"\",\"B\",Master!J116)","v":2},{"$f":"IF(Master!K116=\"\",\"B\",Master!K116)","v":"B"},{"$f":"IF(Master!L116=\"\",\"B\",Master!L116)","v":"B"},{"$f":"IF(Master!M116=\"\",\"B\",Master!M116)","v":"B"}]
[{"$f":"Master!A117","v":"CN"},{"$f":"Master!B117","v":"WSDOT CN: INSPECTING BRIDGE CONSTRUCTION"},{"$f":"Master!C117","v":"WSDOT_ACM"},{"$f":"Master!D117","v":"ILT"},{"$f":"Master!E117","v":"Active"},{"$f":"Master!F117","v":0},{"$f":"Master!G117","v":0},{"$f":"IF(Master!H117=\"\",\"B\",Master!H117)","v":"B"},{"$f":"IF(Master!I117=\"\",\"B\",Master!I117)","v":"B"},{"$f":"IF(Master!J117=\"\",\"B\",Master!J117)","v":2},{"$f":"IF(Master!K117=\"\",\"B\",Master!K117)","v":"B"},{"$f":"IF(Master!L117=\"\",\"B\",Master!L117)","v":"B"},{"$f":"IF(Master!M117=\"\",\"B\",Master!M117)","v":"B"}]
[{"$f":"Master!A118","v":"CN"},{"$f":"Master!B118","v":"WSDOT CN: INSPECTION OF PEDESTRIAN FACILITIES"},{"$f":"Master!C118","v":"WSDOT_IFP_OLT"},{"$f":"Master!D118","v":"OLT"},{"$f":"Master!E118","v":"Active"},{"$f":"Master!F118","v":0},{"$f":"Master!G118","v":0},{"$f":"IF(Master!H118=\"\",\"B\",Master!H118)","v":"B"},{"$f":"IF(Master!I118=\"\",\"B\",Master!I118)","v":2},{"$f":"IF(Master!J118=\"\",\"B\",Master!J118)","v":2},{"$f":"IF(Master!K118=\"\",\"B\",Master!K118)","v":2},{"$f":"IF(Master!L118=\"\",\"B\",Master!L118)","v":2},{"$f":"IF(Master!M118=\"\",\"B\",Master!M118)","v":"B"}]
[{"$f":"Master!A119","v":"CN"},{"$f":"Master!B119","v":"WSDOT CN: INSPECTOR'S ROLE FOR CHANGE ORDER WORK"},{"$f":"Master!C119","v":"WSDOT_DH9_OLT"},{"$f":"Master!D119","v":"OLT"},{"$f":"Master!E119","v":"Active"},{"$f":"Master!F119","v":0},{"$f":"Master!G119","v":0},{"$f":"IF(Master!H119=\"\",\"B\",Master!H119)","v":"B"},{"$f":"IF(Master!I119=\"\",\"B\",Master!I119)","v":"B"},{"$f":"IF(Master!J119=\"\",\"B\",Master!J119)","v":1},{"$f":"IF(Master!K119=\"\",\"B\",Master!K119)","v":2},{"$f":"IF(Master!L119=\"\",\"B\",Master!L119)","v":"B"},{"$f":"IF(Master!M119=\"\",\"B\",Master!M119)","v":"B"}]
[{"$f":"Master!A120","v":"CN"},{"$f":"Master!B120","v":"WSDOT CN:INSPECTOR’S USE OF CONTRACT RESOURCES"},{"$f":"Master!C120","v":"WSDOT_UR1_OLT"},{"$f":"Master!D120","v":"OLT"},{"$f":"Master!E120","v":"Active"},{"$f":"Master!F120","v":0},{"$f":"Master!G120","v":0},{"$f":"IF(Master!H120=\"\",\"B\",Master!H120)","v":"B"},{"$f":"IF(Master!I120=\"\",\"B\",Master!I120)","v":"B"},{"$f":"IF(Master!J120=\"\",\"B\",Master!J120)","v":1},{"$f":"IF(Master!K120=\"\",\"B\",Master!K120)","v":2},{"$f":"IF(Master!L120=\"\",\"B\",Master!L120)","v":"B"},{"$f":"IF(Master!M120=\"\",\"B\",Master!M120)","v":"B"}]
[{"$f":"Master!A121","v":"CN"},{"$f":"Master!B121","v":"WSDOT CN: NHI CONTRACT ADMINISTRATION CORE CURRICULUM"},{"$f":"Master!C121","v":"WSDOT_NHI CONTRACT ADM"},{"$f":"Master!D121","v":"ILT"},{"$f":"Master!E121","v":"Active"},{"$f":"Master!F121","v":0},{"$f":"Master!G121","v":0},{"$f":"IF(Master!H121=\"\",\"B\",Master!H121)","v":"B"},{"$f":"IF(Master!I121=\"\",\"B\",Master!I121)","v":"B"},{"$f":"IF(Master!J121=\"\",\"B\",Master!J121)","v":"B"},{"$f":"IF(Master!K121=\"\",\"B\",Master!K121)","v":"B"},{"$f":"IF(Master!L121=\"\",\"B\",Master!L121)","v":"B"},{"$f":"IF(Master!M121=\"\",\"B\",Master!M121)","v":"B"}]
[{"$f":"Master!A122","v":"CN"},{"$f":"Master!B122","v":"WSDOT CN:NUCLEAR GAUGE SAFETY AND OPERATION"},{"$f":"Master!C122","v":"WSDOT_DCX_OLT"},{"$f":"Master!D122","v":"ILT"},{"$f":"Master!E122","v":"Active"},{"$f":"Master!F122","v":0},{"$f":"Master!G122","v":0},{"$f":"IF(Master!H122=\"\",\"B\",Master!H122)","v":"B"},{"$f":"IF(Master!I122=\"\",\"B\",Master!I122)","v":"B"},{"$f":"IF(Master!J122=\"\",\"B\",Master!J122)","v":2},{"$f":"IF(Master!K122=\"\",\"B\",Master!K122)","v":"B"},{"$f":"IF(Master!L122=\"\",\"B\",Master!L122)","v":"B"},{"$f":"IF(Master!M122=\"\",\"B\",Master!M122)","v":"B"}]
[{"$f":"Master!A123","v":"CN"},{"$f":"Master!B123","v":"WSDOT CN: NUCLEAR GAUGE, EMBANKMENT/SURFACING/PAVEMENT APPLICATIONS"},{"$f":"Master!C123","v":"WSDOT_ANQ"},{"$f":"Master!D123","v":"ILT"},{"$f":"Master!E123","v":"Active"},{"$f":"Master!F123","v":0},{"$f":"Master!G123","v":0},{"$f":"IF(Master!H123=\"\",\"B\",Master!H123)","v":"B"},{"$f":"IF(Master!I123=\"\",\"B\",Master!I123)","v":"B"},{"$f":"IF(Master!J123=\"\",\"B\",Master!J123)","v":2},{"$f":"IF(Master!K123=\"\",\"B\",Master!K123)","v":"B"},{"$f":"IF(Master!L123=\"\",\"B\",Master!L123)","v":"B"},{"$f":"IF(Master!M123=\"\",\"B\",Master!M123)","v":"B"}]
[{"$f":"Master!A124","v":"CN"},{"$f":"Master!B124","v":"WSDOT CN: PAVEMENT REHABILITATION"},{"$f":"Master!C124","v":"WSDOT_BQL"},{"$f":"Master!D124","v":"ILT"},{"$f":"Master!E124","v":"Active"},{"$f":"Master!F124","v":0},{"$f":"Master!G124","v":0},{"$f":"IF(Master!H124=\"\",\"B\",Master!H124)","v":"B"},{"$f":"IF(Master!I124=\"\",\"B\",Master!I124)","v":"B"},{"$f":"IF(Master!J124=\"\",\"B\",Master!J124)","v":"B"},{"$f":"IF(Master!K124=\"\",\"B\",Master!K124)","v":"B"},{"$f":"IF(Master!L124=\"\",\"B\",Master!L124)","v":"B"},{"$f":"IF(Master!M124=\"\",\"B\",Master!M124)","v":"B"}]
[{"$f":"Master!A125","v":"CN"},{"$f":"Master!B125","v":"WSDOT CN: PCC FIELD TESTING PROCEDURES"},{"$f":"Master!C125","v":"WSDOT_ABT"},{"$f":"Master!D125","v":"ILT"},{"$f":"Master!E125","v":"Active"},{"$f":"Master!F125","v":0},{"$f":"Master!G125","v":0},{"$f":"IF(Master!H125=\"\",\"B\",Master!H125)","v":"B"},{"$f":"IF(Master!I125=\"\",\"B\",Master!I125)","v":"B"},{"$f":"IF(Master!J125=\"\",\"B\",Master!J125)","v":"B"},{"$f":"IF(Master!K125=\"\",\"B\",Master!K125)","v":"B"},{"$f":"IF(Master!L125=\"\",\"B\",Master!L125)","v":"B"},{"$f":"IF(Master!M125=\"\",\"B\",Master!M125)","v":"B"}]
[{"$f":"Master!A126","v":"CN"},{"$f":"Master!B126","v":"WSDOT CN: PILE DRIVING INSPECTION"},{"$f":"Master!C126","v":"Piling_OLT"},{"$f":"Master!D126","v":"OLT"},{"$f":"Master!E126","v":"Active"},{"$f":"Master!F126","v":0},{"$f":"Master!G126","v":0},{"$f":"IF(Master!H126=\"\",\"B\",Master!H126)","v":"B"},{"$f":"IF(Master!I126=\"\",\"B\",Master!I126)","v":"B"},{"$f":"IF(Master!J126=\"\",\"B\",Master!J126)","v":"B"},{"$f":"IF(Master!K126=\"\",\"B\",Master!K126)","v":"B"},{"$f":"IF(Master!L126=\"\",\"B\",Master!L126)","v":"B"},{"$f":"IF(Master!M126=\"\",\"B\",Master!M126)","v":"B"}]
[{"$f":"Master!A127","v":"CN"},{"$f":"Master!B127","v":"WSDOT CN: PORTLAND CEMENT CONCRETE INSPECTION"},{"$f":"Master!C127","v":"WSDOT_PCC_OLT"},{"$f":"Master!D127","v":"OLT"},{"$f":"Master!E127","v":"Active"},{"$f":"Master!F127","v":0},{"$f":"Master!G127","v":0},{"$f":"IF(Master!H127=\"\",\"B\",Master!H127)","v":"B"},{"$f":"IF(Master!I127=\"\",\"B\",Master!I127)","v":"B"},{"$f":"IF(Master!J127=\"\",\"B\",Master!J127)","v":2},{"$f":"IF(Master!K127=\"\",\"B\",Master!K127)","v":"B"},{"$f":"IF(Master!L127=\"\",\"B\",Master!L127)","v":"B"},{"$f":"IF(Master!M127=\"\",\"B\",Master!M127)","v":"B"}]
[{"$f":"Master!A128","v":"CN"},{"$f":"Master!B128","v":"WSDOT CN: PRODUCING SOURCE DOCUMENTS"},{"$f":"Master!C128","v":"WSDOT_C1H_OLT"},{"$f":"Master!D128","v":"OLT"},{"$f":"Master!E128","v":"Active"},{"$f":"Master!F128","v":0},{"$f":"Master!G128","v":0},{"$f":"IF(Master!H128=\"\",\"B\",Master!H128)","v":"B"},{"$f":"IF(Master!I128=\"\",\"B\",Master!I128)","v":"B"},{"$f":"IF(Master!J128=\"\",\"B\",Master!J128)","v":"B"},{"$f":"IF(Master!K128=\"\",\"B\",Master!K128)","v":"B"},{"$f":"IF(Master!L128=\"\",\"B\",Master!L128)","v":"B"},{"$f":"IF(Master!M128=\"\",\"B\",Master!M128)","v":"B"}]
[{"$f":"Master!A129","v":"CN"},{"$f":"Master!B129","v":"WSDOT CN: SIGN BRIDGES AND CANTILEVER SIGNS"},{"$f":"Master!C129","v":"WSDOT_SBI_OLT"},{"$f":"Master!D129","v":"OLT"},{"$f":"Master!E129","v":"Active"},{"$f":"Master!F129","v":0},{"$f":"Master!G129","v":0},{"$f":"IF(Master!H129=\"\",\"B\",Master!H129)","v":"B"},{"$f":"IF(Master!I129=\"\",\"B\",Master!I129)","v":"B"},{"$f":"IF(Master!J129=\"\",\"B\",Master!J129)","v":2},{"$f":"IF(Master!K129=\"\",\"B\",Master!K129)","v":2},{"$f":"IF(Master!L129=\"\",\"B\",Master!L129)","v":"B"},{"$f":"IF(Master!M129=\"\",\"B\",Master!M129)","v":"B"}]
[{"$f":"Master!A130","v":"CN"},{"$f":"Master!B130","v":"WSDOT CN: SIGN INSPECTOR DUTIES"},{"$f":"Master!C130","v":"WSDOT_SID_OLT"},{"$f":"Master!D130","v":"OLT"},{"$f":"Master!E130","v":"Active"},{"$f":"Master!F130","v":0},{"$f":"Master!G130","v":0},{"$f":"IF(Master!H130=\"\",\"B\",Master!H130)","v":"B"},{"$f":"IF(Master!I130=\"\",\"B\",Master!I130)","v":"B"},{"$f":"IF(Master!J130=\"\",\"B\",Master!J130)","v":"B"},{"$f":"IF(Master!K130=\"\",\"B\",Master!K130)","v":2},{"$f":"IF(Master!L130=\"\",\"B\",Master!L130)","v":"B"},{"$f":"IF(Master!M130=\"\",\"B\",Master!M130)","v":"B"}]
[{"$f":"Master!A131","v":"CN"},{"$f":"Master!B131","v":"WSDOT CN: SIGN INSTALLATION INSPECTION"},{"$f":"Master!C131","v":"WSDOT_DFV"},{"$f":"Master!D131","v":"ILT"},{"$f":"Master!E131","v":"Active"},{"$f":"Master!F131","v":0},{"$f":"Master!G131","v":0},{"$f":"IF(Master!H131=\"\",\"B\",Master!H131)","v":"B"},{"$f":"IF(Master!I131=\"\",\"B\",Master!I131)","v":"B"},{"$f":"IF(Master!J131=\"\",\"B\",Master!J131)","v":"B"},{"$f":"IF(Master!K131=\"\",\"B\",Master!K131)","v":2},{"$f":"IF(Master!L131=\"\",\"B\",Master!L131)","v":"B"},{"$f":"IF(Master!M131=\"\",\"B\",Master!M131)","v":"B"}]
[{"$f":"Master!A132","v":"CN"},{"$f":"Master!B132","v":"WSDOT CN: SMALL AND LARGE SIGN INSPECTION REVIEW"},{"$f":"Master!C132","v":"WSDOT_SLR_OLT"},{"$f":"Master!D132","v":"OLT"},{"$f":"Master!E132","v":"Active"},{"$f":"Master!F132","v":0},{"$f":"Master!G132","v":0},{"$f":"IF(Master!H132=\"\",\"B\",Master!H132)","v":"B"},{"$f":"IF(Master!I132=\"\",\"B\",Master!I132)","v":"B"},{"$f":"IF(Master!J132=\"\",\"B\",Master!J132)","v":2},{"$f":"IF(Master!K132=\"\",\"B\",Master!K132)","v":2},{"$f":"IF(Master!L132=\"\",\"B\",Master!L132)","v":"B"},{"$f":"IF(Master!M132=\"\",\"B\",Master!M132)","v":"B"}]
[{"$f":"Master!A133","v":"CN"},{"$f":"Master!B133","v":"WSDOT CN: WORK ZONE TRAFFIC CONTROL"},{"$f":"Master!C133","v":"WSDOT_WZTC_OLT"},{"$f":"Master!D133","v":"OLT"},{"$f":"Master!E133","v":"Active"},{"$f":"Master!F133","v":0},{"$f":"Master!G133","v":0},{"$f":"IF(Master!H133=\"\",\"B\",Master!H133)","v":"B"},{"$f":"IF(Master!I133=\"\",\"B\",Master!I133)","v":"B"},{"$f":"IF(Master!J133=\"\",\"B\",Master!J133)","v":1},{"$f":"IF(Master!K133=\"\",\"B\",Master!K133)","v":1},{"$f":"IF(Master!L133=\"\",\"B\",Master!L133)","v":"B"},{"$f":"IF(Master!M133=\"\",\"B\",Master!M133)","v":"B"}]
[{"$f":"Master!A134","v":"CN"},{"$f":"Master!B134","v":"WSDOT DB: ALTERNATIVE TECHNICAL CONCEPT (ATC) REVIEW PROCESS"},{"$f":"Master!C134","v":"WSDOT_DB_ATC"},{"$f":"Master!D134","v":"ILT"},{"$f":"Master!E134","v":"Active"},{"$f":"Master!F134","v":0},{"$f":"Master!G134","v":0},{"$f":"IF(Master!H134=\"\",\"B\",Master!H134)","v":"B"},{"$f":"IF(Master!I134=\"\",\"B\",Master!I134)","v":"B"},{"$f":"IF(Master!J134=\"\",\"B\",Master!J134)","v":"B"},{"$f":"IF(Master!K134=\"\",\"B\",Master!K134)","v":"B"},{"$f":"IF(Master!L134=\"\",\"B\",Master!L134)","v":"B"},{"$f":"IF(Master!M134=\"\",\"B\",Master!M134)","v":"B"}]
[{"$f":"Master!A135","v":"CN"},{"$f":"Master!B135","v":"WSDOT DB: INTRODUCTION TO DESIGN-BUILD"},{"$f":"Master!C135","v":"WSDOT_DB_IDB"},{"$f":"Master!D135","v":"ILT"},{"$f":"Master!E135","v":"Active"},{"$f":"Master!F135","v":0},{"$f":"Master!G135","v":0},{"$f":"IF(Master!H135=\"\",\"B\",Master!H135)","v":"B"},{"$f":"IF(Master!I135=\"\",\"B\",Master!I135)","v":"B"},{"$f":"IF(Master!J135=\"\",\"B\",Master!J135)","v":"B"},{"$f":"IF(Master!K135=\"\",\"B\",Master!K135)","v":"B"},{"$f":"IF(Master!L135=\"\",\"B\",Master!L135)","v":"B"},{"$f":"IF(Master!M135=\"\",\"B\",Master!M135)","v":"B"}]
[{"$f":"Master!A136","v":"CN"},{"$f":"Master!B136","v":"WSDOT DB: DESIGN-BUILD BEST PRACTICES IN TRANSPORTATION"},{"$f":"Master!C136","v":"WSDOT_DB_BPT"},{"$f":"Master!D136","v":"ILT"},{"$f":"Master!E136","v":"Active"},{"$f":"Master!F136","v":0},{"$f":"Master!G136","v":0},{"$f":"IF(Master!H136=\"\",\"B\",Master!H136)","v":"B"},{"$f":"IF(Master!I136=\"\",\"B\",Master!I136)","v":"B"},{"$f":"IF(Master!J136=\"\",\"B\",Master!J136)","v":"B"},{"$f":"IF(Master!K136=\"\",\"B\",Master!K136)","v":"B"},{"$f":"IF(Master!L136=\"\",\"B\",Master!L136)","v":"B"},{"$f":"IF(Master!M136=\"\",\"B\",Master!M136)","v":"B"}]
[{"$f":"Master!A137","v":"CN"},{"$f":"Master!B137","v":"WSDOT DB: DESIGN-BUILD CLOSEOUT"},{"$f":"Master!C137","v":"WSDOT_DB_CO"},{"$f":"Master!D137","v":"ILT"},{"$f":"Master!E137","v":"Active"},{"$f":"Master!F137","v":0},{"$f":"Master!G137","v":0},{"$f":"IF(Master!H137=\"\",\"B\",Master!H137)","v":"B"},{"$f":"IF(Master!I137=\"\",\"B\",Master!I137)","v":"B"},{"$f":"IF(Master!J137=\"\",\"B\",Master!J137)","v":"B"},{"$f":"IF(Master!K137=\"\",\"B\",Master!K137)","v":"B"},{"$f":"IF(Master!L137=\"\",\"B\",Master!L137)","v":"B"},{"$f":"IF(Master!M137=\"\",\"B\",Master!M137)","v":"B"}]
[{"$f":"Master!A138","v":"CN"},{"$f":"Master!B138","v":"WSDOT DB: DESIGN-BUILD INSTRUCTIONS TO PROPOSERS (ITP) AND REQUEST FOR PROPOSALS (RFP)"},{"$f":"Master!C138","v":"WSDOT_DB_ITP_RFP"},{"$f":"Master!D138","v":"ILT"},{"$f":"Master!E138","v":"Active"},{"$f":"Master!F138","v":0},{"$f":"Master!G138","v":0},{"$f":"IF(Master!H138=\"\",\"B\",Master!H138)","v":"B"},{"$f":"IF(Master!I138=\"\",\"B\",Master!I138)","v":"B"},{"$f":"IF(Master!J138=\"\",\"B\",Master!J138)","v":"B"},{"$f":"IF(Master!K138=\"\",\"B\",Master!K138)","v":"B"},{"$f":"IF(Master!L138=\"\",\"B\",Master!L138)","v":"B"},{"$f":"IF(Master!M138=\"\",\"B\",Master!M138)","v":"B"}]
[{"$f":"Master!A139","v":"CN"},{"$f":"Master!B139","v":"WSDOT DB: DESIGN-BUILD OFFICE MANAGEMENT AND CONTRACT ADMINISTRATION"},{"$f":"Master!C139","v":"WSDOT_DB_CA"},{"$f":"Master!D139","v":"ILT"},{"$f":"Master!E139","v":"Active"},{"$f":"Master!F139","v":0},{"$f":"Master!G139","v":0},{"$f":"IF(Master!H139=\"\",\"B\",Master!H139)","v":"B"},{"$f":"IF(Master!I139=\"\",\"B\",Master!I139)","v":"B"},{"$f":"IF(Master!J139=\"\",\"B\",Master!J139)","v":"B"},{"$f":"IF(Master!K139=\"\",\"B\",Master!K139)","v":"B"},{"$f":"IF(Master!L139=\"\",\"B\",Master!L139)","v":"B"},{"$f":"IF(Master!M139=\"\",\"B\",Master!M139)","v":"B"}]
[{"$f":"Master!A140","v":"CN"},{"$f":"Master!B140","v":"WSDOT DB: DESIGN-BUILD STARTUP AND REQUEST FOR QUALIFICATIONS (RFQ\") DEVELOPMENT"},{"$f":"Master!C140","v":"WSDOT_DB_RFQ"},{"$f":"Master!D140","v":"ILT"},{"$f":"Master!E140","v":"Active"},{"$f":"Master!F140","v":0},{"$f":"Master!G140","v":0},{"$f":"IF(Master!H140=\"\",\"B\",Master!H140)","v":"B"},{"$f":"IF(Master!I140=\"\",\"B\",Master!I140)","v":"B"},{"$f":"IF(Master!J140=\"\",\"B\",Master!J140)","v":"B"},{"$f":"IF(Master!K140=\"\",\"B\",Master!K140)","v":"B"},{"$f":"IF(Master!L140=\"\",\"B\",Master!L140)","v":"B"},{"$f":"IF(Master!M140=\"\",\"B\",Master!M140)","v":"B"}]
[{"$f":"Master!A141","v":"CN"},{"$f":"Master!B141","v":"WSDOT DB: ENVIRONMENTAL IN DESIGN-BUILD"},{"$f":"Master!C141","v":"WSDOT_DB_E"},{"$f":"Master!D141","v":"ILT"},{"$f":"Master!E141","v":"Active"},{"$f":"Master!F141","v":0},{"$f":"Master!G141","v":0},{"$f":"IF(Master!H141=\"\",\"B\",Master!H141)","v":"B"},{"$f":"IF(Master!I141=\"\",\"B\",Master!I141)","v":"B"},{"$f":"IF(Master!J141=\"\",\"B\",Master!J141)","v":"B"},{"$f":"IF(Master!K141=\"\",\"B\",Master!K141)","v":"B"},{"$f":"IF(Master!L141=\"\",\"B\",Master!L141)","v":"B"},{"$f":"IF(Master!M141=\"\",\"B\",Master!M141)","v":"B"}]
[{"$f":"Master!A142","v":"CN"},{"$f":"Master!B142","v":"WSDOT DB: LESSONS LEARNED"},{"$f":"Master!C142","v":"WSDOT_DB_LL"},{"$f":"Master!D142","v":"ILT"},{"$f":"Master!E142","v":"Active"},{"$f":"Master!F142","v":0},{"$f":"Master!G142","v":0},{"$f":"IF(Master!H142=\"\",\"B\",Master!H142)","v":"B"},{"$f":"IF(Master!I142=\"\",\"B\",Master!I142)","v":"B"},{"$f":"IF(Master!J142=\"\",\"B\",Master!J142)","v":"B"},{"$f":"IF(Master!K142=\"\",\"B\",Master!K142)","v":"B"},{"$f":"IF(Master!L142=\"\",\"B\",Master!L142)","v":"B"},{"$f":"IF(Master!M142=\"\",\"B\",Master!M142)","v":"B"}]
[{"$f":"Master!A143","v":"CN"},{"$f":"Master!B143","v":"WSDOT DB: PROPOSAL EVALUATION"},{"$f":"Master!C143","v":"WSDOT_DB_PE"},{"$f":"Master!D143","v":"ILT"},{"$f":"Master!E143","v":"Active"},{"$f":"Master!F143","v":0},{"$f":"Master!G143","v":0},{"$f":"IF(Master!H143=\"\",\"B\",Master!H143)","v":"B"},{"$f":"IF(Master!I143=\"\",\"B\",Master!I143)","v":"B"},{"$f":"IF(Master!J143=\"\",\"B\",Master!J143)","v":"B"},{"$f":"IF(Master!K143=\"\",\"B\",Master!K143)","v":"B"},{"$f":"IF(Master!L143=\"\",\"B\",Master!L143)","v":"B"},{"$f":"IF(Master!M143=\"\",\"B\",Master!M143)","v":"B"}]
[{"$f":"Master!A144","v":"CN"},{"$f":"Master!B144","v":"WSDOT DB: QUALITY IN DESIGN-BUILD"},{"$f":"Master!C144","v":"WSDOT_DB_Q"},{"$f":"Master!D144","v":"ILT"},{"$f":"Master!E144","v":"Active"},{"$f":"Master!F144","v":0},{"$f":"Master!G144","v":0},{"$f":"IF(Master!H144=\"\",\"B\",Master!H144)","v":"B"},{"$f":"IF(Master!I144=\"\",\"B\",Master!I144)","v":"B"},{"$f":"IF(Master!J144=\"\",\"B\",Master!J144)","v":"B"},{"$f":"IF(Master!K144=\"\",\"B\",Master!K144)","v":"B"},{"$f":"IF(Master!L144=\"\",\"B\",Master!L144)","v":"B"},{"$f":"IF(Master!M144=\"\",\"B\",Master!M144)","v":"B"}]
[{"$f":"Master!A145","v":"CN"},{"$f":"Master!B145","v":"WSDOT DB: STATEMENT OF QUALIFICATIONS (SOQ) EVALUATION"},{"$f":"Master!C145","v":"WSDOT_DB_SOQE"},{"$f":"Master!D145","v":"ILT"},{"$f":"Master!E145","v":"Active"},{"$f":"Master!F145","v":0},{"$f":"Master!G145","v":0},{"$f":"IF(Master!H145=\"\",\"B\",Master!H145)","v":"B"},{"$f":"IF(Master!I145=\"\",\"B\",Master!I145)","v":"B"},{"$f":"IF(Master!J145=\"\",\"B\",Master!J145)","v":"B"},{"$f":"IF(Master!K145=\"\",\"B\",Master!K145)","v":"B"},{"$f":"IF(Master!L145=\"\",\"B\",Master!L145)","v":"B"},{"$f":"IF(Master!M145=\"\",\"B\",Master!M145)","v":"B"}]
[{"$f":"Master!A146","v":"CN"},{"$f":"Master!B146","v":"**WSDOT DB: EVALUATION"},{"$f":"Master!C146","v":0},{"$f":"Master!D146","v":"ILT"},{"$f":"Master!E146","v":"Under Development"},{"$f":"Master!F146","v":"Q1 2019"},{"$f":"Master!G146","v":0},{"$f":"IF(Master!H146=\"\",\"B\",Master!H146)","v":"B"},{"$f":"IF(Master!I146=\"\",\"B\",Master!I146)","v":"B"},{"$f":"IF(Master!J146=\"\",\"B\",Master!J146)","v":"B"},{"$f":"IF(Master!K146=\"\",\"B\",Master!K146)","v":"B"},{"$f":"IF(Master!L146=\"\",\"B\",Master!L146)","v":"B"},{"$f":"IF(Master!M146=\"\",\"B\",Master!M146)","v":"B"}]
[{"$f":"Master!A147","v":"CN"},{"$f":"Master!B147","v":"WSDOT DB: DESIGN-BUILD INVOICE PROCESSING"},{"$f":"Master!C147","v":0},{"$f":"Master!D147","v":"ILT"},{"$f":"Master!E147","v":"Active"},{"$f":"Master!F147","v":0},{"$f":"Master!G147","v":0},{"$f":"IF(Master!H147=\"\",\"B\",Master!H147)","v":"B"},{"$f":"IF(Master!I147=\"\",\"B\",Master!I147)","v":"B"},{"$f":"IF(Master!J147=\"\",\"B\",Master!J147)","v":"B"},{"$f":"IF(Master!K147=\"\",\"B\",Master!K147)","v":"B"},{"$f":"IF(Master!L147=\"\",\"B\",Master!L147)","v":"B"},{"$f":"IF(Master!M147=\"\",\"B\",Master!M147)","v":"B"}]
[{"$f":"Master!A148","v":"CN"},{"$f":"Master!B148","v":"WSDOT DB: INTERNAL AND EXTERNAL DEBRIEFING"},{"$f":"Master!C148","v":0},{"$f":"Master!D148","v":"ILT"},{"$f":"Master!E148","v":"Active"},{"$f":"Master!F148","v":0},{"$f":"Master!G148","v":0},{"$f":"IF(Master!H148=\"\",\"B\",Master!H148)","v":"B"},{"$f":"IF(Master!I148=\"\",\"B\",Master!I148)","v":"B"},{"$f":"IF(Master!J148=\"\",\"B\",Master!J148)","v":"B"},{"$f":"IF(Master!K148=\"\",\"B\",Master!K148)","v":"B"},{"$f":"IF(Master!L148=\"\",\"B\",Master!L148)","v":"B"},{"$f":"IF(Master!M148=\"\",\"B\",Master!M148)","v":"B"}]
[{"$f":"Master!A149","v":"CN"},{"$f":"Master!B149","v":"WSDOT DB: DESIGN-BUILD QUALITY VERIFICATION"},{"$f":"Master!C149","v":0},{"$f":"Master!D149","v":"ILT"},{"$f":"Master!E149","v":"Active"},{"$f":"Master!F149","v":0},{"$f":"Master!G149","v":0},{"$f":"IF(Master!H149=\"\",\"B\",Master!H149)","v":"B"},{"$f":"IF(Master!I149=\"\",\"B\",Master!I149)","v":"B"},{"$f":"IF(Master!J149=\"\",\"B\",Master!J149)","v":"B"},{"$f":"IF(Master!K149=\"\",\"B\",Master!K149)","v":"B"},{"$f":"IF(Master!L149=\"\",\"B\",Master!L149)","v":"B"},{"$f":"IF(Master!M149=\"\",\"B\",Master!M149)","v":"B"}]
[{"$f":"Master!A150","v":"CN"},{"$f":"Master!B150","v":"**WSDOT DB: QV ADMINISTRATION"},{"$f":"Master!C150","v":0},{"$f":"Master!D150","v":"ILT"},{"$f":"Master!E150","v":"Under Development"},{"$f":"Master!F150","v":"Q1 2019"},{"$f":"Master!G150","v":0},{"$f":"IF(Master!H150=\"\",\"B\",Master!H150)","v":"B"},{"$f":"IF(Master!I150=\"\",\"B\",Master!I150)","v":"B"},{"$f":"IF(Master!J150=\"\",\"B\",Master!J150)","v":"B"},{"$f":"IF(Master!K150=\"\",\"B\",Master!K150)","v":"B"},{"$f":"IF(Master!L150=\"\",\"B\",Master!L150)","v":"B"},{"$f":"IF(Master!M150=\"\",\"B\",Master!M150)","v":"B"}]
[{"$f":"Master!A151","v":"CN"},{"$f":"Master!B151","v":"**WSDOT DB: RISK ANALYSIS AND ALLOCATION FOR DB CONTRACTS"},{"$f":"Master!C151","v":0},{"$f":"Master!D151","v":"ILT"},{"$f":"Master!E151","v":"Under Development"},{"$f":"Master!F151","v":"Q1 2019"},{"$f":"Master!G151","v":0},{"$f":"IF(Master!H151=\"\",\"B\",Master!H151)","v":"B"},{"$f":"IF(Master!I151=\"\",\"B\",Master!I151)","v":"B"},{"$f":"IF(Master!J151=\"\",\"B\",Master!J151)","v":"B"},{"$f":"IF(Master!K151=\"\",\"B\",Master!K151)","v":"B"},{"$f":"IF(Master!L151=\"\",\"B\",Master!L151)","v":"B"},{"$f":"IF(Master!M151=\"\",\"B\",Master!M151)","v":"B"}]
[{"$f":"Master!A152","v":"Development Division"},null,null,null,null,null,null,{"$f":"IF(Master!S152=\"\",\"B\",Master!S152)","v":"B"},{"$f":"IF(Master!AD152=\"\",\"B\",Master!AD152)","v":"B"},{"$f":"IF(Master!AO152=\"\",\"B\",Master!AO152)","v":"B"},{"$f":"IF(Master!AZ152=\"\",\"B\",Master!AZ152)","v":"B"},{"$f":"IF(Master!BK152=\"\",\"B\",Master!BK152)","v":"B"},{"$f":"IF(Master!BV152=\"\",\"B\",Master!BV152)","v":"B"}]
[{"$f":"Master!A153","v":"Design"},null,null,null,null,null,null,{"$f":"IF(Master!S153=\"\",\"B\",Master!S153)","v":"B"},{"$f":"IF(Master!AD153=\"\",\"B\",Master!AD153)","v":"B"},{"$f":"IF(Master!AO153=\"\",\"B\",Master!AO153)","v":"B"},{"$f":"IF(Master!AZ153=\"\",\"B\",Master!AZ153)","v":"B"},{"$f":"IF(Master!BK153=\"\",\"B\",Master!BK153)","v":"B"},{"$f":"IF(Master!BV153=\"\",\"B\",Master!BV153)","v":"B"}]
[{"$f":"Master!A154","v":"DES"},{"$f":"Master!B154","v":"CONTRACT PLANS REVIEW (SELF-STUDY)"},{"$f":"Master!C154","v":"Paper and Pencil"},{"$f":"Master!D154","v":"SS"},{"$f":"Master!E154","v":"Active"},{"$f":"Master!F154","v":0},{"$f":"Master!H154","v":"E-Learning option as well.  Updated in 2013."},{"$f":"IF(Master!S154=\"\",\"B\",Master!S154)","v":"R"},{"$f":"IF(Master!AD154=\"\",\"B\",Master!AD154)","v":"R"},{"$f":"IF(Master!AO154=\"\",\"B\",Master!AO154)","v":1},{"$f":"IF(Master!AZ154=\"\",\"B\",Master!AZ154)","v":1},{"$f":"IF(Master!BK154=\"\",\"B\",Master!BK154)","v":"B"},{"$f":"IF(Master!BV154=\"\",\"B\",Master!BV154)","v":"B"}]
[{"$f":"Master!A155","v":"DES"},{"$f":"Master!B155","v":"CONTRACT PLANS READING (SELF-STUDY)"},{"$f":"Master!C155","v":"Paper and Pencil"},{"$f":"Master!D155","v":"SS"},{"$f":"Master!E155","v":"Active"},{"$f":"Master!F155","v":0},{"$f":"Master!H155","v":"Obtain material through Staff Development."},{"$f":"IF(Master!S155=\"\",\"B\",Master!S155)","v":"R"},{"$f":"IF(Master!AD155=\"\",\"B\",Master!AD155)","v":"R"},{"$f":"IF(Master!AO155=\"\",\"B\",Master!AO155)","v":1},{"$f":"IF(Master!AZ155=\"\",\"B\",Master!AZ155)","v":1},{"$f":"IF(Master!BK155=\"\",\"B\",Master!BK155)","v":"B"},{"$f":"IF(Master!BV155=\"\",\"B\",Master!BV155)","v":"B"}]
[{"$f":"Master!A156","v":"DES"},{"$f":"Master!B156","v":"WSDOT DES: CONTRACT PLANS & ESTIMATE PREPARATION"},{"$f":"Master!C156","v":"WSDOT_A4J"},{"$f":"Master!D156","v":"ILT"},{"$f":"Master!E156","v":"Inactive"},{"$f":"Master!F156","v":"None"},{"$f":"Master!H156","v":0},{"$f":"IF(Master!S156=\"\",\"B\",Master!S156)","v":"B"},{"$f":"IF(Master!AD156=\"\",\"B\",Master!AD156)","v":"B"},{"$f":"IF(Master!AO156=\"\",\"B\",Master!AO156)","v":"B"},{"$f":"IF(Master!AZ156=\"\",\"B\",Master!AZ156)","v":"B"},{"$f":"IF(Master!BK156=\"\",\"B\",Master!BK156)","v":"B"},{"$f":"IF(Master!BV156=\"\",\"B\",Master!BV156)","v":2}]
[{"$f":"Master!A157","v":"DES"},{"$f":"Master!B157","v":"WSDOT DES: CONTRACT PROVISION PREPARATION"},{"$f":"Master!C157","v":"WSDOT_BGN"},{"$f":"Master!D157","v":"ILT"},{"$f":"Master!E157","v":"Inactive"},{"$f":"Master!F157","v":"None"},{"$f":"Master!H157","v":0},{"$f":"IF(Master!S157=\"\",\"B\",Master!S157)","v":"B"},{"$f":"IF(Master!AD157=\"\",\"B\",Master!AD157)","v":"B"},{"$f":"IF(Master!AO157=\"\",\"B\",Master!AO157)","v":"B"},{"$f":"IF(Master!AZ157=\"\",\"B\",Master!AZ157)","v":"B"},{"$f":"IF(Master!BK157=\"\",\"B\",Master!BK157)","v":"B"},{"$f":"IF(Master!BV157=\"\",\"B\",Master!BV157)","v":"B"}]
[{"$f":"Master!A158","v":"DES"},{"$f":"Master!B158","v":"WSDOT DESIGN DOCUMENTATION"},{"$f":"Master!C158","v":"WSDOT DES: Design Documentation"},{"$f":"Master!D158","v":"ILT"},{"$f":"Master!E158","v":"Active"},{"$f":"Master!F158","v":0},{"$f":"Master!H158","v":"Contact ASDE; course material is at https://www.wsdot.wa.gov/Design/Support.htm."},{"$f":"IF(Master!S158=\"\",\"B\",Master!S158)","v":"B"},{"$f":"IF(Master!AD158=\"\",\"B\",Master!AD158)","v":"B"},{"$f":"IF(Master!AO158=\"\",\"B\",Master!AO158)","v":"B"},{"$f":"IF(Master!AZ158=\"\",\"B\",Master!AZ158)","v":"B"},{"$f":"IF(Master!BK158=\"\",\"B\",Master!BK158)","v":"B"},{"$f":"IF(Master!BV158=\"\",\"B\",Master!BV158)","v":"B"}]
[{"$f":"Master!A159","v":"DES"},{"$f":"Master!B159","v":"WSDOT DES: INTERSECTION DESIGN"},{"$f":"Master!C159","v":"WSDOT_CBD"},{"$f":"Master!D159","v":"ILT"},{"$f":"Master!E159","v":"Active"},{"$f":"Master!F159","v":0},{"$f":"Master!H159","v":"Course  updated in 2019,  delivered to all regions; class delivered by request."},{"$f":"IF(Master!S159=\"\",\"B\",Master!S159)","v":"B"},{"$f":"IF(Master!AD159=\"\",\"B\",Master!AD159)","v":"B"},{"$f":"IF(Master!AO159=\"\",\"B\",Master!AO159)","v":"B"},{"$f":"IF(Master!AZ159=\"\",\"B\",Master!AZ159)","v":"B"},{"$f":"IF(Master!BK159=\"\",\"B\",Master!BK159)","v":"B"},{"$f":"IF(Master!BV159=\"\",\"B\",Master!BV159)","v":"B"}]
[{"$f":"Master!A160","v":"DES"},{"$f":"Master!B160","v":"WSDOT DES: PROJECT DEVELOPMENT PROCESS"},{"$f":"Master!C160","v":"WSDOT_CF4"},{"$f":"Master!D160","v":"ILT"},{"$f":"Master!E160","v":"Active"},{"$f":"Master!F160","v":"None"},{"$f":"Master!H160","v":"Updated January 2020; will deliver to regions by 6/30/2021"},{"$f":"IF(Master!S160=\"\",\"B\",Master!S160)","v":2},{"$f":"IF(Master!AD160=\"\",\"B\",Master!AD160)","v":2},{"$f":"IF(Master!AO160=\"\",\"B\",Master!AO160)","v":2},{"$f":"IF(Master!AZ160=\"\",\"B\",Master!AZ160)","v":1},{"$f":"IF(Master!BK160=\"\",\"B\",Master!BK160)","v":"B"},{"$f":"IF(Master!BV160=\"\",\"B\",Master!BV160)","v":"B"}]
[{"$f":"Master!A161","v":"DES"},{"$f":"Master!B161","v":"WSDOT PM: SCHEDULING BASICS"},{"$f":"Master!C161","v":"WSDOT_CB5"},{"$f":"Master!D161","v":"ILT"},{"$f":"Master!E161","v":"Inactive"},{"$f":"Master!F161","v":"None"},{"$f":"Master!H161","v":0},{"$f":"IF(Master!S161=\"\",\"B\",Master!S161)","v":2},{"$f":"IF(Master!AD161=\"\",\"B\",Master!AD161)","v":2},{"$f":"IF(Master!AO161=\"\",\"B\",Master!AO161)","v":2},{"$f":"IF(Master!AZ161=\"\",\"B\",Master!AZ161)","v":2},{"$f":"IF(Master!BK161=\"\",\"B\",Master!BK161)","v":2},{"$f":"IF(Master!BV161=\"\",\"B\",Master!BV161)","v":2}]
[{"$f":"Master!A162","v":"DES"},{"$f":"Master!B162","v":"AASHTO T3 CPM SCHEDULING"},{"$f":"Master!C162","v":"Resources:\nCPM Scheduling (2 PDHs)\nCPM Scheduling (3 PDHs)"},{"$f":"Master!D162","v":"OLT"},{"$f":"Master!E162","v":"Active"},{"$f":"Master!F162","v":0},{"$f":"Master!H162","v":"The online CPM training is free for WSDOT employees. To sign up, create an AASHTO account (use your WSDOT email address for the username) then navigate to the CPM training and add it to your cart. Follow the instructions that are emailed to you. There are a variety of other courses available to WSDOT employees at no cost."}]
[{"$f":"Master!A163","v":"DES"},{"$f":"Master!B163","v":"WSDOT DES: RIGHT OF WAY PLANS PREPARATION"},{"$f":"Master!C163","v":"WSDOT_BCN"},{"$f":"Master!D163","v":"ILT"},{"$f":"Master!E163","v":"Inactive"},{"$f":"Master!F163","v":"None"},{"$f":"Master!H163","v":0},{"$f":"IF(Master!S163=\"\",\"B\",Master!S163)","v":"B"},{"$f":"IF(Master!AD163=\"\",\"B\",Master!AD163)","v":"B"},{"$f":"IF(Master!AO163=\"\",\"B\",Master!AO163)","v":"B"},{"$f":"IF(Master!AZ163=\"\",\"B\",Master!AZ163)","v":"B"},{"$f":"IF(Master!BK163=\"\",\"B\",Master!BK163)","v":"B"},{"$f":"IF(Master!BV163=\"\",\"B\",Master!BV163)","v":"B"}]
[{"$f":"Master!A164","v":"DES"},{"$f":"Master!B164","v":"WSDOT DES: ROADSIDE SAFETY"},{"$f":"Master!C164","v":"WSDOT_B74"},{"$f":"Master!D164","v":"ILT"},{"$f":"Master!E164","v":"Inactive"},{"$f":"Master!F164","v":"None"},{"$f":"Master!H164","v":0},{"$f":"IF(Master!S164=\"\",\"B\",Master!S164)","v":"B"},{"$f":"IF(Master!AD164=\"\",\"B\",Master!AD164)","v":"B"},{"$f":"IF(Master!AO164=\"\",\"B\",Master!AO164)","v":"B"},{"$f":"IF(Master!AZ164=\"\",\"B\",Master!AZ164)","v":"B"},{"$f":"IF(Master!BK164=\"\",\"B\",Master!BK164)","v":"B"},{"$f":"IF(Master!BV164=\"\",\"B\",Master!BV164)","v":"B"}]
[{"$f":"Master!A165","v":"DES"},{"$f":"Master!B165","v":"WSDOT DES: ROADWAY GEOMETRIC DESIGN"},{"$f":"Master!C165","v":"WSDOT_BWE"},{"$f":"Master!D165","v":"ILT"},{"$f":"Master!E165","v":"Inactive"},{"$f":"Master!F165","v":"None"},{"$f":"Master!H165","v":0},{"$f":"IF(Master!S165=\"\",\"B\",Master!S165)","v":2},{"$f":"IF(Master!AD165=\"\",\"B\",Master!AD165)","v":2},{"$f":"IF(Master!AO165=\"\",\"B\",Master!AO165)","v":2},{"$f":"IF(Master!AZ165=\"\",\"B\",Master!AZ165)","v":2},{"$f":"IF(Master!BK165=\"\",\"B\",Master!BK165)","v":2},{"$f":"IF(Master!BV165=\"\",\"B\",Master!BV165)","v":"B"}]
[{"$f":"Master!A166","v":"DES"},{"$f":"Master!B166","v":"WSDOT DES: INTERCHANGE DESIGN"},{"$f":"Master!C166","v":"WSDOT_CFU"},{"$f":"Master!D166","v":"ILT"},{"$f":"Master!E166","v":"Inactive"},{"$f":"Master!F166","v":"None"},{"$f":"Master!H166","v":"FHWA delivered their interchange training at WSDOT in 2019; course delivery depends on demand."},{"$f":"IF(Master!S166=\"\",\"B\",Master!S166)","v":"B"},{"$f":"IF(Master!AD166=\"\",\"B\",Master!AD166)","v":"B"},{"$f":"IF(Master!AO166=\"\",\"B\",Master!AO166)","v":"B"},{"$f":"IF(Master!AZ166=\"\",\"B\",Master!AZ166)","v":"B"},{"$f":"IF(Master!BK166=\"\",\"B\",Master!BK166)","v":"B"},{"$f":"IF(Master!BV166=\"\",\"B\",Master!BV166)","v":"B"}]
[{"$f":"Master!A167","v":"DES"},{"$f":"Master!B167","v":"WSDOT DES: ACCESS MANAGEMENT"},{"$f":"Master!C167","v":"WSDOT_DAS"},{"$f":"Master!D167","v":"ILT"},{"$f":"Master!E167","v":"Active"},{"$f":"Master!F167","v":0},{"$f":"Master!H167","v":"Being updated, but current class can be given at any time"},{"$f":"IF(Master!S167=\"\",\"B\",Master!S167)","v":"B"},{"$f":"IF(Master!AD167=\"\",\"B\",Master!AD167)","v":"B"},{"$f":"IF(Master!AO167=\"\",\"B\",Master!AO167)","v":"B"},{"$f":"IF(Master!AZ167=\"\",\"B\",Master!AZ167)","v":"B"},{"$f":"IF(Master!BK167=\"\",\"B\",Master!BK167)","v":"B"},{"$f":"IF(Master!BV167=\"\",\"B\",Master!BV167)","v":"B"}]
[{"$f":"Master!A168","v":"DES"},{"$f":"Master!B168","v":"ALTERNATIVES COMPARISON WORKSHOP"},{"$f":"Master!C168","v":"None"},{"$f":"Master!D168","v":"ILT"},{"$f":"Master!E168","v":"Inactive"},{"$f":"Master!F168","v":"None"},{"$f":"Master!H168","v":0},{"$f":"IF(Master!S168=\"\",\"B\",Master!S168)","v":2},{"$f":"IF(Master!AD168=\"\",\"B\",Master!AD168)","v":2},{"$f":"IF(Master!AO168=\"\",\"B\",Master!AO168)","v":2},{"$f":"IF(Master!AZ168=\"\",\"B\",Master!AZ168)","v":2},{"$f":"IF(Master!BK168=\"\",\"B\",Master!BK168)","v":2},{"$f":"IF(Master!BV168=\"\",\"B\",Master!BV168)","v":"B"}]
[{"$f":"Master!A169","v":"DES"},{"$f":"Master!B169","v":"WSDOT DES: COST ESTIMATING"},{"$f":"Master!C169","v":"WSDOT_CZV"},{"$f":"Master!D169","v":"ILT"},{"$f":"Master!E169","v":"Active"},{"$f":"Master!F169","v":0},{"$f":"Master!H169","v":"This class was updated in 2019 and delivered to all regions 2019-2020; this class can be delivered by request."},{"$f":"IF(Master!S169=\"\",\"B\",Master!S169)","v":2},{"$f":"IF(Master!AD169=\"\",\"B\",Master!AD169)","v":2},{"$f":"IF(Master!AO169=\"\",\"B\",Master!AO169)","v":2},{"$f":"IF(Master!AZ169=\"\",\"B\",Master!AZ169)","v":2},{"$f":"IF(Master!BK169=\"\",\"B\",Master!BK169)","v":1},{"$f":"IF(Master!BV169=\"\",\"B\",Master!BV169)","v":1}]
[{"$f":"Master!A170","v":"DES"},{"$f":"Master!B170","v":"RISK MANAGEMENT"},{"$f":"Master!C170","v":"None"},{"$f":"Master!D170","v":"ILT"},{"$f":"Master!E170","v":"Inactive"},{"$f":"Master!F170","v":"None"},{"$f":"Master!H170","v":"Available by arrangement; contact Mark Gabel or Mark Suijka."},{"$f":"IF(Master!S170=\"\",\"B\",Master!S170)","v":2},{"$f":"IF(Master!AD170=\"\",\"B\",Master!AD170)","v":2},{"$f":"IF(Master!AO170=\"\",\"B\",Master!AO170)","v":2},{"$f":"IF(Master!AZ170=\"\",\"B\",Master!AZ170)","v":2},{"$f":"IF(Master!BK170=\"\",\"B\",Master!BK170)","v":2},{"$f":"IF(Master!BV170=\"\",\"B\",Master!BV170)","v":"B"}]
[{"$f":"Master!A171","v":"DES"},{"$f":"Master!B171","v":"MANAGING PROJECT DELIVERY"},{"$f":"Master!C171","v":"None"},{"$f":"Master!D171","v":0},{"$f":"Master!E171","v":"Inactive"},{"$f":"Master!F171","v":"None"},{"$f":"Master!H171","v":"PM courses abailable through SkillSoft:  https://wsdot.skillport.com/skillportfe/main.action#whatshappening"},{"$f":"IF(Master!S171=\"\",\"B\",Master!S171)","v":2},{"$f":"IF(Master!AD171=\"\",\"B\",Master!AD171)","v":2},{"$f":"IF(Master!AO171=\"\",\"B\",Master!AO171)","v":2},{"$f":"IF(Master!AZ171=\"\",\"B\",Master!AZ171)","v":2},{"$f":"IF(Master!BK171=\"\",\"B\",Master!BK171)","v":"B"},{"$f":"IF(Master!BV171=\"\",\"B\",Master!BV171)","v":"B"}]
[{"$f":"Master!A172","v":"DES"},{"$f":"Master!B172","v":"HUMAN FACTORS IN TRANSPORTATION DESIGN"},{"$f":"Master!C172","v":"None"},{"$f":"Master!D172","v":"ILT"},{"$f":"Master!E172","v":"Inactive"},{"$f":"Master!F172","v":"None"},{"$f":"Master!H172","v":"Partly covered in the HSM Training"},{"$f":"IF(Master!S172=\"\",\"B\",Master!S172)","v":"B"},{"$f":"IF(Master!AD172=\"\",\"B\",Master!AD172)","v":"B"},{"$f":"IF(Master!AO172=\"\",\"B\",Master!AO172)","v":"B"},{"$f":"IF(Master!AZ172=\"\",\"B\",Master!AZ172)","v":"B"},{"$f":"IF(Master!BK172=\"\",\"B\",Master!BK172)","v":"B"},{"$f":"IF(Master!BV172=\"\",\"B\",Master!BV172)","v":"B"}]
[{"$f":"Master!A173","v":"DES"},{"$f":"Master!B173","v":"WSDOT DES: [YYYY] DESIGN MANUAL TRAINING"},{"$f":"Master!C173","v":"WSDOT_DMUT01202016"},{"$f":"Master!D173","v":"ILT"},{"$f":"Master!E173","v":"Active"},{"$f":"Master!F173","v":0},{"$f":"Master!H173","v":0},{"$f":"IF(Master!S173=\"\",\"B\",Master!S173)","v":"B"},{"$f":"IF(Master!AD173=\"\",\"B\",Master!AD173)","v":"B"},{"$f":"IF(Master!AO173=\"\",\"B\",Master!AO173)","v":"B"},{"$f":"IF(Master!AZ173=\"\",\"B\",Master!AZ173)","v":"B"},{"$f":"IF(Master!BK173=\"\",\"B\",Master!BK173)","v":"B"},{"$f":"IF(Master!BV173=\"\",\"B\",Master!BV173)","v":"B"}]
[{"$f":"Master!A174","v":"DES"},{"$f":"Master!B174","v":"WSDOT DES: DESIGN MANUAL DIVISION 11 PRACTICAL DESIGN"},{"$f":"Master!C174","v":"DMUT_ORG"},{"$f":"Master!D174","v":"OLT"},{"$f":"Master!E174","v":"Active"},{"$f":"Master!F174","v":0},{"$f":"Master!H174","v":"Available in LMS for credit, also at https://www.wsdot.wa.gov/LocalPrograms/Training/eTraining.htm "},{"$f":"IF(Master!S174=\"\",\"B\",Master!S174)","v":"B"},{"$f":"IF(Master!AD174=\"\",\"B\",Master!AD174)","v":"B"},{"$f":"IF(Master!AO174=\"\",\"B\",Master!AO174)","v":"B"},{"$f":"IF(Master!AZ174=\"\",\"B\",Master!AZ174)","v":"B"},{"$f":"IF(Master!BK174=\"\",\"B\",Master!BK174)","v":"B"},{"$f":"IF(Master!BV174=\"\",\"B\",Master!BV174)","v":"B"}]
[{"$f":"Master!A175","v":"DES"},{"$f":"Master!B175","v":"WSDOT PS 201 MULTIMODAL MAKING THE CASE MODULE1 OLT"},{"$f":"Master!C175","v":"Module_1:_Why_Multimodal?_ORG"},{"$f":"Master!D175","v":"OLT"},{"$f":"Master!E175","v":"Active"},{"$f":"Master!F175","v":0},{"$f":"Master!H175","v":0},{"$f":"IF(Master!S175=\"\",\"B\",Master!S175)","v":"B"},{"$f":"IF(Master!AD175=\"\",\"B\",Master!AD175)","v":"B"},{"$f":"IF(Master!AO175=\"\",\"B\",Master!AO175)","v":"B"},{"$f":"IF(Master!AZ175=\"\",\"B\",Master!AZ175)","v":"B"},{"$f":"IF(Master!BK175=\"\",\"B\",Master!BK175)","v":"B"},{"$f":"IF(Master!BV175=\"\",\"B\",Master!BV175)","v":"B"}]
[{"$f":"Master!A176","v":"DES"},{"$f":"Master!B176","v":"WSDOT PS 201 MULTIMODAL LAND USE MODULE2 OLT"},{"$f":"Master!C176","v":"Module_2_Land_Use_&_Transportation_ORG"},{"$f":"Master!D176","v":"OLT"},{"$f":"Master!E176","v":"Active"},{"$f":"Master!F176","v":0},{"$f":"Master!H176","v":0},{"$f":"IF(Master!S176=\"\",\"B\",Master!S176)","v":"B"},{"$f":"IF(Master!AD176=\"\",\"B\",Master!AD176)","v":"B"},{"$f":"IF(Master!AO176=\"\",\"B\",Master!AO176)","v":"B"},{"$f":"IF(Master!AZ176=\"\",\"B\",Master!AZ176)","v":"B"},{"$f":"IF(Master!BK176=\"\",\"B\",Master!BK176)","v":"B"},{"$f":"IF(Master!BV176=\"\",\"B\",Master!BV176)","v":"B"}]
[{"$f":"Master!A177","v":"DES"},{"$f":"Master!B177","v":"WSDOT PS 201 MULTIMODAL PHASES AND NEEDS MODULE3 OLT"},{"$f":"Master!C177","v":"Module_3_Phases_and_Needs_ORG"},{"$f":"Master!D177","v":"OLT"},{"$f":"Master!E177","v":" Active"},{"$f":"Master!F177","v":0},{"$f":"Master!H177","v":0},{"$f":"IF(Master!S177=\"\",\"B\",Master!S177)","v":"B"},{"$f":"IF(Master!AD177=\"\",\"B\",Master!AD177)","v":"B"},{"$f":"IF(Master!AO177=\"\",\"B\",Master!AO177)","v":"B"},{"$f":"IF(Master!AZ177=\"\",\"B\",Master!AZ177)","v":"B"},{"$f":"IF(Master!BK177=\"\",\"B\",Master!BK177)","v":"B"},{"$f":"IF(Master!BV177=\"\",\"B\",Master!BV177)","v":"B"}]
[{"$f":"Master!A178","v":"DES"},{"$f":"Master!B178","v":"WSDOT PS 201 MULTIMODAL PERFORMANCE BASICS MODULE4 OLT"},{"$f":"Master!C178","v":"Module_4_Performance_Basics_ORG"},{"$f":"Master!D178","v":"OLT"},{"$f":"Master!E178","v":"Active"},{"$f":"Master!F178","v":0},{"$f":"Master!H178","v":0},{"$f":"IF(Master!S178=\"\",\"B\",Master!S178)","v":"B"},{"$f":"IF(Master!AD178=\"\",\"B\",Master!AD178)","v":"B"},{"$f":"IF(Master!AO178=\"\",\"B\",Master!AO178)","v":"B"},{"$f":"IF(Master!AZ178=\"\",\"B\",Master!AZ178)","v":"B"},{"$f":"IF(Master!BK178=\"\",\"B\",Master!BK178)","v":"B"},{"$f":"IF(Master!BV178=\"\",\"B\",Master!BV178)","v":"B"}]
[{"$f":"Master!A179","v":"DES"},{"$f":"Master!B179","v":"WSDOT PS 201 MULTIMODAL TRANSIT MODULE5 OLT"},{"$f":"Master!C179","v":"Module_5_Transit_ORG"},{"$f":"Master!D179","v":"OLT"},{"$f":"Master!E179","v":"Active"},{"$f":"Master!F179","v":0},{"$f":"Master!H179","v":0},{"$f":"IF(Master!S179=\"\",\"B\",Master!S179)","v":"B"},{"$f":"IF(Master!AD179=\"\",\"B\",Master!AD179)","v":"B"},{"$f":"IF(Master!AO179=\"\",\"B\",Master!AO179)","v":"B"},{"$f":"IF(Master!AZ179=\"\",\"B\",Master!AZ179)","v":"B"},{"$f":"IF(Master!BK179=\"\",\"B\",Master!BK179)","v":"B"},{"$f":"IF(Master!BV179=\"\",\"B\",Master!BV179)","v":"B"}]
[{"$f":"Master!A180","v":"DES"},{"$f":"Master!B180","v":"WSDOT PS 201 MULTIMODAL WALKING MODULE6 OLT"},{"$f":"Master!C180","v":"Module_6_People_Walking_ORG"},{"$f":"Master!D180","v":"OLT"},{"$f":"Master!E180","v":"Active"},{"$f":"Master!F180","v":0},{"$f":"Master!H180","v":0},{"$f":"IF(Master!S180=\"\",\"B\",Master!S180)","v":"B"},{"$f":"IF(Master!AD180=\"\",\"B\",Master!AD180)","v":"B"},{"$f":"IF(Master!AO180=\"\",\"B\",Master!AO180)","v":"B"},{"$f":"IF(Master!AZ180=\"\",\"B\",Master!AZ180)","v":"B"},{"$f":"IF(Master!BK180=\"\",\"B\",Master!BK180)","v":"B"},{"$f":"IF(Master!BV180=\"\",\"B\",Master!BV180)","v":"B"}]
[{"$f":"Master!A181","v":"DES"},{"$f":"Master!B181","v":"WSDOT PS 201 MULTIMODAL BIKING MODULE7 OLT"},{"$f":"Master!C181","v":"Module_7_People_Biking_ORG"},{"$f":"Master!D181","v":"OLT"},{"$f":"Master!E181","v":"Active"},{"$f":"Master!F181","v":0},{"$f":"Master!H181","v":0},{"$f":"IF(Master!S181=\"\",\"B\",Master!S181)","v":"B"},{"$f":"IF(Master!AD181=\"\",\"B\",Master!AD181)","v":"B"},{"$f":"IF(Master!AO181=\"\",\"B\",Master!AO181)","v":"B"},{"$f":"IF(Master!AZ181=\"\",\"B\",Master!AZ181)","v":"B"},{"$f":"IF(Master!BK181=\"\",\"B\",Master!BK181)","v":"B"},{"$f":"IF(Master!BV181=\"\",\"B\",Master!BV181)","v":"B"}]
[{"$f":"Master!A182","v":"DES"},{"$f":"Master!B182","v":"WSDOT PS 201 MULTIMODAL FREIGHT MODULE8 OLT"},{"$f":"Master!C182","v":"Module_8_Freight_Transportation_ORG"},{"$f":"Master!D182","v":"OLT"},{"$f":"Master!E182","v":"Active"},{"$f":"Master!F182","v":0},{"$f":"Master!H182","v":0},{"$f":"IF(Master!S182=\"\",\"B\",Master!S182)","v":"B"},{"$f":"IF(Master!AD182=\"\",\"B\",Master!AD182)","v":"B"},{"$f":"IF(Master!AO182=\"\",\"B\",Master!AO182)","v":"B"},{"$f":"IF(Master!AZ182=\"\",\"B\",Master!AZ182)","v":"B"},{"$f":"IF(Master!BK182=\"\",\"B\",Master!BK182)","v":"B"},{"$f":"IF(Master!BV182=\"\",\"B\",Master!BV182)","v":"B"}]
[{"$f":"Master!A183","v":"DES"},{"$f":"Master!B183","v":"WSDOT PS 201 MULTIMODAL CONFLICTS AND HUBS MODULE9 OLT"},{"$f":"Master!C183","v":"Module_9_Modal_Conflicts_and_Hubs_ORG"},{"$f":"Master!D183","v":"OLT"},{"$f":"Master!E183","v":"Active"},{"$f":"Master!F183","v":0},{"$f":"Master!H183","v":0},{"$f":"IF(Master!S183=\"\",\"B\",Master!S183)","v":"B"},{"$f":"IF(Master!AD183=\"\",\"B\",Master!AD183)","v":"B"},{"$f":"IF(Master!AO183=\"\",\"B\",Master!AO183)","v":"B"},{"$f":"IF(Master!AZ183=\"\",\"B\",Master!AZ183)","v":"B"},{"$f":"IF(Master!BK183=\"\",\"B\",Master!BK183)","v":"B"},{"$f":"IF(Master!BV183=\"\",\"B\",Master!BV183)","v":"B"}]
[{"$f":"Master!A184","v":"DES"},{"$f":"Master!B184","v":"WSDOT PRACTICAL SOLUTIONS OVERVIEW OLT"},{"$f":"Master!C184","v":"Practical_Solutions_Overview_ORG"},{"$f":"Master!D184","v":"OLT"},{"$f":"Master!E184","v":"Active"},{"$f":"Master!F184","v":0},{"$f":"Master!H184","v":0},{"$f":"IF(Master!S184=\"\",\"B\",Master!S184)","v":2},{"$f":"IF(Master!AD184=\"\",\"B\",Master!AD184)","v":2},{"$f":"IF(Master!AO184=\"\",\"B\",Master!AO184)","v":2},{"$f":"IF(Master!AZ184=\"\",\"B\",Master!AZ184)","v":2},{"$f":"IF(Master!BK184=\"\",\"B\",Master!BK184)","v":2},{"$f":"IF(Master!BV184=\"\",\"B\",Master!BV184)","v":2}]
[{"$f":"Master!A185","v":"DES"},{"$f":"Master!B185","v":"WSDOT PS 101: PRACTICAL SOLUTIONS APPROACH TO PROJECT DEVELOPMENT OVERVIEW"},{"$f":"Master!C185","v":"WSDOT_PS101"},{"$f":"Master!D185","v":"ILT"},{"$f":"Master!E185","v":"Inactive"},{"$f":"Master!F185","v":0},{"$f":"Master!H185","v":0},{"$f":"IF(Master!S185=\"\",\"B\",Master!S185)","v":2},{"$f":"IF(Master!AD185=\"\",\"B\",Master!AD185)","v":2},{"$f":"IF(Master!AO185=\"\",\"B\",Master!AO185)","v":2},{"$f":"IF(Master!AZ185=\"\",\"B\",Master!AZ185)","v":2},{"$f":"IF(Master!BK185=\"\",\"B\",Master!BK185)","v":2},{"$f":"IF(Master!BV185=\"\",\"B\",Master!BV185)","v":2}]
[{"$f":"Master!A186","v":"Hydraulics"},null,null,null,null,null,null,{"$f":"IF(Master!S186=\"\",\"B\",Master!S186)","v":"B"},{"$f":"IF(Master!AD186=\"\",\"B\",Master!AD186)","v":"B"},{"$f":"IF(Master!AO186=\"\",\"B\",Master!AO186)","v":"B"},{"$f":"IF(Master!AZ186=\"\",\"B\",Master!AZ186)","v":"B"},{"$f":"IF(Master!BK186=\"\",\"B\",Master!BK186)","v":"B"},{"$f":"IF(Master!BV186=\"\",\"B\",Master!BV186)","v":"B"}]
[{"$f":"Master!A187","v":"HYD"},{"$f":"Master!B187","v":"WSDOT DES: HYDRAULICS AND HYDROLOGY"},{"$f":"Master!C187","v":"WSDOT_DES_HYDRAULICS_AND_HYDROLOGY"},{"$f":"Master!D187","v":"ILT"},{"$f":"Master!E187","v":"Active"},{"$f":"Master!F187","v":0},{"$f":"Master!H187","v":0},{"$f":"IF(Master!S187=\"\",\"B\",Master!S187)","v":"B"},{"$f":"IF(Master!AD187=\"\",\"B\",Master!AD187)","v":"B"},{"$f":"IF(Master!AO187=\"\",\"B\",Master!AO187)","v":"B"},{"$f":"IF(Master!AZ187=\"\",\"B\",Master!AZ187)","v":"B"},{"$f":"IF(Master!BK187=\"\",\"B\",Master!BK187)","v":"B"},{"$f":"IF(Master!BV187=\"\",\"B\",Master!BV187)","v":"B"}]
[{"$f":"Master!A188","v":"HYD"},{"$f":"Master!B188","v":"WSDOT DES: 2014 HIGHWAY RUNOFF MANUAL TRAINING"},{"$f":"Master!C188","v":"WSDOT_DBI"},{"$f":"Master!D188","v":"ILT"},{"$f":"Master!E188","v":"Active"},{"$f":"Master!F188","v":0},{"$f":"Master!H188","v":0},{"$f":"IF(Master!S188=\"\",\"B\",Master!S188)","v":"B"},{"$f":"IF(Master!AD188=\"\",\"B\",Master!AD188)","v":"B"},{"$f":"IF(Master!AO188=\"\",\"B\",Master!AO188)","v":"B"},{"$f":"IF(Master!AZ188=\"\",\"B\",Master!AZ188)","v":"B"},{"$f":"IF(Master!BK188=\"\",\"B\",Master!BK188)","v":"B"},{"$f":"IF(Master!BV188=\"\",\"B\",Master!BV188)","v":"B"}]
[{"$f":"Master!A189","v":"HYD"},{"$f":"Master!B189","v":"WSDOT_MGSFLOOD_TRAINING"},{"$f":"Master!C189","v":"WSDOT_MGSFLOOD_TRAINING"},{"$f":"Master!D189","v":"ILT"},{"$f":"Master!E189","v":"Active"},{"$f":"Master!F189","v":0},{"$f":"Master!H189","v":0},{"$f":"IF(Master!S189=\"\",\"B\",Master!S189)","v":"B"},{"$f":"IF(Master!AD189=\"\",\"B\",Master!AD189)","v":"B"},{"$f":"IF(Master!AO189=\"\",\"B\",Master!AO189)","v":"B"},{"$f":"IF(Master!AZ189=\"\",\"B\",Master!AZ189)","v":"B"},{"$f":"IF(Master!BK189=\"\",\"B\",Master!BK189)","v":"B"},{"$f":"IF(Master!BV189=\"\",\"B\",Master!BV189)","v":"B"}]
[{"$f":"Master!A190","v":"HYD"},{"$f":"Master!B190","v":"WSDOT DES: STORMSHED BEGINNING"},{"$f":"Master!C190","v":"WSDOT_DES_STORMSHED_BEGINNING"},{"$f":"Master!D190","v":"ILT"},{"$f":"Master!E190","v":"Active"},{"$f":"Master!F190","v":0},{"$f":"Master!H190","v":0},{"$f":"IF(Master!S190=\"\",\"B\",Master!S190)","v":"B"},{"$f":"IF(Master!AD190=\"\",\"B\",Master!AD190)","v":"B"},{"$f":"IF(Master!AO190=\"\",\"B\",Master!AO190)","v":"B"},{"$f":"IF(Master!AZ190=\"\",\"B\",Master!AZ190)","v":"B"},{"$f":"IF(Master!BK190=\"\",\"B\",Master!BK190)","v":"B"},{"$f":"IF(Master!BV190=\"\",\"B\",Master!BV190)","v":"B"}]
[{"$f":"Master!A191","v":"HYD"},{"$f":"Master!B191","v":"WSDOT DES: STORMSHED INTERMEDIATE"},{"$f":"Master!C191","v":"WSDOT_DES_STORMSHED_INTERMEDIATE"},{"$f":"Master!D191","v":"ILT"},{"$f":"Master!E191","v":"Active"},{"$f":"Master!F191","v":0},{"$f":"Master!H191","v":0},{"$f":"IF(Master!S191=\"\",\"B\",Master!S191)","v":"B"},{"$f":"IF(Master!AD191=\"\",\"B\",Master!AD191)","v":"B"},{"$f":"IF(Master!AO191=\"\",\"B\",Master!AO191)","v":"B"},{"$f":"IF(Master!AZ191=\"\",\"B\",Master!AZ191)","v":"B"},{"$f":"IF(Master!BK191=\"\",\"B\",Master!BK191)","v":"B"},{"$f":"IF(Master!BV191=\"\",\"B\",Master!BV191)","v":"B"}]
[{"$f":"Master!A192","v":"Environmental"},null,null,null,null,null,null,{"$f":"IF(Master!S192=\"\",\"B\",Master!S192)","v":"B"},{"$f":"IF(Master!AD192=\"\",\"B\",Master!AD192)","v":"B"},{"$f":"IF(Master!AO192=\"\",\"B\",Master!AO192)","v":"B"},{"$f":"IF(Master!AZ192=\"\",\"B\",Master!AZ192)","v":"B"},{"$f":"IF(Master!BK192=\"\",\"B\",Master!BK192)","v":"B"},{"$f":"IF(Master!BV192=\"\",\"B\",Master!BV192)","v":"B"}]
[{"$f":"Master!A193","v":"ENV"},{"$f":"Master!B193","v":"WSDOT ENV: SPILL PLAN REVIEWER TRAINING (OLT)"},{"$f":"Master!C193","v":"WSDOT_BYZ_OLT"},{"$f":"Master!D193","v":"OLT"},{"$f":"Master!E193","v":"Active"},{"$f":"Master!F193","v":0},{"$f":"Master!G193","v":"NA"},{"$f":"IF(Master!S193=\"\",\"B\",Master!S193)","v":"B"},{"$f":"IF(Master!AD193=\"\",\"B\",Master!AD193)","v":"B"},{"$f":"IF(Master!AO193=\"\",\"B\",Master!AO193)","v":"B"},{"$f":"IF(Master!AZ193=\"\",\"B\",Master!AZ193)","v":"B"},{"$f":"IF(Master!BK193=\"\",\"B\",Master!BK193)","v":"B"},{"$f":"IF(Master!BV193=\"\",\"B\",Master!BV193)","v":"B"}]
[{"$f":"Master!A194","v":"ENV"},{"$f":"Master!B194","v":"WSDOT ENV: CONSTRUCTION SITE EROSION AND SEDIMENT CONTROL"},{"$f":"Master!C194","v":"WSDOT_BPW"},{"$f":"Master!D194","v":"ILT"},{"$f":"Master!E194","v":"Active"},{"$f":"Master!F194","v":0},{"$f":"Master!G194","v":"Once per year per Region or by request"},{"$f":"IF(Master!S194=\"\",\"B\",Master!S194)","v":"B"},{"$f":"IF(Master!AD194=\"\",\"B\",Master!AD194)","v":"B"},{"$f":"IF(Master!AO194=\"\",\"B\",Master!AO194)","v":"B"},{"$f":"IF(Master!AZ194=\"\",\"B\",Master!AZ194)","v":"B"},{"$f":"IF(Master!BK194=\"\",\"B\",Master!BK194)","v":"B"},{"$f":"IF(Master!BV194=\"\",\"B\",Master!BV194)","v":"B"}]
[{"$f":"Master!A195","v":"ENV"},{"$f":"Master!B195","v":"WSDOT ENV: CULTURAL RESOURCE TRAINING"},{"$f":"Master!C195","v":"WSDOT_B7T"},{"$f":"Master!D195","v":"ILT"},{"$f":"Master!E195","v":"Active"},{"$f":"Master!F195","v":0},{"$f":"Master!G195","v":"Offered 1-2 times per year"},{"$f":"IF(Master!S195=\"\",\"B\",Master!S195)","v":"B"},{"$f":"IF(Master!AD195=\"\",\"B\",Master!AD195)","v":"B"},{"$f":"IF(Master!AO195=\"\",\"B\",Master!AO195)","v":"B"},{"$f":"IF(Master!AZ195=\"\",\"B\",Master!AZ195)","v":"B"},{"$f":"IF(Master!BK195=\"\",\"B\",Master!BK195)","v":"B"},{"$f":"IF(Master!BV195=\"\",\"B\",Master!BV195)","v":"B"}]
[{"$f":"Master!A196","v":"ENV"},{"$f":"Master!B196","v":"WSDOT ENV: ENVIRONMENTAL JUSTICE INCLUSION TRAINING (OLT)"},{"$f":"Master!C196","v":"WSDOT_EJ1_OLT"},{"$f":"Master!D196","v":"OLT"},{"$f":"Master!E196","v":"Active"},{"$f":"Master!F196","v":0},{"$f":"Master!G196","v":"NA"},{"$f":"IF(Master!S196=\"\",\"B\",Master!S196)","v":1},{"$f":"IF(Master!AD196=\"\",\"B\",Master!AD196)","v":1},{"$f":"IF(Master!AO196=\"\",\"B\",Master!AO196)","v":1},{"$f":"IF(Master!AZ196=\"\",\"B\",Master!AZ196)","v":1},{"$f":"IF(Master!BK196=\"\",\"B\",Master!BK196)","v":1},{"$f":"IF(Master!BV196=\"\",\"B\",Master!BV196)","v":"B"}]
[{"$f":"Master!A197","v":"ENV"},{"$f":"Master!B197","v":"WSDOT ENV: ENVIRONMENTAL OVERVIEW - COMPLIANCE FOR CONSTRUCTION (OLT)"},{"$f":"Master!C197","v":"WSDOT_CR5_OLT"},{"$f":"Master!D197","v":"OLT"},{"$f":"Master!E197","v":"Active"},{"$f":"Master!F197","v":0},{"$f":"Master!G197","v":"NA"},{"$f":"IF(Master!S197=\"\",\"B\",Master!S197)","v":"B"},{"$f":"IF(Master!AD197=\"\",\"B\",Master!AD197)","v":"B"},{"$f":"IF(Master!AO197=\"\",\"B\",Master!AO197)","v":"B"},{"$f":"IF(Master!AZ197=\"\",\"B\",Master!AZ197)","v":"B"},{"$f":"IF(Master!BK197=\"\",\"B\",Master!BK197)","v":"B"},{"$f":"IF(Master!BV197=\"\",\"B\",Master!BV197)","v":"B"}]
[{"$f":"Master!A198","v":"ENV"},{"$f":"Master!B198","v":"WSDOT ENV: ESA (ENDANGERED SPECIES ACT) FOR NON-BIOLOGISTS (OLT)"},{"$f":"Master!C198","v":"WSDOT_EV9_OLT"},{"$f":"Master!D198","v":"OLT"},{"$f":"Master!E198","v":"Active"},{"$f":"Master!F198","v":0},{"$f":"Master!G198","v":"NA"},{"$f":"IF(Master!S198=\"\",\"B\",Master!S198)","v":"B"},{"$f":"IF(Master!AD198=\"\",\"B\",Master!AD198)","v":"B"},{"$f":"IF(Master!AO198=\"\",\"B\",Master!AO198)","v":"B"},{"$f":"IF(Master!AZ198=\"\",\"B\",Master!AZ198)","v":"B"},{"$f":"IF(Master!BK198=\"\",\"B\",Master!BK198)","v":"B"},{"$f":"IF(Master!BV198=\"\",\"B\",Master!BV198)","v":"B"}]
[{"$f":"Master!A199","v":"ENV"},{"$f":"Master!B199","v":"WSDOT ENV: NEPA/SEPA - MODULE 1 - OVERVIEW"},{"$f":"Master!C199","v":"WSDOT_DDV"},{"$f":"Master!D199","v":"ILT"},{"$f":"Master!E199","v":"Active"},{"$f":"Master!F199","v":0},{"$f":"Master!G199","v":"Once per year per Region or by request"},{"$f":"IF(Master!S199=\"\",\"B\",Master!S199)","v":"B"},{"$f":"IF(Master!AD199=\"\",\"B\",Master!AD199)","v":"B"},{"$f":"IF(Master!AO199=\"\",\"B\",Master!AO199)","v":"B"},{"$f":"IF(Master!AZ199=\"\",\"B\",Master!AZ199)","v":"B"},{"$f":"IF(Master!BK199=\"\",\"B\",Master!BK199)","v":"B"},{"$f":"IF(Master!BV199=\"\",\"B\",Master!BV199)","v":"B"}]
[{"$f":"Master!A200","v":"ENV"},{"$f":"Master!B200","v":"WSDOT ENV: NEPA/SEPA - MODULE 2 - DOCUMENTING CATEGORICAL EXCLUSIONS"},{"$f":"Master!C200","v":"WSDOT_ENV"},{"$f":"Master!D200","v":"ILT"},{"$f":"Master!E200","v":"Active"},{"$f":"Master!F200","v":0},{"$f":"Master!G200","v":"Once per year per Region or by request"},{"$f":"IF(Master!S200=\"\",\"B\",Master!S200)","v":"B"},{"$f":"IF(Master!AD200=\"\",\"B\",Master!AD200)","v":"B"},{"$f":"IF(Master!AO200=\"\",\"B\",Master!AO200)","v":"B"},{"$f":"IF(Master!AZ200=\"\",\"B\",Master!AZ200)","v":"B"},{"$f":"IF(Master!BK200=\"\",\"B\",Master!BK200)","v":"B"},{"$f":"IF(Master!BV200=\"\",\"B\",Master!BV200)","v":"B"}]
[{"$f":"Master!A201","v":"ENV"},{"$f":"Master!B201","v":"WSDOT ENV: NEPA/SEPA - MODULE 3 - DOCUMENTING EAs AND EISs"},{"$f":"Master!C201","v":"WSDOT_ENV_2"},{"$f":"Master!D201","v":"ILT"},{"$f":"Master!E201","v":"Active"},{"$f":"Master!F201","v":0},{"$f":"Master!G201","v":"Once per year per Region or by request"},{"$f":"IF(Master!S201=\"\",\"B\",Master!S201)","v":"B"},{"$f":"IF(Master!AD201=\"\",\"B\",Master!AD201)","v":"B"},{"$f":"IF(Master!AO201=\"\",\"B\",Master!AO201)","v":"B"},{"$f":"IF(Master!AZ201=\"\",\"B\",Master!AZ201)","v":"B"},{"$f":"IF(Master!BK201=\"\",\"B\",Master!BK201)","v":"B"},{"$f":"IF(Master!BV201=\"\",\"B\",Master!BV201)","v":"B"}]
[{"$f":"Master!A202","v":"ENV"},{"$f":"Master!B202","v":"WSDOT ENV: POISONOUS AND HARMFUL PLANTS IN WASHINGTON STATE"},{"$f":"Master!C202","v":"WSDOT_019_OLT"},{"$f":"Master!D202","v":"OLT"},{"$f":"Master!E202","v":"Active"},{"$f":"Master!F202","v":0},{"$f":"Master!G202","v":"NA"},{"$f":"IF(Master!S202=\"\",\"B\",Master!S202)","v":"B"},{"$f":"IF(Master!AD202=\"\",\"B\",Master!AD202)","v":"B"},{"$f":"IF(Master!AO202=\"\",\"B\",Master!AO202)","v":"B"},{"$f":"IF(Master!AZ202=\"\",\"B\",Master!AZ202)","v":"B"},{"$f":"IF(Master!BK202=\"\",\"B\",Master!BK202)","v":"B"},{"$f":"IF(Master!BV202=\"\",\"B\",Master!BV202)","v":"B"}]
[{"$f":"Master!A203","v":"Computer Aided Engineering"},null,null,null,null,null,null,{"$f":"IF(Master!S203=\"\",\"B\",Master!S203)","v":"B"},{"$f":"IF(Master!AD203=\"\",\"B\",Master!AD203)","v":"B"},{"$f":"IF(Master!AO203=\"\",\"B\",Master!AO203)","v":"B"},{"$f":"IF(Master!AZ203=\"\",\"B\",Master!AZ203)","v":"B"},{"$f":"IF(Master!BK203=\"\",\"B\",Master!BK203)","v":"B"},{"$f":"IF(Master!BV203=\"\",\"B\",Master!BV203)","v":"B"}]
[{"$f":"Master!A204","v":"CAE"},{"$f":"Master!B204","v":"WSDOT CAE: MICROSTATION - 101 ENTRY LEVEL"},{"$f":"Master!C204","v":"WSDOT_AX4"},{"$f":"Master!D204","v":"ILT"},{"$f":"Master!E204","v":"Active"},{"$f":"Master!F204","v":0},{"$f":"Master!H204","v":0},{"$f":"IF(Master!S204=\"\",\"B\",Master!S204)","v":"B"},{"$f":"IF(Master!AD204=\"\",\"B\",Master!AD204)","v":"B"},{"$f":"IF(Master!AO204=\"\",\"B\",Master!AO204)","v":"B"},{"$f":"IF(Master!AZ204=\"\",\"B\",Master!AZ204)","v":"B"},{"$f":"IF(Master!BK204=\"\",\"B\",Master!BK204)","v":"B"},{"$f":"IF(Master!BV204=\"\",\"B\",Master!BV204)","v":"B"}]
[{"$f":"Master!A205","v":"CAE"},{"$f":"Master!B205","v":"WSDOT CAE: MICROSTATION - 201 PRODUCTION LEVEL"},{"$f":"Master!C205","v":"WSDOT_AI6"},{"$f":"Master!D205","v":"ILT"},{"$f":"Master!E205","v":"Active"},{"$f":"Master!F205","v":0},{"$f":"Master!H205","v":0},{"$f":"IF(Master!S205=\"\",\"B\",Master!S205)","v":"B"},{"$f":"IF(Master!AD205=\"\",\"B\",Master!AD205)","v":"B"},{"$f":"IF(Master!AO205=\"\",\"B\",Master!AO205)","v":"B"},{"$f":"IF(Master!AZ205=\"\",\"B\",Master!AZ205)","v":"B"},{"$f":"IF(Master!BK205=\"\",\"B\",Master!BK205)","v":"B"},{"$f":"IF(Master!BV205=\"\",\"B\",Master!BV205)","v":"B"}]
[{"$f":"Master!A206","v":"CAE"},{"$f":"Master!B206","v":"WSDOT CAE: INROADS - 201 PRODUCTION LEVEL DESIGN"},{"$f":"Master!C206","v":"WSDOT_CRZ"},{"$f":"Master!D206","v":"ILT"},{"$f":"Master!E206","v":"Active"},{"$f":"Master!F206","v":0},{"$f":"Master!H206","v":0},{"$f":"IF(Master!S206=\"\",\"B\",Master!S206)","v":"B"},{"$f":"IF(Master!AD206=\"\",\"B\",Master!AD206)","v":"B"},{"$f":"IF(Master!AO206=\"\",\"B\",Master!AO206)","v":"B"},{"$f":"IF(Master!AZ206=\"\",\"B\",Master!AZ206)","v":"B"},{"$f":"IF(Master!BK206=\"\",\"B\",Master!BK206)","v":"B"},{"$f":"IF(Master!BV206=\"\",\"B\",Master!BV206)","v":"B"}]
[{"$f":"Master!A207","v":"CAE"},{"$f":"Master!B207","v":"WSDOT CAE: INROADS - 202 SURVEY DATA PROCESSING"},{"$f":"Master!C207","v":"WSDOT_CU1"},{"$f":"Master!D207","v":"ILT"},{"$f":"Master!E207","v":"Active"},{"$f":"Master!F207","v":0},{"$f":"Master!H207","v":0},{"$f":"IF(Master!S207=\"\",\"B\",Master!S207)","v":"B"},{"$f":"IF(Master!AD207=\"\",\"B\",Master!AD207)","v":"B"},{"$f":"IF(Master!AO207=\"\",\"B\",Master!AO207)","v":"B"},{"$f":"IF(Master!AZ207=\"\",\"B\",Master!AZ207)","v":"B"},{"$f":"IF(Master!BK207=\"\",\"B\",Master!BK207)","v":"B"},{"$f":"IF(Master!BV207=\"\",\"B\",Master!BV207)","v":"B"}]
[{"$f":"Master!A208","v":"CAE"},{"$f":"Master!B208","v":"WSDOT CAE: INROADS - 203 GEOMETRICS"},{"$f":"Master!C208","v":"WSDOT_DBF"},{"$f":"Master!D208","v":"ILT"},{"$f":"Master!E208","v":"Active"},{"$f":"Master!F208","v":0},{"$f":"Master!H208","v":0},{"$f":"IF(Master!S208=\"\",\"B\",Master!S208)","v":"B"},{"$f":"IF(Master!AD208=\"\",\"B\",Master!AD208)","v":"B"},{"$f":"IF(Master!AO208=\"\",\"B\",Master!AO208)","v":"B"},{"$f":"IF(Master!AZ208=\"\",\"B\",Master!AZ208)","v":"B"},{"$f":"IF(Master!BK208=\"\",\"B\",Master!BK208)","v":"B"},{"$f":"IF(Master!BV208=\"\",\"B\",Master!BV208)","v":"B"}]
[{"$f":"Master!A209","v":"CAE"},{"$f":"Master!B209","v":"WSDOT CAE: INROADS - 205 CONSTRUCTION PROCESSES"},{"$f":"Master!C209","v":"WSDOT_DH2"},{"$f":"Master!D209","v":"ILT"},{"$f":"Master!E209","v":"Active"},{"$f":"Master!F209","v":0},{"$f":"Master!H209","v":0},{"$f":"IF(Master!S209=\"\",\"B\",Master!S209)","v":"B"},{"$f":"IF(Master!AD209=\"\",\"B\",Master!AD209)","v":"B"},{"$f":"IF(Master!AO209=\"\",\"B\",Master!AO209)","v":"B"},{"$f":"IF(Master!AZ209=\"\",\"B\",Master!AZ209)","v":"B"},{"$f":"IF(Master!BK209=\"\",\"B\",Master!BK209)","v":"B"},{"$f":"IF(Master!BV209=\"\",\"B\",Master!BV209)","v":"B"}]
[{"$f":"Master!A210","v":"CAE"},{"$f":"Master!B210","v":"WSDOT CAE: INROADS - 251 INTERMEDIATE ROADWAY DESIGN"},{"$f":"Master!C210","v":"WSDOT_DDL"},{"$f":"Master!D210","v":"ILT"},{"$f":"Master!E210","v":"Active"},{"$f":"Master!F210","v":0},{"$f":"Master!H210","v":0},{"$f":"IF(Master!S210=\"\",\"B\",Master!S210)","v":"B"},{"$f":"IF(Master!AD210=\"\",\"B\",Master!AD210)","v":"B"},{"$f":"IF(Master!AO210=\"\",\"B\",Master!AO210)","v":"B"},{"$f":"IF(Master!AZ210=\"\",\"B\",Master!AZ210)","v":"B"},{"$f":"IF(Master!BK210=\"\",\"B\",Master!BK210)","v":"B"},{"$f":"IF(Master!BV210=\"\",\"B\",Master!BV210)","v":"B"}]
[{"$f":"Master!A211","v":"Survey"},null,null,null,null,null,null,{"$f":"IF(Master!S211=\"\",\"B\",Master!S211)","v":"B"},{"$f":"IF(Master!AD211=\"\",\"B\",Master!AD211)","v":"B"},{"$f":"IF(Master!AO211=\"\",\"B\",Master!AO211)","v":"B"},{"$f":"IF(Master!AZ211=\"\",\"B\",Master!AZ211)","v":"B"},{"$f":"IF(Master!BK211=\"\",\"B\",Master!BK211)","v":"B"},{"$f":"IF(Master!BV211=\"\",\"B\",Master!BV211)","v":"B"}]
[{"$f":"Master!A212","v":"SUR"},{"$f":"Master!B212","v":"WSDOT SUR: BASIC SURVEYING (SELF-STUDY)"},{"$f":"Master!C212","v":"WSDOT_APK"},{"$f":"Master!D212","v":"SS"},{"$f":"Master!E212","v":"Active"},{"$f":"Master!F212","v":0},{"$f":"Master!H212","v":0},{"$f":"IF(Master!S212=\"\",\"B\",Master!S212)","v":"R"},{"$f":"IF(Master!AD212=\"\",\"B\",Master!AD212)","v":"R"},{"$f":"IF(Master!AO212=\"\",\"B\",Master!AO212)","v":"B"},{"$f":"IF(Master!AZ212=\"\",\"B\",Master!AZ212)","v":"B"},{"$f":"IF(Master!BK212=\"\",\"B\",Master!BK212)","v":"B"},{"$f":"IF(Master!BV212=\"\",\"B\",Master!BV212)","v":"B"}]
[{"$f":"Master!A213","v":"SUR"},{"$f":"Master!B213","v":"WSDOT SUR: INTERMEDIATE SURVEYING"},{"$f":"Master!C213","v":"WSDOT A4U"},{"$f":"Master!D213","v":"ILT"},{"$f":"Master!E213","v":"Under Development"},{"$f":"Master!F213","v":"Q3 2019"},{"$f":"Master!H213","v":0},{"$f":"IF(Master!S213=\"\",\"B\",Master!S213)","v":"B"},{"$f":"IF(Master!AD213=\"\",\"B\",Master!AD213)","v":"B"},{"$f":"IF(Master!AO213=\"\",\"B\",Master!AO213)","v":"B"},{"$f":"IF(Master!AZ213=\"\",\"B\",Master!AZ213)","v":"B"},{"$f":"IF(Master!BK213=\"\",\"B\",Master!BK213)","v":"B"},{"$f":"IF(Master!BV213=\"\",\"B\",Master!BV213)","v":"B"}]
[{"$f":"Master!A214","v":"Traffic Operations Division"},null,null,null,null,null,null,{"$f":"IF(Master!S214=\"\",\"B\",Master!S214)","v":"B"},{"$f":"IF(Master!AD214=\"\",\"B\",Master!AD214)","v":"B"},{"$f":"IF(Master!AO214=\"\",\"B\",Master!AO214)","v":"B"},{"$f":"IF(Master!AZ214=\"\",\"B\",Master!AZ214)","v":"B"},{"$f":"IF(Master!BK214=\"\",\"B\",Master!BK214)","v":"B"},{"$f":"IF(Master!BV214=\"\",\"B\",Master!BV214)","v":"B"}]
[{"$f":"Master!A215","v":"TR"},{"$f":"Master!B215","v":"WSDOT TR: Work Zone Traffic Control Supervisor Re-Certification"},{"$f":"Master!C215","v":"WSDOT_BQD"},{"$f":"Master!D215","v":"OLT/ILT"},{"$f":"Master!E215","v":"Active"},{"$f":"Master!F215","v":0},{"$f":"Master!H215","v":0},{"$f":"IF(Master!S215=\"\",\"B\",Master!S215)","v":"B"},{"$f":"IF(Master!AD215=\"\",\"B\",Master!AD215)","v":"B"},{"$f":"IF(Master!AO215=\"\",\"B\",Master!AO215)","v":"B"},{"$f":"IF(Master!AZ215=\"\",\"B\",Master!AZ215)","v":"B"},{"$f":"IF(Master!BK215=\"\",\"B\",Master!BK215)","v":"B"},{"$f":"IF(Master!BV215=\"\",\"B\",Master!BV215)","v":"B"}]
[{"$f":"Master!A216","v":"TR"},{"$f":"Master!B216","v":"WSDOT TR: Work Zone Traffic Control Supervisor Certification"},{"$f":"Master!C216","v":"WSDOT_A42"},{"$f":"Master!D216","v":"OLT/ILT"},{"$f":"Master!E216","v":"Active"},{"$f":"Master!F216","v":0},{"$f":"Master!H216","v":0},{"$f":"IF(Master!S216=\"\",\"B\",Master!S216)","v":"B"},{"$f":"IF(Master!AD216=\"\",\"B\",Master!AD216)","v":"B"},{"$f":"IF(Master!AO216=\"\",\"B\",Master!AO216)","v":"B"},{"$f":"IF(Master!AZ216=\"\",\"B\",Master!AZ216)","v":"B"},{"$f":"IF(Master!BK216=\"\",\"B\",Master!BK216)","v":"B"},{"$f":"IF(Master!BV216=\"\",\"B\",Master!BV216)","v":"B"}]
[{"$f":"Master!A217","v":"TR"},{"$f":"Master!B217","v":"WSDOT TR: Work Zone Traffic Control Plan Design"},{"$f":"Master!C217","v":"WSDOT_DD7 (day one) and WSDOT_DBK (day two)"},{"$f":"Master!D217","v":"OLT/ILT"},{"$f":"Master!E217","v":"Active"},{"$f":"Master!F217","v":0},{"$f":"Master!H217","v":0},{"$f":"IF(Master!S217=\"\",\"B\",Master!S217)","v":"B"},{"$f":"IF(Master!AD217=\"\",\"B\",Master!AD217)","v":"B"},{"$f":"IF(Master!AO217=\"\",\"B\",Master!AO217)","v":"B"},{"$f":"IF(Master!AZ217=\"\",\"B\",Master!AZ217)","v":"B"},{"$f":"IF(Master!BK217=\"\",\"B\",Master!BK217)","v":"B"},{"$f":"IF(Master!BV217=\"\",\"B\",Master!BV217)","v":"B"}]
[{"$f":"Master!A218","v":"TR"},{"$f":"Master!B218","v":"**VISUM"},{"$f":"Master!C218","v":0},{"$f":"Master!D218","v":"OLT/ILT"},{"$f":"Master!E218","v":"Inactive"},{"$f":"Master!F218","v":"None"},{"$f":"Master!H218","v":"No technical lead within WSDOT available to teach"},{"$f":"IF(Master!S218=\"\",\"B\",Master!S218)","v":"B"},{"$f":"IF(Master!AD218=\"\",\"B\",Master!AD218)","v":"B"},{"$f":"IF(Master!AO218=\"\",\"B\",Master!AO218)","v":"B"},{"$f":"IF(Master!AZ218=\"\",\"B\",Master!AZ218)","v":"B"},{"$f":"IF(Master!BK218=\"\",\"B\",Master!BK218)","v":"B"},{"$f":"IF(Master!BV218=\"\",\"B\",Master!BV218)","v":"B"}]
[{"$f":"Master!A219","v":"TR"},{"$f":"Master!B219","v":"**VISSIM"},{"$f":"Master!C219","v":0},{"$f":"Master!D219","v":"OLT/ILT"},{"$f":"Master!E219","v":"Inactive"},{"$f":"Master!F219","v":"None"},{"$f":"Master!H219","v":"No technical lead within WSDOT available to teach"},{"$f":"IF(Master!S219=\"\",\"B\",Master!S219)","v":"B"},{"$f":"IF(Master!AD219=\"\",\"B\",Master!AD219)","v":"B"},{"$f":"IF(Master!AO219=\"\",\"B\",Master!AO219)","v":"B"},{"$f":"IF(Master!AZ219=\"\",\"B\",Master!AZ219)","v":"B"},{"$f":"IF(Master!BK219=\"\",\"B\",Master!BK219)","v":"B"},{"$f":"IF(Master!BV219=\"\",\"B\",Master!BV219)","v":"B"}]
[{"$f":"Master!A220","v":"TR"},{"$f":"Master!B220","v":"**SIDRA"},{"$f":"Master!C220","v":0},{"$f":"Master!D220","v":"OLT/ILT"},{"$f":"Master!E220","v":"Inactive"},{"$f":"Master!F220","v":"None"},{"$f":"Master!H220","v":"No technical lead within WSDOT available to teach"},{"$f":"IF(Master!S220=\"\",\"B\",Master!S220)","v":"B"},{"$f":"IF(Master!AD220=\"\",\"B\",Master!AD220)","v":"B"},{"$f":"IF(Master!AO220=\"\",\"B\",Master!AO220)","v":"B"},{"$f":"IF(Master!AZ220=\"\",\"B\",Master!AZ220)","v":"B"},{"$f":"IF(Master!BK220=\"\",\"B\",Master!BK220)","v":"B"},{"$f":"IF(Master!BV220=\"\",\"B\",Master!BV220)","v":"B"}]
[{"$f":"Master!A221","v":"TR"},{"$f":"Master!B221","v":"**SYNCHRO"},{"$f":"Master!C221","v":0},{"$f":"Master!D221","v":"OLT/ILT"},{"$f":"Master!E221","v":"Inactive"},{"$f":"Master!F221","v":"None"},{"$f":"Master!H221","v":"No technical lead within WSDOT available to teach"},{"$f":"IF(Master!S221=\"\",\"B\",Master!S221)","v":"B"},{"$f":"IF(Master!AD221=\"\",\"B\",Master!AD221)","v":"B"},{"$f":"IF(Master!AO221=\"\",\"B\",Master!AO221)","v":"B"},{"$f":"IF(Master!AZ221=\"\",\"B\",Master!AZ221)","v":"B"},{"$f":"IF(Master!BK221=\"\",\"B\",Master!BK221)","v":"B"},{"$f":"IF(Master!BV221=\"\",\"B\",Master!BV221)","v":"B"}]
[{"$f":"Master!A222","v":"TR"},{"$f":"Master!B222","v":"WSDOT PSHSM: Highway Safety Manual Level B"},{"$f":"Master!C222","v":"PSHSM_B01"},{"$f":"Master!D222","v":"OLT/ILT"},{"$f":"Master!E222","v":"Inactive"},{"$f":"Master!F222","v":"None"},{"$f":"Master!H222","v":"No technical lead within WSDOT available to teach"},{"$f":"IF(Master!S222=\"\",\"B\",Master!S222)","v":2},{"$f":"IF(Master!AD222=\"\",\"B\",Master!AD222)","v":2},{"$f":"IF(Master!AO222=\"\",\"B\",Master!AO222)","v":2},{"$f":"IF(Master!AZ222=\"\",\"B\",Master!AZ222)","v":2},{"$f":"IF(Master!BK222=\"\",\"B\",Master!BK222)","v":1},{"$f":"IF(Master!BV222=\"\",\"B\",Master!BV222)","v":"B"}]
[{"$f":"Master!A223","v":"TR"},{"$f":"Master!B223","v":"WSDOT PSHSM: Highway Safety Manual Level C1"},{"$f":"Master!C223","v":"PSHSM_C01"},{"$f":"Master!D223","v":"OLT/ILT"},{"$f":"Master!E223","v":"Inactive"},{"$f":"Master!F223","v":"None"},{"$f":"Master!H223","v":"No technical lead within WSDOT available to teach"},{"$f":"IF(Master!S223=\"\",\"B\",Master!S223)","v":"B"},{"$f":"IF(Master!AD223=\"\",\"B\",Master!AD223)","v":"B"},{"$f":"IF(Master!AO223=\"\",\"B\",Master!AO223)","v":"B"},{"$f":"IF(Master!AZ223=\"\",\"B\",Master!AZ223)","v":"B"},{"$f":"IF(Master!BK223=\"\",\"B\",Master!BK223)","v":1},{"$f":"IF(Master!BV223=\"\",\"B\",Master!BV223)","v":"B"}]
[{"$f":"Master!A224","v":"TR"},{"$f":"Master!B224","v":"WSDOT PSHSM: Highway Safety Manual Level C2"},{"$f":"Master!C224","v":"PSHSM C2"},{"$f":"Master!D224","v":"OLT/ILT"},{"$f":"Master!E224","v":"Inactive"},{"$f":"Master!F224","v":"None"},{"$f":"Master!H224","v":"No technical lead within WSDOT available to teach"},{"$f":"IF(Master!S224=\"\",\"B\",Master!S224)","v":"B"},{"$f":"IF(Master!AD224=\"\",\"B\",Master!AD224)","v":"B"},{"$f":"IF(Master!AO224=\"\",\"B\",Master!AO224)","v":"B"},{"$f":"IF(Master!AZ224=\"\",\"B\",Master!AZ224)","v":"B"},{"$f":"IF(Master!BK224=\"\",\"B\",Master!BK224)","v":1},{"$f":"IF(Master!BV224=\"\",\"B\",Master!BV224)","v":"B"}]
[{"$f":"Master!A225","v":"TR"},{"$f":"Master!B225","v":"WSDOT PSHSM: Highway Safety Manual Level C3"},{"$f":"Master!C225","v":"PSHSM C3"},{"$f":"Master!D225","v":"OLT/ILT"},{"$f":"Master!E225","v":"Inactive"},{"$f":"Master!F225","v":"None"},{"$f":"Master!H225","v":"No technical lead within WSDOT available to teach"},{"$f":"IF(Master!S225=\"\",\"B\",Master!S225)","v":"B"},{"$f":"IF(Master!AD225=\"\",\"B\",Master!AD225)","v":"B"},{"$f":"IF(Master!AO225=\"\",\"B\",Master!AO225)","v":"B"},{"$f":"IF(Master!AZ225=\"\",\"B\",Master!AZ225)","v":"B"},{"$f":"IF(Master!BK225=\"\",\"B\",Master!BK225)","v":2},{"$f":"IF(Master!BV225=\"\",\"B\",Master!BV225)","v":"B"}]
[{"$f":"Master!A226","v":"TR"},{"$f":"Master!B226","v":"WSDOT PSHSM: Highway Safety Manual Level D1"},{"$f":"Master!C226","v":"PSHSM D1"},{"$f":"Master!D226","v":"OLT/ILT"},{"$f":"Master!E226","v":"Inactive"},{"$f":"Master!F226","v":"None"},{"$f":"Master!H226","v":"No technical lead within WSDOT available to teach"},{"$f":"IF(Master!S226=\"\",\"B\",Master!S226)","v":"B"},{"$f":"IF(Master!AD226=\"\",\"B\",Master!AD226)","v":"B"},{"$f":"IF(Master!AO226=\"\",\"B\",Master!AO226)","v":"B"},{"$f":"IF(Master!AZ226=\"\",\"B\",Master!AZ226)","v":"B"},{"$f":"IF(Master!BK226=\"\",\"B\",Master!BK226)","v":2},{"$f":"IF(Master!BV226=\"\",\"B\",Master!BV226)","v":"B"}]
[{"$f":"Master!A227","v":"TR"},{"$f":"Master!B227","v":"**ILLUMINATION DESIGN FOR TRANSPORTATION APPLICATIONS"},{"$f":"Master!C227","v":0},{"$f":"Master!D227","v":"OLT/ILT"},{"$f":"Master!E227","v":"Under Development"},{"$f":"Master!F227","v":"Q2 2018"},{"$f":"Master!H227","v":0},{"$f":"IF(Master!S227=\"\",\"B\",Master!S227)","v":"B"},{"$f":"IF(Master!AD227=\"\",\"B\",Master!AD227)","v":"B"},{"$f":"IF(Master!AO227=\"\",\"B\",Master!AO227)","v":"B"},{"$f":"IF(Master!AZ227=\"\",\"B\",Master!AZ227)","v":"B"},{"$f":"IF(Master!BK227=\"\",\"B\",Master!BK227)","v":"B"},{"$f":"IF(Master!BV227=\"\",\"B\",Master!BV227)","v":"B"}]
[{"$f":"Master!A228","v":"TR"},{"$f":"Master!B228","v":"WSDOT TR: Power Supply Design for Transportation Applications"},{"$f":"Master!C228","v":"WSDOT_BZA"},{"$f":"Master!D228","v":"OLT/ILT"},{"$f":"Master!E228","v":"Active"},{"$f":"Master!F228","v":0},{"$f":"Master!H228","v":0},{"$f":"IF(Master!S228=\"\",\"B\",Master!S228)","v":"B"},{"$f":"IF(Master!AD228=\"\",\"B\",Master!AD228)","v":"B"},{"$f":"IF(Master!AO228=\"\",\"B\",Master!AO228)","v":"B"},{"$f":"IF(Master!AZ228=\"\",\"B\",Master!AZ228)","v":"B"},{"$f":"IF(Master!BK228=\"\",\"B\",Master!BK228)","v":"B"},{"$f":"IF(Master!BV228=\"\",\"B\",Master!BV228)","v":"B"}]
[{"$f":"Master!A229","v":"TR"},{"$f":"Master!B229","v":"**TRAFFIC SIGNAL LAYOUT AND CONDUCTOR TERMINATION"},{"$f":"Master!C229","v":0},{"$f":"Master!D229","v":"OLT/ILT"},{"$f":"Master!E229","v":"Inactive"},{"$f":"Master!F229","v":0},{"$f":"Master!H229","v":"No technical lead within WSDOT available to teach"},{"$f":"IF(Master!S229=\"\",\"B\",Master!S229)","v":"B"},{"$f":"IF(Master!AD229=\"\",\"B\",Master!AD229)","v":"B"},{"$f":"IF(Master!AO229=\"\",\"B\",Master!AO229)","v":"B"},{"$f":"IF(Master!AZ229=\"\",\"B\",Master!AZ229)","v":"B"},{"$f":"IF(Master!BK229=\"\",\"B\",Master!BK229)","v":"B"},{"$f":"IF(Master!BV229=\"\",\"B\",Master!BV229)","v":"B"}]
[{"$f":"Master!A230","v":"TR"},{"$f":"Master!B230","v":"**SIGN DESIGN"},{"$f":"Master!C230","v":0},{"$f":"Master!D230","v":"OLT/ILT"},{"$f":"Master!E230","v":"Inactive"},{"$f":"Master!F230","v":"None"},{"$f":"Master!H230","v":"No technical lead within WSDOT available to teach"},{"$f":"IF(Master!S230=\"\",\"B\",Master!S230)","v":"B"},{"$f":"IF(Master!AD230=\"\",\"B\",Master!AD230)","v":"B"},{"$f":"IF(Master!AO230=\"\",\"B\",Master!AO230)","v":"B"},{"$f":"IF(Master!AZ230=\"\",\"B\",Master!AZ230)","v":"B"},{"$f":"IF(Master!BK230=\"\",\"B\",Master!BK230)","v":"B"},{"$f":"IF(Master!BV230=\"\",\"B\",Master!BV230)","v":"B"}]
[{"$f":"Master!A231","v":"TR"},{"$f":"Master!B231","v":"WSDOT NHI: TR-Traffic Signal Design and Operations"},{"$f":"Master!C231","v":"WSDOT_TSD"},{"$f":"Master!D231","v":"OLT/ILT"},{"$f":"Master!E231","v":"Inactive"},{"$f":"Master!F231","v":"None"},{"$f":"Master!H231","v":"No technical lead within WSDOT available to teach"},{"$f":"IF(Master!S231=\"\",\"B\",Master!S231)","v":"B"},{"$f":"IF(Master!AD231=\"\",\"B\",Master!AD231)","v":"B"},{"$f":"IF(Master!AO231=\"\",\"B\",Master!AO231)","v":"B"},{"$f":"IF(Master!AZ231=\"\",\"B\",Master!AZ231)","v":"B"},{"$f":"IF(Master!BK231=\"\",\"B\",Master!BK231)","v":"B"},{"$f":"IF(Master!BV231=\"\",\"B\",Master!BV231)","v":"B"}]
[{"$f":"Master!A232","v":"TR"},{"$f":"Master!B232","v":"WSDOT NHI: TR-Traffic Signal Timing Concepts"},{"$f":"Master!C232","v":"WSDOT_STC"},{"$f":"Master!D232","v":"OLT/ILT"},{"$f":"Master!E232","v":"Inactive"},{"$f":"Master!F232","v":"None"},{"$f":"Master!H232","v":"No technical lead within WSDOT available to teach"},{"$f":"IF(Master!S232=\"\",\"B\",Master!S232)","v":"B"},{"$f":"IF(Master!AD232=\"\",\"B\",Master!AD232)","v":"B"},{"$f":"IF(Master!AO232=\"\",\"B\",Master!AO232)","v":"B"},{"$f":"IF(Master!AZ232=\"\",\"B\",Master!AZ232)","v":"B"},{"$f":"IF(Master!BK232=\"\",\"B\",Master!BK232)","v":"B"},{"$f":"IF(Master!BV232=\"\",\"B\",Master!BV232)","v":"B"}]
[{"$f":"Master!A233","v":"TR"},{"$f":"Master!B233","v":"**SYSTEMS ENGINEERING FOR SIGNAL SYSTEMS"},{"$f":"Master!C233","v":0},{"$f":"Master!D233","v":"OLT/ILT"},{"$f":"Master!E233","v":"Inactive"},{"$f":"Master!F233","v":"None"},{"$f":"Master!H233","v":"No technical lead within WSDOT available to teach"},{"$f":"IF(Master!S233=\"\",\"B\",Master!S233)","v":"B"},{"$f":"IF(Master!AD233=\"\",\"B\",Master!AD233)","v":"B"},{"$f":"IF(Master!AO233=\"\",\"B\",Master!AO233)","v":"B"},{"$f":"IF(Master!AZ233=\"\",\"B\",Master!AZ233)","v":"B"},{"$f":"IF(Master!BK233=\"\",\"B\",Master!BK233)","v":"B"},{"$f":"IF(Master!BV233=\"\",\"B\",Master!BV233)","v":"B"}]
[{"$f":"Master!A234","v":"TR"},{"$f":"Master!B234","v":"**TRAFFIC SIGNAL MANAGEMENT"},{"$f":"Master!C234","v":0},{"$f":"Master!D234","v":"OLT/ILT"},{"$f":"Master!E234","v":"Inactive"},{"$f":"Master!F234","v":"None"},{"$f":"Master!H234","v":"No technical lead within WSDOT available to teach"},{"$f":"IF(Master!S234=\"\",\"B\",Master!S234)","v":"B"},{"$f":"IF(Master!AD234=\"\",\"B\",Master!AD234)","v":"B"},{"$f":"IF(Master!AO234=\"\",\"B\",Master!AO234)","v":"B"},{"$f":"IF(Master!AZ234=\"\",\"B\",Master!AZ234)","v":"B"},{"$f":"IF(Master!BK234=\"\",\"B\",Master!BK234)","v":"B"},{"$f":"IF(Master!BV234=\"\",\"B\",Master!BV234)","v":"B"}]
[{"$f":"Master!A235","v":"TR"},{"$f":"Master!B235","v":"**ITS PROCUREMENT"},{"$f":"Master!C235","v":0},{"$f":"Master!D235","v":"OLT/ILT"},{"$f":"Master!E235","v":"Inactive"},{"$f":"Master!F235","v":"None"},{"$f":"Master!H235","v":"No technical lead within WSDOT available to teach"},{"$f":"IF(Master!S235=\"\",\"B\",Master!S235)","v":"B"},{"$f":"IF(Master!AD235=\"\",\"B\",Master!AD235)","v":"B"},{"$f":"IF(Master!AO235=\"\",\"B\",Master!AO235)","v":"B"},{"$f":"IF(Master!AZ235=\"\",\"B\",Master!AZ235)","v":"B"},{"$f":"IF(Master!BK235=\"\",\"B\",Master!BK235)","v":"B"},{"$f":"IF(Master!BV235=\"\",\"B\",Master!BV235)","v":"B"}]
[{"$f":"Master!A236","v":"TR"},{"$f":"Master!B236","v":"**BASICS OF TRANSPORTATION PLANNING"},{"$f":"Master!C236","v":0},{"$f":"Master!D236","v":"OLT/ILT"},{"$f":"Master!E236","v":"Inactive"},{"$f":"Master!F236","v":"None"},{"$f":"Master!H236","v":"No technical lead within WSDOT available to teach"},{"$f":"IF(Master!S236=\"\",\"B\",Master!S236)","v":2},{"$f":"IF(Master!AD236=\"\",\"B\",Master!AD236)","v":2},{"$f":"IF(Master!AO236=\"\",\"B\",Master!AO236)","v":2},{"$f":"IF(Master!AZ236=\"\",\"B\",Master!AZ236)","v":2},{"$f":"IF(Master!BK236=\"\",\"B\",Master!BK236)","v":1},{"$f":"IF(Master!BV236=\"\",\"B\",Master!BV236)","v":1}]
[{"$f":"Master!A237","v":"TR"},{"$f":"Master!B237","v":"**ADA/APS DESIGN"},{"$f":"Master!C237","v":0},{"$f":"Master!D237","v":"OLT/ILT"},{"$f":"Master!E237","v":"Inactive"},{"$f":"Master!F237","v":"None"},{"$f":"Master!H237","v":"No technical lead within WSDOT available to teach"},{"$f":"IF(Master!S237=\"\",\"B\",Master!S237)","v":"B"},{"$f":"IF(Master!AD237=\"\",\"B\",Master!AD237)","v":"B"},{"$f":"IF(Master!AO237=\"\",\"B\",Master!AO237)","v":"B"},{"$f":"IF(Master!AZ237=\"\",\"B\",Master!AZ237)","v":"B"},{"$f":"IF(Master!BK237=\"\",\"B\",Master!BK237)","v":"B"},{"$f":"IF(Master!BV237=\"\",\"B\",Master!BV237)","v":"B"}]
[{"$f":"Master!A238","v":"TR"},{"$f":"Master!B238","v":"**SIGNAL WARRANT ANALYSIS"},{"$f":"Master!C238","v":0},{"$f":"Master!D238","v":"OLT/ILT"},{"$f":"Master!E238","v":"Inactive"},{"$f":"Master!F238","v":"None"},{"$f":"Master!H238","v":"No technical lead within WSDOT available to teach"},{"$f":"IF(Master!S238=\"\",\"B\",Master!S238)","v":"B"},{"$f":"IF(Master!AD238=\"\",\"B\",Master!AD238)","v":"B"},{"$f":"IF(Master!AO238=\"\",\"B\",Master!AO238)","v":"B"},{"$f":"IF(Master!AZ238=\"\",\"B\",Master!AZ238)","v":"B"},{"$f":"IF(Master!BK238=\"\",\"B\",Master!BK238)","v":"B"},{"$f":"IF(Master!BV238=\"\",\"B\",Master!BV238)","v":"B"}]
[{"$f":"Master!A239","v":"TR"},{"$f":"Master!B239","v":"WSDOT TR: Introduction to ITS Design"},{"$f":"Master!C239","v":"WSDOT_DA6"},{"$f":"Master!D239","v":"OLT/ILT"},{"$f":"Master!E239","v":"Inactive"},{"$f":"Master!F239","v":"None"},{"$f":"Master!H239","v":"No technical lead within WSDOT available to teach"},{"$f":"IF(Master!S239=\"\",\"B\",Master!S239)","v":"B"},{"$f":"IF(Master!AD239=\"\",\"B\",Master!AD239)","v":"B"},{"$f":"IF(Master!AO239=\"\",\"B\",Master!AO239)","v":"B"},{"$f":"IF(Master!AZ239=\"\",\"B\",Master!AZ239)","v":"B"},{"$f":"IF(Master!BK239=\"\",\"B\",Master!BK239)","v":"B"},{"$f":"IF(Master!BV239=\"\",\"B\",Master!BV239)","v":"B"}]
[{"$f":"Master!A240","v":"TR"},{"$f":"Master!B240","v":"WSDOT TR: Intermediate/Advanced ITS Design"},{"$f":"Master!C240","v":"WSDOT_DA7"},{"$f":"Master!D240","v":"OLT/ILT"},{"$f":"Master!E240","v":"Inactive"},{"$f":"Master!F240","v":"None"},{"$f":"Master!H240","v":"No technical lead within WSDOT available to teach"},{"$f":"IF(Master!S240=\"\",\"B\",Master!S240)","v":"B"},{"$f":"IF(Master!AD240=\"\",\"B\",Master!AD240)","v":"B"},{"$f":"IF(Master!AO240=\"\",\"B\",Master!AO240)","v":"B"},{"$f":"IF(Master!AZ240=\"\",\"B\",Master!AZ240)","v":"B"},{"$f":"IF(Master!BK240=\"\",\"B\",Master!BK240)","v":"B"},{"$f":"IF(Master!BV240=\"\",\"B\",Master!BV240)","v":"B"}]
[{"$f":"Master!A241","v":"TR"},{"$f":"Master!B241","v":"**BASIC HIGHWAY CAPACITY FOR ENGINEERS AND PLANNERS"},{"$f":"Master!C241","v":0},{"$f":"Master!D241","v":"OLT/ILT"},{"$f":"Master!E241","v":"Inactive"},{"$f":"Master!F241","v":"None"},{"$f":"Master!H241","v":"No technical lead within WSDOT available to teach"},{"$f":"IF(Master!S241=\"\",\"B\",Master!S241)","v":2},{"$f":"IF(Master!AD241=\"\",\"B\",Master!AD241)","v":2},{"$f":"IF(Master!AO241=\"\",\"B\",Master!AO241)","v":2},{"$f":"IF(Master!AZ241=\"\",\"B\",Master!AZ241)","v":2},{"$f":"IF(Master!BK241=\"\",\"B\",Master!BK241)","v":"B"},{"$f":"IF(Master!BV241=\"\",\"B\",Master!BV241)","v":"B"}]
[{"$f":"Master!A242","v":"TR"},{"$f":"Master!B242","v":"WSDOT UW: Gen-Uniform Traffic Control Devices"},{"$f":"Master!C242","v":"WSDOT_BML"},{"$f":"Master!D242","v":"OLT/ILT"},{"$f":"Master!E242","v":"Inactive"},{"$f":"Master!F242","v":"None"},{"$f":"Master!H242","v":"No technical lead within WSDOT available to teach"},{"$f":"IF(Master!S242=\"\",\"B\",Master!S242)","v":"B"},{"$f":"IF(Master!AD242=\"\",\"B\",Master!AD242)","v":"B"},{"$f":"IF(Master!AO242=\"\",\"B\",Master!AO242)","v":"B"},{"$f":"IF(Master!AZ242=\"\",\"B\",Master!AZ242)","v":"B"},{"$f":"IF(Master!BK242=\"\",\"B\",Master!BK242)","v":"B"},{"$f":"IF(Master!BV242=\"\",\"B\",Master!BV242)","v":"B"}]
[{"$f":"Master!A243","v":"TR"},{"$f":"Master!B243","v":"WSDOT UW: TR-Advanced Highway Capacity Analysis"},{"$f":"Master!C243","v":"WSDOT_A3C"},{"$f":"Master!D243","v":"OLT/ILT"},{"$f":"Master!E243","v":"Inactive"},{"$f":"Master!F243","v":"None"},{"$f":"Master!H243","v":"No technical lead within WSDOT available to teach"},{"$f":"IF(Master!S243=\"\",\"B\",Master!S243)","v":"B"},{"$f":"IF(Master!AD243=\"\",\"B\",Master!AD243)","v":"B"},{"$f":"IF(Master!AO243=\"\",\"B\",Master!AO243)","v":"B"},{"$f":"IF(Master!AZ243=\"\",\"B\",Master!AZ243)","v":"B"},{"$f":"IF(Master!BK243=\"\",\"B\",Master!BK243)","v":"B"},{"$f":"IF(Master!BV243=\"\",\"B\",Master!BV243)","v":"B"}]
[{"$f":"Master!A244","v":"TR"},{"$f":"Master!B244","v":"WSDOT UW: TR-Fundamentals of Traffic Engineering"},{"$f":"Master!C244","v":"WSDOT_BS3"},{"$f":"Master!D244","v":"OLT/ILT"},{"$f":"Master!E244","v":"Inactive"},{"$f":"Master!F244","v":"None"},{"$f":"Master!H244","v":"No technical lead within WSDOT available to teach"},{"$f":"IF(Master!S244=\"\",\"B\",Master!S244)","v":2},{"$f":"IF(Master!AD244=\"\",\"B\",Master!AD244)","v":2},{"$f":"IF(Master!AO244=\"\",\"B\",Master!AO244)","v":2},{"$f":"IF(Master!AZ244=\"\",\"B\",Master!AZ244)","v":2},{"$f":"IF(Master!BK244=\"\",\"B\",Master!BK244)","v":"B"},{"$f":"IF(Master!BV244=\"\",\"B\",Master!BV244)","v":"B"}]
[{"$f":"Master!A245","v":"TR"},{"$f":"Master!B245","v":"WSDOT UW:TR-Traffic Engineering Operations"},{"$f":"Master!C245","v":"WSDOT_BS4"},{"$f":"Master!D245","v":"OLT/ILT"},{"$f":"Master!E245","v":"Inactive"},{"$f":"Master!F245","v":"None"},{"$f":"Master!H245","v":"No technical lead within WSDOT available to teach"},{"$f":"IF(Master!S245=\"\",\"B\",Master!S245)","v":"B"},{"$f":"IF(Master!AD245=\"\",\"B\",Master!AD245)","v":"B"},{"$f":"IF(Master!AO245=\"\",\"B\",Master!AO245)","v":"B"},{"$f":"IF(Master!AZ245=\"\",\"B\",Master!AZ245)","v":"B"},{"$f":"IF(Master!BK245=\"\",\"B\",Master!BK245)","v":"B"},{"$f":"IF(Master!BV245=\"\",\"B\",Master!BV245)","v":"B"}]
[{"$f":"Master!A246","v":0},{"$f":"Master!B246","v":"** no LMS course"},{"$f":"Master!C246","v":0},{"$f":"Master!D246","v":0},{"$f":"Master!E246","v":0},{"$f":"Master!F246","v":0},{"$f":"Master!H246","v":0}]
[{"$f":"Master!A247","v":0},{"$f":"Master!B247","v":"*** SS=Self Study, OLT=Online Training, ILT=Instructor Led Training"},{"$f":"Master!C247","v":0},{"$f":"Master!D247","v":0},{"$f":"Master!E247","v":0},{"$f":"Master!F247","v":0},{"$f":"Master!H247","v":0}]
[{"$f":"Master!A248","v":"ES"},{"$f":"Master!B248","v":"= Course offered by Department of Enterprise Services (DES). Contact LMS Helpdesk at 360-705-7060."},{"$f":"Master!C248","v":0},{"$f":"Master!D248","v":0},{"$f":"Master!E248","v":0},{"$f":"Master!F248","v":0},{"$f":"Master!H248","v":0}]
[{"$f":"Master!A249","v":"HR"},{"$f":"Master!B249","v":"= Course registration controlled by Human Resources. Contact LMS Helpdesk at 360-705-7060 to Register."},{"$f":"Master!C249","v":0},{"$f":"Master!D249","v":0},{"$f":"Master!E249","v":0},{"$f":"Master!F249","v":0},{"$f":"Master!H249","v":0}]
[{"$f":"Master!A250","v":0},{"$f":"Master!B250","v":0},{"$f":"Master!C250","v":0},{"$f":"Master!D250","v":0},{"$f":"Master!E250","v":0},{"$f":"Master!F250","v":0},{"$f":"Master!H250","v":0}]
[{"$f":"Master!A251","v":0},{"$f":"Master!B251","v":0},{"$f":"Master!C251","v":0},{"$f":"Master!D251","v":0},{"$f":"Master!E251","v":0},{"$f":"Master!F251","v":0},{"$f":"Master!H251","v":0}]
[{"$f":"Master!A252","v":0},{"$f":"Master!B252","v":0},{"$f":"Master!C252","v":0},{"$f":"Master!D252","v":0},{"$f":"Master!E252","v":0},{"$f":"Master!F252","v":0},{"$f":"Master!H252","v":0}]
[{"$f":"Master!A253","v":0},{"$f":"Master!B253","v":0},{"$f":"Master!C253","v":0},{"$f":"Master!D253","v":0},{"$f":"Master!E253","v":0},{"$f":"Master!F253","v":0},{"$f":"Master!H253","v":0}]
[{"$f":"Master!A254","v":0},{"$f":"Master!B254","v":0},{"$f":"Master!C254","v":0},{"$f":"Master!D254","v":0},{"$f":"Master!E254","v":0},{"$f":"Master!F254","v":0},{"$f":"Master!H254","v":0}]
[{"$f":"Master!A255","v":0},{"$f":"Master!B255","v":0},{"$f":"Master!C255","v":0},{"$f":"Master!D255","v":0},{"$f":"Master!E255","v":0},{"$f":"Master!F255","v":0},{"$f":"Master!H255","v":0}]
[{"$f":"Master!A256","v":0},{"$f":"Master!B256","v":0},{"$f":"Master!C256","v":0},{"$f":"Master!D256","v":0},{"$f":"Master!E256","v":0},{"$f":"Master!F256","v":0},{"$f":"Master!H256","v":0}]
[{"$f":"Master!A257","v":0},{"$f":"Master!B257","v":0},{"$f":"Master!C257","v":0},{"$f":"Master!D257","v":0},{"$f":"Master!E257","v":0},{"$f":"Master!F257","v":0},{"$f":"Master!H257","v":0}]
[{"$f":"Master!A258","v":0},{"$f":"Master!B258","v":0},{"$f":"Master!C258","v":0},{"$f":"Master!D258","v":0},{"$f":"Master!E258","v":0},{"$f":"Master!F258","v":0},{"$f":"Master!H258","v":0}]
[{"$f":"Master!A259","v":0},{"$f":"Master!B259","v":0},{"$f":"Master!C259","v":0},{"$f":"Master!D259","v":0},{"$f":"Master!E259","v":0},{"$f":"Master!F259","v":0},{"$f":"Master!H259","v":0}]
[{"$f":"Master!A260","v":0},{"$f":"Master!B260","v":0},{"$f":"Master!C260","v":0},{"$f":"Master!D260","v":0},{"$f":"Master!E260","v":0},{"$f":"Master!F260","v":0},{"$f":"Master!H260","v":0}]
[{"$f":"Master!A261","v":0},{"$f":"Master!B261","v":0},{"$f":"Master!C261","v":0},{"$f":"Master!D261","v":0},{"$f":"Master!E261","v":0},{"$f":"Master!F261","v":0},{"$f":"Master!H261","v":0}]
[{"$f":"Master!A262","v":0},{"$f":"Master!B262","v":0},{"$f":"Master!C262","v":0},{"$f":"Master!D262","v":0},{"$f":"Master!E262","v":0},{"$f":"Master!F262","v":0},{"$f":"Master!H262","v":0}]
[{"$f":"Master!A263","v":0},{"$f":"Master!B263","v":0},{"$f":"Master!C263","v":0},{"$f":"Master!D263","v":0},{"$f":"Master!E263","v":0},{"$f":"Master!F263","v":0},{"$f":"Master!H263","v":0}]
[{"$f":"Master!A264","v":0},{"$f":"Master!B264","v":0},{"$f":"Master!C264","v":0},{"$f":"Master!D264","v":0},{"$f":"Master!E264","v":0},{"$f":"Master!F264","v":0},{"$f":"Master!H264","v":0}]
[{"$f":"Master!A265","v":0},{"$f":"Master!B265","v":0},{"$f":"Master!C265","v":0},{"$f":"Master!D265","v":0},{"$f":"Master!E265","v":0},{"$f":"Master!F265","v":0},{"$f":"Master!H265","v":0}]
[{"$f":"Master!A266","v":0},{"$f":"Master!B266","v":0},{"$f":"Master!C266","v":0},{"$f":"Master!D266","v":0},{"$f":"Master!E266","v":0},{"$f":"Master!F266","v":0},{"$f":"Master!H266","v":0}]
[{"$f":"Master!A267","v":0},{"$f":"Master!B267","v":0},{"$f":"Master!C267","v":0},{"$f":"Master!D267","v":0},{"$f":"Master!E267","v":0},{"$f":"Master!F267","v":0},{"$f":"Master!H267","v":0}]
[{"$f":"Master!A268","v":0},{"$f":"Master!B268","v":0},{"$f":"Master!C268","v":0},{"$f":"Master!D268","v":0},{"$f":"Master!E268","v":0},{"$f":"Master!F268","v":0},{"$f":"Master!H268","v":0}]
[{"$f":"Master!A269","v":0},{"$f":"Master!B269","v":0},{"$f":"Master!C269","v":0},{"$f":"Master!D269","v":0},{"$f":"Master!E269","v":0},{"$f":"Master!F269","v":0},{"$f":"Master!H269","v":0}]
[{"$f":"Master!A270","v":0},{"$f":"Master!B270","v":0},{"$f":"Master!C270","v":0},{"$f":"Master!D270","v":0},{"$f":"Master!E270","v":0},{"$f":"Master!F270","v":0},{"$f":"Master!H270","v":0}]
[{"$f":"Master!A271","v":0},{"$f":"Master!B271","v":0},{"$f":"Master!C271","v":0},{"$f":"Master!D271","v":0},{"$f":"Master!E271","v":0},{"$f":"Master!F271","v":0},{"$f":"Master!H271","v":0}]
[{"$f":"Master!A272","v":0},{"$f":"Master!B272","v":0},{"$f":"Master!C272","v":0},{"$f":"Master!D272","v":0},{"$f":"Master!E272","v":0},{"$f":"Master!F272","v":0},{"$f":"Master!H272","v":0}]
[{"$f":"Master!A273","v":0},{"$f":"Master!B273","v":0},{"$f":"Master!C273","v":0},{"$f":"Master!D273","v":0},{"$f":"Master!E273","v":0},{"$f":"Master!F273","v":0},{"$f":"Master!H273","v":0}]
[{"$f":"Master!A274","v":0},{"$f":"Master!B274","v":0},{"$f":"Master!C274","v":0},{"$f":"Master!D274","v":0},{"$f":"Master!E274","v":0},{"$f":"Master!F274","v":0},{"$f":"Master!H274","v":0}]
[{"$f":"Master!A275","v":0},{"$f":"Master!B275","v":0},{"$f":"Master!C275","v":0},{"$f":"Master!D275","v":0},{"$f":"Master!E275","v":0},{"$f":"Master!F275","v":0},{"$f":"Master!H275","v":0}]
[{"$f":"Master!A276","v":0},{"$f":"Master!B276","v":0},{"$f":"Master!C276","v":0},{"$f":"Master!D276","v":0},{"$f":"Master!E276","v":0},{"$f":"Master!F276","v":0},{"$f":"Master!H276","v":0}]
[{"$f":"Master!A277","v":0},{"$f":"Master!B277","v":0},{"$f":"Master!C277","v":0},{"$f":"Master!D277","v":0},{"$f":"Master!E277","v":0},{"$f":"Master!F277","v":0},{"$f":"Master!H277","v":0}]
[{"$f":"Master!A278","v":0},{"$f":"Master!B278","v":0},{"$f":"Master!C278","v":0},{"$f":"Master!D278","v":0},{"$f":"Master!E278","v":0},{"$f":"Master!F278","v":0},{"$f":"Master!H278","v":0}]
[{"$f":"Master!A279","v":0},{"$f":"Master!B279","v":0},{"$f":"Master!C279","v":0},{"$f":"Master!D279","v":0},{"$f":"Master!E279","v":0},{"$f":"Master!F279","v":0},{"$f":"Master!H279","v":0}]
[{"$f":"Master!A280","v":0},{"$f":"Master!B280","v":0},{"$f":"Master!C280","v":0},{"$f":"Master!D280","v":0},{"$f":"Master!E280","v":0},{"$f":"Master!F280","v":0},{"$f":"Master!H280","v":0}]
[{"$f":"Master!A281","v":0},{"$f":"Master!B281","v":0},{"$f":"Master!C281","v":0},{"$f":"Master!D281","v":0},{"$f":"Master!E281","v":0},{"$f":"Master!F281","v":0},{"$f":"Master!H281","v":0}]
[{"$f":"Master!A282","v":0},{"$f":"Master!B282","v":0},{"$f":"Master!C282","v":0},{"$f":"Master!D282","v":0},{"$f":"Master!E282","v":0},{"$f":"Master!F282","v":0},{"$f":"Master!H282","v":0}]
[{"$f":"Master!A283","v":0},{"$f":"Master!B283","v":0},{"$f":"Master!C283","v":0},{"$f":"Master!D283","v":0},{"$f":"Master!E283","v":0},{"$f":"Master!F283","v":0},{"$f":"Master!H283","v":0}]

{"sheet":"Revisions","index":21,"n_rows":22,"n_cols":6,"rows_kept":22,"cut":false,"hidden":false,"merged":[]}
["date","requested by","tab","action","updated by","QA/ QC?"]
["2018-02-01","Molly Sullivan - ENV","Master","verified that Construction Site Erosion & Sediment Control is offered multiple statewide trainings per year (approximately 4)","KCS","yes"]
["2018-02-01","Molly Sullivan - ENV","Master","verified that Cultural Resources Training is offered once per year","KCS","yes"]
["2018-02-01","Molly Sullivan - ENV","Master","removed Cultural Resources Procedures & Policies from matrix","KCS","yes"]
["2018-02-01","Molly Sullivan - ENV","Master","Updated the frequency for NEPA/SEPA Overview training to once per year, and updated the Note to indicate that it will likely move from ILT to OLT in 2019","KCS","yes"]
["2018-02-01","Jim Mahugh - DES","Master","Remove Project Devlopment Academy from matrix, based on discussion with PDE's","KCS","yes"]
["2018-05-31","Jim Mahugh - DES","Master","The priorities for the safety related trainings were missing.  Added the priorities.","JM","yes"]
["2018-10-18","Eng Training Committee","All","Applied conditional formatting for inactive courses","KCS","yes"]
["2018-10-18","Course Owners","Master","Updated some courses from \"under development\" to \"Active\" based on feedback from course owners","KCS","yes"]
["2018-10-18","Amber Ehrdal","Master","Updated TECH MATH as required for technicians","KCS","yes"]
["2018-10-18","Jolena Missildine - CN","Master","Added eighteen design-build courses","KCS","yes"]
["2018-10-22","Molly Sullivan - ENV","Master","Added 2 NEPA/SEPA overview course modules","KCS","yes"]
["2018-10-23","Mark Gable - DES","Master","Updated name of Design Manual training","KCS","yes"]
["2018-10-23","Clint Hill - DES","All","Deleted the obsolete Autoturn training","KCS","yes"]
["2019-01-31","WSDOT WebHelp","File Menu","updated the filename and title, as well as comments, to improve web searches","KCS"]
["2019-06-18","Molly Sullivan - ENV","Master","updated course notes","KCS"]
["2019-06-18",null,"Instructions","Replaced Bill Mumma with Jeff Graham as Survey rep","KCS"]
["2019-06-18","Jennifer Martin","All","Removed outdated Skillsoft training per email","KCS"]
["2020-02-18","Molly Sullivan - ENV","All","added OLT course","KCS"]
["2020-02-18","Mark Gable - DES","Master","updated several design course notes","KCS"]
["2020-03-05","Jim Mahugh - DES","Master","Link to DES course was out of date","KCS"]
["2020-06-22","Kate Severson ","All","Added PS 201 Multimodal eLearning, made the ILT PS 101 course inactive","KCS"]

{"sheet":"DropDowns","index":22,"n_rows":72,"n_cols":1,"rows_kept":72,"cut":false,"hidden":true,"merged":[]}
["Job Classes"]
["TT1"]
["TT2"]
["TT3"]
["TE1"]
["TE2"]
["TE3"]
["ALL"]
[]
[]
["Rating"]
[1]
[2]
["Req'd"]
["Blank"]
["Mandatory"]
["All"]
[]
["Discipline"]
["DES"]
["CN"]
["TR"]
["SUR"]
["ENV"]
["MAT"]
["GTM"]
["MFI"]
["PMD"]
["PLN"]
["PGM"]
[]
["Active"]
["Inactive"]
["Under Development"]
["Retired"]
[]
["None"]
["2017 - Q4"]
["2018 - Q1"]
["2018 - Q2"]
["2018 - Q3"]
["2018 - Q4"]
["2019 - Q1"]
["2019 - Q2"]
["2019 - Q3"]
["2019 - Q4"]
["2020 - Q1"]
["2020 - Q2"]
["2020 - Q3"]
["2020 - Q4"]
["2021 - Q1"]
["2021 - Q2"]
["2021 - Q3"]
["2021 - Q4"]
["2022 - Q1"]
["2022 - Q2"]
["2022 - Q3"]
["2022 - Q4"]
[]
["SS"]
["OLT"]
["ILT"]
["OLT/ILT"]
[]
["Design"]
["Construction"]
["Traffic"]
["Survey"]
["Environmental"]
["Planning"]
["Program Management"]
["All"]